{"text_format":"3","workbook":"xlsx","n_sheets":5,"sheets":["Reserve Account Scenarios","Operating Account Projections","Total Reserve & Operating","Assessment Per % Ownership","Import"],"not_rendered":{"charts":3,"defined_names":3},"read":"whole","date_system":"1900"}

{"sheet":"Reserve Account Scenarios","index":0,"n_rows":1000,"n_cols":34,"rows_kept":1000,"merged":[[0,1,2,18],[4,4,4,9],[29,1,29,3],[30,1,30,3],[31,1,31,3],[32,1,32,3],[33,1,33,3],[34,1,34,3],[35,1,35,3],[36,1,36,3],[37,1,37,3],[38,1,38,3],[39,1,39,3],[40,1,40,3],[41,1,41,3],[42,1,42,13],[45,1,45,6]]}
[null,"PROHIBITED USE: License of use is granted solely to the originally contracted client. You may not make, use, copy, merge, transfer, sublicense, loan, lease, sell, or rent copies of this spreadsheet, documentation, or any part thereof, to a third party, for any purpose other than serving the needs of the contracted client. If you have received a copy of this spreadsheet without contracted license of use, contact our offices for information on obtaining your own license. All Rights Reserved and Owned by Reserve Data Analyst, Inc. 866-574-5115 - www.reservedataanalyst.com"]
{"$rows_empty":7}
[{"$nulls":19}," "]
{"$rows_empty":13}
[null,"Reserve Account Balance (beginning balance)",{"v":16936,"d":"$16,936"}]
[null,"Annual Reserve Account Allocation Rate",{"v":30875,"d":"$30,875"}]
[null,"Annual Reserve Account Allocation % Change Rate",{"v":0.03,"d":"$0"}]
[null,"Annual Interest Rate / Return on Investments",{"v":0.005,"d":"$0"}]
[null,"Annual Tax Rate On Interest Earned",{"v":0.3,"d":"$0"}]
[null,"*Green cells are Master cells that are editable and populate the below table."]
[{"$nulls":4},{"$f":"Import!I10","v":2022},{"$f":"Import!J10","v":2023},{"$f":"Import!K10","v":2024},{"$f":"Import!L10","v":2025},{"$f":"Import!M10","v":2026},{"$f":"Import!N10","v":2027},{"$f":"Import!O10","v":2028},{"$f":"Import!P10","v":2029},{"$f":"Import!Q10","v":2030},{"$f":"Import!R10","v":2031},{"$f":"Import!S10","v":2032},{"$f":"Import!T10","v":2033},{"$f":"Import!U10","v":2034},{"$f":"Import!V10","v":2035},{"$f":"Import!W10","v":2036},{"$f":"Import!X10","v":2037},{"$f":"Import!Y10","v":2038},{"$f":"Import!Z10","v":2039},{"$f":"Import!AA10","v":2040},{"$f":"Import!AB10","v":2041},{"$f":"Import!AC10","v":2042},{"$f":"Import!AD10","v":2043},{"$f":"Import!AE10","v":2044},{"$f":"Import!AF10","v":2045},{"$f":"Import!AG10","v":2046},{"$f":"Import!AH10","v":2047},{"$f":"Import!AI10","v":2048},{"$f":"Import!AJ10","v":2049},{"$f":"Import!AK10","v":2050},{"$f":"Import!AL10","v":2051}]
[null,"Client Annual Reserve Allocation Rate",null,null,{"$f":"C24","v":{"v":30875,"d":"$30,875"}},{"$f":"IF(E31=\"\",(E32*E30)+E30,(E31*E32)+E31)","v":{"v":31801.25,"d":"$31,801"}},{"v":32755.2875,"d":"$32,755"},{"v":33737.946124999995,"d":"$33,738"},{"v":34750.08450874999,"d":"$34,750"},{"v":35792.58704401249,"d":"$35,793"},{"v":36866.364655332865,"d":"$36,866"},{"v":37972.35559499285,"d":"$37,972"},{"v":39111.526262842635,"d":"$39,112"},{"v":40284.872050727914,"d":"$40,285"},{"v":41493.41821224975,"d":"$41,493"},{"v":42738.220758617244,"d":"$42,738"},{"v":44020.36738137576,"d":"$44,020"},{"v":45340.97840281704,"d":"$45,341"},{"v":46701.20775490155,"d":"$46,701"},{"v":48102.2439875486,"d":"$48,102"},{"v":49545.311307175056,"d":"$49,545"},{"v":51031.67064639031,"d":"$51,032"},{"v":52562.62076578202,"d":"$52,563"},{"v":54139.49938875548,"d":"$54,139"},{"v":55763.684370418145,"d":"$55,764"},{"v":57436.59490153069,"d":"$57,437"},{"v":59159.692748576614,"d":"$59,160"},{"v":60934.48353103391,"d":"$60,934"},{"v":62762.51803696493,"d":"$62,763"},{"v":64645.39357807388,"d":"$64,645"},{"v":66584.7553854161,"d":"$66,585"},{"v":68582.29804697858,"d":"$68,582"},{"v":70639.76698838794,"d":"$70,640"},{"v":72758.95999803959,"d":"$72,759"}]
[null,"Overwrite Annual Reserve Allocation Rate**"]
[null,"Annual Reserve Allocation % Rate Increase",null,null,{"$f":"IF(E33=\"\",$C$25,E33)","v":{"v":0.03,"d":"$0"}},{"v":0.03,"d":"$0"},{"v":0.03,"d":"$0"},{"v":0.03,"d":"$0"},{"v":0.03,"d":"$0"},{"v":0.03,"d":"$0"},{"v":0.03,"d":"$0"},{"v":0.03,"d":"$0"},{"v":0.03,"d":"$0"},{"v":0.03,"d":"$0"},{"v":0.03,"d":"$0"},{"v":0.03,"d":"$0"},{"v":0.03,"d":"$0"},{"v":0.03,"d":"$0"},{"v":0.03,"d":"$0"},{"v":0.03,"d":"$0"},{"v":0.03,"d":"$0"},{"v":0.03,"d":"$0"},{"v":0.03,"d":"$0"},{"v":0.03,"d":"$0"},{"v":0.03,"d":"$0"},{"v":0.03,"d":"$0"},{"v":0.03,"d":"$0"},{"v":0.03,"d":"$0"},{"v":0.03,"d":"$0"},{"v":0.03,"d":"$0"},{"v":0.03,"d":"$0"},{"v":0.03,"d":"$0"},{"v":0.03,"d":"$0"},{"v":0.03,"d":"$0"}]
[null,"Overwrite Annual Reserve % Rate Change**"]
[null,"Tax Rate On Interest Earned",null,null,{"$f":"IF(E35=\"\",$C$27,E35)","v":{"v":0.3,"d":"$0"}},{"v":0.3,"d":"$0"},{"v":0.3,"d":"$0"},{"v":0.3,"d":"$0"},{"v":0.3,"d":"$0"},{"v":0.3,"d":"$0"},{"v":0.3,"d":"$0"},{"v":0.3,"d":"$0"},{"v":0.3,"d":"$0"},{"v":0.3,"d":"$0"},{"v":0.3,"d":"$0"},{"v":0.3,"d":"$0"},{"v":0.3,"d":"$0"},{"v":0.3,"d":"$0"},{"v":0.3,"d":"$0"},{"v":0.3,"d":"$0"},{"v":0.3,"d":"$0"},{"v":0.3,"d":"$0"},{"v":0.3,"d":"$0"},{"v":0.3,"d":"$0"},{"v":0.3,"d":"$0"},{"v":0.3,"d":"$0"},{"v":0.3,"d":"$0"},{"v":0.3,"d":"$0"},{"v":0.3,"d":"$0"},{"v":0.3,"d":"$0"},{"v":0.3,"d":"$0"},{"v":0.3,"d":"$0"},{"v":0.3,"d":"$0"},{"v":0.3,"d":"$0"}]
[null,"Overwrite Tax Rate On Interest Earned**"]
[null,"Annual Average Interest Rate / Return On Investments",null,null,{"$f":"IF(E37=\"\",$C$26,E37)","v":{"v":0.005,"d":"$0"}},{"$f":"$C26","v":{"v":0.005,"d":"$0"}},{"v":0.005,"d":"$0"},{"v":0.005,"d":"$0"},{"v":0.005,"d":"$0"},{"v":0.005,"d":"$0"},{"v":0.005,"d":"$0"},{"v":0.005,"d":"$0"},{"v":0.005,"d":"$0"},{"v":0.005,"d":"$0"},{"v":0.005,"d":"$0"},{"v":0.005,"d":"$0"},{"v":0.005,"d":"$0"},{"v":0.005,"d":"$0"},{"v":0.005,"d":"$0"},{"v":0.005,"d":"$0"},{"v":0.005,"d":"$0"},{"v":0.005,"d":"$0"},{"v":0.005,"d":"$0"},{"v":0.005,"d":"$0"},{"$f":"$C26","v":{"v":0.005,"d":"$0"}},{"v":0.005,"d":"$0"},{"v":0.005,"d":"$0"},{"v":0.005,"d":"$0"},{"v":0.005,"d":"$0"},{"v":0.005,"d":"$0"},{"v":0.005,"d":"$0"},{"v":0.005,"d":"$0"},{"v":0.005,"d":"$0"},{"v":0.005,"d":"$0"}]
[null,"Overwrite Annual Average Interest Rate / Return on Investments**"]
[null,"Annual Interest Earned",null,null,{"$f":"MAX(0,(C23+E30+E39-E40)*(E36)-(C23+E30+E39-E40)*(E36)*(E34))","v":{"v":0,"d":"$0"}},{"$f":"MAX(0,(E42+F30+F39-F40)*(F36)-(E42+F30+F39-F40)*(F36)*(F34))","v":{"v":0,"d":"$0"}},{"v":57.96538125,"d":"$58"},{"v":51.171571521874995,"d":"$51"},{"v":45.67746780282651,"d":"$46"},{"v":0,"d":"$0"},{"v":0,"d":"$0"},{"v":0,"d":"$0"},{"v":0,"d":"$0"},{"v":95.76030856781705,"d":"$96"},{"v":0,"d":"$0"},{"v":0,"d":"$0"},{"v":0.05899188065407362,"d":"$0"},{"v":151.52512276209598,"d":"$152"},{"v":299.3396878339188,"d":"$299"},{"v":0,"d":"$0"},{"v":32.359320272870235,"d":"$32"},{"v":183.48242515619134,"d":"$183"},{"v":256.1882863244751,"d":"$256"},{"v":0,"d":"$0"},{"v":0,"d":"$0"},{"v":0,"d":"$0"},{"v":0,"d":"$0"},{"v":0,"d":"$0"},{"v":0,"d":"$0"},{"v":0,"d":"$0"},{"v":0,"d":"$0"},{"v":0,"d":"$0"},{"v":0,"d":"$0"},{"v":0,"d":"$0"}]
[null,"Add Other Income (one time - e.g. special assessment, loan)"]
[null,"Annual Projected Reserve Expenditures",null,null,{"$f":"SUM(E48:E2792)+E41","v":{"v":91118,"d":"$91,118"}},{"v":1448,"d":"$1,448"},{"v":3240,"d":"$3,240"},{"v":35737,"d":"$35,737"},{"v":36371,"d":"$36,371"},{"v":143512,"d":"$143,512"},{"v":3242,"d":"$3,242"},{"v":1729,"d":"$1,729"},{"v":23738,"d":"$23,738"},{"v":3543,"d":"$3,543"},{"v":140460,"d":"$140,460"},{"v":11359,"d":"$11,359"},{"v":3872,"d":"$3,872"},{"v":2065,"d":"$2,065"},{"v":4620,"d":"$4,620"},{"v":171970,"d":"$171,970"},{"v":2257,"d":"$2,257"},{"v":7886,"d":"$7,886"},{"v":31973,"d":"$31,973"},{"v":240380,"d":"$240,380"},{"v":207825,"d":"$207,825"},{"v":5051,"d":"$5,051"},{"v":2694,"d":"$2,694"},{"v":36983,"d":"$36,983"},{"v":101345,"d":"$101,345"},{"v":185431,"d":"$185,431"},{"v":6587,"d":"$6,587"},{"v":6032,"d":"$6,032"},{"v":211194,"d":"$211,194"},{"v":7198,"d":"$7,198"}]
[null,"Add Other Reserve Account Expenditures (one time expenses)"]
[null,"Year End Reserve Account Balance",null,null,{"$f":"SUM(C23+E30+E38+E39)-(E40)","v":{"v":-43307,"d":"($43,307)"}},{"$f":"SUM(E42+F30+F38+F39)-(F40)","v":{"v":-12953.75,"d":"($12,954)"}},{"v":16619.50288125,"d":"$16,620"},{"v":14671.620577771871,"d":"$14,672"},{"v":13096.382554324686,"d":"$13,096"},{"v":-94623.03040166282,"d":"($94,623)"},{"v":-60998.665746329956,"d":"($60,999)"},{"v":-24755.310151337108,"d":"($24,755)"},{"v":-9381.783888494472,"d":"($9,382)"},{"v":27455.84847080126,"d":"$27,456"},{"v":-71510.73331694899,"d":"($71,511)"},{"v":-40131.51255833174,"d":"($40,132)"},{"v":16.91381492467508,"d":"$17"},{"v":43444.41734050381,"d":"$43,444"},{"v":85824.96478323927,"d":"$85,825"},{"v":-38042.79122921213,"d":"($38,043)"},{"v":9277.879398235793,"d":"$9,278"},{"v":52607.032469782294,"d":"$52,607"},{"v":73452.84152188878,"d":"$73,453"},{"v":-112787.65908935573,"d":"($112,788)"},{"v":-264848.9747189376,"d":"($264,849)"},{"v":-212463.3798174069,"d":"($212,463)"},{"v":-155997.6870688303,"d":"($155,998)"},{"v":-132046.2035377964,"d":"($132,046)"},{"v":-170628.68550083146,"d":"($170,629)"},{"v":-291414.2919227576,"d":"($291,414)"},{"v":-231416.53653734148,"d":"($231,417)"},{"v":-168866.23849036288,"d":"($168,866)"},{"v":-309420.471501975,"d":"($309,420)"},{"v":-243859.51150393538,"d":"($243,860)"}]
[null,"**Master cell data can be overwritten in specific years by entering the preferred value into the yellow cells below the master populated data. Note that the above totals may have slight mathematical differences from the reserve study due to rounding differences in the software. "]
[]
[]
[null,"***Components cannot be removed from the list but the future project costs can be removed or moved to other years as preferred for budgeting purposes. "]
[null,"Component Description***","Asset ID","Current Cost","2022","2023","2024","2025","2026","2027","2028","2029","2030","2031","2032","2033","2034","2035","2036","2037","2038","2039","2040","2041","2042","2043","2044","2045","2046","2047","2048","2049","2050","2051"]
[null,"Add Additional Components Here..."]
[]
[]
[]
[]
[]
[null,"Reserve Data Analyst Imported Components"]
[null,{"$f":"Import!A11","v":"Asphalt - Overlay"},{"$f":"Import!B11","v":1001},{"$f":"Import!H11","v":{"v":9789,"d":"$9,789"}},{"$f":"Import!I11","v":{"v":9789,"d":"$9,789"}},{"$f":"Import!J11","v":0},{"$f":"Import!K11","v":0},{"$f":"Import!L11","v":0},{"$f":"Import!M11","v":0},{"$f":"Import!N11","v":0},{"$f":"Import!O11","v":0},{"$f":"Import!P11","v":0},{"$f":"Import!Q11","v":0},{"$f":"Import!R11","v":0},{"$f":"Import!S11","v":0},{"$f":"Import!T11","v":0},{"$f":"Import!U11","v":0},{"$f":"Import!V11","v":0},{"$f":"Import!W11","v":0},{"$f":"Import!X11","v":0},{"$f":"Import!Y11","v":0},{"$f":"Import!Z11","v":0},{"$f":"Import!AA11","v":0},{"$f":"Import!AB11","v":0},{"$f":"Import!AC11","v":0},{"$f":"Import!AD11","v":0},{"$f":"Import!AE11","v":0},{"$f":"Import!AF11","v":0},{"$f":"Import!AG11","v":0},{"$f":"Import!AH11","v":{"v":20496,"d":"$20,496"}},{"$f":"Import!AI11","v":0},{"$f":"Import!AJ11","v":0},{"$f":"Import!AK11","v":0},{"$f":"Import!AL11","v":0}]
[null,{"$f":"Import!A12","v":"Asphalt - Sealcoat"},{"$f":"Import!B12","v":1002},{"$f":"Import!H12","v":{"v":1357,"d":"$1,357"}},{"$f":"Import!I12","v":{"v":1357,"d":"$1,357"}},{"$f":"Import!J12","v":0},{"$f":"Import!K12","v":0},{"$f":"Import!L12","v":0},{"$f":"Import!M12","v":0},{"$f":"Import!N12","v":{"v":1573,"d":"$1,573"}},{"$f":"Import!O12","v":0},{"$f":"Import!P12","v":0},{"$f":"Import!Q12","v":0},{"$f":"Import!R12","v":0},{"$f":"Import!S12","v":{"v":1824,"d":"$1,824"}},{"$f":"Import!T12","v":0},{"$f":"Import!U12","v":0},{"$f":"Import!V12","v":0},{"$f":"Import!W12","v":0},{"$f":"Import!X12","v":{"v":2115,"d":"$2,115"}},{"$f":"Import!Y12","v":0},{"$f":"Import!Z12","v":0},{"$f":"Import!AA12","v":0},{"$f":"Import!AB12","v":0},{"$f":"Import!AC12","v":{"v":2451,"d":"$2,451"}},{"$f":"Import!AD12","v":0},{"$f":"Import!AE12","v":0},{"$f":"Import!AF12","v":0},{"$f":"Import!AG12","v":0},{"$f":"Import!AH12","v":{"v":2842,"d":"$2,842"}},{"$f":"Import!AI12","v":0},{"$f":"Import!AJ12","v":0},{"$f":"Import!AK12","v":0},{"$f":"Import!AL12","v":0}]
[null,{"$f":"Import!A13","v":"Baseball Backstop (chain link) - Replace"},{"$f":"Import!B13","v":1003},{"$f":"Import!H13","v":{"v":8654,"d":"$8,654"}},{"$f":"Import!I13","v":0},{"$f":"Import!J13","v":0},{"$f":"Import!K13","v":0},{"$f":"Import!L13","v":0},{"$f":"Import!M13","v":0},{"$f":"Import!N13","v":0},{"$f":"Import!O13","v":0},{"$f":"Import!P13","v":0},{"$f":"Import!Q13","v":0},{"$f":"Import!R13","v":0},{"$f":"Import!S13","v":0},{"$f":"Import!T13","v":0},{"$f":"Import!U13","v":0},{"$f":"Import!V13","v":0},{"$f":"Import!W13","v":0},{"$f":"Import!X13","v":0},{"$f":"Import!Y13","v":0},{"$f":"Import!Z13","v":0},{"$f":"Import!AA13","v":0},{"$f":"Import!AB13","v":0},{"$f":"Import!AC13","v":{"v":15630,"d":"$15,630"}},{"$f":"Import!AD13","v":0},{"$f":"Import!AE13","v":0},{"$f":"Import!AF13","v":0},{"$f":"Import!AG13","v":0},{"$f":"Import!AH13","v":0},{"$f":"Import!AI13","v":0},{"$f":"Import!AJ13","v":0},{"$f":"Import!AK13","v":0},{"$f":"Import!AL13","v":0}]
[null,{"$f":"Import!A14","v":"Baseball Infield Fence (chain link) - Replace"},{"$f":"Import!B14","v":1004},{"$f":"Import!H14","v":{"v":6741,"d":"$6,741"}},{"$f":"Import!I14","v":0},{"$f":"Import!J14","v":0},{"$f":"Import!K14","v":0},{"$f":"Import!L14","v":0},{"$f":"Import!M14","v":0},{"$f":"Import!N14","v":0},{"$f":"Import!O14","v":0},{"$f":"Import!P14","v":0},{"$f":"Import!Q14","v":0},{"$f":"Import!R14","v":0},{"$f":"Import!S14","v":0},{"$f":"Import!T14","v":0},{"$f":"Import!U14","v":0},{"$f":"Import!V14","v":0},{"$f":"Import!W14","v":0},{"$f":"Import!X14","v":0},{"$f":"Import!Y14","v":0},{"$f":"Import!Z14","v":0},{"$f":"Import!AA14","v":0},{"$f":"Import!AB14","v":0},{"$f":"Import!AC14","v":{"v":12175,"d":"$12,175"}},{"$f":"Import!AD14","v":0},{"$f":"Import!AE14","v":0},{"$f":"Import!AF14","v":0},{"$f":"Import!AG14","v":0},{"$f":"Import!AH14","v":0},{"$f":"Import!AI14","v":0},{"$f":"Import!AJ14","v":0},{"$f":"Import!AK14","v":0},{"$f":"Import!AL14","v":0}]
[null,{"$f":"Import!A15","v":"Concrete Curb - 20% Repair"},{"$f":"Import!B15","v":1005},{"$f":"Import!H15","v":{"v":1817,"d":"$1,817"}},{"$f":"Import!I15","v":{"v":1817,"d":"$1,817"}},{"$f":"Import!J15","v":0},{"$f":"Import!K15","v":0},{"$f":"Import!L15","v":0},{"$f":"Import!M15","v":0},{"$f":"Import!N15","v":{"v":2106,"d":"$2,106"}},{"$f":"Import!O15","v":0},{"$f":"Import!P15","v":0},{"$f":"Import!Q15","v":0},{"$f":"Import!R15","v":0},{"$f":"Import!S15","v":{"v":2442,"d":"$2,442"}},{"$f":"Import!T15","v":0},{"$f":"Import!U15","v":0},{"$f":"Import!V15","v":0},{"$f":"Import!W15","v":0},{"$f":"Import!X15","v":{"v":2831,"d":"$2,831"}},{"$f":"Import!Y15","v":0},{"$f":"Import!Z15","v":0},{"$f":"Import!AA15","v":0},{"$f":"Import!AB15","v":0},{"$f":"Import!AC15","v":{"v":3282,"d":"$3,282"}},{"$f":"Import!AD15","v":0},{"$f":"Import!AE15","v":0},{"$f":"Import!AF15","v":0},{"$f":"Import!AG15","v":0},{"$f":"Import!AH15","v":{"v":3804,"d":"$3,804"}},{"$f":"Import!AI15","v":0},{"$f":"Import!AJ15","v":0},{"$f":"Import!AK15","v":0},{"$f":"Import!AL15","v":0}]
[null,{"$f":"Import!A16","v":"Fence (chn link - NE Pond) - Replace"},{"$f":"Import!B16","v":1006},{"$f":"Import!H16","v":{"v":30005,"d":"$30,005"}},{"$f":"Import!I16","v":0},{"$f":"Import!J16","v":0},{"$f":"Import!K16","v":0},{"$f":"Import!L16","v":0},{"$f":"Import!M16","v":0},{"$f":"Import!N16","v":0},{"$f":"Import!O16","v":0},{"$f":"Import!P16","v":0},{"$f":"Import!Q16","v":0},{"$f":"Import!R16","v":0},{"$f":"Import!S16","v":0},{"$f":"Import!T16","v":0},{"$f":"Import!U16","v":0},{"$f":"Import!V16","v":0},{"$f":"Import!W16","v":0},{"$f":"Import!X16","v":0},{"$f":"Import!Y16","v":0},{"$f":"Import!Z16","v":0},{"$f":"Import!AA16","v":0},{"$f":"Import!AB16","v":0},{"$f":"Import!AC16","v":0},{"$f":"Import!AD16","v":0},{"$f":"Import!AE16","v":0},{"$f":"Import!AF16","v":0},{"$f":"Import!AG16","v":0},{"$f":"Import!AH16","v":0},{"$f":"Import!AI16","v":0},{"$f":"Import!AJ16","v":0},{"$f":"Import!AK16","v":{"v":68649,"d":"$68,649"}},{"$f":"Import!AL16","v":0}]
[null,{"$f":"Import!A17","v":"Fence (chn link - NW Pond) - Replace"},{"$f":"Import!B17","v":1007},{"$f":"Import!H17","v":{"v":16976,"d":"$16,976"}},{"$f":"Import!I17","v":0},{"$f":"Import!J17","v":0},{"$f":"Import!K17","v":0},{"$f":"Import!L17","v":0},{"$f":"Import!M17","v":0},{"$f":"Import!N17","v":0},{"$f":"Import!O17","v":0},{"$f":"Import!P17","v":0},{"$f":"Import!Q17","v":0},{"$f":"Import!R17","v":0},{"$f":"Import!S17","v":0},{"$f":"Import!T17","v":0},{"$f":"Import!U17","v":0},{"$f":"Import!V17","v":0},{"$f":"Import!W17","v":0},{"$f":"Import!X17","v":0},{"$f":"Import!Y17","v":0},{"$f":"Import!Z17","v":0},{"$f":"Import!AA17","v":0},{"$f":"Import!AB17","v":0},{"$f":"Import!AC17","v":0},{"$f":"Import!AD17","v":0},{"$f":"Import!AE17","v":0},{"$f":"Import!AF17","v":0},{"$f":"Import!AG17","v":0},{"$f":"Import!AH17","v":0},{"$f":"Import!AI17","v":0},{"$f":"Import!AJ17","v":0},{"$f":"Import!AK17","v":0},{"$f":"Import!AL17","v":0}]
[null,{"$f":"Import!A18","v":"Fence (chn link baseball 3.5') - Replace"},{"$f":"Import!B18","v":1008},{"$f":"Import!H18","v":{"v":9329,"d":"$9,329"}},{"$f":"Import!I18","v":0},{"$f":"Import!J18","v":0},{"$f":"Import!K18","v":0},{"$f":"Import!L18","v":0},{"$f":"Import!M18","v":0},{"$f":"Import!N18","v":0},{"$f":"Import!O18","v":0},{"$f":"Import!P18","v":0},{"$f":"Import!Q18","v":0},{"$f":"Import!R18","v":0},{"$f":"Import!S18","v":0},{"$f":"Import!T18","v":0},{"$f":"Import!U18","v":0},{"$f":"Import!V18","v":0},{"$f":"Import!W18","v":0},{"$f":"Import!X18","v":{"v":14534,"d":"$14,534"}},{"$f":"Import!Y18","v":0},{"$f":"Import!Z18","v":0},{"$f":"Import!AA18","v":0},{"$f":"Import!AB18","v":0},{"$f":"Import!AC18","v":0},{"$f":"Import!AD18","v":0},{"$f":"Import!AE18","v":0},{"$f":"Import!AF18","v":0},{"$f":"Import!AG18","v":0},{"$f":"Import!AH18","v":0},{"$f":"Import!AI18","v":0},{"$f":"Import!AJ18","v":0},{"$f":"Import!AK18","v":0},{"$f":"Import!AL18","v":0}]
[null,{"$f":"Import!A19","v":"Fence (sno-cascade drive) - Paint/Stain"},{"$f":"Import!B19","v":1009},{"$f":"Import!H19","v":{"v":35115,"d":"$35,115"}},{"$f":"Import!I19","v":{"v":35115,"d":"$35,115"}},{"$f":"Import!J19","v":0},{"$f":"Import!K19","v":0},{"$f":"Import!L19","v":0},{"$f":"Import!M19","v":0},{"$f":"Import!N19","v":{"v":40708,"d":"$40,708"}},{"$f":"Import!O19","v":0},{"$f":"Import!P19","v":0},{"$f":"Import!Q19","v":0},{"$f":"Import!R19","v":0},{"$f":"Import!S19","v":{"v":47192,"d":"$47,192"}},{"$f":"Import!T19","v":0},{"$f":"Import!U19","v":0},{"$f":"Import!V19","v":0},{"$f":"Import!W19","v":0},{"$f":"Import!X19","v":{"v":54708,"d":"$54,708"}},{"$f":"Import!Y19","v":0},{"$f":"Import!Z19","v":0},{"$f":"Import!AA19","v":0},{"$f":"Import!AB19","v":0},{"$f":"Import!AC19","v":{"v":63422,"d":"$63,422"}},{"$f":"Import!AD19","v":0},{"$f":"Import!AE19","v":0},{"$f":"Import!AF19","v":0},{"$f":"Import!AG19","v":0},{"$f":"Import!AH19","v":{"v":73523,"d":"$73,523"}},{"$f":"Import!AI19","v":0},{"$f":"Import!AJ19","v":0},{"$f":"Import!AK19","v":0},{"$f":"Import!AL19","v":0}]
[null,{"$f":"Import!A20","v":"Fence (sno-cascade drive) - Replace"},{"$f":"Import!B20","v":1010},{"$f":"Import!H20","v":{"v":132245,"d":"$132,245"}},{"$f":"Import!I20","v":0},{"$f":"Import!J20","v":0},{"$f":"Import!K20","v":0},{"$f":"Import!L20","v":0},{"$f":"Import!M20","v":0},{"$f":"Import!N20","v":0},{"$f":"Import!O20","v":0},{"$f":"Import!P20","v":0},{"$f":"Import!Q20","v":0},{"$f":"Import!R20","v":0},{"$f":"Import!S20","v":0},{"$f":"Import!T20","v":0},{"$f":"Import!U20","v":0},{"$f":"Import!V20","v":0},{"$f":"Import!W20","v":0},{"$f":"Import!X20","v":0},{"$f":"Import!Y20","v":0},{"$f":"Import!Z20","v":0},{"$f":"Import!AA20","v":0},{"$f":"Import!AB20","v":{"v":231892,"d":"$231,892"}},{"$f":"Import!AC20","v":0},{"$f":"Import!AD20","v":0},{"$f":"Import!AE20","v":0},{"$f":"Import!AF20","v":0},{"$f":"Import!AG20","v":0},{"$f":"Import!AH20","v":0},{"$f":"Import!AI20","v":0},{"$f":"Import!AJ20","v":0},{"$f":"Import!AK20","v":0},{"$f":"Import!AL20","v":0}]
[null,{"$f":"Import!A21","v":"Fence (wood - NW Pond) - Paint/Stain"},{"$f":"Import!B21","v":1011},{"$f":"Import!H21","v":{"v":1866,"d":"$1,866"}},{"$f":"Import!I21","v":{"v":1866,"d":"$1,866"}},{"$f":"Import!J21","v":0},{"$f":"Import!K21","v":0},{"$f":"Import!L21","v":0},{"$f":"Import!M21","v":0},{"$f":"Import!N21","v":{"v":2163,"d":"$2,163"}},{"$f":"Import!O21","v":0},{"$f":"Import!P21","v":0},{"$f":"Import!Q21","v":0},{"$f":"Import!R21","v":0},{"$f":"Import!S21","v":{"v":2507,"d":"$2,507"}},{"$f":"Import!T21","v":0},{"$f":"Import!U21","v":0},{"$f":"Import!V21","v":0},{"$f":"Import!W21","v":0},{"$f":"Import!X21","v":{"v":2907,"d":"$2,907"}},{"$f":"Import!Y21","v":0},{"$f":"Import!Z21","v":0},{"$f":"Import!AA21","v":0},{"$f":"Import!AB21","v":0},{"$f":"Import!AC21","v":{"v":3369,"d":"$3,369"}},{"$f":"Import!AD21","v":0},{"$f":"Import!AE21","v":0},{"$f":"Import!AF21","v":0},{"$f":"Import!AG21","v":0},{"$f":"Import!AH21","v":{"v":3906,"d":"$3,906"}},{"$f":"Import!AI21","v":0},{"$f":"Import!AJ21","v":0},{"$f":"Import!AK21","v":0},{"$f":"Import!AL21","v":0}]
[null,{"$f":"Import!A22","v":"Fence (wood - NW Pond) - Replace"},{"$f":"Import!B22","v":1012},{"$f":"Import!H22","v":{"v":7026,"d":"$7,026"}},{"$f":"Import!I22","v":{"v":7026,"d":"$7,026"}},{"$f":"Import!J22","v":0},{"$f":"Import!K22","v":0},{"$f":"Import!L22","v":0},{"$f":"Import!M22","v":0},{"$f":"Import!N22","v":0},{"$f":"Import!O22","v":0},{"$f":"Import!P22","v":0},{"$f":"Import!Q22","v":0},{"$f":"Import!R22","v":0},{"$f":"Import!S22","v":0},{"$f":"Import!T22","v":0},{"$f":"Import!U22","v":0},{"$f":"Import!V22","v":0},{"$f":"Import!W22","v":0},{"$f":"Import!X22","v":0},{"$f":"Import!Y22","v":0},{"$f":"Import!Z22","v":0},{"$f":"Import!AA22","v":0},{"$f":"Import!AB22","v":0},{"$f":"Import!AC22","v":0},{"$f":"Import!AD22","v":0},{"$f":"Import!AE22","v":0},{"$f":"Import!AF22","v":0},{"$f":"Import!AG22","v":0},{"$f":"Import!AH22","v":{"v":14711,"d":"$14,711"}},{"$f":"Import!AI22","v":0},{"$f":"Import!AJ22","v":0},{"$f":"Import!AK22","v":0},{"$f":"Import!AL22","v":0}]
[null,{"$f":"Import!A23","v":"Irrigation Backflow Valve - Replace"},{"$f":"Import!B23","v":1013},{"$f":"Import!H23","v":{"v":1623,"d":"$1,623"}},{"$f":"Import!I23","v":{"v":1623,"d":"$1,623"}},{"$f":"Import!J23","v":0},{"$f":"Import!K23","v":0},{"$f":"Import!L23","v":0},{"$f":"Import!M23","v":0},{"$f":"Import!N23","v":0},{"$f":"Import!O23","v":0},{"$f":"Import!P23","v":0},{"$f":"Import!Q23","v":0},{"$f":"Import!R23","v":0},{"$f":"Import!S23","v":0},{"$f":"Import!T23","v":0},{"$f":"Import!U23","v":0},{"$f":"Import!V23","v":0},{"$f":"Import!W23","v":0},{"$f":"Import!X23","v":0},{"$f":"Import!Y23","v":0},{"$f":"Import!Z23","v":0},{"$f":"Import!AA23","v":0},{"$f":"Import!AB23","v":0},{"$f":"Import!AC23","v":0},{"$f":"Import!AD23","v":0},{"$f":"Import!AE23","v":0},{"$f":"Import!AF23","v":0},{"$f":"Import!AG23","v":0},{"$f":"Import!AH23","v":{"v":3397,"d":"$3,397"}},{"$f":"Import!AI23","v":0},{"$f":"Import!AJ23","v":0},{"$f":"Import!AK23","v":0},{"$f":"Import!AL23","v":0}]
[null,{"$f":"Import!A24","v":"Irrigation Controller Panels - Replace"},{"$f":"Import!B24","v":1014},{"$f":"Import!H24","v":{"v":3245,"d":"$3,245"}},{"$f":"Import!I24","v":0},{"$f":"Import!J24","v":0},{"$f":"Import!K24","v":0},{"$f":"Import!L24","v":0},{"$f":"Import!M24","v":0},{"$f":"Import!N24","v":0},{"$f":"Import!O24","v":0},{"$f":"Import!P24","v":0},{"$f":"Import!Q24","v":0},{"$f":"Import!R24","v":0},{"$f":"Import!S24","v":{"v":4361,"d":"$4,361"}},{"$f":"Import!T24","v":0},{"$f":"Import!U24","v":0},{"$f":"Import!V24","v":0},{"$f":"Import!W24","v":0},{"$f":"Import!X24","v":0},{"$f":"Import!Y24","v":0},{"$f":"Import!Z24","v":0},{"$f":"Import!AA24","v":0},{"$f":"Import!AB24","v":0},{"$f":"Import!AC24","v":0},{"$f":"Import!AD24","v":0},{"$f":"Import!AE24","v":0},{"$f":"Import!AF24","v":0},{"$f":"Import!AG24","v":0},{"$f":"Import!AH24","v":0},{"$f":"Import!AI24","v":0},{"$f":"Import!AJ24","v":0},{"$f":"Import!AK24","v":0},{"$f":"Import!AL24","v":0}]
[null,{"$f":"Import!A25","v":"Irrigation Controllers - Replace"},{"$f":"Import!B25","v":1015},{"$f":"Import!H25","v":{"v":3245,"d":"$3,245"}},{"$f":"Import!I25","v":0},{"$f":"Import!J25","v":0},{"$f":"Import!K25","v":0},{"$f":"Import!L25","v":0},{"$f":"Import!M25","v":0},{"$f":"Import!N25","v":0},{"$f":"Import!O25","v":0},{"$f":"Import!P25","v":0},{"$f":"Import!Q25","v":{"v":4111,"d":"$4,111"}},{"$f":"Import!R25","v":0},{"$f":"Import!S25","v":0},{"$f":"Import!T25","v":0},{"$f":"Import!U25","v":0},{"$f":"Import!V25","v":0},{"$f":"Import!W25","v":0},{"$f":"Import!X25","v":0},{"$f":"Import!Y25","v":0},{"$f":"Import!Z25","v":0},{"$f":"Import!AA25","v":0},{"$f":"Import!AB25","v":0},{"$f":"Import!AC25","v":0},{"$f":"Import!AD25","v":0},{"$f":"Import!AE25","v":0},{"$f":"Import!AF25","v":{"v":6405,"d":"$6,405"}},{"$f":"Import!AG25","v":0},{"$f":"Import!AH25","v":0},{"$f":"Import!AI25","v":0},{"$f":"Import!AJ25","v":0},{"$f":"Import!AK25","v":0},{"$f":"Import!AL25","v":0}]
[null,{"$f":"Import!A26","v":"Irrigation Piping - 25% Replace"},{"$f":"Import!B26","v":1016},{"$f":"Import!H26","v":{"v":42649,"d":"$42,649"}},{"$f":"Import!I26","v":0},{"$f":"Import!J26","v":0},{"$f":"Import!K26","v":0},{"$f":"Import!L26","v":0},{"$f":"Import!M26","v":0},{"$f":"Import!N26","v":{"v":49442,"d":"$49,442"}},{"$f":"Import!O26","v":0},{"$f":"Import!P26","v":0},{"$f":"Import!Q26","v":0},{"$f":"Import!R26","v":0},{"$f":"Import!S26","v":{"v":57317,"d":"$57,317"}},{"$f":"Import!T26","v":0},{"$f":"Import!U26","v":0},{"$f":"Import!V26","v":0},{"$f":"Import!W26","v":0},{"$f":"Import!X26","v":{"v":66446,"d":"$66,446"}},{"$f":"Import!Y26","v":0},{"$f":"Import!Z26","v":0},{"$f":"Import!AA26","v":0},{"$f":"Import!AB26","v":0},{"$f":"Import!AC26","v":{"v":77029,"d":"$77,029"}},{"$f":"Import!AD26","v":0},{"$f":"Import!AE26","v":0},{"$f":"Import!AF26","v":0},{"$f":"Import!AG26","v":0},{"$f":"Import!AH26","v":0},{"$f":"Import!AI26","v":0},{"$f":"Import!AJ26","v":0},{"$f":"Import!AK26","v":0},{"$f":"Import!AL26","v":0}]
[null,{"$f":"Import!A27","v":"Irrigation Valves (in-ground) - 10% Replace"},{"$f":"Import!B27","v":1017},{"$f":"Import!H27","v":{"v":1406,"d":"$1,406"}},{"$f":"Import!I27","v":{"v":1406,"d":"$1,406"}},{"$f":"Import!J27","v":{"v":1448,"d":"$1,448"}},{"$f":"Import!K27","v":{"v":1492,"d":"$1,492"}},{"$f":"Import!L27","v":{"v":1537,"d":"$1,537"}},{"$f":"Import!M27","v":{"v":1583,"d":"$1,583"}},{"$f":"Import!N27","v":{"v":1630,"d":"$1,630"}},{"$f":"Import!O27","v":{"v":1679,"d":"$1,679"}},{"$f":"Import!P27","v":{"v":1729,"d":"$1,729"}},{"$f":"Import!Q27","v":{"v":1781,"d":"$1,781"}},{"$f":"Import!R27","v":{"v":1835,"d":"$1,835"}},{"$f":"Import!S27","v":{"v":1890,"d":"$1,890"}},{"$f":"Import!T27","v":{"v":1947,"d":"$1,947"}},{"$f":"Import!U27","v":{"v":2005,"d":"$2,005"}},{"$f":"Import!V27","v":{"v":2065,"d":"$2,065"}},{"$f":"Import!W27","v":{"v":2127,"d":"$2,127"}},{"$f":"Import!X27","v":{"v":2191,"d":"$2,191"}},{"$f":"Import!Y27","v":{"v":2257,"d":"$2,257"}},{"$f":"Import!Z27","v":{"v":2324,"d":"$2,324"}},{"$f":"Import!AA27","v":{"v":2394,"d":"$2,394"}},{"$f":"Import!AB27","v":{"v":2466,"d":"$2,466"}},{"$f":"Import!AC27","v":{"v":2540,"d":"$2,540"}},{"$f":"Import!AD27","v":{"v":2616,"d":"$2,616"}},{"$f":"Import!AE27","v":{"v":2694,"d":"$2,694"}},{"$f":"Import!AF27","v":{"v":2775,"d":"$2,775"}},{"$f":"Import!AG27","v":{"v":2859,"d":"$2,859"}},{"$f":"Import!AH27","v":{"v":2944,"d":"$2,944"}},{"$f":"Import!AI27","v":{"v":3033,"d":"$3,033"}},{"$f":"Import!AJ27","v":{"v":3124,"d":"$3,124"}},{"$f":"Import!AK27","v":{"v":3217,"d":"$3,217"}},{"$f":"Import!AL27","v":{"v":3314,"d":"$3,314"}}]
[null,{"$f":"Import!A28","v":"Landscape Drainage (boat park) - Refurbish"},{"$f":"Import!B28","v":1018},{"$f":"Import!H28","v":{"v":16065,"d":"$16,065"}},{"$f":"Import!I28","v":0},{"$f":"Import!J28","v":0},{"$f":"Import!K28","v":0},{"$f":"Import!L28","v":0},{"$f":"Import!M28","v":0},{"$f":"Import!N28","v":0},{"$f":"Import!O28","v":0},{"$f":"Import!P28","v":0},{"$f":"Import!Q28","v":0},{"$f":"Import!R28","v":0},{"$f":"Import!S28","v":0},{"$f":"Import!T28","v":0},{"$f":"Import!U28","v":0},{"$f":"Import!V28","v":0},{"$f":"Import!W28","v":0},{"$f":"Import!X28","v":0},{"$f":"Import!Y28","v":0},{"$f":"Import!Z28","v":0},{"$f":"Import!AA28","v":{"v":27350,"d":"$27,350"}},{"$f":"Import!AB28","v":0},{"$f":"Import!AC28","v":0},{"$f":"Import!AD28","v":0},{"$f":"Import!AE28","v":0},{"$f":"Import!AF28","v":0},{"$f":"Import!AG28","v":0},{"$f":"Import!AH28","v":0},{"$f":"Import!AI28","v":0},{"$f":"Import!AJ28","v":0},{"$f":"Import!AK28","v":0},{"$f":"Import!AL28","v":0}]
[null,{"$f":"Import!A29","v":"Landscaping (gravel) - Replenish"},{"$f":"Import!B29","v":1019},{"$f":"Import!H29","v":{"v":3309,"d":"$3,309"}},{"$f":"Import!I29","v":{"v":3309,"d":"$3,309"}},{"$f":"Import!J29","v":0},{"$f":"Import!K29","v":0},{"$f":"Import!L29","v":0},{"$f":"Import!M29","v":0},{"$f":"Import!N29","v":{"v":3836,"d":"$3,836"}},{"$f":"Import!O29","v":0},{"$f":"Import!P29","v":0},{"$f":"Import!Q29","v":0},{"$f":"Import!R29","v":0},{"$f":"Import!S29","v":{"v":4447,"d":"$4,447"}},{"$f":"Import!T29","v":0},{"$f":"Import!U29","v":0},{"$f":"Import!V29","v":0},{"$f":"Import!W29","v":0},{"$f":"Import!X29","v":{"v":5155,"d":"$5,155"}},{"$f":"Import!Y29","v":0},{"$f":"Import!Z29","v":0},{"$f":"Import!AA29","v":0},{"$f":"Import!AB29","v":0},{"$f":"Import!AC29","v":{"v":5976,"d":"$5,976"}},{"$f":"Import!AD29","v":0},{"$f":"Import!AE29","v":0},{"$f":"Import!AF29","v":0},{"$f":"Import!AG29","v":0},{"$f":"Import!AH29","v":{"v":6928,"d":"$6,928"}},{"$f":"Import!AI29","v":0},{"$f":"Import!AJ29","v":0},{"$f":"Import!AK29","v":0},{"$f":"Import!AL29","v":0}]
[null,{"$f":"Import!A30","v":"Landscaping - 25% Tree Care"},{"$f":"Import!B30","v":1020},{"$f":"Import!H30","v":{"v":10506,"d":"$10,506"}},{"$f":"Import!I30","v":{"v":10506,"d":"$10,506"}},{"$f":"Import!J30","v":0},{"$f":"Import!K30","v":0},{"$f":"Import!L30","v":0},{"$f":"Import!M30","v":0},{"$f":"Import!N30","v":{"v":12180,"d":"$12,180"}},{"$f":"Import!O30","v":0},{"$f":"Import!P30","v":0},{"$f":"Import!Q30","v":0},{"$f":"Import!R30","v":0},{"$f":"Import!S30","v":{"v":14119,"d":"$14,119"}},{"$f":"Import!T30","v":0},{"$f":"Import!U30","v":0},{"$f":"Import!V30","v":0},{"$f":"Import!W30","v":0},{"$f":"Import!X30","v":{"v":16368,"d":"$16,368"}},{"$f":"Import!Y30","v":0},{"$f":"Import!Z30","v":0},{"$f":"Import!AA30","v":0},{"$f":"Import!AB30","v":0},{"$f":"Import!AC30","v":{"v":18975,"d":"$18,975"}},{"$f":"Import!AD30","v":0},{"$f":"Import!AE30","v":0},{"$f":"Import!AF30","v":0},{"$f":"Import!AG30","v":0},{"$f":"Import!AH30","v":{"v":21998,"d":"$21,998"}},{"$f":"Import!AI30","v":0},{"$f":"Import!AJ30","v":0},{"$f":"Import!AK30","v":0},{"$f":"Import!AL30","v":0}]
[null,{"$f":"Import!A31","v":"Lights (pole) - Replace"},{"$f":"Import!B31","v":1021},{"$f":"Import!H31","v":{"v":2488,"d":"$2,488"}},{"$f":"Import!I31","v":0},{"$f":"Import!J31","v":0},{"$f":"Import!K31","v":0},{"$f":"Import!L31","v":0},{"$f":"Import!M31","v":0},{"$f":"Import!N31","v":{"v":2884,"d":"$2,884"}},{"$f":"Import!O31","v":0},{"$f":"Import!P31","v":0},{"$f":"Import!Q31","v":0},{"$f":"Import!R31","v":0},{"$f":"Import!S31","v":0},{"$f":"Import!T31","v":0},{"$f":"Import!U31","v":0},{"$f":"Import!V31","v":0},{"$f":"Import!W31","v":0},{"$f":"Import!X31","v":0},{"$f":"Import!Y31","v":0},{"$f":"Import!Z31","v":0},{"$f":"Import!AA31","v":0},{"$f":"Import!AB31","v":0},{"$f":"Import!AC31","v":0},{"$f":"Import!AD31","v":0},{"$f":"Import!AE31","v":0},{"$f":"Import!AF31","v":0},{"$f":"Import!AG31","v":0},{"$f":"Import!AH31","v":0},{"$f":"Import!AI31","v":0},{"$f":"Import!AJ31","v":0},{"$f":"Import!AK31","v":0},{"$f":"Import!AL31","v":0}]
[null,{"$f":"Import!A32","v":"Mailbox Cluster (2009) - Replace"},{"$f":"Import!B32","v":1022},{"$f":"Import!H32","v":{"v":5152,"d":"$5,152"}},{"$f":"Import!I32","v":0},{"$f":"Import!J32","v":0},{"$f":"Import!K32","v":0},{"$f":"Import!L32","v":0},{"$f":"Import!M32","v":0},{"$f":"Import!N32","v":0},{"$f":"Import!O32","v":0},{"$f":"Import!P32","v":0},{"$f":"Import!Q32","v":0},{"$f":"Import!R32","v":0},{"$f":"Import!S32","v":0},{"$f":"Import!T32","v":{"v":7131,"d":"$7,131"}},{"$f":"Import!U32","v":0},{"$f":"Import!V32","v":0},{"$f":"Import!W32","v":0},{"$f":"Import!X32","v":0},{"$f":"Import!Y32","v":0},{"$f":"Import!Z32","v":0},{"$f":"Import!AA32","v":0},{"$f":"Import!AB32","v":0},{"$f":"Import!AC32","v":0},{"$f":"Import!AD32","v":0},{"$f":"Import!AE32","v":0},{"$f":"Import!AF32","v":0},{"$f":"Import!AG32","v":0},{"$f":"Import!AH32","v":0},{"$f":"Import!AI32","v":0},{"$f":"Import!AJ32","v":0},{"$f":"Import!AK32","v":0},{"$f":"Import!AL32","v":0}]
[null,{"$f":"Import!A33","v":"Mailbox Cluster (2013) - Replace"},{"$f":"Import!B33","v":1023},{"$f":"Import!H33","v":{"v":1717,"d":"$1,717"}},{"$f":"Import!I33","v":0},{"$f":"Import!J33","v":0},{"$f":"Import!K33","v":0},{"$f":"Import!L33","v":0},{"$f":"Import!M33","v":0},{"$f":"Import!N33","v":0},{"$f":"Import!O33","v":0},{"$f":"Import!P33","v":0},{"$f":"Import!Q33","v":0},{"$f":"Import!R33","v":0},{"$f":"Import!S33","v":0},{"$f":"Import!T33","v":0},{"$f":"Import!U33","v":0},{"$f":"Import!V33","v":0},{"$f":"Import!W33","v":0},{"$f":"Import!X33","v":{"v":2675,"d":"$2,675"}},{"$f":"Import!Y33","v":0},{"$f":"Import!Z33","v":0},{"$f":"Import!AA33","v":0},{"$f":"Import!AB33","v":0},{"$f":"Import!AC33","v":0},{"$f":"Import!AD33","v":0},{"$f":"Import!AE33","v":0},{"$f":"Import!AF33","v":0},{"$f":"Import!AG33","v":0},{"$f":"Import!AH33","v":0},{"$f":"Import!AI33","v":0},{"$f":"Import!AJ33","v":0},{"$f":"Import!AK33","v":0},{"$f":"Import!AL33","v":0}]
[null,{"$f":"Import!A34","v":"Mailbox Cluster (2015) - Replace"},{"$f":"Import!B34","v":1024},{"$f":"Import!H34","v":{"v":1717,"d":"$1,717"}},{"$f":"Import!I34","v":0},{"$f":"Import!J34","v":0},{"$f":"Import!K34","v":0},{"$f":"Import!L34","v":0},{"$f":"Import!M34","v":0},{"$f":"Import!N34","v":0},{"$f":"Import!O34","v":0},{"$f":"Import!P34","v":0},{"$f":"Import!Q34","v":0},{"$f":"Import!R34","v":0},{"$f":"Import!S34","v":0},{"$f":"Import!T34","v":0},{"$f":"Import!U34","v":0},{"$f":"Import!V34","v":0},{"$f":"Import!W34","v":0},{"$f":"Import!X34","v":0},{"$f":"Import!Y34","v":0},{"$f":"Import!Z34","v":{"v":2838,"d":"$2,838"}},{"$f":"Import!AA34","v":0},{"$f":"Import!AB34","v":0},{"$f":"Import!AC34","v":0},{"$f":"Import!AD34","v":0},{"$f":"Import!AE34","v":0},{"$f":"Import!AF34","v":0},{"$f":"Import!AG34","v":0},{"$f":"Import!AH34","v":0},{"$f":"Import!AI34","v":0},{"$f":"Import!AJ34","v":0},{"$f":"Import!AK34","v":0},{"$f":"Import!AL34","v":0}]
[null,{"$f":"Import!A35","v":"Mailbox Cluster (2017) - Replace"},{"$f":"Import!B35","v":1025},{"$f":"Import!H35","v":{"v":3434,"d":"$3,434"}},{"$f":"Import!I35","v":0},{"$f":"Import!J35","v":0},{"$f":"Import!K35","v":0},{"$f":"Import!L35","v":0},{"$f":"Import!M35","v":0},{"$f":"Import!N35","v":0},{"$f":"Import!O35","v":0},{"$f":"Import!P35","v":0},{"$f":"Import!Q35","v":0},{"$f":"Import!R35","v":0},{"$f":"Import!S35","v":0},{"$f":"Import!T35","v":0},{"$f":"Import!U35","v":0},{"$f":"Import!V35","v":0},{"$f":"Import!W35","v":0},{"$f":"Import!X35","v":0},{"$f":"Import!Y35","v":0},{"$f":"Import!Z35","v":0},{"$f":"Import!AA35","v":0},{"$f":"Import!AB35","v":{"v":6022,"d":"$6,022"}},{"$f":"Import!AC35","v":0},{"$f":"Import!AD35","v":0},{"$f":"Import!AE35","v":0},{"$f":"Import!AF35","v":0},{"$f":"Import!AG35","v":0},{"$f":"Import!AH35","v":0},{"$f":"Import!AI35","v":0},{"$f":"Import!AJ35","v":0},{"$f":"Import!AK35","v":0},{"$f":"Import!AL35","v":0}]
[null,{"$f":"Import!A36","v":"Mailbox Clusters (2020) - Replace"},{"$f":"Import!B36","v":1026},{"$f":"Import!H36","v":{"v":30909,"d":"$30,909"}},{"$f":"Import!I36","v":0},{"$f":"Import!J36","v":0},{"$f":"Import!K36","v":0},{"$f":"Import!L36","v":0},{"$f":"Import!M36","v":{"v":34788,"d":"$34,788"}},{"$f":"Import!N36","v":0},{"$f":"Import!O36","v":0},{"$f":"Import!P36","v":0},{"$f":"Import!Q36","v":0},{"$f":"Import!R36","v":0},{"$f":"Import!S36","v":0},{"$f":"Import!T36","v":0},{"$f":"Import!U36","v":0},{"$f":"Import!V36","v":0},{"$f":"Import!W36","v":0},{"$f":"Import!X36","v":0},{"$f":"Import!Y36","v":0},{"$f":"Import!Z36","v":0},{"$f":"Import!AA36","v":0},{"$f":"Import!AB36","v":0},{"$f":"Import!AC36","v":0},{"$f":"Import!AD36","v":0},{"$f":"Import!AE36","v":0},{"$f":"Import!AF36","v":0},{"$f":"Import!AG36","v":0},{"$f":"Import!AH36","v":0},{"$f":"Import!AI36","v":0},{"$f":"Import!AJ36","v":0},{"$f":"Import!AK36","v":{"v":70718,"d":"$70,718"}},{"$f":"Import!AL36","v":0}]
[null,{"$f":"Import!A37","v":"Parking Bollards (boat park) - Replace"},{"$f":"Import!B37","v":1027},{"$f":"Import!H37","v":{"v":3245,"d":"$3,245"}},{"$f":"Import!I37","v":0},{"$f":"Import!J37","v":0},{"$f":"Import!K37","v":0},{"$f":"Import!L37","v":0},{"$f":"Import!M37","v":0},{"$f":"Import!N37","v":0},{"$f":"Import!O37","v":0},{"$f":"Import!P37","v":0},{"$f":"Import!Q37","v":0},{"$f":"Import!R37","v":0},{"$f":"Import!S37","v":{"v":4361,"d":"$4,361"}},{"$f":"Import!T37","v":0},{"$f":"Import!U37","v":0},{"$f":"Import!V37","v":0},{"$f":"Import!W37","v":0},{"$f":"Import!X37","v":0},{"$f":"Import!Y37","v":0},{"$f":"Import!Z37","v":0},{"$f":"Import!AA37","v":0},{"$f":"Import!AB37","v":0},{"$f":"Import!AC37","v":0},{"$f":"Import!AD37","v":0},{"$f":"Import!AE37","v":0},{"$f":"Import!AF37","v":0},{"$f":"Import!AG37","v":0},{"$f":"Import!AH37","v":0},{"$f":"Import!AI37","v":0},{"$f":"Import!AJ37","v":0},{"$f":"Import!AK37","v":0},{"$f":"Import!AL37","v":0}]
[null,{"$f":"Import!A38","v":"Pavers (sand set) - Replace"},{"$f":"Import!B38","v":1028},{"$f":"Import!H38","v":{"v":2353,"d":"$2,353"}},{"$f":"Import!I38","v":{"v":2353,"d":"$2,353"}},{"$f":"Import!J38","v":0},{"$f":"Import!K38","v":0},{"$f":"Import!L38","v":0},{"$f":"Import!M38","v":0},{"$f":"Import!N38","v":0},{"$f":"Import!O38","v":0},{"$f":"Import!P38","v":0},{"$f":"Import!Q38","v":0},{"$f":"Import!R38","v":0},{"$f":"Import!S38","v":0},{"$f":"Import!T38","v":0},{"$f":"Import!U38","v":0},{"$f":"Import!V38","v":0},{"$f":"Import!W38","v":0},{"$f":"Import!X38","v":0},{"$f":"Import!Y38","v":0},{"$f":"Import!Z38","v":0},{"$f":"Import!AA38","v":0},{"$f":"Import!AB38","v":0},{"$f":"Import!AC38","v":0},{"$f":"Import!AD38","v":0},{"$f":"Import!AE38","v":0},{"$f":"Import!AF38","v":0},{"$f":"Import!AG38","v":0},{"$f":"Import!AH38","v":{"v":4927,"d":"$4,927"}},{"$f":"Import!AI38","v":0},{"$f":"Import!AJ38","v":0},{"$f":"Import!AK38","v":0},{"$f":"Import!AL38","v":0}]
[null,{"$f":"Import!A39","v":"Playground Structure (boat park) - Replace"},{"$f":"Import!B39","v":1029},{"$f":"Import!H39","v":{"v":44510,"d":"$44,510"}},{"$f":"Import!I39","v":0},{"$f":"Import!J39","v":0},{"$f":"Import!K39","v":0},{"$f":"Import!L39","v":0},{"$f":"Import!M39","v":0},{"$f":"Import!N39","v":0},{"$f":"Import!O39","v":0},{"$f":"Import!P39","v":0},{"$f":"Import!Q39","v":0},{"$f":"Import!R39","v":0},{"$f":"Import!S39","v":0},{"$f":"Import!T39","v":0},{"$f":"Import!U39","v":0},{"$f":"Import!V39","v":0},{"$f":"Import!W39","v":0},{"$f":"Import!X39","v":0},{"$f":"Import!Y39","v":0},{"$f":"Import!Z39","v":0},{"$f":"Import!AA39","v":0},{"$f":"Import!AB39","v":0},{"$f":"Import!AC39","v":0},{"$f":"Import!AD39","v":0},{"$f":"Import!AE39","v":0},{"$f":"Import!AF39","v":0},{"$f":"Import!AG39","v":{"v":90480,"d":"$90,480"}},{"$f":"Import!AH39","v":0},{"$f":"Import!AI39","v":0},{"$f":"Import!AJ39","v":0},{"$f":"Import!AK39","v":0},{"$f":"Import!AL39","v":0}]
[null,{"$f":"Import!A40","v":"Playground Structure (small park) - Replace"},{"$f":"Import!B40","v":1030},{"$f":"Import!H40","v":{"v":29988,"d":"$29,988"}},{"$f":"Import!I40","v":0},{"$f":"Import!J40","v":0},{"$f":"Import!K40","v":0},{"$f":"Import!L40","v":{"v":32769,"d":"$32,769"}},{"$f":"Import!M40","v":0},{"$f":"Import!N40","v":0},{"$f":"Import!O40","v":0},{"$f":"Import!P40","v":0},{"$f":"Import!Q40","v":0},{"$f":"Import!R40","v":0},{"$f":"Import!S40","v":0},{"$f":"Import!T40","v":0},{"$f":"Import!U40","v":0},{"$f":"Import!V40","v":0},{"$f":"Import!W40","v":0},{"$f":"Import!X40","v":0},{"$f":"Import!Y40","v":0},{"$f":"Import!Z40","v":0},{"$f":"Import!AA40","v":0},{"$f":"Import!AB40","v":0},{"$f":"Import!AC40","v":0},{"$f":"Import!AD40","v":0},{"$f":"Import!AE40","v":0},{"$f":"Import!AF40","v":0},{"$f":"Import!AG40","v":0},{"$f":"Import!AH40","v":0},{"$f":"Import!AI40","v":0},{"$f":"Import!AJ40","v":0},{"$f":"Import!AK40","v":{"v":68610,"d":"$68,610"}},{"$f":"Import!AL40","v":0}]
[null,{"$f":"Import!A41","v":"Playground Surface (boat park) - Replenish"},{"$f":"Import!B41","v":1031},{"$f":"Import!H41","v":{"v":1648,"d":"$1,648"}},{"$f":"Import!I41","v":0},{"$f":"Import!J41","v":0},{"$f":"Import!K41","v":{"v":1748,"d":"$1,748"}},{"$f":"Import!L41","v":0},{"$f":"Import!M41","v":0},{"$f":"Import!N41","v":{"v":1910,"d":"$1,910"}},{"$f":"Import!O41","v":0},{"$f":"Import!P41","v":0},{"$f":"Import!Q41","v":{"v":2088,"d":"$2,088"}},{"$f":"Import!R41","v":0},{"$f":"Import!S41","v":0},{"$f":"Import!T41","v":{"v":2281,"d":"$2,281"}},{"$f":"Import!U41","v":0},{"$f":"Import!V41","v":0},{"$f":"Import!W41","v":{"v":2493,"d":"$2,493"}},{"$f":"Import!X41","v":0},{"$f":"Import!Y41","v":0},{"$f":"Import!Z41","v":{"v":2724,"d":"$2,724"}},{"$f":"Import!AA41","v":0},{"$f":"Import!AB41","v":0},{"$f":"Import!AC41","v":{"v":2976,"d":"$2,976"}},{"$f":"Import!AD41","v":0},{"$f":"Import!AE41","v":0},{"$f":"Import!AF41","v":{"v":3252,"d":"$3,252"}},{"$f":"Import!AG41","v":0},{"$f":"Import!AH41","v":0},{"$f":"Import!AI41","v":{"v":3554,"d":"$3,554"}},{"$f":"Import!AJ41","v":0},{"$f":"Import!AK41","v":0},{"$f":"Import!AL41","v":{"v":3884,"d":"$3,884"}}]
[null,{"$f":"Import!A42","v":"Playground Surface (small park) - Replenish"},{"$f":"Import!B42","v":1032},{"$f":"Import!H42","v":{"v":1309,"d":"$1,309"}},{"$f":"Import!I42","v":{"v":1309,"d":"$1,309"}},{"$f":"Import!J42","v":0},{"$f":"Import!K42","v":0},{"$f":"Import!L42","v":{"v":1431,"d":"$1,431"}},{"$f":"Import!M42","v":0},{"$f":"Import!N42","v":0},{"$f":"Import!O42","v":{"v":1563,"d":"$1,563"}},{"$f":"Import!P42","v":0},{"$f":"Import!Q42","v":0},{"$f":"Import!R42","v":{"v":1708,"d":"$1,708"}},{"$f":"Import!S42","v":0},{"$f":"Import!T42","v":0},{"$f":"Import!U42","v":{"v":1867,"d":"$1,867"}},{"$f":"Import!V42","v":0},{"$f":"Import!W42","v":0},{"$f":"Import!X42","v":{"v":2040,"d":"$2,040"}},{"$f":"Import!Y42","v":0},{"$f":"Import!Z42","v":0},{"$f":"Import!AA42","v":{"v":2229,"d":"$2,229"}},{"$f":"Import!AB42","v":0},{"$f":"Import!AC42","v":0},{"$f":"Import!AD42","v":{"v":2435,"d":"$2,435"}},{"$f":"Import!AE42","v":0},{"$f":"Import!AF42","v":0},{"$f":"Import!AG42","v":{"v":2661,"d":"$2,661"}},{"$f":"Import!AH42","v":0},{"$f":"Import!AI42","v":0},{"$f":"Import!AJ42","v":{"v":2908,"d":"$2,908"}},{"$f":"Import!AK42","v":0},{"$f":"Import!AL42","v":0}]
[null,{"$f":"Import!A43","v":"Playground Timber Edging (boat park) - Replace"},{"$f":"Import!B43","v":1033},{"$f":"Import!H43","v":{"v":1384,"d":"$1,384"}},{"$f":"Import!I43","v":0},{"$f":"Import!J43","v":0},{"$f":"Import!K43","v":0},{"$f":"Import!L43","v":0},{"$f":"Import!M43","v":0},{"$f":"Import!N43","v":0},{"$f":"Import!O43","v":0},{"$f":"Import!P43","v":0},{"$f":"Import!Q43","v":0},{"$f":"Import!R43","v":0},{"$f":"Import!S43","v":0},{"$f":"Import!T43","v":0},{"$f":"Import!U43","v":0},{"$f":"Import!V43","v":0},{"$f":"Import!W43","v":0},{"$f":"Import!X43","v":0},{"$f":"Import!Y43","v":0},{"$f":"Import!Z43","v":0},{"$f":"Import!AA43","v":0},{"$f":"Import!AB43","v":0},{"$f":"Import!AC43","v":0},{"$f":"Import!AD43","v":0},{"$f":"Import!AE43","v":0},{"$f":"Import!AF43","v":0},{"$f":"Import!AG43","v":{"v":2813,"d":"$2,813"}},{"$f":"Import!AH43","v":0},{"$f":"Import!AI43","v":0},{"$f":"Import!AJ43","v":0},{"$f":"Import!AK43","v":0},{"$f":"Import!AL43","v":0}]
[null,{"$f":"Import!A44","v":"Playground Timber Edging (small park) - Replace"},{"$f":"Import!B44","v":1034},{"$f":"Import!H44","v":{"v":1246,"d":"$1,246"}},{"$f":"Import!I44","v":{"v":1246,"d":"$1,246"}},{"$f":"Import!J44","v":0},{"$f":"Import!K44","v":0},{"$f":"Import!L44","v":0},{"$f":"Import!M44","v":0},{"$f":"Import!N44","v":0},{"$f":"Import!O44","v":0},{"$f":"Import!P44","v":0},{"$f":"Import!Q44","v":0},{"$f":"Import!R44","v":0},{"$f":"Import!S44","v":0},{"$f":"Import!T44","v":0},{"$f":"Import!U44","v":0},{"$f":"Import!V44","v":0},{"$f":"Import!W44","v":0},{"$f":"Import!X44","v":0},{"$f":"Import!Y44","v":0},{"$f":"Import!Z44","v":0},{"$f":"Import!AA44","v":0},{"$f":"Import!AB44","v":0},{"$f":"Import!AC44","v":0},{"$f":"Import!AD44","v":0},{"$f":"Import!AE44","v":0},{"$f":"Import!AF44","v":0},{"$f":"Import!AG44","v":{"v":2532,"d":"$2,532"}},{"$f":"Import!AH44","v":0},{"$f":"Import!AI44","v":0},{"$f":"Import!AJ44","v":0},{"$f":"Import!AK44","v":0},{"$f":"Import!AL44","v":0}]
[null,{"$f":"Import!A45","v":"Recreation - Benches (wood) - Replace"},{"$f":"Import!B45","v":1035},{"$f":"Import!H45","v":{"v":8924,"d":"$8,924"}},{"$f":"Import!I45","v":{"v":8924,"d":"$8,924"}},{"$f":"Import!J45","v":0},{"$f":"Import!K45","v":0},{"$f":"Import!L45","v":0},{"$f":"Import!M45","v":0},{"$f":"Import!N45","v":0},{"$f":"Import!O45","v":0},{"$f":"Import!P45","v":0},{"$f":"Import!Q45","v":0},{"$f":"Import!R45","v":0},{"$f":"Import!S45","v":0},{"$f":"Import!T45","v":0},{"$f":"Import!U45","v":0},{"$f":"Import!V45","v":0},{"$f":"Import!W45","v":0},{"$f":"Import!X45","v":0},{"$f":"Import!Y45","v":0},{"$f":"Import!Z45","v":0},{"$f":"Import!AA45","v":0},{"$f":"Import!AB45","v":0},{"$f":"Import!AC45","v":0},{"$f":"Import!AD45","v":0},{"$f":"Import!AE45","v":0},{"$f":"Import!AF45","v":0},{"$f":"Import!AG45","v":0},{"$f":"Import!AH45","v":{"v":18685,"d":"$18,685"}},{"$f":"Import!AI45","v":0},{"$f":"Import!AJ45","v":0},{"$f":"Import!AK45","v":0},{"$f":"Import!AL45","v":0}]
[null,{"$f":"Import!A46","v":"Recreation - Picnic Table (wood) - Replace"},{"$f":"Import!B46","v":1036},{"$f":"Import!H46","v":{"v":2758,"d":"$2,758"}},{"$f":"Import!I46","v":{"v":2758,"d":"$2,758"}},{"$f":"Import!J46","v":0},{"$f":"Import!K46","v":0},{"$f":"Import!L46","v":0},{"$f":"Import!M46","v":0},{"$f":"Import!N46","v":0},{"$f":"Import!O46","v":0},{"$f":"Import!P46","v":0},{"$f":"Import!Q46","v":0},{"$f":"Import!R46","v":0},{"$f":"Import!S46","v":0},{"$f":"Import!T46","v":0},{"$f":"Import!U46","v":0},{"$f":"Import!V46","v":0},{"$f":"Import!W46","v":0},{"$f":"Import!X46","v":0},{"$f":"Import!Y46","v":0},{"$f":"Import!Z46","v":0},{"$f":"Import!AA46","v":0},{"$f":"Import!AB46","v":0},{"$f":"Import!AC46","v":0},{"$f":"Import!AD46","v":0},{"$f":"Import!AE46","v":0},{"$f":"Import!AF46","v":0},{"$f":"Import!AG46","v":0},{"$f":"Import!AH46","v":{"v":5775,"d":"$5,775"}},{"$f":"Import!AI46","v":0},{"$f":"Import!AJ46","v":0},{"$f":"Import!AK46","v":0},{"$f":"Import!AL46","v":0}]
[null,{"$f":"Import!A47","v":"Retaining Walls (masonry) - Replace"},{"$f":"Import!B47","v":1037},{"$f":"Import!H47","v":{"v":2174,"d":"$2,174"}},{"$f":"Import!I47","v":0},{"$f":"Import!J47","v":0},{"$f":"Import!K47","v":0},{"$f":"Import!L47","v":0},{"$f":"Import!M47","v":0},{"$f":"Import!N47","v":0},{"$f":"Import!O47","v":0},{"$f":"Import!P47","v":0},{"$f":"Import!Q47","v":0},{"$f":"Import!R47","v":0},{"$f":"Import!S47","v":0},{"$f":"Import!T47","v":0},{"$f":"Import!U47","v":0},{"$f":"Import!V47","v":0},{"$f":"Import!W47","v":0},{"$f":"Import!X47","v":0},{"$f":"Import!Y47","v":0},{"$f":"Import!Z47","v":0},{"$f":"Import!AA47","v":0},{"$f":"Import!AB47","v":0},{"$f":"Import!AC47","v":0},{"$f":"Import!AD47","v":0},{"$f":"Import!AE47","v":0},{"$f":"Import!AF47","v":0},{"$f":"Import!AG47","v":0},{"$f":"Import!AH47","v":0},{"$f":"Import!AI47","v":0},{"$f":"Import!AJ47","v":0},{"$f":"Import!AK47","v":0},{"$f":"Import!AL47","v":0}]
[null,{"$f":"Import!A48","v":"Retaining Walls (wood) - Replace"},{"$f":"Import!B48","v":1038},{"$f":"Import!H48","v":{"v":714,"d":"$714"}},{"$f":"Import!I48","v":{"v":714,"d":"$714"}},{"$f":"Import!J48","v":0},{"$f":"Import!K48","v":0},{"$f":"Import!L48","v":0},{"$f":"Import!M48","v":0},{"$f":"Import!N48","v":0},{"$f":"Import!O48","v":0},{"$f":"Import!P48","v":0},{"$f":"Import!Q48","v":0},{"$f":"Import!R48","v":0},{"$f":"Import!S48","v":0},{"$f":"Import!T48","v":0},{"$f":"Import!U48","v":0},{"$f":"Import!V48","v":0},{"$f":"Import!W48","v":0},{"$f":"Import!X48","v":0},{"$f":"Import!Y48","v":0},{"$f":"Import!Z48","v":0},{"$f":"Import!AA48","v":0},{"$f":"Import!AB48","v":0},{"$f":"Import!AC48","v":0},{"$f":"Import!AD48","v":0},{"$f":"Import!AE48","v":0},{"$f":"Import!AF48","v":0},{"$f":"Import!AG48","v":0},{"$f":"Import!AH48","v":{"v":1495,"d":"$1,495"}},{"$f":"Import!AI48","v":0},{"$f":"Import!AJ48","v":0},{"$f":"Import!AK48","v":0},{"$f":"Import!AL48","v":0}]
[null,{"$f":"Import!A49","v":"Stormwater Pond (NE pond) - Refurbish"},{"$f":"Import!B49","v":1039},{"$f":"Import!H49","v":{"v":21634,"d":"$21,634"}},{"$f":"Import!I49","v":0},{"$f":"Import!J49","v":0},{"$f":"Import!K49","v":0},{"$f":"Import!L49","v":0},{"$f":"Import!M49","v":0},{"$f":"Import!N49","v":{"v":25080,"d":"$25,080"}},{"$f":"Import!O49","v":0},{"$f":"Import!P49","v":0},{"$f":"Import!Q49","v":0},{"$f":"Import!R49","v":0},{"$f":"Import!S49","v":0},{"$f":"Import!T49","v":0},{"$f":"Import!U49","v":0},{"$f":"Import!V49","v":0},{"$f":"Import!W49","v":0},{"$f":"Import!X49","v":0},{"$f":"Import!Y49","v":0},{"$f":"Import!Z49","v":0},{"$f":"Import!AA49","v":0},{"$f":"Import!AB49","v":0},{"$f":"Import!AC49","v":0},{"$f":"Import!AD49","v":0},{"$f":"Import!AE49","v":0},{"$f":"Import!AF49","v":0},{"$f":"Import!AG49","v":0},{"$f":"Import!AH49","v":0},{"$f":"Import!AI49","v":0},{"$f":"Import!AJ49","v":0},{"$f":"Import!AK49","v":0},{"$f":"Import!AL49","v":0}]
[null,{"$f":"Import!A50","v":"Stormwater Pond (NW pond) - Refurbish"},{"$f":"Import!B50","v":1040},{"$f":"Import!H50","v":{"v":12440,"d":"$12,440"}},{"$f":"Import!I50","v":0},{"$f":"Import!J50","v":0},{"$f":"Import!K50","v":0},{"$f":"Import!L50","v":0},{"$f":"Import!M50","v":0},{"$f":"Import!N50","v":0},{"$f":"Import!O50","v":0},{"$f":"Import!P50","v":0},{"$f":"Import!Q50","v":{"v":15758,"d":"$15,758"}},{"$f":"Import!R50","v":0},{"$f":"Import!S50","v":0},{"$f":"Import!T50","v":0},{"$f":"Import!U50","v":0},{"$f":"Import!V50","v":0},{"$f":"Import!W50","v":0},{"$f":"Import!X50","v":0},{"$f":"Import!Y50","v":0},{"$f":"Import!Z50","v":0},{"$f":"Import!AA50","v":0},{"$f":"Import!AB50","v":0},{"$f":"Import!AC50","v":0},{"$f":"Import!AD50","v":0},{"$f":"Import!AE50","v":0},{"$f":"Import!AF50","v":{"v":24551,"d":"$24,551"}},{"$f":"Import!AG50","v":0},{"$f":"Import!AH50","v":0},{"$f":"Import!AI50","v":0},{"$f":"Import!AJ50","v":0},{"$f":"Import!AK50","v":0},{"$f":"Import!AL50","v":0}]
[null,{"$f":"Import!A51","v":0},{"$f":"Import!B51","v":0},{"$f":"Import!H51","v":0},{"$f":"Import!I51","v":0},{"$f":"Import!J51","v":0},{"$f":"Import!K51","v":0},{"$f":"Import!L51","v":0},{"$f":"Import!M51","v":0},{"$f":"Import!N51","v":0},{"$f":"Import!O51","v":0},{"$f":"Import!P51","v":0},{"$f":"Import!Q51","v":0},{"$f":"Import!R51","v":0},{"$f":"Import!S51","v":0},{"$f":"Import!T51","v":0},{"$f":"Import!U51","v":0},{"$f":"Import!V51","v":0},{"$f":"Import!W51","v":0},{"$f":"Import!X51","v":0},{"$f":"Import!Y51","v":0},{"$f":"Import!Z51","v":0},{"$f":"Import!AA51","v":0},{"$f":"Import!AB51","v":0},{"$f":"Import!AC51","v":0},{"$f":"Import!AD51","v":0},{"$f":"Import!AE51","v":0},{"$f":"Import!AF51","v":0},{"$f":"Import!AG51","v":0},{"$f":"Import!AH51","v":0},{"$f":"Import!AI51","v":0},{"$f":"Import!AJ51","v":0},{"$f":"Import!AK51","v":0},{"$f":"Import!AL51","v":0}]
[null,{"$f":"Import!A52","v":0},{"$f":"Import!B52","v":0},{"$f":"Import!H52","v":0},{"$f":"Import!I52","v":0},{"$f":"Import!J52","v":0},{"$f":"Import!K52","v":0},{"$f":"Import!L52","v":0},{"$f":"Import!M52","v":0},{"$f":"Import!N52","v":0},{"$f":"Import!O52","v":0},{"$f":"Import!P52","v":0},{"$f":"Import!Q52","v":0},{"$f":"Import!R52","v":0},{"$f":"Import!S52","v":0},{"$f":"Import!T52","v":0},{"$f":"Import!U52","v":0},{"$f":"Import!V52","v":0},{"$f":"Import!W52","v":0},{"$f":"Import!X52","v":0},{"$f":"Import!Y52","v":0},{"$f":"Import!Z52","v":0},{"$f":"Import!AA52","v":0},{"$f":"Import!AB52","v":0},{"$f":"Import!AC52","v":0},{"$f":"Import!AD52","v":0},{"$f":"Import!AE52","v":0},{"$f":"Import!AF52","v":0},{"$f":"Import!AG52","v":0},{"$f":"Import!AH52","v":0},{"$f":"Import!AI52","v":0},{"$f":"Import!AJ52","v":0},{"$f":"Import!AK52","v":0},{"$f":"Import!AL52","v":0}]
[null,{"$f":"Import!A53","v":0},{"$f":"Import!B53","v":0},{"$f":"Import!H53","v":0},{"$f":"Import!I53","v":0},{"$f":"Import!J53","v":0},{"$f":"Import!K53","v":0},{"$f":"Import!L53","v":0},{"$f":"Import!M53","v":0},{"$f":"Import!N53","v":0},{"$f":"Import!O53","v":0},{"$f":"Import!P53","v":0},{"$f":"Import!Q53","v":0},{"$f":"Import!R53","v":0},{"$f":"Import!S53","v":0},{"$f":"Import!T53","v":0},{"$f":"Import!U53","v":0},{"$f":"Import!V53","v":0},{"$f":"Import!W53","v":0},{"$f":"Import!X53","v":0},{"$f":"Import!Y53","v":0},{"$f":"Import!Z53","v":0},{"$f":"Import!AA53","v":0},{"$f":"Import!AB53","v":0},{"$f":"Import!AC53","v":0},{"$f":"Import!AD53","v":0},{"$f":"Import!AE53","v":0},{"$f":"Import!AF53","v":0},{"$f":"Import!AG53","v":0},{"$f":"Import!AH53","v":0},{"$f":"Import!AI53","v":0},{"$f":"Import!AJ53","v":0},{"$f":"Import!AK53","v":0},{"$f":"Import!AL53","v":0}]
[null,{"$f":"Import!A54","v":0},{"$f":"Import!B54","v":0},{"$f":"Import!H54","v":0},{"$f":"Import!I54","v":0},{"$f":"Import!J54","v":0},{"$f":"Import!K54","v":0},{"$f":"Import!L54","v":0},{"$f":"Import!M54","v":0},{"$f":"Import!N54","v":0},{"$f":"Import!O54","v":0},{"$f":"Import!P54","v":0},{"$f":"Import!Q54","v":0},{"$f":"Import!R54","v":0},{"$f":"Import!S54","v":0},{"$f":"Import!T54","v":0},{"$f":"Import!U54","v":0},{"$f":"Import!V54","v":0},{"$f":"Import!W54","v":0},{"$f":"Import!X54","v":0},{"$f":"Import!Y54","v":0},{"$f":"Import!Z54","v":0},{"$f":"Import!AA54","v":0},{"$f":"Import!AB54","v":0},{"$f":"Import!AC54","v":0},{"$f":"Import!AD54","v":0},{"$f":"Import!AE54","v":0},{"$f":"Import!AF54","v":0},{"$f":"Import!AG54","v":0},{"$f":"Import!AH54","v":0},{"$f":"Import!AI54","v":0},{"$f":"Import!AJ54","v":0},{"$f":"Import!AK54","v":0},{"$f":"Import!AL54","v":0}]
[null,{"$f":"Import!A55","v":0},{"$f":"Import!B55","v":0},{"$f":"Import!H55","v":0},{"$f":"Import!I55","v":0},{"$f":"Import!J55","v":0},{"$f":"Import!K55","v":0},{"$f":"Import!L55","v":0},{"$f":"Import!M55","v":0},{"$f":"Import!N55","v":0},{"$f":"Import!O55","v":0},{"$f":"Import!P55","v":0},{"$f":"Import!Q55","v":0},{"$f":"Import!R55","v":0},{"$f":"Import!S55","v":0},{"$f":"Import!T55","v":0},{"$f":"Import!U55","v":0},{"$f":"Import!V55","v":0},{"$f":"Import!W55","v":0},{"$f":"Import!X55","v":0},{"$f":"Import!Y55","v":0},{"$f":"Import!Z55","v":0},{"$f":"Import!AA55","v":0},{"$f":"Import!AB55","v":0},{"$f":"Import!AC55","v":0},{"$f":"Import!AD55","v":0},{"$f":"Import!AE55","v":0},{"$f":"Import!AF55","v":0},{"$f":"Import!AG55","v":0},{"$f":"Import!AH55","v":0},{"$f":"Import!AI55","v":0},{"$f":"Import!AJ55","v":0},{"$f":"Import!AK55","v":0},{"$f":"Import!AL55","v":0}]
[null,{"$f":"Import!A56","v":0},{"$f":"Import!B56","v":0},{"$f":"Import!H56","v":0},{"$f":"Import!I56","v":0},{"$f":"Import!J56","v":0},{"$f":"Import!K56","v":0},{"$f":"Import!L56","v":0},{"$f":"Import!M56","v":0},{"$f":"Import!N56","v":0},{"$f":"Import!O56","v":0},{"$f":"Import!P56","v":0},{"$f":"Import!Q56","v":0},{"$f":"Import!R56","v":0},{"$f":"Import!S56","v":0},{"$f":"Import!T56","v":0},{"$f":"Import!U56","v":0},{"$f":"Import!V56","v":0},{"$f":"Import!W56","v":0},{"$f":"Import!X56","v":0},{"$f":"Import!Y56","v":0},{"$f":"Import!Z56","v":0},{"$f":"Import!AA56","v":0},{"$f":"Import!AB56","v":0},{"$f":"Import!AC56","v":0},{"$f":"Import!AD56","v":0},{"$f":"Import!AE56","v":0},{"$f":"Import!AF56","v":0},{"$f":"Import!AG56","v":0},{"$f":"Import!AH56","v":0},{"$f":"Import!AI56","v":0},{"$f":"Import!AJ56","v":0},{"$f":"Import!AK56","v":0},{"$f":"Import!AL56","v":0}]
[null,{"$f":"Import!A57","v":0},{"$f":"Import!B57","v":0},{"$f":"Import!H57","v":0},{"$f":"Import!I57","v":0},{"$f":"Import!J57","v":0},{"$f":"Import!K57","v":0},{"$f":"Import!L57","v":0},{"$f":"Import!M57","v":0},{"$f":"Import!N57","v":0},{"$f":"Import!O57","v":0},{"$f":"Import!P57","v":0},{"$f":"Import!Q57","v":0},{"$f":"Import!R57","v":0},{"$f":"Import!S57","v":0},{"$f":"Import!T57","v":0},{"$f":"Import!U57","v":0},{"$f":"Import!V57","v":0},{"$f":"Import!W57","v":0},{"$f":"Import!X57","v":0},{"$f":"Import!Y57","v":0},{"$f":"Import!Z57","v":0},{"$f":"Import!AA57","v":0},{"$f":"Import!AB57","v":0},{"$f":"Import!AC57","v":0},{"$f":"Import!AD57","v":0},{"$f":"Import!AE57","v":0},{"$f":"Import!AF57","v":0},{"$f":"Import!AG57","v":0},{"$f":"Import!AH57","v":0},{"$f":"Import!AI57","v":0},{"$f":"Import!AJ57","v":0},{"$f":"Import!AK57","v":0},{"$f":"Import!AL57","v":0}]
[null,{"$f":"Import!A58","v":0},{"$f":"Import!B58","v":0},{"$f":"Import!H58","v":0},{"$f":"Import!I58","v":0},{"$f":"Import!J58","v":0},{"$f":"Import!K58","v":0},{"$f":"Import!L58","v":0},{"$f":"Import!M58","v":0},{"$f":"Import!N58","v":0},{"$f":"Import!O58","v":0},{"$f":"Import!P58","v":0},{"$f":"Import!Q58","v":0},{"$f":"Import!R58","v":0},{"$f":"Import!S58","v":0},{"$f":"Import!T58","v":0},{"$f":"Import!U58","v":0},{"$f":"Import!V58","v":0},{"$f":"Import!W58","v":0},{"$f":"Import!X58","v":0},{"$f":"Import!Y58","v":0},{"$f":"Import!Z58","v":0},{"$f":"Import!AA58","v":0},{"$f":"Import!AB58","v":0},{"$f":"Import!AC58","v":0},{"$f":"Import!AD58","v":0},{"$f":"Import!AE58","v":0},{"$f":"Import!AF58","v":0},{"$f":"Import!AG58","v":0},{"$f":"Import!AH58","v":0},{"$f":"Import!AI58","v":0},{"$f":"Import!AJ58","v":0},{"$f":"Import!AK58","v":0},{"$f":"Import!AL58","v":0}]
[null,{"$f":"Import!A59","v":0},{"$f":"Import!B59","v":0},{"$f":"Import!H59","v":0},{"$f":"Import!I59","v":0},{"$f":"Import!J59","v":0},{"$f":"Import!K59","v":0},{"$f":"Import!L59","v":0},{"$f":"Import!M59","v":0},{"$f":"Import!N59","v":0},{"$f":"Import!O59","v":0},{"$f":"Import!P59","v":0},{"$f":"Import!Q59","v":0},{"$f":"Import!R59","v":0},{"$f":"Import!S59","v":0},{"$f":"Import!T59","v":0},{"$f":"Import!U59","v":0},{"$f":"Import!V59","v":0},{"$f":"Import!W59","v":0},{"$f":"Import!X59","v":0},{"$f":"Import!Y59","v":0},{"$f":"Import!Z59","v":0},{"$f":"Import!AA59","v":0},{"$f":"Import!AB59","v":0},{"$f":"Import!AC59","v":0},{"$f":"Import!AD59","v":0},{"$f":"Import!AE59","v":0},{"$f":"Import!AF59","v":0},{"$f":"Import!AG59","v":0},{"$f":"Import!AH59","v":0},{"$f":"Import!AI59","v":0},{"$f":"Import!AJ59","v":0},{"$f":"Import!AK59","v":0},{"$f":"Import!AL59","v":0}]
[null,{"$f":"Import!A60","v":0},{"$f":"Import!B60","v":0},{"$f":"Import!H60","v":0},{"$f":"Import!I60","v":0},{"$f":"Import!J60","v":0},{"$f":"Import!K60","v":0},{"$f":"Import!L60","v":0},{"$f":"Import!M60","v":0},{"$f":"Import!N60","v":0},{"$f":"Import!O60","v":0},{"$f":"Import!P60","v":0},{"$f":"Import!Q60","v":0},{"$f":"Import!R60","v":0},{"$f":"Import!S60","v":0},{"$f":"Import!T60","v":0},{"$f":"Import!U60","v":0},{"$f":"Import!V60","v":0},{"$f":"Import!W60","v":0},{"$f":"Import!X60","v":0},{"$f":"Import!Y60","v":0},{"$f":"Import!Z60","v":0},{"$f":"Import!AA60","v":0},{"$f":"Import!AB60","v":0},{"$f":"Import!AC60","v":0},{"$f":"Import!AD60","v":0},{"$f":"Import!AE60","v":0},{"$f":"Import!AF60","v":0},{"$f":"Import!AG60","v":0},{"$f":"Import!AH60","v":0},{"$f":"Import!AI60","v":0},{"$f":"Import!AJ60","v":0},{"$f":"Import!AK60","v":0},{"$f":"Import!AL60","v":0}]
[null,{"$f":"Import!A61","v":0},{"$f":"Import!B61","v":0},{"$f":"Import!H61","v":0},{"$f":"Import!I61","v":0},{"$f":"Import!J61","v":0},{"$f":"Import!K61","v":0},{"$f":"Import!L61","v":0},{"$f":"Import!M61","v":0},{"$f":"Import!N61","v":0},{"$f":"Import!O61","v":0},{"$f":"Import!P61","v":0},{"$f":"Import!Q61","v":0},{"$f":"Import!R61","v":0},{"$f":"Import!S61","v":0},{"$f":"Import!T61","v":0},{"$f":"Import!U61","v":0},{"$f":"Import!V61","v":0},{"$f":"Import!W61","v":0},{"$f":"Import!X61","v":0},{"$f":"Import!Y61","v":0},{"$f":"Import!Z61","v":0},{"$f":"Import!AA61","v":0},{"$f":"Import!AB61","v":0},{"$f":"Import!AC61","v":0},{"$f":"Import!AD61","v":0},{"$f":"Import!AE61","v":0},{"$f":"Import!AF61","v":0},{"$f":"Import!AG61","v":0},{"$f":"Import!AH61","v":0},{"$f":"Import!AI61","v":0},{"$f":"Import!AJ61","v":0},{"$f":"Import!AK61","v":0},{"$f":"Import!AL61","v":0}]
[null,{"$f":"Import!A62","v":0},{"$f":"Import!B62","v":0},{"$f":"Import!H62","v":0},{"$f":"Import!I62","v":0},{"$f":"Import!J62","v":0},{"$f":"Import!K62","v":0},{"$f":"Import!L62","v":0},{"$f":"Import!M62","v":0},{"$f":"Import!N62","v":0},{"$f":"Import!O62","v":0},{"$f":"Import!P62","v":0},{"$f":"Import!Q62","v":0},{"$f":"Import!R62","v":0},{"$f":"Import!S62","v":0},{"$f":"Import!T62","v":0},{"$f":"Import!U62","v":0},{"$f":"Import!V62","v":0},{"$f":"Import!W62","v":0},{"$f":"Import!X62","v":0},{"$f":"Import!Y62","v":0},{"$f":"Import!Z62","v":0},{"$f":"Import!AA62","v":0},{"$f":"Import!AB62","v":0},{"$f":"Import!AC62","v":0},{"$f":"Import!AD62","v":0},{"$f":"Import!AE62","v":0},{"$f":"Import!AF62","v":0},{"$f":"Import!AG62","v":0},{"$f":"Import!AH62","v":0},{"$f":"Import!AI62","v":0},{"$f":"Import!AJ62","v":0},{"$f":"Import!AK62","v":0},{"$f":"Import!AL62","v":0}]
[null,{"$f":"Import!A63","v":0},{"$f":"Import!B63","v":0},{"$f":"Import!H63","v":0},{"$f":"Import!I63","v":0},{"$f":"Import!J63","v":0},{"$f":"Import!K63","v":0},{"$f":"Import!L63","v":0},{"$f":"Import!M63","v":0},{"$f":"Import!N63","v":0},{"$f":"Import!O63","v":0},{"$f":"Import!P63","v":0},{"$f":"Import!Q63","v":0},{"$f":"Import!R63","v":0},{"$f":"Import!S63","v":0},{"$f":"Import!T63","v":0},{"$f":"Import!U63","v":0},{"$f":"Import!V63","v":0},{"$f":"Import!W63","v":0},{"$f":"Import!X63","v":0},{"$f":"Import!Y63","v":0},{"$f":"Import!Z63","v":0},{"$f":"Import!AA63","v":0},{"$f":"Import!AB63","v":0},{"$f":"Import!AC63","v":0},{"$f":"Import!AD63","v":0},{"$f":"Import!AE63","v":0},{"$f":"Import!AF63","v":0},{"$f":"Import!AG63","v":0},{"$f":"Import!AH63","v":0},{"$f":"Import!AI63","v":0},{"$f":"Import!AJ63","v":0},{"$f":"Import!AK63","v":0},{"$f":"Import!AL63","v":0}]
[null,{"$f":"Import!A64","v":0},{"$f":"Import!B64","v":0},{"$f":"Import!H64","v":0},{"$f":"Import!I64","v":0},{"$f":"Import!J64","v":0},{"$f":"Import!K64","v":0},{"$f":"Import!L64","v":0},{"$f":"Import!M64","v":0},{"$f":"Import!N64","v":0},{"$f":"Import!O64","v":0},{"$f":"Import!P64","v":0},{"$f":"Import!Q64","v":0},{"$f":"Import!R64","v":0},{"$f":"Import!S64","v":0},{"$f":"Import!T64","v":0},{"$f":"Import!U64","v":0},{"$f":"Import!V64","v":0},{"$f":"Import!W64","v":0},{"$f":"Import!X64","v":0},{"$f":"Import!Y64","v":0},{"$f":"Import!Z64","v":0},{"$f":"Import!AA64","v":0},{"$f":"Import!AB64","v":0},{"$f":"Import!AC64","v":0},{"$f":"Import!AD64","v":0},{"$f":"Import!AE64","v":0},{"$f":"Import!AF64","v":0},{"$f":"Import!AG64","v":0},{"$f":"Import!AH64","v":0},{"$f":"Import!AI64","v":0},{"$f":"Import!AJ64","v":0},{"$f":"Import!AK64","v":0},{"$f":"Import!AL64","v":0}]
[null,{"$f":"Import!A65","v":0},{"$f":"Import!B65","v":0},{"$f":"Import!H65","v":0},{"$f":"Import!I65","v":0},{"$f":"Import!J65","v":0},{"$f":"Import!K65","v":0},{"$f":"Import!L65","v":0},{"$f":"Import!M65","v":0},{"$f":"Import!N65","v":0},{"$f":"Import!O65","v":0},{"$f":"Import!P65","v":0},{"$f":"Import!Q65","v":0},{"$f":"Import!R65","v":0},{"$f":"Import!S65","v":0},{"$f":"Import!T65","v":0},{"$f":"Import!U65","v":0},{"$f":"Import!V65","v":0},{"$f":"Import!W65","v":0},{"$f":"Import!X65","v":0},{"$f":"Import!Y65","v":0},{"$f":"Import!Z65","v":0},{"$f":"Import!AA65","v":0},{"$f":"Import!AB65","v":0},{"$f":"Import!AC65","v":0},{"$f":"Import!AD65","v":0},{"$f":"Import!AE65","v":0},{"$f":"Import!AF65","v":0},{"$f":"Import!AG65","v":0},{"$f":"Import!AH65","v":0},{"$f":"Import!AI65","v":0},{"$f":"Import!AJ65","v":0},{"$f":"Import!AK65","v":0},{"$f":"Import!AL65","v":0}]
[null,{"$f":"Import!A66","v":0},{"$f":"Import!B66","v":0},{"$f":"Import!H66","v":0},{"$f":"Import!I66","v":0},{"$f":"Import!J66","v":0},{"$f":"Import!K66","v":0},{"$f":"Import!L66","v":0},{"$f":"Import!M66","v":0},{"$f":"Import!N66","v":0},{"$f":"Import!O66","v":0},{"$f":"Import!P66","v":0},{"$f":"Import!Q66","v":0},{"$f":"Import!R66","v":0},{"$f":"Import!S66","v":0},{"$f":"Import!T66","v":0},{"$f":"Import!U66","v":0},{"$f":"Import!V66","v":0},{"$f":"Import!W66","v":0},{"$f":"Import!X66","v":0},{"$f":"Import!Y66","v":0},{"$f":"Import!Z66","v":0},{"$f":"Import!AA66","v":0},{"$f":"Import!AB66","v":0},{"$f":"Import!AC66","v":0},{"$f":"Import!AD66","v":0},{"$f":"Import!AE66","v":0},{"$f":"Import!AF66","v":0},{"$f":"Import!AG66","v":0},{"$f":"Import!AH66","v":0},{"$f":"Import!AI66","v":0},{"$f":"Import!AJ66","v":0},{"$f":"Import!AK66","v":0},{"$f":"Import!AL66","v":0}]
[null,{"$f":"Import!A67","v":0},{"$f":"Import!B67","v":0},{"$f":"Import!H67","v":0},{"$f":"Import!I67","v":0},{"$f":"Import!J67","v":0},{"$f":"Import!K67","v":0},{"$f":"Import!L67","v":0},{"$f":"Import!M67","v":0},{"$f":"Import!N67","v":0},{"$f":"Import!O67","v":0},{"$f":"Import!P67","v":0},{"$f":"Import!Q67","v":0},{"$f":"Import!R67","v":0},{"$f":"Import!S67","v":0},{"$f":"Import!T67","v":0},{"$f":"Import!U67","v":0},{"$f":"Import!V67","v":0},{"$f":"Import!W67","v":0},{"$f":"Import!X67","v":0},{"$f":"Import!Y67","v":0},{"$f":"Import!Z67","v":0},{"$f":"Import!AA67","v":0},{"$f":"Import!AB67","v":0},{"$f":"Import!AC67","v":0},{"$f":"Import!AD67","v":0},{"$f":"Import!AE67","v":0},{"$f":"Import!AF67","v":0},{"$f":"Import!AG67","v":0},{"$f":"Import!AH67","v":0},{"$f":"Import!AI67","v":0},{"$f":"Import!AJ67","v":0},{"$f":"Import!AK67","v":0},{"$f":"Import!AL67","v":0}]
[null,{"$f":"Import!A68","v":0},{"$f":"Import!B68","v":0},{"$f":"Import!H68","v":0},{"$f":"Import!I68","v":0},{"$f":"Import!J68","v":0},{"$f":"Import!K68","v":0},{"$f":"Import!L68","v":0},{"$f":"Import!M68","v":0},{"$f":"Import!N68","v":0},{"$f":"Import!O68","v":0},{"$f":"Import!P68","v":0},{"$f":"Import!Q68","v":0},{"$f":"Import!R68","v":0},{"$f":"Import!S68","v":0},{"$f":"Import!T68","v":0},{"$f":"Import!U68","v":0},{"$f":"Import!V68","v":0},{"$f":"Import!W68","v":0},{"$f":"Import!X68","v":0},{"$f":"Import!Y68","v":0},{"$f":"Import!Z68","v":0},{"$f":"Import!AA68","v":0},{"$f":"Import!AB68","v":0},{"$f":"Import!AC68","v":0},{"$f":"Import!AD68","v":0},{"$f":"Import!AE68","v":0},{"$f":"Import!AF68","v":0},{"$f":"Import!AG68","v":0},{"$f":"Import!AH68","v":0},{"$f":"Import!AI68","v":0},{"$f":"Import!AJ68","v":0},{"$f":"Import!AK68","v":0},{"$f":"Import!AL68","v":0}]
[null,{"$f":"Import!A69","v":0},{"$f":"Import!B69","v":0},{"$f":"Import!H69","v":0},{"$f":"Import!I69","v":0},{"$f":"Import!J69","v":0},{"$f":"Import!K69","v":0},{"$f":"Import!L69","v":0},{"$f":"Import!M69","v":0},{"$f":"Import!N69","v":0},{"$f":"Import!O69","v":0},{"$f":"Import!P69","v":0},{"$f":"Import!Q69","v":0},{"$f":"Import!R69","v":0},{"$f":"Import!S69","v":0},{"$f":"Import!T69","v":0},{"$f":"Import!U69","v":0},{"$f":"Import!V69","v":0},{"$f":"Import!W69","v":0},{"$f":"Import!X69","v":0},{"$f":"Import!Y69","v":0},{"$f":"Import!Z69","v":0},{"$f":"Import!AA69","v":0},{"$f":"Import!AB69","v":0},{"$f":"Import!AC69","v":0},{"$f":"Import!AD69","v":0},{"$f":"Import!AE69","v":0},{"$f":"Import!AF69","v":0},{"$f":"Import!AG69","v":0},{"$f":"Import!AH69","v":0},{"$f":"Import!AI69","v":0},{"$f":"Import!AJ69","v":0},{"$f":"Import!AK69","v":0},{"$f":"Import!AL69","v":0}]
[null,{"$f":"Import!A70","v":0},{"$f":"Import!B70","v":0},{"$f":"Import!H70","v":0},{"$f":"Import!I70","v":0},{"$f":"Import!J70","v":0},{"$f":"Import!K70","v":0},{"$f":"Import!L70","v":0},{"$f":"Import!M70","v":0},{"$f":"Import!N70","v":0},{"$f":"Import!O70","v":0},{"$f":"Import!P70","v":0},{"$f":"Import!Q70","v":0},{"$f":"Import!R70","v":0},{"$f":"Import!S70","v":0},{"$f":"Import!T70","v":0},{"$f":"Import!U70","v":0},{"$f":"Import!V70","v":0},{"$f":"Import!W70","v":0},{"$f":"Import!X70","v":0},{"$f":"Import!Y70","v":0},{"$f":"Import!Z70","v":0},{"$f":"Import!AA70","v":0},{"$f":"Import!AB70","v":0},{"$f":"Import!AC70","v":0},{"$f":"Import!AD70","v":0},{"$f":"Import!AE70","v":0},{"$f":"Import!AF70","v":0},{"$f":"Import!AG70","v":0},{"$f":"Import!AH70","v":0},{"$f":"Import!AI70","v":0},{"$f":"Import!AJ70","v":0},{"$f":"Import!AK70","v":0},{"$f":"Import!AL70","v":0}]
[null,{"$f":"Import!A71","v":0},{"$f":"Import!B71","v":0},{"$f":"Import!H71","v":0},{"$f":"Import!I71","v":0},{"$f":"Import!J71","v":0},{"$f":"Import!K71","v":0},{"$f":"Import!L71","v":0},{"$f":"Import!M71","v":0},{"$f":"Import!N71","v":0},{"$f":"Import!O71","v":0},{"$f":"Import!P71","v":0},{"$f":"Import!Q71","v":0},{"$f":"Import!R71","v":0},{"$f":"Import!S71","v":0},{"$f":"Import!T71","v":0},{"$f":"Import!U71","v":0},{"$f":"Import!V71","v":0},{"$f":"Import!W71","v":0},{"$f":"Import!X71","v":0},{"$f":"Import!Y71","v":0},{"$f":"Import!Z71","v":0},{"$f":"Import!AA71","v":0},{"$f":"Import!AB71","v":0},{"$f":"Import!AC71","v":0},{"$f":"Import!AD71","v":0},{"$f":"Import!AE71","v":0},{"$f":"Import!AF71","v":0},{"$f":"Import!AG71","v":0},{"$f":"Import!AH71","v":0},{"$f":"Import!AI71","v":0},{"$f":"Import!AJ71","v":0},{"$f":"Import!AK71","v":0},{"$f":"Import!AL71","v":0}]
[null,{"$f":"Import!A72","v":0},{"$f":"Import!B72","v":0},{"$f":"Import!H72","v":0},{"$f":"Import!I72","v":0},{"$f":"Import!J72","v":0},{"$f":"Import!K72","v":0},{"$f":"Import!L72","v":0},{"$f":"Import!M72","v":0},{"$f":"Import!N72","v":0},{"$f":"Import!O72","v":0},{"$f":"Import!P72","v":0},{"$f":"Import!Q72","v":0},{"$f":"Import!R72","v":0},{"$f":"Import!S72","v":0},{"$f":"Import!T72","v":0},{"$f":"Import!U72","v":0},{"$f":"Import!V72","v":0},{"$f":"Import!W72","v":0},{"$f":"Import!X72","v":0},{"$f":"Import!Y72","v":0},{"$f":"Import!Z72","v":0},{"$f":"Import!AA72","v":0},{"$f":"Import!AB72","v":0},{"$f":"Import!AC72","v":0},{"$f":"Import!AD72","v":0},{"$f":"Import!AE72","v":0},{"$f":"Import!AF72","v":0},{"$f":"Import!AG72","v":0},{"$f":"Import!AH72","v":0},{"$f":"Import!AI72","v":0},{"$f":"Import!AJ72","v":0},{"$f":"Import!AK72","v":0},{"$f":"Import!AL72","v":0}]
[null,{"$f":"Import!A73","v":0},{"$f":"Import!B73","v":0},{"$f":"Import!H73","v":0},{"$f":"Import!I73","v":0},{"$f":"Import!J73","v":0},{"$f":"Import!K73","v":0},{"$f":"Import!L73","v":0},{"$f":"Import!M73","v":0},{"$f":"Import!N73","v":0},{"$f":"Import!O73","v":0},{"$f":"Import!P73","v":0},{"$f":"Import!Q73","v":0},{"$f":"Import!R73","v":0},{"$f":"Import!S73","v":0},{"$f":"Import!T73","v":0},{"$f":"Import!U73","v":0},{"$f":"Import!V73","v":0},{"$f":"Import!W73","v":0},{"$f":"Import!X73","v":0},{"$f":"Import!Y73","v":0},{"$f":"Import!Z73","v":0},{"$f":"Import!AA73","v":0},{"$f":"Import!AB73","v":0},{"$f":"Import!AC73","v":0},{"$f":"Import!AD73","v":0},{"$f":"Import!AE73","v":0},{"$f":"Import!AF73","v":0},{"$f":"Import!AG73","v":0},{"$f":"Import!AH73","v":0},{"$f":"Import!AI73","v":0},{"$f":"Import!AJ73","v":0},{"$f":"Import!AK73","v":0},{"$f":"Import!AL73","v":0}]
[null,{"$f":"Import!A74","v":0},{"$f":"Import!B74","v":0},{"$f":"Import!H74","v":0},{"$f":"Import!I74","v":0},{"$f":"Import!J74","v":0},{"$f":"Import!K74","v":0},{"$f":"Import!L74","v":0},{"$f":"Import!M74","v":0},{"$f":"Import!N74","v":0},{"$f":"Import!O74","v":0},{"$f":"Import!P74","v":0},{"$f":"Import!Q74","v":0},{"$f":"Import!R74","v":0},{"$f":"Import!S74","v":0},{"$f":"Import!T74","v":0},{"$f":"Import!U74","v":0},{"$f":"Import!V74","v":0},{"$f":"Import!W74","v":0},{"$f":"Import!X74","v":0},{"$f":"Import!Y74","v":0},{"$f":"Import!Z74","v":0},{"$f":"Import!AA74","v":0},{"$f":"Import!AB74","v":0},{"$f":"Import!AC74","v":0},{"$f":"Import!AD74","v":0},{"$f":"Import!AE74","v":0},{"$f":"Import!AF74","v":0},{"$f":"Import!AG74","v":0},{"$f":"Import!AH74","v":0},{"$f":"Import!AI74","v":0},{"$f":"Import!AJ74","v":0},{"$f":"Import!AK74","v":0},{"$f":"Import!AL74","v":0}]
[null,{"$f":"Import!A75","v":0},{"$f":"Import!B75","v":0},{"$f":"Import!H75","v":0},{"$f":"Import!I75","v":0},{"$f":"Import!J75","v":0},{"$f":"Import!K75","v":0},{"$f":"Import!L75","v":0},{"$f":"Import!M75","v":0},{"$f":"Import!N75","v":0},{"$f":"Import!O75","v":0},{"$f":"Import!P75","v":0},{"$f":"Import!Q75","v":0},{"$f":"Import!R75","v":0},{"$f":"Import!S75","v":0},{"$f":"Import!T75","v":0},{"$f":"Import!U75","v":0},{"$f":"Import!V75","v":0},{"$f":"Import!W75","v":0},{"$f":"Import!X75","v":0},{"$f":"Import!Y75","v":0},{"$f":"Import!Z75","v":0},{"$f":"Import!AA75","v":0},{"$f":"Import!AB75","v":0},{"$f":"Import!AC75","v":0},{"$f":"Import!AD75","v":0},{"$f":"Import!AE75","v":0},{"$f":"Import!AF75","v":0},{"$f":"Import!AG75","v":0},{"$f":"Import!AH75","v":0},{"$f":"Import!AI75","v":0},{"$f":"Import!AJ75","v":0},{"$f":"Import!AK75","v":0},{"$f":"Import!AL75","v":0}]
[null,{"$f":"Import!A76","v":0},{"$f":"Import!B76","v":0},{"$f":"Import!H76","v":0},{"$f":"Import!I76","v":0},{"$f":"Import!J76","v":0},{"$f":"Import!K76","v":0},{"$f":"Import!L76","v":0},{"$f":"Import!M76","v":0},{"$f":"Import!N76","v":0},{"$f":"Import!O76","v":0},{"$f":"Import!P76","v":0},{"$f":"Import!Q76","v":0},{"$f":"Import!R76","v":0},{"$f":"Import!S76","v":0},{"$f":"Import!T76","v":0},{"$f":"Import!U76","v":0},{"$f":"Import!V76","v":0},{"$f":"Import!W76","v":0},{"$f":"Import!X76","v":0},{"$f":"Import!Y76","v":0},{"$f":"Import!Z76","v":0},{"$f":"Import!AA76","v":0},{"$f":"Import!AB76","v":0},{"$f":"Import!AC76","v":0},{"$f":"Import!AD76","v":0},{"$f":"Import!AE76","v":0},{"$f":"Import!AF76","v":0},{"$f":"Import!AG76","v":0},{"$f":"Import!AH76","v":0},{"$f":"Import!AI76","v":0},{"$f":"Import!AJ76","v":0},{"$f":"Import!AK76","v":0},{"$f":"Import!AL76","v":0}]
[null,{"$f":"Import!A77","v":0},{"$f":"Import!B77","v":0},{"$f":"Import!H77","v":0},{"$f":"Import!I77","v":0},{"$f":"Import!J77","v":0},{"$f":"Import!K77","v":0},{"$f":"Import!L77","v":0},{"$f":"Import!M77","v":0},{"$f":"Import!N77","v":0},{"$f":"Import!O77","v":0},{"$f":"Import!P77","v":0},{"$f":"Import!Q77","v":0},{"$f":"Import!R77","v":0},{"$f":"Import!S77","v":0},{"$f":"Import!T77","v":0},{"$f":"Import!U77","v":0},{"$f":"Import!V77","v":0},{"$f":"Import!W77","v":0},{"$f":"Import!X77","v":0},{"$f":"Import!Y77","v":0},{"$f":"Import!Z77","v":0},{"$f":"Import!AA77","v":0},{"$f":"Import!AB77","v":0},{"$f":"Import!AC77","v":0},{"$f":"Import!AD77","v":0},{"$f":"Import!AE77","v":0},{"$f":"Import!AF77","v":0},{"$f":"Import!AG77","v":0},{"$f":"Import!AH77","v":0},{"$f":"Import!AI77","v":0},{"$f":"Import!AJ77","v":0},{"$f":"Import!AK77","v":0},{"$f":"Import!AL77","v":0}]
[null,{"$f":"Import!A78","v":0},{"$f":"Import!B78","v":0},{"$f":"Import!H78","v":0},{"$f":"Import!I78","v":0},{"$f":"Import!J78","v":0},{"$f":"Import!K78","v":0},{"$f":"Import!L78","v":0},{"$f":"Import!M78","v":0},{"$f":"Import!N78","v":0},{"$f":"Import!O78","v":0},{"$f":"Import!P78","v":0},{"$f":"Import!Q78","v":0},{"$f":"Import!R78","v":0},{"$f":"Import!S78","v":0},{"$f":"Import!T78","v":0},{"$f":"Import!U78","v":0},{"$f":"Import!V78","v":0},{"$f":"Import!W78","v":0},{"$f":"Import!X78","v":0},{"$f":"Import!Y78","v":0},{"$f":"Import!Z78","v":0},{"$f":"Import!AA78","v":0},{"$f":"Import!AB78","v":0},{"$f":"Import!AC78","v":0},{"$f":"Import!AD78","v":0},{"$f":"Import!AE78","v":0},{"$f":"Import!AF78","v":0},{"$f":"Import!AG78","v":0},{"$f":"Import!AH78","v":0},{"$f":"Import!AI78","v":0},{"$f":"Import!AJ78","v":0},{"$f":"Import!AK78","v":0},{"$f":"Import!AL78","v":0}]
[null,{"$f":"Import!A79","v":0},{"$f":"Import!B79","v":0},{"$f":"Import!H79","v":0},{"$f":"Import!I79","v":0},{"$f":"Import!J79","v":0},{"$f":"Import!K79","v":0},{"$f":"Import!L79","v":0},{"$f":"Import!M79","v":0},{"$f":"Import!N79","v":0},{"$f":"Import!O79","v":0},{"$f":"Import!P79","v":0},{"$f":"Import!Q79","v":0},{"$f":"Import!R79","v":0},{"$f":"Import!S79","v":0},{"$f":"Import!T79","v":0},{"$f":"Import!U79","v":0},{"$f":"Import!V79","v":0},{"$f":"Import!W79","v":0},{"$f":"Import!X79","v":0},{"$f":"Import!Y79","v":0},{"$f":"Import!Z79","v":0},{"$f":"Import!AA79","v":0},{"$f":"Import!AB79","v":0},{"$f":"Import!AC79","v":0},{"$f":"Import!AD79","v":0},{"$f":"Import!AE79","v":0},{"$f":"Import!AF79","v":0},{"$f":"Import!AG79","v":0},{"$f":"Import!AH79","v":0},{"$f":"Import!AI79","v":0},{"$f":"Import!AJ79","v":0},{"$f":"Import!AK79","v":0},{"$f":"Import!AL79","v":0}]
[null,{"$f":"Import!A80","v":0},{"$f":"Import!B80","v":0},{"$f":"Import!H80","v":0},{"$f":"Import!I80","v":0},{"$f":"Import!J80","v":0},{"$f":"Import!K80","v":0},{"$f":"Import!L80","v":0},{"$f":"Import!M80","v":0},{"$f":"Import!N80","v":0},{"$f":"Import!O80","v":0},{"$f":"Import!P80","v":0},{"$f":"Import!Q80","v":0},{"$f":"Import!R80","v":0},{"$f":"Import!S80","v":0},{"$f":"Import!T80","v":0},{"$f":"Import!U80","v":0},{"$f":"Import!V80","v":0},{"$f":"Import!W80","v":0},{"$f":"Import!X80","v":0},{"$f":"Import!Y80","v":0},{"$f":"Import!Z80","v":0},{"$f":"Import!AA80","v":0},{"$f":"Import!AB80","v":0},{"$f":"Import!AC80","v":0},{"$f":"Import!AD80","v":0},{"$f":"Import!AE80","v":0},{"$f":"Import!AF80","v":0},{"$f":"Import!AG80","v":0},{"$f":"Import!AH80","v":0},{"$f":"Import!AI80","v":0},{"$f":"Import!AJ80","v":0},{"$f":"Import!AK80","v":0},{"$f":"Import!AL80","v":0}]
[null,{"$f":"Import!A81","v":0},{"$f":"Import!B81","v":0},{"$f":"Import!H81","v":0},{"$f":"Import!I81","v":0},{"$f":"Import!J81","v":0},{"$f":"Import!K81","v":0},{"$f":"Import!L81","v":0},{"$f":"Import!M81","v":0},{"$f":"Import!N81","v":0},{"$f":"Import!O81","v":0},{"$f":"Import!P81","v":0},{"$f":"Import!Q81","v":0},{"$f":"Import!R81","v":0},{"$f":"Import!S81","v":0},{"$f":"Import!T81","v":0},{"$f":"Import!U81","v":0},{"$f":"Import!V81","v":0},{"$f":"Import!W81","v":0},{"$f":"Import!X81","v":0},{"$f":"Import!Y81","v":0},{"$f":"Import!Z81","v":0},{"$f":"Import!AA81","v":0},{"$f":"Import!AB81","v":0},{"$f":"Import!AC81","v":0},{"$f":"Import!AD81","v":0},{"$f":"Import!AE81","v":0},{"$f":"Import!AF81","v":0},{"$f":"Import!AG81","v":0},{"$f":"Import!AH81","v":0},{"$f":"Import!AI81","v":0},{"$f":"Import!AJ81","v":0},{"$f":"Import!AK81","v":0},{"$f":"Import!AL81","v":0}]
[null,{"$f":"Import!A82","v":0},{"$f":"Import!B82","v":0},{"$f":"Import!H82","v":0},{"$f":"Import!I82","v":0},{"$f":"Import!J82","v":0},{"$f":"Import!K82","v":0},{"$f":"Import!L82","v":0},{"$f":"Import!M82","v":0},{"$f":"Import!N82","v":0},{"$f":"Import!O82","v":0},{"$f":"Import!P82","v":0},{"$f":"Import!Q82","v":0},{"$f":"Import!R82","v":0},{"$f":"Import!S82","v":0},{"$f":"Import!T82","v":0},{"$f":"Import!U82","v":0},{"$f":"Import!V82","v":0},{"$f":"Import!W82","v":0},{"$f":"Import!X82","v":0},{"$f":"Import!Y82","v":0},{"$f":"Import!Z82","v":0},{"$f":"Import!AA82","v":0},{"$f":"Import!AB82","v":0},{"$f":"Import!AC82","v":0},{"$f":"Import!AD82","v":0},{"$f":"Import!AE82","v":0},{"$f":"Import!AF82","v":0},{"$f":"Import!AG82","v":0},{"$f":"Import!AH82","v":0},{"$f":"Import!AI82","v":0},{"$f":"Import!AJ82","v":0},{"$f":"Import!AK82","v":0},{"$f":"Import!AL82","v":0}]
[null,{"$f":"Import!A83","v":0},{"$f":"Import!B83","v":0},{"$f":"Import!H83","v":0},{"$f":"Import!I83","v":0},{"$f":"Import!J83","v":0},{"$f":"Import!K83","v":0},{"$f":"Import!L83","v":0},{"$f":"Import!M83","v":0},{"$f":"Import!N83","v":0},{"$f":"Import!O83","v":0},{"$f":"Import!P83","v":0},{"$f":"Import!Q83","v":0},{"$f":"Import!R83","v":0},{"$f":"Import!S83","v":0},{"$f":"Import!T83","v":0},{"$f":"Import!U83","v":0},{"$f":"Import!V83","v":0},{"$f":"Import!W83","v":0},{"$f":"Import!X83","v":0},{"$f":"Import!Y83","v":0},{"$f":"Import!Z83","v":0},{"$f":"Import!AA83","v":0},{"$f":"Import!AB83","v":0},{"$f":"Import!AC83","v":0},{"$f":"Import!AD83","v":0},{"$f":"Import!AE83","v":0},{"$f":"Import!AF83","v":0},{"$f":"Import!AG83","v":0},{"$f":"Import!AH83","v":0},{"$f":"Import!AI83","v":0},{"$f":"Import!AJ83","v":0},{"$f":"Import!AK83","v":0},{"$f":"Import!AL83","v":0}]
[null,{"$f":"Import!A84","v":0},{"$f":"Import!B84","v":0},{"$f":"Import!H84","v":0},{"$f":"Import!I84","v":0},{"$f":"Import!J84","v":0},{"$f":"Import!K84","v":0},{"$f":"Import!L84","v":0},{"$f":"Import!M84","v":0},{"$f":"Import!N84","v":0},{"$f":"Import!O84","v":0},{"$f":"Import!P84","v":0},{"$f":"Import!Q84","v":0},{"$f":"Import!R84","v":0},{"$f":"Import!S84","v":0},{"$f":"Import!T84","v":0},{"$f":"Import!U84","v":0},{"$f":"Import!V84","v":0},{"$f":"Import!W84","v":0},{"$f":"Import!X84","v":0},{"$f":"Import!Y84","v":0},{"$f":"Import!Z84","v":0},{"$f":"Import!AA84","v":0},{"$f":"Import!AB84","v":0},{"$f":"Import!AC84","v":0},{"$f":"Import!AD84","v":0},{"$f":"Import!AE84","v":0},{"$f":"Import!AF84","v":0},{"$f":"Import!AG84","v":0},{"$f":"Import!AH84","v":0},{"$f":"Import!AI84","v":0},{"$f":"Import!AJ84","v":0},{"$f":"Import!AK84","v":0},{"$f":"Import!AL84","v":0}]
[null,{"$f":"Import!A85","v":0},{"$f":"Import!B85","v":0},{"$f":"Import!H85","v":0},{"$f":"Import!I85","v":0},{"$f":"Import!J85","v":0},{"$f":"Import!K85","v":0},{"$f":"Import!L85","v":0},{"$f":"Import!M85","v":0},{"$f":"Import!N85","v":0},{"$f":"Import!O85","v":0},{"$f":"Import!P85","v":0},{"$f":"Import!Q85","v":0},{"$f":"Import!R85","v":0},{"$f":"Import!S85","v":0},{"$f":"Import!T85","v":0},{"$f":"Import!U85","v":0},{"$f":"Import!V85","v":0},{"$f":"Import!W85","v":0},{"$f":"Import!X85","v":0},{"$f":"Import!Y85","v":0},{"$f":"Import!Z85","v":0},{"$f":"Import!AA85","v":0},{"$f":"Import!AB85","v":0},{"$f":"Import!AC85","v":0},{"$f":"Import!AD85","v":0},{"$f":"Import!AE85","v":0},{"$f":"Import!AF85","v":0},{"$f":"Import!AG85","v":0},{"$f":"Import!AH85","v":0},{"$f":"Import!AI85","v":0},{"$f":"Import!AJ85","v":0},{"$f":"Import!AK85","v":0},{"$f":"Import!AL85","v":0}]
[null,{"$f":"Import!A86","v":0},{"$f":"Import!B86","v":0},{"$f":"Import!H86","v":0},{"$f":"Import!I86","v":0},{"$f":"Import!J86","v":0},{"$f":"Import!K86","v":0},{"$f":"Import!L86","v":0},{"$f":"Import!M86","v":0},{"$f":"Import!N86","v":0},{"$f":"Import!O86","v":0},{"$f":"Import!P86","v":0},{"$f":"Import!Q86","v":0},{"$f":"Import!R86","v":0},{"$f":"Import!S86","v":0},{"$f":"Import!T86","v":0},{"$f":"Import!U86","v":0},{"$f":"Import!V86","v":0},{"$f":"Import!W86","v":0},{"$f":"Import!X86","v":0},{"$f":"Import!Y86","v":0},{"$f":"Import!Z86","v":0},{"$f":"Import!AA86","v":0},{"$f":"Import!AB86","v":0},{"$f":"Import!AC86","v":0},{"$f":"Import!AD86","v":0},{"$f":"Import!AE86","v":0},{"$f":"Import!AF86","v":0},{"$f":"Import!AG86","v":0},{"$f":"Import!AH86","v":0},{"$f":"Import!AI86","v":0},{"$f":"Import!AJ86","v":0},{"$f":"Import!AK86","v":0},{"$f":"Import!AL86","v":0}]
[null,{"$f":"Import!A87","v":0},{"$f":"Import!B87","v":0},{"$f":"Import!H87","v":0},{"$f":"Import!I87","v":0},{"$f":"Import!J87","v":0},{"$f":"Import!K87","v":0},{"$f":"Import!L87","v":0},{"$f":"Import!M87","v":0},{"$f":"Import!N87","v":0},{"$f":"Import!O87","v":0},{"$f":"Import!P87","v":0},{"$f":"Import!Q87","v":0},{"$f":"Import!R87","v":0},{"$f":"Import!S87","v":0},{"$f":"Import!T87","v":0},{"$f":"Import!U87","v":0},{"$f":"Import!V87","v":0},{"$f":"Import!W87","v":0},{"$f":"Import!X87","v":0},{"$f":"Import!Y87","v":0},{"$f":"Import!Z87","v":0},{"$f":"Import!AA87","v":0},{"$f":"Import!AB87","v":0},{"$f":"Import!AC87","v":0},{"$f":"Import!AD87","v":0},{"$f":"Import!AE87","v":0},{"$f":"Import!AF87","v":0},{"$f":"Import!AG87","v":0},{"$f":"Import!AH87","v":0},{"$f":"Import!AI87","v":0},{"$f":"Import!AJ87","v":0},{"$f":"Import!AK87","v":0},{"$f":"Import!AL87","v":0}]
[null,{"$f":"Import!A88","v":0},{"$f":"Import!B88","v":0},{"$f":"Import!H88","v":0},{"$f":"Import!I88","v":0},{"$f":"Import!J88","v":0},{"$f":"Import!K88","v":0},{"$f":"Import!L88","v":0},{"$f":"Import!M88","v":0},{"$f":"Import!N88","v":0},{"$f":"Import!O88","v":0},{"$f":"Import!P88","v":0},{"$f":"Import!Q88","v":0},{"$f":"Import!R88","v":0},{"$f":"Import!S88","v":0},{"$f":"Import!T88","v":0},{"$f":"Import!U88","v":0},{"$f":"Import!V88","v":0},{"$f":"Import!W88","v":0},{"$f":"Import!X88","v":0},{"$f":"Import!Y88","v":0},{"$f":"Import!Z88","v":0},{"$f":"Import!AA88","v":0},{"$f":"Import!AB88","v":0},{"$f":"Import!AC88","v":0},{"$f":"Import!AD88","v":0},{"$f":"Import!AE88","v":0},{"$f":"Import!AF88","v":0},{"$f":"Import!AG88","v":0},{"$f":"Import!AH88","v":0},{"$f":"Import!AI88","v":0},{"$f":"Import!AJ88","v":0},{"$f":"Import!AK88","v":0},{"$f":"Import!AL88","v":0}]
[null,{"$f":"Import!A89","v":0},{"$f":"Import!B89","v":0},{"$f":"Import!H89","v":0},{"$f":"Import!I89","v":0},{"$f":"Import!J89","v":0},{"$f":"Import!K89","v":0},{"$f":"Import!L89","v":0},{"$f":"Import!M89","v":0},{"$f":"Import!N89","v":0},{"$f":"Import!O89","v":0},{"$f":"Import!P89","v":0},{"$f":"Import!Q89","v":0},{"$f":"Import!R89","v":0},{"$f":"Import!S89","v":0},{"$f":"Import!T89","v":0},{"$f":"Import!U89","v":0},{"$f":"Import!V89","v":0},{"$f":"Import!W89","v":0},{"$f":"Import!X89","v":0},{"$f":"Import!Y89","v":0},{"$f":"Import!Z89","v":0},{"$f":"Import!AA89","v":0},{"$f":"Import!AB89","v":0},{"$f":"Import!AC89","v":0},{"$f":"Import!AD89","v":0},{"$f":"Import!AE89","v":0},{"$f":"Import!AF89","v":0},{"$f":"Import!AG89","v":0},{"$f":"Import!AH89","v":0},{"$f":"Import!AI89","v":0},{"$f":"Import!AJ89","v":0},{"$f":"Import!AK89","v":0},{"$f":"Import!AL89","v":0}]
[null,{"$f":"Import!A90","v":0},{"$f":"Import!B90","v":0},{"$f":"Import!H90","v":0},{"$f":"Import!I90","v":0},{"$f":"Import!J90","v":0},{"$f":"Import!K90","v":0},{"$f":"Import!L90","v":0},{"$f":"Import!M90","v":0},{"$f":"Import!N90","v":0},{"$f":"Import!O90","v":0},{"$f":"Import!P90","v":0},{"$f":"Import!Q90","v":0},{"$f":"Import!R90","v":0},{"$f":"Import!S90","v":0},{"$f":"Import!T90","v":0},{"$f":"Import!U90","v":0},{"$f":"Import!V90","v":0},{"$f":"Import!W90","v":0},{"$f":"Import!X90","v":0},{"$f":"Import!Y90","v":0},{"$f":"Import!Z90","v":0},{"$f":"Import!AA90","v":0},{"$f":"Import!AB90","v":0},{"$f":"Import!AC90","v":0},{"$f":"Import!AD90","v":0},{"$f":"Import!AE90","v":0},{"$f":"Import!AF90","v":0},{"$f":"Import!AG90","v":0},{"$f":"Import!AH90","v":0},{"$f":"Import!AI90","v":0},{"$f":"Import!AJ90","v":0},{"$f":"Import!AK90","v":0},{"$f":"Import!AL90","v":0}]
[null,{"$f":"Import!A91","v":0},{"$f":"Import!B91","v":0},{"$f":"Import!H91","v":0},{"$f":"Import!I91","v":0},{"$f":"Import!J91","v":0},{"$f":"Import!K91","v":0},{"$f":"Import!L91","v":0},{"$f":"Import!M91","v":0},{"$f":"Import!N91","v":0},{"$f":"Import!O91","v":0},{"$f":"Import!P91","v":0},{"$f":"Import!Q91","v":0},{"$f":"Import!R91","v":0},{"$f":"Import!S91","v":0},{"$f":"Import!T91","v":0},{"$f":"Import!U91","v":0},{"$f":"Import!V91","v":0},{"$f":"Import!W91","v":0},{"$f":"Import!X91","v":0},{"$f":"Import!Y91","v":0},{"$f":"Import!Z91","v":0},{"$f":"Import!AA91","v":0},{"$f":"Import!AB91","v":0},{"$f":"Import!AC91","v":0},{"$f":"Import!AD91","v":0},{"$f":"Import!AE91","v":0},{"$f":"Import!AF91","v":0},{"$f":"Import!AG91","v":0},{"$f":"Import!AH91","v":0},{"$f":"Import!AI91","v":0},{"$f":"Import!AJ91","v":0},{"$f":"Import!AK91","v":0},{"$f":"Import!AL91","v":0}]
[null,{"$f":"Import!A92","v":0},{"$f":"Import!B92","v":0},{"$f":"Import!H92","v":0},{"$f":"Import!I92","v":0},{"$f":"Import!J92","v":0},{"$f":"Import!K92","v":0},{"$f":"Import!L92","v":0},{"$f":"Import!M92","v":0},{"$f":"Import!N92","v":0},{"$f":"Import!O92","v":0},{"$f":"Import!P92","v":0},{"$f":"Import!Q92","v":0},{"$f":"Import!R92","v":0},{"$f":"Import!S92","v":0},{"$f":"Import!T92","v":0},{"$f":"Import!U92","v":0},{"$f":"Import!V92","v":0},{"$f":"Import!W92","v":0},{"$f":"Import!X92","v":0},{"$f":"Import!Y92","v":0},{"$f":"Import!Z92","v":0},{"$f":"Import!AA92","v":0},{"$f":"Import!AB92","v":0},{"$f":"Import!AC92","v":0},{"$f":"Import!AD92","v":0},{"$f":"Import!AE92","v":0},{"$f":"Import!AF92","v":0},{"$f":"Import!AG92","v":0},{"$f":"Import!AH92","v":0},{"$f":"Import!AI92","v":0},{"$f":"Import!AJ92","v":0},{"$f":"Import!AK92","v":0},{"$f":"Import!AL92","v":0}]
[null,{"$f":"Import!A93","v":0},{"$f":"Import!B93","v":0},{"$f":"Import!H93","v":0},{"$f":"Import!I93","v":0},{"$f":"Import!J93","v":0},{"$f":"Import!K93","v":0},{"$f":"Import!L93","v":0},{"$f":"Import!M93","v":0},{"$f":"Import!N93","v":0},{"$f":"Import!O93","v":0},{"$f":"Import!P93","v":0},{"$f":"Import!Q93","v":0},{"$f":"Import!R93","v":0},{"$f":"Import!S93","v":0},{"$f":"Import!T93","v":0},{"$f":"Import!U93","v":0},{"$f":"Import!V93","v":0},{"$f":"Import!W93","v":0},{"$f":"Import!X93","v":0},{"$f":"Import!Y93","v":0},{"$f":"Import!Z93","v":0},{"$f":"Import!AA93","v":0},{"$f":"Import!AB93","v":0},{"$f":"Import!AC93","v":0},{"$f":"Import!AD93","v":0},{"$f":"Import!AE93","v":0},{"$f":"Import!AF93","v":0},{"$f":"Import!AG93","v":0},{"$f":"Import!AH93","v":0},{"$f":"Import!AI93","v":0},{"$f":"Import!AJ93","v":0},{"$f":"Import!AK93","v":0},{"$f":"Import!AL93","v":0}]
[null,{"$f":"Import!A94","v":0},{"$f":"Import!B94","v":0},{"$f":"Import!H94","v":0},{"$f":"Import!I94","v":0},{"$f":"Import!J94","v":0},{"$f":"Import!K94","v":0},{"$f":"Import!L94","v":0},{"$f":"Import!M94","v":0},{"$f":"Import!N94","v":0},{"$f":"Import!O94","v":0},{"$f":"Import!P94","v":0},{"$f":"Import!Q94","v":0},{"$f":"Import!R94","v":0},{"$f":"Import!S94","v":0},{"$f":"Import!T94","v":0},{"$f":"Import!U94","v":0},{"$f":"Import!V94","v":0},{"$f":"Import!W94","v":0},{"$f":"Import!X94","v":0},{"$f":"Import!Y94","v":0},{"$f":"Import!Z94","v":0},{"$f":"Import!AA94","v":0},{"$f":"Import!AB94","v":0},{"$f":"Import!AC94","v":0},{"$f":"Import!AD94","v":0},{"$f":"Import!AE94","v":0},{"$f":"Import!AF94","v":0},{"$f":"Import!AG94","v":0},{"$f":"Import!AH94","v":0},{"$f":"Import!AI94","v":0},{"$f":"Import!AJ94","v":0},{"$f":"Import!AK94","v":0},{"$f":"Import!AL94","v":0}]
[null,{"$f":"Import!A95","v":0},{"$f":"Import!B95","v":0},{"$f":"Import!H95","v":0},{"$f":"Import!I95","v":0},{"$f":"Import!J95","v":0},{"$f":"Import!K95","v":0},{"$f":"Import!L95","v":0},{"$f":"Import!M95","v":0},{"$f":"Import!N95","v":0},{"$f":"Import!O95","v":0},{"$f":"Import!P95","v":0},{"$f":"Import!Q95","v":0},{"$f":"Import!R95","v":0},{"$f":"Import!S95","v":0},{"$f":"Import!T95","v":0},{"$f":"Import!U95","v":0},{"$f":"Import!V95","v":0},{"$f":"Import!W95","v":0},{"$f":"Import!X95","v":0},{"$f":"Import!Y95","v":0},{"$f":"Import!Z95","v":0},{"$f":"Import!AA95","v":0},{"$f":"Import!AB95","v":0},{"$f":"Import!AC95","v":0},{"$f":"Import!AD95","v":0},{"$f":"Import!AE95","v":0},{"$f":"Import!AF95","v":0},{"$f":"Import!AG95","v":0},{"$f":"Import!AH95","v":0},{"$f":"Import!AI95","v":0},{"$f":"Import!AJ95","v":0},{"$f":"Import!AK95","v":0},{"$f":"Import!AL95","v":0}]
[null,{"$f":"Import!A96","v":0},{"$f":"Import!B96","v":0},{"$f":"Import!H96","v":0},{"$f":"Import!I96","v":0},{"$f":"Import!J96","v":0},{"$f":"Import!K96","v":0},{"$f":"Import!L96","v":0},{"$f":"Import!M96","v":0},{"$f":"Import!N96","v":0},{"$f":"Import!O96","v":0},{"$f":"Import!P96","v":0},{"$f":"Import!Q96","v":0},{"$f":"Import!R96","v":0},{"$f":"Import!S96","v":0},{"$f":"Import!T96","v":0},{"$f":"Import!U96","v":0},{"$f":"Import!V96","v":0},{"$f":"Import!W96","v":0},{"$f":"Import!X96","v":0},{"$f":"Import!Y96","v":0},{"$f":"Import!Z96","v":0},{"$f":"Import!AA96","v":0},{"$f":"Import!AB96","v":0},{"$f":"Import!AC96","v":0},{"$f":"Import!AD96","v":0},{"$f":"Import!AE96","v":0},{"$f":"Import!AF96","v":0},{"$f":"Import!AG96","v":0},{"$f":"Import!AH96","v":0},{"$f":"Import!AI96","v":0},{"$f":"Import!AJ96","v":0},{"$f":"Import!AK96","v":0},{"$f":"Import!AL96","v":0}]
[null,{"$f":"Import!A97","v":0},{"$f":"Import!B97","v":0},{"$f":"Import!H97","v":0},{"$f":"Import!I97","v":0},{"$f":"Import!J97","v":0},{"$f":"Import!K97","v":0},{"$f":"Import!L97","v":0},{"$f":"Import!M97","v":0},{"$f":"Import!N97","v":0},{"$f":"Import!O97","v":0},{"$f":"Import!P97","v":0},{"$f":"Import!Q97","v":0},{"$f":"Import!R97","v":0},{"$f":"Import!S97","v":0},{"$f":"Import!T97","v":0},{"$f":"Import!U97","v":0},{"$f":"Import!V97","v":0},{"$f":"Import!W97","v":0},{"$f":"Import!X97","v":0},{"$f":"Import!Y97","v":0},{"$f":"Import!Z97","v":0},{"$f":"Import!AA97","v":0},{"$f":"Import!AB97","v":0},{"$f":"Import!AC97","v":0},{"$f":"Import!AD97","v":0},{"$f":"Import!AE97","v":0},{"$f":"Import!AF97","v":0},{"$f":"Import!AG97","v":0},{"$f":"Import!AH97","v":0},{"$f":"Import!AI97","v":0},{"$f":"Import!AJ97","v":0},{"$f":"Import!AK97","v":0},{"$f":"Import!AL97","v":0}]
[null,{"$f":"Import!A98","v":0},{"$f":"Import!B98","v":0},{"$f":"Import!H98","v":0},{"$f":"Import!I98","v":0},{"$f":"Import!J98","v":0},{"$f":"Import!K98","v":0},{"$f":"Import!L98","v":0},{"$f":"Import!M98","v":0},{"$f":"Import!N98","v":0},{"$f":"Import!O98","v":0},{"$f":"Import!P98","v":0},{"$f":"Import!Q98","v":0},{"$f":"Import!R98","v":0},{"$f":"Import!S98","v":0},{"$f":"Import!T98","v":0},{"$f":"Import!U98","v":0},{"$f":"Import!V98","v":0},{"$f":"Import!W98","v":0},{"$f":"Import!X98","v":0},{"$f":"Import!Y98","v":0},{"$f":"Import!Z98","v":0},{"$f":"Import!AA98","v":0},{"$f":"Import!AB98","v":0},{"$f":"Import!AC98","v":0},{"$f":"Import!AD98","v":0},{"$f":"Import!AE98","v":0},{"$f":"Import!AF98","v":0},{"$f":"Import!AG98","v":0},{"$f":"Import!AH98","v":0},{"$f":"Import!AI98","v":0},{"$f":"Import!AJ98","v":0},{"$f":"Import!AK98","v":0},{"$f":"Import!AL98","v":0}]
[null,{"$f":"Import!A99","v":0},{"$f":"Import!B99","v":0},{"$f":"Import!H99","v":0},{"$f":"Import!I99","v":0},{"$f":"Import!J99","v":0},{"$f":"Import!K99","v":0},{"$f":"Import!L99","v":0},{"$f":"Import!M99","v":0},{"$f":"Import!N99","v":0},{"$f":"Import!O99","v":0},{"$f":"Import!P99","v":0},{"$f":"Import!Q99","v":0},{"$f":"Import!R99","v":0},{"$f":"Import!S99","v":0},{"$f":"Import!T99","v":0},{"$f":"Import!U99","v":0},{"$f":"Import!V99","v":0},{"$f":"Import!W99","v":0},{"$f":"Import!X99","v":0},{"$f":"Import!Y99","v":0},{"$f":"Import!Z99","v":0},{"$f":"Import!AA99","v":0},{"$f":"Import!AB99","v":0},{"$f":"Import!AC99","v":0},{"$f":"Import!AD99","v":0},{"$f":"Import!AE99","v":0},{"$f":"Import!AF99","v":0},{"$f":"Import!AG99","v":0},{"$f":"Import!AH99","v":0},{"$f":"Import!AI99","v":0},{"$f":"Import!AJ99","v":0},{"$f":"Import!AK99","v":0},{"$f":"Import!AL99","v":0}]
[null,{"$f":"Import!A100","v":0},{"$f":"Import!B100","v":0},{"$f":"Import!H100","v":0},{"$f":"Import!I100","v":0},{"$f":"Import!J100","v":0},{"$f":"Import!K100","v":0},{"$f":"Import!L100","v":0},{"$f":"Import!M100","v":0},{"$f":"Import!N100","v":0},{"$f":"Import!O100","v":0},{"$f":"Import!P100","v":0},{"$f":"Import!Q100","v":0},{"$f":"Import!R100","v":0},{"$f":"Import!S100","v":0},{"$f":"Import!T100","v":0},{"$f":"Import!U100","v":0},{"$f":"Import!V100","v":0},{"$f":"Import!W100","v":0},{"$f":"Import!X100","v":0},{"$f":"Import!Y100","v":0},{"$f":"Import!Z100","v":0},{"$f":"Import!AA100","v":0},{"$f":"Import!AB100","v":0},{"$f":"Import!AC100","v":0},{"$f":"Import!AD100","v":0},{"$f":"Import!AE100","v":0},{"$f":"Import!AF100","v":0},{"$f":"Import!AG100","v":0},{"$f":"Import!AH100","v":0},{"$f":"Import!AI100","v":0},{"$f":"Import!AJ100","v":0},{"$f":"Import!AK100","v":0},{"$f":"Import!AL100","v":0}]
[null,{"$f":"Import!A101","v":0},{"$f":"Import!B101","v":0},{"$f":"Import!H101","v":0},{"$f":"Import!I101","v":0},{"$f":"Import!J101","v":0},{"$f":"Import!K101","v":0},{"$f":"Import!L101","v":0},{"$f":"Import!M101","v":0},{"$f":"Import!N101","v":0},{"$f":"Import!O101","v":0},{"$f":"Import!P101","v":0},{"$f":"Import!Q101","v":0},{"$f":"Import!R101","v":0},{"$f":"Import!S101","v":0},{"$f":"Import!T101","v":0},{"$f":"Import!U101","v":0},{"$f":"Import!V101","v":0},{"$f":"Import!W101","v":0},{"$f":"Import!X101","v":0},{"$f":"Import!Y101","v":0},{"$f":"Import!Z101","v":0},{"$f":"Import!AA101","v":0},{"$f":"Import!AB101","v":0},{"$f":"Import!AC101","v":0},{"$f":"Import!AD101","v":0},{"$f":"Import!AE101","v":0},{"$f":"Import!AF101","v":0},{"$f":"Import!AG101","v":0},{"$f":"Import!AH101","v":0},{"$f":"Import!AI101","v":0},{"$f":"Import!AJ101","v":0},{"$f":"Import!AK101","v":0},{"$f":"Import!AL101","v":0}]
[null,{"$f":"Import!A102","v":0},{"$f":"Import!B102","v":0},{"$f":"Import!H102","v":0},{"$f":"Import!I102","v":0},{"$f":"Import!J102","v":0},{"$f":"Import!K102","v":0},{"$f":"Import!L102","v":0},{"$f":"Import!M102","v":0},{"$f":"Import!N102","v":0},{"$f":"Import!O102","v":0},{"$f":"Import!P102","v":0},{"$f":"Import!Q102","v":0},{"$f":"Import!R102","v":0},{"$f":"Import!S102","v":0},{"$f":"Import!T102","v":0},{"$f":"Import!U102","v":0},{"$f":"Import!V102","v":0},{"$f":"Import!W102","v":0},{"$f":"Import!X102","v":0},{"$f":"Import!Y102","v":0},{"$f":"Import!Z102","v":0},{"$f":"Import!AA102","v":0},{"$f":"Import!AB102","v":0},{"$f":"Import!AC102","v":0},{"$f":"Import!AD102","v":0},{"$f":"Import!AE102","v":0},{"$f":"Import!AF102","v":0},{"$f":"Import!AG102","v":0},{"$f":"Import!AH102","v":0},{"$f":"Import!AI102","v":0},{"$f":"Import!AJ102","v":0},{"$f":"Import!AK102","v":0},{"$f":"Import!AL102","v":0}]
[null,{"$f":"Import!A103","v":0},{"$f":"Import!B103","v":0},{"$f":"Import!H103","v":0},{"$f":"Import!I103","v":0},{"$f":"Import!J103","v":0},{"$f":"Import!K103","v":0},{"$f":"Import!L103","v":0},{"$f":"Import!M103","v":0},{"$f":"Import!N103","v":0},{"$f":"Import!O103","v":0},{"$f":"Import!P103","v":0},{"$f":"Import!Q103","v":0},{"$f":"Import!R103","v":0},{"$f":"Import!S103","v":0},{"$f":"Import!T103","v":0},{"$f":"Import!U103","v":0},{"$f":"Import!V103","v":0},{"$f":"Import!W103","v":0},{"$f":"Import!X103","v":0},{"$f":"Import!Y103","v":0},{"$f":"Import!Z103","v":0},{"$f":"Import!AA103","v":0},{"$f":"Import!AB103","v":0},{"$f":"Import!AC103","v":0},{"$f":"Import!AD103","v":0},{"$f":"Import!AE103","v":0},{"$f":"Import!AF103","v":0},{"$f":"Import!AG103","v":0},{"$f":"Import!AH103","v":0},{"$f":"Import!AI103","v":0},{"$f":"Import!AJ103","v":0},{"$f":"Import!AK103","v":0},{"$f":"Import!AL103","v":0}]
[null,{"$f":"Import!A104","v":0},{"$f":"Import!B104","v":0},{"$f":"Import!H104","v":0},{"$f":"Import!I104","v":0},{"$f":"Import!J104","v":0},{"$f":"Import!K104","v":0},{"$f":"Import!L104","v":0},{"$f":"Import!M104","v":0},{"$f":"Import!N104","v":0},{"$f":"Import!O104","v":0},{"$f":"Import!P104","v":0},{"$f":"Import!Q104","v":0},{"$f":"Import!R104","v":0},{"$f":"Import!S104","v":0},{"$f":"Import!T104","v":0},{"$f":"Import!U104","v":0},{"$f":"Import!V104","v":0},{"$f":"Import!W104","v":0},{"$f":"Import!X104","v":0},{"$f":"Import!Y104","v":0},{"$f":"Import!Z104","v":0},{"$f":"Import!AA104","v":0},{"$f":"Import!AB104","v":0},{"$f":"Import!AC104","v":0},{"$f":"Import!AD104","v":0},{"$f":"Import!AE104","v":0},{"$f":"Import!AF104","v":0},{"$f":"Import!AG104","v":0},{"$f":"Import!AH104","v":0},{"$f":"Import!AI104","v":0},{"$f":"Import!AJ104","v":0},{"$f":"Import!AK104","v":0},{"$f":"Import!AL104","v":0}]
[null,{"$f":"Import!A105","v":0},{"$f":"Import!B105","v":0},{"$f":"Import!H105","v":0},{"$f":"Import!I105","v":0},{"$f":"Import!J105","v":0},{"$f":"Import!K105","v":0},{"$f":"Import!L105","v":0},{"$f":"Import!M105","v":0},{"$f":"Import!N105","v":0},{"$f":"Import!O105","v":0},{"$f":"Import!P105","v":0},{"$f":"Import!Q105","v":0},{"$f":"Import!R105","v":0},{"$f":"Import!S105","v":0},{"$f":"Import!T105","v":0},{"$f":"Import!U105","v":0},{"$f":"Import!V105","v":0},{"$f":"Import!W105","v":0},{"$f":"Import!X105","v":0},{"$f":"Import!Y105","v":0},{"$f":"Import!Z105","v":0},{"$f":"Import!AA105","v":0},{"$f":"Import!AB105","v":0},{"$f":"Import!AC105","v":0},{"$f":"Import!AD105","v":0},{"$f":"Import!AE105","v":0},{"$f":"Import!AF105","v":0},{"$f":"Import!AG105","v":0},{"$f":"Import!AH105","v":0},{"$f":"Import!AI105","v":0},{"$f":"Import!AJ105","v":0},{"$f":"Import!AK105","v":0},{"$f":"Import!AL105","v":0}]
[null,{"$f":"Import!A106","v":0},{"$f":"Import!B106","v":0},{"$f":"Import!H106","v":0},{"$f":"Import!I106","v":0},{"$f":"Import!J106","v":0},{"$f":"Import!K106","v":0},{"$f":"Import!L106","v":0},{"$f":"Import!M106","v":0},{"$f":"Import!N106","v":0},{"$f":"Import!O106","v":0},{"$f":"Import!P106","v":0},{"$f":"Import!Q106","v":0},{"$f":"Import!R106","v":0},{"$f":"Import!S106","v":0},{"$f":"Import!T106","v":0},{"$f":"Import!U106","v":0},{"$f":"Import!V106","v":0},{"$f":"Import!W106","v":0},{"$f":"Import!X106","v":0},{"$f":"Import!Y106","v":0},{"$f":"Import!Z106","v":0},{"$f":"Import!AA106","v":0},{"$f":"Import!AB106","v":0},{"$f":"Import!AC106","v":0},{"$f":"Import!AD106","v":0},{"$f":"Import!AE106","v":0},{"$f":"Import!AF106","v":0},{"$f":"Import!AG106","v":0},{"$f":"Import!AH106","v":0},{"$f":"Import!AI106","v":0},{"$f":"Import!AJ106","v":0},{"$f":"Import!AK106","v":0},{"$f":"Import!AL106","v":0}]
[null,{"$f":"Import!A107","v":0},{"$f":"Import!B107","v":0},{"$f":"Import!H107","v":0},{"$f":"Import!I107","v":0},{"$f":"Import!J107","v":0},{"$f":"Import!K107","v":0},{"$f":"Import!L107","v":0},{"$f":"Import!M107","v":0},{"$f":"Import!N107","v":0},{"$f":"Import!O107","v":0},{"$f":"Import!P107","v":0},{"$f":"Import!Q107","v":0},{"$f":"Import!R107","v":0},{"$f":"Import!S107","v":0},{"$f":"Import!T107","v":0},{"$f":"Import!U107","v":0},{"$f":"Import!V107","v":0},{"$f":"Import!W107","v":0},{"$f":"Import!X107","v":0},{"$f":"Import!Y107","v":0},{"$f":"Import!Z107","v":0},{"$f":"Import!AA107","v":0},{"$f":"Import!AB107","v":0},{"$f":"Import!AC107","v":0},{"$f":"Import!AD107","v":0},{"$f":"Import!AE107","v":0},{"$f":"Import!AF107","v":0},{"$f":"Import!AG107","v":0},{"$f":"Import!AH107","v":0},{"$f":"Import!AI107","v":0},{"$f":"Import!AJ107","v":0},{"$f":"Import!AK107","v":0},{"$f":"Import!AL107","v":0}]
[null,{"$f":"Import!A108","v":0},{"$f":"Import!B108","v":0},{"$f":"Import!H108","v":0},{"$f":"Import!I108","v":0},{"$f":"Import!J108","v":0},{"$f":"Import!K108","v":0},{"$f":"Import!L108","v":0},{"$f":"Import!M108","v":0},{"$f":"Import!N108","v":0},{"$f":"Import!O108","v":0},{"$f":"Import!P108","v":0},{"$f":"Import!Q108","v":0},{"$f":"Import!R108","v":0},{"$f":"Import!S108","v":0},{"$f":"Import!T108","v":0},{"$f":"Import!U108","v":0},{"$f":"Import!V108","v":0},{"$f":"Import!W108","v":0},{"$f":"Import!X108","v":0},{"$f":"Import!Y108","v":0},{"$f":"Import!Z108","v":0},{"$f":"Import!AA108","v":0},{"$f":"Import!AB108","v":0},{"$f":"Import!AC108","v":0},{"$f":"Import!AD108","v":0},{"$f":"Import!AE108","v":0},{"$f":"Import!AF108","v":0},{"$f":"Import!AG108","v":0},{"$f":"Import!AH108","v":0},{"$f":"Import!AI108","v":0},{"$f":"Import!AJ108","v":0},{"$f":"Import!AK108","v":0},{"$f":"Import!AL108","v":0}]
[null,{"$f":"Import!A109","v":0},{"$f":"Import!B109","v":0},{"$f":"Import!H109","v":0},{"$f":"Import!I109","v":0},{"$f":"Import!J109","v":0},{"$f":"Import!K109","v":0},{"$f":"Import!L109","v":0},{"$f":"Import!M109","v":0},{"$f":"Import!N109","v":0},{"$f":"Import!O109","v":0},{"$f":"Import!P109","v":0},{"$f":"Import!Q109","v":0},{"$f":"Import!R109","v":0},{"$f":"Import!S109","v":0},{"$f":"Import!T109","v":0},{"$f":"Import!U109","v":0},{"$f":"Import!V109","v":0},{"$f":"Import!W109","v":0},{"$f":"Import!X109","v":0},{"$f":"Import!Y109","v":0},{"$f":"Import!Z109","v":0},{"$f":"Import!AA109","v":0},{"$f":"Import!AB109","v":0},{"$f":"Import!AC109","v":0},{"$f":"Import!AD109","v":0},{"$f":"Import!AE109","v":0},{"$f":"Import!AF109","v":0},{"$f":"Import!AG109","v":0},{"$f":"Import!AH109","v":0},{"$f":"Import!AI109","v":0},{"$f":"Import!AJ109","v":0},{"$f":"Import!AK109","v":0},{"$f":"Import!AL109","v":0}]
[null,{"$f":"Import!A110","v":0},{"$f":"Import!B110","v":0},{"$f":"Import!H110","v":0},{"$f":"Import!I110","v":0},{"$f":"Import!J110","v":0},{"$f":"Import!K110","v":0},{"$f":"Import!L110","v":0},{"$f":"Import!M110","v":0},{"$f":"Import!N110","v":0},{"$f":"Import!O110","v":0},{"$f":"Import!P110","v":0},{"$f":"Import!Q110","v":0},{"$f":"Import!R110","v":0},{"$f":"Import!S110","v":0},{"$f":"Import!T110","v":0},{"$f":"Import!U110","v":0},{"$f":"Import!V110","v":0},{"$f":"Import!W110","v":0},{"$f":"Import!X110","v":0},{"$f":"Import!Y110","v":0},{"$f":"Import!Z110","v":0},{"$f":"Import!AA110","v":0},{"$f":"Import!AB110","v":0},{"$f":"Import!AC110","v":0},{"$f":"Import!AD110","v":0},{"$f":"Import!AE110","v":0},{"$f":"Import!AF110","v":0},{"$f":"Import!AG110","v":0},{"$f":"Import!AH110","v":0},{"$f":"Import!AI110","v":0},{"$f":"Import!AJ110","v":0},{"$f":"Import!AK110","v":0},{"$f":"Import!AL110","v":0}]
[null,{"$f":"Import!A111","v":0},{"$f":"Import!B111","v":0},{"$f":"Import!H111","v":0},{"$f":"Import!I111","v":0},{"$f":"Import!J111","v":0},{"$f":"Import!K111","v":0},{"$f":"Import!L111","v":0},{"$f":"Import!M111","v":0},{"$f":"Import!N111","v":0},{"$f":"Import!O111","v":0},{"$f":"Import!P111","v":0},{"$f":"Import!Q111","v":0},{"$f":"Import!R111","v":0},{"$f":"Import!S111","v":0},{"$f":"Import!T111","v":0},{"$f":"Import!U111","v":0},{"$f":"Import!V111","v":0},{"$f":"Import!W111","v":0},{"$f":"Import!X111","v":0},{"$f":"Import!Y111","v":0},{"$f":"Import!Z111","v":0},{"$f":"Import!AA111","v":0},{"$f":"Import!AB111","v":0},{"$f":"Import!AC111","v":0},{"$f":"Import!AD111","v":0},{"$f":"Import!AE111","v":0},{"$f":"Import!AF111","v":0},{"$f":"Import!AG111","v":0},{"$f":"Import!AH111","v":0},{"$f":"Import!AI111","v":0},{"$f":"Import!AJ111","v":0},{"$f":"Import!AK111","v":0},{"$f":"Import!AL111","v":0}]
[null,{"$f":"Import!A112","v":0},{"$f":"Import!B112","v":0},{"$f":"Import!H112","v":0},{"$f":"Import!I112","v":0},{"$f":"Import!J112","v":0},{"$f":"Import!K112","v":0},{"$f":"Import!L112","v":0},{"$f":"Import!M112","v":0},{"$f":"Import!N112","v":0},{"$f":"Import!O112","v":0},{"$f":"Import!P112","v":0},{"$f":"Import!Q112","v":0},{"$f":"Import!R112","v":0},{"$f":"Import!S112","v":0},{"$f":"Import!T112","v":0},{"$f":"Import!U112","v":0},{"$f":"Import!V112","v":0},{"$f":"Import!W112","v":0},{"$f":"Import!X112","v":0},{"$f":"Import!Y112","v":0},{"$f":"Import!Z112","v":0},{"$f":"Import!AA112","v":0},{"$f":"Import!AB112","v":0},{"$f":"Import!AC112","v":0},{"$f":"Import!AD112","v":0},{"$f":"Import!AE112","v":0},{"$f":"Import!AF112","v":0},{"$f":"Import!AG112","v":0},{"$f":"Import!AH112","v":0},{"$f":"Import!AI112","v":0},{"$f":"Import!AJ112","v":0},{"$f":"Import!AK112","v":0},{"$f":"Import!AL112","v":0}]
[null,{"$f":"Import!A113","v":0},{"$f":"Import!B113","v":0},{"$f":"Import!H113","v":0},{"$f":"Import!I113","v":0},{"$f":"Import!J113","v":0},{"$f":"Import!K113","v":0},{"$f":"Import!L113","v":0},{"$f":"Import!M113","v":0},{"$f":"Import!N113","v":0},{"$f":"Import!O113","v":0},{"$f":"Import!P113","v":0},{"$f":"Import!Q113","v":0},{"$f":"Import!R113","v":0},{"$f":"Import!S113","v":0},{"$f":"Import!T113","v":0},{"$f":"Import!U113","v":0},{"$f":"Import!V113","v":0},{"$f":"Import!W113","v":0},{"$f":"Import!X113","v":0},{"$f":"Import!Y113","v":0},{"$f":"Import!Z113","v":0},{"$f":"Import!AA113","v":0},{"$f":"Import!AB113","v":0},{"$f":"Import!AC113","v":0},{"$f":"Import!AD113","v":0},{"$f":"Import!AE113","v":0},{"$f":"Import!AF113","v":0},{"$f":"Import!AG113","v":0},{"$f":"Import!AH113","v":0},{"$f":"Import!AI113","v":0},{"$f":"Import!AJ113","v":0},{"$f":"Import!AK113","v":0},{"$f":"Import!AL113","v":0}]
[null,{"$f":"Import!A114","v":0},{"$f":"Import!B114","v":0},{"$f":"Import!H114","v":0},{"$f":"Import!I114","v":0},{"$f":"Import!J114","v":0},{"$f":"Import!K114","v":0},{"$f":"Import!L114","v":0},{"$f":"Import!M114","v":0},{"$f":"Import!N114","v":0},{"$f":"Import!O114","v":0},{"$f":"Import!P114","v":0},{"$f":"Import!Q114","v":0},{"$f":"Import!R114","v":0},{"$f":"Import!S114","v":0},{"$f":"Import!T114","v":0},{"$f":"Import!U114","v":0},{"$f":"Import!V114","v":0},{"$f":"Import!W114","v":0},{"$f":"Import!X114","v":0},{"$f":"Import!Y114","v":0},{"$f":"Import!Z114","v":0},{"$f":"Import!AA114","v":0},{"$f":"Import!AB114","v":0},{"$f":"Import!AC114","v":0},{"$f":"Import!AD114","v":0},{"$f":"Import!AE114","v":0},{"$f":"Import!AF114","v":0},{"$f":"Import!AG114","v":0},{"$f":"Import!AH114","v":0},{"$f":"Import!AI114","v":0},{"$f":"Import!AJ114","v":0},{"$f":"Import!AK114","v":0},{"$f":"Import!AL114","v":0}]
[null,{"$f":"Import!A115","v":0},{"$f":"Import!B115","v":0},{"$f":"Import!H115","v":0},{"$f":"Import!I115","v":0},{"$f":"Import!J115","v":0},{"$f":"Import!K115","v":0},{"$f":"Import!L115","v":0},{"$f":"Import!M115","v":0},{"$f":"Import!N115","v":0},{"$f":"Import!O115","v":0},{"$f":"Import!P115","v":0},{"$f":"Import!Q115","v":0},{"$f":"Import!R115","v":0},{"$f":"Import!S115","v":0},{"$f":"Import!T115","v":0},{"$f":"Import!U115","v":0},{"$f":"Import!V115","v":0},{"$f":"Import!W115","v":0},{"$f":"Import!X115","v":0},{"$f":"Import!Y115","v":0},{"$f":"Import!Z115","v":0},{"$f":"Import!AA115","v":0},{"$f":"Import!AB115","v":0},{"$f":"Import!AC115","v":0},{"$f":"Import!AD115","v":0},{"$f":"Import!AE115","v":0},{"$f":"Import!AF115","v":0},{"$f":"Import!AG115","v":0},{"$f":"Import!AH115","v":0},{"$f":"Import!AI115","v":0},{"$f":"Import!AJ115","v":0},{"$f":"Import!AK115","v":0},{"$f":"Import!AL115","v":0}]
[null,{"$f":"Import!A116","v":0},{"$f":"Import!B116","v":0},{"$f":"Import!H116","v":0},{"$f":"Import!I116","v":0},{"$f":"Import!J116","v":0},{"$f":"Import!K116","v":0},{"$f":"Import!L116","v":0},{"$f":"Import!M116","v":0},{"$f":"Import!N116","v":0},{"$f":"Import!O116","v":0},{"$f":"Import!P116","v":0},{"$f":"Import!Q116","v":0},{"$f":"Import!R116","v":0},{"$f":"Import!S116","v":0},{"$f":"Import!T116","v":0},{"$f":"Import!U116","v":0},{"$f":"Import!V116","v":0},{"$f":"Import!W116","v":0},{"$f":"Import!X116","v":0},{"$f":"Import!Y116","v":0},{"$f":"Import!Z116","v":0},{"$f":"Import!AA116","v":0},{"$f":"Import!AB116","v":0},{"$f":"Import!AC116","v":0},{"$f":"Import!AD116","v":0},{"$f":"Import!AE116","v":0},{"$f":"Import!AF116","v":0},{"$f":"Import!AG116","v":0},{"$f":"Import!AH116","v":0},{"$f":"Import!AI116","v":0},{"$f":"Import!AJ116","v":0},{"$f":"Import!AK116","v":0},{"$f":"Import!AL116","v":0}]
[null,{"$f":"Import!A117","v":0},{"$f":"Import!B117","v":0},{"$f":"Import!H117","v":0},{"$f":"Import!I117","v":0},{"$f":"Import!J117","v":0},{"$f":"Import!K117","v":0},{"$f":"Import!L117","v":0},{"$f":"Import!M117","v":0},{"$f":"Import!N117","v":0},{"$f":"Import!O117","v":0},{"$f":"Import!P117","v":0},{"$f":"Import!Q117","v":0},{"$f":"Import!R117","v":0},{"$f":"Import!S117","v":0},{"$f":"Import!T117","v":0},{"$f":"Import!U117","v":0},{"$f":"Import!V117","v":0},{"$f":"Import!W117","v":0},{"$f":"Import!X117","v":0},{"$f":"Import!Y117","v":0},{"$f":"Import!Z117","v":0},{"$f":"Import!AA117","v":0},{"$f":"Import!AB117","v":0},{"$f":"Import!AC117","v":0},{"$f":"Import!AD117","v":0},{"$f":"Import!AE117","v":0},{"$f":"Import!AF117","v":0},{"$f":"Import!AG117","v":0},{"$f":"Import!AH117","v":0},{"$f":"Import!AI117","v":0},{"$f":"Import!AJ117","v":0},{"$f":"Import!AK117","v":0},{"$f":"Import!AL117","v":0}]
[null,{"$f":"Import!A118","v":0},{"$f":"Import!B118","v":0},{"$f":"Import!H118","v":0},{"$f":"Import!I118","v":0},{"$f":"Import!J118","v":0},{"$f":"Import!K118","v":0},{"$f":"Import!L118","v":0},{"$f":"Import!M118","v":0},{"$f":"Import!N118","v":0},{"$f":"Import!O118","v":0},{"$f":"Import!P118","v":0},{"$f":"Import!Q118","v":0},{"$f":"Import!R118","v":0},{"$f":"Import!S118","v":0},{"$f":"Import!T118","v":0},{"$f":"Import!U118","v":0},{"$f":"Import!V118","v":0},{"$f":"Import!W118","v":0},{"$f":"Import!X118","v":0},{"$f":"Import!Y118","v":0},{"$f":"Import!Z118","v":0},{"$f":"Import!AA118","v":0},{"$f":"Import!AB118","v":0},{"$f":"Import!AC118","v":0},{"$f":"Import!AD118","v":0},{"$f":"Import!AE118","v":0},{"$f":"Import!AF118","v":0},{"$f":"Import!AG118","v":0},{"$f":"Import!AH118","v":0},{"$f":"Import!AI118","v":0},{"$f":"Import!AJ118","v":0},{"$f":"Import!AK118","v":0},{"$f":"Import!AL118","v":0}]
[null,{"$f":"Import!A119","v":0},{"$f":"Import!B119","v":0},{"$f":"Import!H119","v":0},{"$f":"Import!I119","v":0},{"$f":"Import!J119","v":0},{"$f":"Import!K119","v":0},{"$f":"Import!L119","v":0},{"$f":"Import!M119","v":0},{"$f":"Import!N119","v":0},{"$f":"Import!O119","v":0},{"$f":"Import!P119","v":0},{"$f":"Import!Q119","v":0},{"$f":"Import!R119","v":0},{"$f":"Import!S119","v":0},{"$f":"Import!T119","v":0},{"$f":"Import!U119","v":0},{"$f":"Import!V119","v":0},{"$f":"Import!W119","v":0},{"$f":"Import!X119","v":0},{"$f":"Import!Y119","v":0},{"$f":"Import!Z119","v":0},{"$f":"Import!AA119","v":0},{"$f":"Import!AB119","v":0},{"$f":"Import!AC119","v":0},{"$f":"Import!AD119","v":0},{"$f":"Import!AE119","v":0},{"$f":"Import!AF119","v":0},{"$f":"Import!AG119","v":0},{"$f":"Import!AH119","v":0},{"$f":"Import!AI119","v":0},{"$f":"Import!AJ119","v":0},{"$f":"Import!AK119","v":0},{"$f":"Import!AL119","v":0}]
[null,{"$f":"Import!A120","v":0},{"$f":"Import!B120","v":0},{"$f":"Import!H120","v":0},{"$f":"Import!I120","v":0},{"$f":"Import!J120","v":0},{"$f":"Import!K120","v":0},{"$f":"Import!L120","v":0},{"$f":"Import!M120","v":0},{"$f":"Import!N120","v":0},{"$f":"Import!O120","v":0},{"$f":"Import!P120","v":0},{"$f":"Import!Q120","v":0},{"$f":"Import!R120","v":0},{"$f":"Import!S120","v":0},{"$f":"Import!T120","v":0},{"$f":"Import!U120","v":0},{"$f":"Import!V120","v":0},{"$f":"Import!W120","v":0},{"$f":"Import!X120","v":0},{"$f":"Import!Y120","v":0},{"$f":"Import!Z120","v":0},{"$f":"Import!AA120","v":0},{"$f":"Import!AB120","v":0},{"$f":"Import!AC120","v":0},{"$f":"Import!AD120","v":0},{"$f":"Import!AE120","v":0},{"$f":"Import!AF120","v":0},{"$f":"Import!AG120","v":0},{"$f":"Import!AH120","v":0},{"$f":"Import!AI120","v":0},{"$f":"Import!AJ120","v":0},{"$f":"Import!AK120","v":0},{"$f":"Import!AL120","v":0}]
[null,{"$f":"Import!A121","v":0},{"$f":"Import!B121","v":0},{"$f":"Import!H121","v":0},{"$f":"Import!I121","v":0},{"$f":"Import!J121","v":0},{"$f":"Import!K121","v":0},{"$f":"Import!L121","v":0},{"$f":"Import!M121","v":0},{"$f":"Import!N121","v":0},{"$f":"Import!O121","v":0},{"$f":"Import!P121","v":0},{"$f":"Import!Q121","v":0},{"$f":"Import!R121","v":0},{"$f":"Import!S121","v":0},{"$f":"Import!T121","v":0},{"$f":"Import!U121","v":0},{"$f":"Import!V121","v":0},{"$f":"Import!W121","v":0},{"$f":"Import!X121","v":0},{"$f":"Import!Y121","v":0},{"$f":"Import!Z121","v":0},{"$f":"Import!AA121","v":0},{"$f":"Import!AB121","v":0},{"$f":"Import!AC121","v":0},{"$f":"Import!AD121","v":0},{"$f":"Import!AE121","v":0},{"$f":"Import!AF121","v":0},{"$f":"Import!AG121","v":0},{"$f":"Import!AH121","v":0},{"$f":"Import!AI121","v":0},{"$f":"Import!AJ121","v":0},{"$f":"Import!AK121","v":0},{"$f":"Import!AL121","v":0}]
[null,{"$f":"Import!A122","v":0},{"$f":"Import!B122","v":0},{"$f":"Import!H122","v":0},{"$f":"Import!I122","v":0},{"$f":"Import!J122","v":0},{"$f":"Import!K122","v":0},{"$f":"Import!L122","v":0},{"$f":"Import!M122","v":0},{"$f":"Import!N122","v":0},{"$f":"Import!O122","v":0},{"$f":"Import!P122","v":0},{"$f":"Import!Q122","v":0},{"$f":"Import!R122","v":0},{"$f":"Import!S122","v":0},{"$f":"Import!T122","v":0},{"$f":"Import!U122","v":0},{"$f":"Import!V122","v":0},{"$f":"Import!W122","v":0},{"$f":"Import!X122","v":0},{"$f":"Import!Y122","v":0},{"$f":"Import!Z122","v":0},{"$f":"Import!AA122","v":0},{"$f":"Import!AB122","v":0},{"$f":"Import!AC122","v":0},{"$f":"Import!AD122","v":0},{"$f":"Import!AE122","v":0},{"$f":"Import!AF122","v":0},{"$f":"Import!AG122","v":0},{"$f":"Import!AH122","v":0},{"$f":"Import!AI122","v":0},{"$f":"Import!AJ122","v":0},{"$f":"Import!AK122","v":0},{"$f":"Import!AL122","v":0}]
[null,{"$f":"Import!A123","v":0},{"$f":"Import!B123","v":0},{"$f":"Import!H123","v":0},{"$f":"Import!I123","v":0},{"$f":"Import!J123","v":0},{"$f":"Import!K123","v":0},{"$f":"Import!L123","v":0},{"$f":"Import!M123","v":0},{"$f":"Import!N123","v":0},{"$f":"Import!O123","v":0},{"$f":"Import!P123","v":0},{"$f":"Import!Q123","v":0},{"$f":"Import!R123","v":0},{"$f":"Import!S123","v":0},{"$f":"Import!T123","v":0},{"$f":"Import!U123","v":0},{"$f":"Import!V123","v":0},{"$f":"Import!W123","v":0},{"$f":"Import!X123","v":0},{"$f":"Import!Y123","v":0},{"$f":"Import!Z123","v":0},{"$f":"Import!AA123","v":0},{"$f":"Import!AB123","v":0},{"$f":"Import!AC123","v":0},{"$f":"Import!AD123","v":0},{"$f":"Import!AE123","v":0},{"$f":"Import!AF123","v":0},{"$f":"Import!AG123","v":0},{"$f":"Import!AH123","v":0},{"$f":"Import!AI123","v":0},{"$f":"Import!AJ123","v":0},{"$f":"Import!AK123","v":0},{"$f":"Import!AL123","v":0}]
[null,{"$f":"Import!A124","v":0},{"$f":"Import!B124","v":0},{"$f":"Import!H124","v":0},{"$f":"Import!I124","v":0},{"$f":"Import!J124","v":0},{"$f":"Import!K124","v":0},{"$f":"Import!L124","v":0},{"$f":"Import!M124","v":0},{"$f":"Import!N124","v":0},{"$f":"Import!O124","v":0},{"$f":"Import!P124","v":0},{"$f":"Import!Q124","v":0},{"$f":"Import!R124","v":0},{"$f":"Import!S124","v":0},{"$f":"Import!T124","v":0},{"$f":"Import!U124","v":0},{"$f":"Import!V124","v":0},{"$f":"Import!W124","v":0},{"$f":"Import!X124","v":0},{"$f":"Import!Y124","v":0},{"$f":"Import!Z124","v":0},{"$f":"Import!AA124","v":0},{"$f":"Import!AB124","v":0},{"$f":"Import!AC124","v":0},{"$f":"Import!AD124","v":0},{"$f":"Import!AE124","v":0},{"$f":"Import!AF124","v":0},{"$f":"Import!AG124","v":0},{"$f":"Import!AH124","v":0},{"$f":"Import!AI124","v":0},{"$f":"Import!AJ124","v":0},{"$f":"Import!AK124","v":0},{"$f":"Import!AL124","v":0}]
[null,{"$f":"Import!A125","v":0},{"$f":"Import!B125","v":0},{"$f":"Import!H125","v":0},{"$f":"Import!I125","v":0},{"$f":"Import!J125","v":0},{"$f":"Import!K125","v":0},{"$f":"Import!L125","v":0},{"$f":"Import!M125","v":0},{"$f":"Import!N125","v":0},{"$f":"Import!O125","v":0},{"$f":"Import!P125","v":0},{"$f":"Import!Q125","v":0},{"$f":"Import!R125","v":0},{"$f":"Import!S125","v":0},{"$f":"Import!T125","v":0},{"$f":"Import!U125","v":0},{"$f":"Import!V125","v":0},{"$f":"Import!W125","v":0},{"$f":"Import!X125","v":0},{"$f":"Import!Y125","v":0},{"$f":"Import!Z125","v":0},{"$f":"Import!AA125","v":0},{"$f":"Import!AB125","v":0},{"$f":"Import!AC125","v":0},{"$f":"Import!AD125","v":0},{"$f":"Import!AE125","v":0},{"$f":"Import!AF125","v":0},{"$f":"Import!AG125","v":0},{"$f":"Import!AH125","v":0},{"$f":"Import!AI125","v":0},{"$f":"Import!AJ125","v":0},{"$f":"Import!AK125","v":0},{"$f":"Import!AL125","v":0}]
[null,{"$f":"Import!A126","v":0},{"$f":"Import!B126","v":0},{"$f":"Import!H126","v":0},{"$f":"Import!I126","v":0},{"$f":"Import!J126","v":0},{"$f":"Import!K126","v":0},{"$f":"Import!L126","v":0},{"$f":"Import!M126","v":0},{"$f":"Import!N126","v":0},{"$f":"Import!O126","v":0},{"$f":"Import!P126","v":0},{"$f":"Import!Q126","v":0},{"$f":"Import!R126","v":0},{"$f":"Import!S126","v":0},{"$f":"Import!T126","v":0},{"$f":"Import!U126","v":0},{"$f":"Import!V126","v":0},{"$f":"Import!W126","v":0},{"$f":"Import!X126","v":0},{"$f":"Import!Y126","v":0},{"$f":"Import!Z126","v":0},{"$f":"Import!AA126","v":0},{"$f":"Import!AB126","v":0},{"$f":"Import!AC126","v":0},{"$f":"Import!AD126","v":0},{"$f":"Import!AE126","v":0},{"$f":"Import!AF126","v":0},{"$f":"Import!AG126","v":0},{"$f":"Import!AH126","v":0},{"$f":"Import!AI126","v":0},{"$f":"Import!AJ126","v":0},{"$f":"Import!AK126","v":0},{"$f":"Import!AL126","v":0}]
[null,{"$f":"Import!A127","v":0},{"$f":"Import!B127","v":0},{"$f":"Import!H127","v":0},{"$f":"Import!I127","v":0},{"$f":"Import!J127","v":0},{"$f":"Import!K127","v":0},{"$f":"Import!L127","v":0},{"$f":"Import!M127","v":0},{"$f":"Import!N127","v":0},{"$f":"Import!O127","v":0},{"$f":"Import!P127","v":0},{"$f":"Import!Q127","v":0},{"$f":"Import!R127","v":0},{"$f":"Import!S127","v":0},{"$f":"Import!T127","v":0},{"$f":"Import!U127","v":0},{"$f":"Import!V127","v":0},{"$f":"Import!W127","v":0},{"$f":"Import!X127","v":0},{"$f":"Import!Y127","v":0},{"$f":"Import!Z127","v":0},{"$f":"Import!AA127","v":0},{"$f":"Import!AB127","v":0},{"$f":"Import!AC127","v":0},{"$f":"Import!AD127","v":0},{"$f":"Import!AE127","v":0},{"$f":"Import!AF127","v":0},{"$f":"Import!AG127","v":0},{"$f":"Import!AH127","v":0},{"$f":"Import!AI127","v":0},{"$f":"Import!AJ127","v":0},{"$f":"Import!AK127","v":0},{"$f":"Import!AL127","v":0}]
[null,{"$f":"Import!A128","v":0},{"$f":"Import!B128","v":0},{"$f":"Import!H128","v":0},{"$f":"Import!I128","v":0},{"$f":"Import!J128","v":0},{"$f":"Import!K128","v":0},{"$f":"Import!L128","v":0},{"$f":"Import!M128","v":0},{"$f":"Import!N128","v":0},{"$f":"Import!O128","v":0},{"$f":"Import!P128","v":0},{"$f":"Import!Q128","v":0},{"$f":"Import!R128","v":0},{"$f":"Import!S128","v":0},{"$f":"Import!T128","v":0},{"$f":"Import!U128","v":0},{"$f":"Import!V128","v":0},{"$f":"Import!W128","v":0},{"$f":"Import!X128","v":0},{"$f":"Import!Y128","v":0},{"$f":"Import!Z128","v":0},{"$f":"Import!AA128","v":0},{"$f":"Import!AB128","v":0},{"$f":"Import!AC128","v":0},{"$f":"Import!AD128","v":0},{"$f":"Import!AE128","v":0},{"$f":"Import!AF128","v":0},{"$f":"Import!AG128","v":0},{"$f":"Import!AH128","v":0},{"$f":"Import!AI128","v":0},{"$f":"Import!AJ128","v":0},{"$f":"Import!AK128","v":0},{"$f":"Import!AL128","v":0}]
[null,{"$f":"Import!A129","v":0},{"$f":"Import!B129","v":0},{"$f":"Import!H129","v":0},{"$f":"Import!I129","v":0},{"$f":"Import!J129","v":0},{"$f":"Import!K129","v":0},{"$f":"Import!L129","v":0},{"$f":"Import!M129","v":0},{"$f":"Import!N129","v":0},{"$f":"Import!O129","v":0},{"$f":"Import!P129","v":0},{"$f":"Import!Q129","v":0},{"$f":"Import!R129","v":0},{"$f":"Import!S129","v":0},{"$f":"Import!T129","v":0},{"$f":"Import!U129","v":0},{"$f":"Import!V129","v":0},{"$f":"Import!W129","v":0},{"$f":"Import!X129","v":0},{"$f":"Import!Y129","v":0},{"$f":"Import!Z129","v":0},{"$f":"Import!AA129","v":0},{"$f":"Import!AB129","v":0},{"$f":"Import!AC129","v":0},{"$f":"Import!AD129","v":0},{"$f":"Import!AE129","v":0},{"$f":"Import!AF129","v":0},{"$f":"Import!AG129","v":0},{"$f":"Import!AH129","v":0},{"$f":"Import!AI129","v":0},{"$f":"Import!AJ129","v":0},{"$f":"Import!AK129","v":0},{"$f":"Import!AL129","v":0}]
[null,{"$f":"Import!A130","v":0},{"$f":"Import!B130","v":0},{"$f":"Import!H130","v":0},{"$f":"Import!I130","v":0},{"$f":"Import!J130","v":0},{"$f":"Import!K130","v":0},{"$f":"Import!L130","v":0},{"$f":"Import!M130","v":0},{"$f":"Import!N130","v":0},{"$f":"Import!O130","v":0},{"$f":"Import!P130","v":0},{"$f":"Import!Q130","v":0},{"$f":"Import!R130","v":0},{"$f":"Import!S130","v":0},{"$f":"Import!T130","v":0},{"$f":"Import!U130","v":0},{"$f":"Import!V130","v":0},{"$f":"Import!W130","v":0},{"$f":"Import!X130","v":0},{"$f":"Import!Y130","v":0},{"$f":"Import!Z130","v":0},{"$f":"Import!AA130","v":0},{"$f":"Import!AB130","v":0},{"$f":"Import!AC130","v":0},{"$f":"Import!AD130","v":0},{"$f":"Import!AE130","v":0},{"$f":"Import!AF130","v":0},{"$f":"Import!AG130","v":0},{"$f":"Import!AH130","v":0},{"$f":"Import!AI130","v":0},{"$f":"Import!AJ130","v":0},{"$f":"Import!AK130","v":0},{"$f":"Import!AL130","v":0}]
[null,{"$f":"Import!A131","v":0},{"$f":"Import!B131","v":0},{"$f":"Import!H131","v":0},{"$f":"Import!I131","v":0},{"$f":"Import!J131","v":0},{"$f":"Import!K131","v":0},{"$f":"Import!L131","v":0},{"$f":"Import!M131","v":0},{"$f":"Import!N131","v":0},{"$f":"Import!O131","v":0},{"$f":"Import!P131","v":0},{"$f":"Import!Q131","v":0},{"$f":"Import!R131","v":0},{"$f":"Import!S131","v":0},{"$f":"Import!T131","v":0},{"$f":"Import!U131","v":0},{"$f":"Import!V131","v":0},{"$f":"Import!W131","v":0},{"$f":"Import!X131","v":0},{"$f":"Import!Y131","v":0},{"$f":"Import!Z131","v":0},{"$f":"Import!AA131","v":0},{"$f":"Import!AB131","v":0},{"$f":"Import!AC131","v":0},{"$f":"Import!AD131","v":0},{"$f":"Import!AE131","v":0},{"$f":"Import!AF131","v":0},{"$f":"Import!AG131","v":0},{"$f":"Import!AH131","v":0},{"$f":"Import!AI131","v":0},{"$f":"Import!AJ131","v":0},{"$f":"Import!AK131","v":0},{"$f":"Import!AL131","v":0}]
[null,{"$f":"Import!A132","v":0},{"$f":"Import!B132","v":0},{"$f":"Import!H132","v":0},{"$f":"Import!I132","v":0},{"$f":"Import!J132","v":0},{"$f":"Import!K132","v":0},{"$f":"Import!L132","v":0},{"$f":"Import!M132","v":0},{"$f":"Import!N132","v":0},{"$f":"Import!O132","v":0},{"$f":"Import!P132","v":0},{"$f":"Import!Q132","v":0},{"$f":"Import!R132","v":0},{"$f":"Import!S132","v":0},{"$f":"Import!T132","v":0},{"$f":"Import!U132","v":0},{"$f":"Import!V132","v":0},{"$f":"Import!W132","v":0},{"$f":"Import!X132","v":0},{"$f":"Import!Y132","v":0},{"$f":"Import!Z132","v":0},{"$f":"Import!AA132","v":0},{"$f":"Import!AB132","v":0},{"$f":"Import!AC132","v":0},{"$f":"Import!AD132","v":0},{"$f":"Import!AE132","v":0},{"$f":"Import!AF132","v":0},{"$f":"Import!AG132","v":0},{"$f":"Import!AH132","v":0},{"$f":"Import!AI132","v":0},{"$f":"Import!AJ132","v":0},{"$f":"Import!AK132","v":0},{"$f":"Import!AL132","v":0}]
[null,{"$f":"Import!A133","v":0},{"$f":"Import!B133","v":0},{"$f":"Import!H133","v":0},{"$f":"Import!I133","v":0},{"$f":"Import!J133","v":0},{"$f":"Import!K133","v":0},{"$f":"Import!L133","v":0},{"$f":"Import!M133","v":0},{"$f":"Import!N133","v":0},{"$f":"Import!O133","v":0},{"$f":"Import!P133","v":0},{"$f":"Import!Q133","v":0},{"$f":"Import!R133","v":0},{"$f":"Import!S133","v":0},{"$f":"Import!T133","v":0},{"$f":"Import!U133","v":0},{"$f":"Import!V133","v":0},{"$f":"Import!W133","v":0},{"$f":"Import!X133","v":0},{"$f":"Import!Y133","v":0},{"$f":"Import!Z133","v":0},{"$f":"Import!AA133","v":0},{"$f":"Import!AB133","v":0},{"$f":"Import!AC133","v":0},{"$f":"Import!AD133","v":0},{"$f":"Import!AE133","v":0},{"$f":"Import!AF133","v":0},{"$f":"Import!AG133","v":0},{"$f":"Import!AH133","v":0},{"$f":"Import!AI133","v":0},{"$f":"Import!AJ133","v":0},{"$f":"Import!AK133","v":0},{"$f":"Import!AL133","v":0}]
[null,{"$f":"Import!A134","v":0},{"$f":"Import!B134","v":0},{"$f":"Import!H134","v":0},{"$f":"Import!I134","v":0},{"$f":"Import!J134","v":0},{"$f":"Import!K134","v":0},{"$f":"Import!L134","v":0},{"$f":"Import!M134","v":0},{"$f":"Import!N134","v":0},{"$f":"Import!O134","v":0},{"$f":"Import!P134","v":0},{"$f":"Import!Q134","v":0},{"$f":"Import!R134","v":0},{"$f":"Import!S134","v":0},{"$f":"Import!T134","v":0},{"$f":"Import!U134","v":0},{"$f":"Import!V134","v":0},{"$f":"Import!W134","v":0},{"$f":"Import!X134","v":0},{"$f":"Import!Y134","v":0},{"$f":"Import!Z134","v":0},{"$f":"Import!AA134","v":0},{"$f":"Import!AB134","v":0},{"$f":"Import!AC134","v":0},{"$f":"Import!AD134","v":0},{"$f":"Import!AE134","v":0},{"$f":"Import!AF134","v":0},{"$f":"Import!AG134","v":0},{"$f":"Import!AH134","v":0},{"$f":"Import!AI134","v":0},{"$f":"Import!AJ134","v":0},{"$f":"Import!AK134","v":0},{"$f":"Import!AL134","v":0}]
[null,{"$f":"Import!A135","v":0},{"$f":"Import!B135","v":0},{"$f":"Import!H135","v":0},{"$f":"Import!I135","v":0},{"$f":"Import!J135","v":0},{"$f":"Import!K135","v":0},{"$f":"Import!L135","v":0},{"$f":"Import!M135","v":0},{"$f":"Import!N135","v":0},{"$f":"Import!O135","v":0},{"$f":"Import!P135","v":0},{"$f":"Import!Q135","v":0},{"$f":"Import!R135","v":0},{"$f":"Import!S135","v":0},{"$f":"Import!T135","v":0},{"$f":"Import!U135","v":0},{"$f":"Import!V135","v":0},{"$f":"Import!W135","v":0},{"$f":"Import!X135","v":0},{"$f":"Import!Y135","v":0},{"$f":"Import!Z135","v":0},{"$f":"Import!AA135","v":0},{"$f":"Import!AB135","v":0},{"$f":"Import!AC135","v":0},{"$f":"Import!AD135","v":0},{"$f":"Import!AE135","v":0},{"$f":"Import!AF135","v":0},{"$f":"Import!AG135","v":0},{"$f":"Import!AH135","v":0},{"$f":"Import!AI135","v":0},{"$f":"Import!AJ135","v":0},{"$f":"Import!AK135","v":0},{"$f":"Import!AL135","v":0}]
[null,{"$f":"Import!A136","v":0},{"$f":"Import!B136","v":0},{"$f":"Import!H136","v":0},{"$f":"Import!I136","v":0},{"$f":"Import!J136","v":0},{"$f":"Import!K136","v":0},{"$f":"Import!L136","v":0},{"$f":"Import!M136","v":0},{"$f":"Import!N136","v":0},{"$f":"Import!O136","v":0},{"$f":"Import!P136","v":0},{"$f":"Import!Q136","v":0},{"$f":"Import!R136","v":0},{"$f":"Import!S136","v":0},{"$f":"Import!T136","v":0},{"$f":"Import!U136","v":0},{"$f":"Import!V136","v":0},{"$f":"Import!W136","v":0},{"$f":"Import!X136","v":0},{"$f":"Import!Y136","v":0},{"$f":"Import!Z136","v":0},{"$f":"Import!AA136","v":0},{"$f":"Import!AB136","v":0},{"$f":"Import!AC136","v":0},{"$f":"Import!AD136","v":0},{"$f":"Import!AE136","v":0},{"$f":"Import!AF136","v":0},{"$f":"Import!AG136","v":0},{"$f":"Import!AH136","v":0},{"$f":"Import!AI136","v":0},{"$f":"Import!AJ136","v":0},{"$f":"Import!AK136","v":0},{"$f":"Import!AL136","v":0}]
[null,{"$f":"Import!A137","v":0},{"$f":"Import!B137","v":0},{"$f":"Import!H137","v":0},{"$f":"Import!I137","v":0},{"$f":"Import!J137","v":0},{"$f":"Import!K137","v":0},{"$f":"Import!L137","v":0},{"$f":"Import!M137","v":0},{"$f":"Import!N137","v":0},{"$f":"Import!O137","v":0},{"$f":"Import!P137","v":0},{"$f":"Import!Q137","v":0},{"$f":"Import!R137","v":0},{"$f":"Import!S137","v":0},{"$f":"Import!T137","v":0},{"$f":"Import!U137","v":0},{"$f":"Import!V137","v":0},{"$f":"Import!W137","v":0},{"$f":"Import!X137","v":0},{"$f":"Import!Y137","v":0},{"$f":"Import!Z137","v":0},{"$f":"Import!AA137","v":0},{"$f":"Import!AB137","v":0},{"$f":"Import!AC137","v":0},{"$f":"Import!AD137","v":0},{"$f":"Import!AE137","v":0},{"$f":"Import!AF137","v":0},{"$f":"Import!AG137","v":0},{"$f":"Import!AH137","v":0},{"$f":"Import!AI137","v":0},{"$f":"Import!AJ137","v":0},{"$f":"Import!AK137","v":0},{"$f":"Import!AL137","v":0}]
[null,{"$f":"Import!A138","v":0},{"$f":"Import!B138","v":0},{"$f":"Import!H138","v":0},{"$f":"Import!I138","v":0},{"$f":"Import!J138","v":0},{"$f":"Import!K138","v":0},{"$f":"Import!L138","v":0},{"$f":"Import!M138","v":0},{"$f":"Import!N138","v":0},{"$f":"Import!O138","v":0},{"$f":"Import!P138","v":0},{"$f":"Import!Q138","v":0},{"$f":"Import!R138","v":0},{"$f":"Import!S138","v":0},{"$f":"Import!T138","v":0},{"$f":"Import!U138","v":0},{"$f":"Import!V138","v":0},{"$f":"Import!W138","v":0},{"$f":"Import!X138","v":0},{"$f":"Import!Y138","v":0},{"$f":"Import!Z138","v":0},{"$f":"Import!AA138","v":0},{"$f":"Import!AB138","v":0},{"$f":"Import!AC138","v":0},{"$f":"Import!AD138","v":0},{"$f":"Import!AE138","v":0},{"$f":"Import!AF138","v":0},{"$f":"Import!AG138","v":0},{"$f":"Import!AH138","v":0},{"$f":"Import!AI138","v":0},{"$f":"Import!AJ138","v":0},{"$f":"Import!AK138","v":0},{"$f":"Import!AL138","v":0}]
[null,{"$f":"Import!A139","v":0},{"$f":"Import!B139","v":0},{"$f":"Import!H139","v":0},{"$f":"Import!I139","v":0},{"$f":"Import!J139","v":0},{"$f":"Import!K139","v":0},{"$f":"Import!L139","v":0},{"$f":"Import!M139","v":0},{"$f":"Import!N139","v":0},{"$f":"Import!O139","v":0},{"$f":"Import!P139","v":0},{"$f":"Import!Q139","v":0},{"$f":"Import!R139","v":0},{"$f":"Import!S139","v":0},{"$f":"Import!T139","v":0},{"$f":"Import!U139","v":0},{"$f":"Import!V139","v":0},{"$f":"Import!W139","v":0},{"$f":"Import!X139","v":0},{"$f":"Import!Y139","v":0},{"$f":"Import!Z139","v":0},{"$f":"Import!AA139","v":0},{"$f":"Import!AB139","v":0},{"$f":"Import!AC139","v":0},{"$f":"Import!AD139","v":0},{"$f":"Import!AE139","v":0},{"$f":"Import!AF139","v":0},{"$f":"Import!AG139","v":0},{"$f":"Import!AH139","v":0},{"$f":"Import!AI139","v":0},{"$f":"Import!AJ139","v":0},{"$f":"Import!AK139","v":0},{"$f":"Import!AL139","v":0}]
[null,{"$f":"Import!A140","v":0},{"$f":"Import!B140","v":0},{"$f":"Import!H140","v":0},{"$f":"Import!I140","v":0},{"$f":"Import!J140","v":0},{"$f":"Import!K140","v":0},{"$f":"Import!L140","v":0},{"$f":"Import!M140","v":0},{"$f":"Import!N140","v":0},{"$f":"Import!O140","v":0},{"$f":"Import!P140","v":0},{"$f":"Import!Q140","v":0},{"$f":"Import!R140","v":0},{"$f":"Import!S140","v":0},{"$f":"Import!T140","v":0},{"$f":"Import!U140","v":0},{"$f":"Import!V140","v":0},{"$f":"Import!W140","v":0},{"$f":"Import!X140","v":0},{"$f":"Import!Y140","v":0},{"$f":"Import!Z140","v":0},{"$f":"Import!AA140","v":0},{"$f":"Import!AB140","v":0},{"$f":"Import!AC140","v":0},{"$f":"Import!AD140","v":0},{"$f":"Import!AE140","v":0},{"$f":"Import!AF140","v":0},{"$f":"Import!AG140","v":0},{"$f":"Import!AH140","v":0},{"$f":"Import!AI140","v":0},{"$f":"Import!AJ140","v":0},{"$f":"Import!AK140","v":0},{"$f":"Import!AL140","v":0}]
[null,{"$f":"Import!A141","v":0},{"$f":"Import!B141","v":0},{"$f":"Import!H141","v":0},{"$f":"Import!I141","v":0},{"$f":"Import!J141","v":0},{"$f":"Import!K141","v":0},{"$f":"Import!L141","v":0},{"$f":"Import!M141","v":0},{"$f":"Import!N141","v":0},{"$f":"Import!O141","v":0},{"$f":"Import!P141","v":0},{"$f":"Import!Q141","v":0},{"$f":"Import!R141","v":0},{"$f":"Import!S141","v":0},{"$f":"Import!T141","v":0},{"$f":"Import!U141","v":0},{"$f":"Import!V141","v":0},{"$f":"Import!W141","v":0},{"$f":"Import!X141","v":0},{"$f":"Import!Y141","v":0},{"$f":"Import!Z141","v":0},{"$f":"Import!AA141","v":0},{"$f":"Import!AB141","v":0},{"$f":"Import!AC141","v":0},{"$f":"Import!AD141","v":0},{"$f":"Import!AE141","v":0},{"$f":"Import!AF141","v":0},{"$f":"Import!AG141","v":0},{"$f":"Import!AH141","v":0},{"$f":"Import!AI141","v":0},{"$f":"Import!AJ141","v":0},{"$f":"Import!AK141","v":0},{"$f":"Import!AL141","v":0}]
[null,{"$f":"Import!A142","v":0},{"$f":"Import!B142","v":0},{"$f":"Import!H142","v":0},{"$f":"Import!I142","v":0},{"$f":"Import!J142","v":0},{"$f":"Import!K142","v":0},{"$f":"Import!L142","v":0},{"$f":"Import!M142","v":0},{"$f":"Import!N142","v":0},{"$f":"Import!O142","v":0},{"$f":"Import!P142","v":0},{"$f":"Import!Q142","v":0},{"$f":"Import!R142","v":0},{"$f":"Import!S142","v":0},{"$f":"Import!T142","v":0},{"$f":"Import!U142","v":0},{"$f":"Import!V142","v":0},{"$f":"Import!W142","v":0},{"$f":"Import!X142","v":0},{"$f":"Import!Y142","v":0},{"$f":"Import!Z142","v":0},{"$f":"Import!AA142","v":0},{"$f":"Import!AB142","v":0},{"$f":"Import!AC142","v":0},{"$f":"Import!AD142","v":0},{"$f":"Import!AE142","v":0},{"$f":"Import!AF142","v":0},{"$f":"Import!AG142","v":0},{"$f":"Import!AH142","v":0},{"$f":"Import!AI142","v":0},{"$f":"Import!AJ142","v":0},{"$f":"Import!AK142","v":0},{"$f":"Import!AL142","v":0}]
[null,{"$f":"Import!A143","v":0},{"$f":"Import!B143","v":0},{"$f":"Import!H143","v":0},{"$f":"Import!I143","v":0},{"$f":"Import!J143","v":0},{"$f":"Import!K143","v":0},{"$f":"Import!L143","v":0},{"$f":"Import!M143","v":0},{"$f":"Import!N143","v":0},{"$f":"Import!O143","v":0},{"$f":"Import!P143","v":0},{"$f":"Import!Q143","v":0},{"$f":"Import!R143","v":0},{"$f":"Import!S143","v":0},{"$f":"Import!T143","v":0},{"$f":"Import!U143","v":0},{"$f":"Import!V143","v":0},{"$f":"Import!W143","v":0},{"$f":"Import!X143","v":0},{"$f":"Import!Y143","v":0},{"$f":"Import!Z143","v":0},{"$f":"Import!AA143","v":0},{"$f":"Import!AB143","v":0},{"$f":"Import!AC143","v":0},{"$f":"Import!AD143","v":0},{"$f":"Import!AE143","v":0},{"$f":"Import!AF143","v":0},{"$f":"Import!AG143","v":0},{"$f":"Import!AH143","v":0},{"$f":"Import!AI143","v":0},{"$f":"Import!AJ143","v":0},{"$f":"Import!AK143","v":0},{"$f":"Import!AL143","v":0}]
[null,{"$f":"Import!A144","v":0},{"$f":"Import!B144","v":0},{"$f":"Import!H144","v":0},{"$f":"Import!I144","v":0},{"$f":"Import!J144","v":0},{"$f":"Import!K144","v":0},{"$f":"Import!L144","v":0},{"$f":"Import!M144","v":0},{"$f":"Import!N144","v":0},{"$f":"Import!O144","v":0},{"$f":"Import!P144","v":0},{"$f":"Import!Q144","v":0},{"$f":"Import!R144","v":0},{"$f":"Import!S144","v":0},{"$f":"Import!T144","v":0},{"$f":"Import!U144","v":0},{"$f":"Import!V144","v":0},{"$f":"Import!W144","v":0},{"$f":"Import!X144","v":0},{"$f":"Import!Y144","v":0},{"$f":"Import!Z144","v":0},{"$f":"Import!AA144","v":0},{"$f":"Import!AB144","v":0},{"$f":"Import!AC144","v":0},{"$f":"Import!AD144","v":0},{"$f":"Import!AE144","v":0},{"$f":"Import!AF144","v":0},{"$f":"Import!AG144","v":0},{"$f":"Import!AH144","v":0},{"$f":"Import!AI144","v":0},{"$f":"Import!AJ144","v":0},{"$f":"Import!AK144","v":0},{"$f":"Import!AL144","v":0}]
[null,{"$f":"Import!A145","v":0},{"$f":"Import!B145","v":0},{"$f":"Import!H145","v":0},{"$f":"Import!I145","v":0},{"$f":"Import!J145","v":0},{"$f":"Import!K145","v":0},{"$f":"Import!L145","v":0},{"$f":"Import!M145","v":0},{"$f":"Import!N145","v":0},{"$f":"Import!O145","v":0},{"$f":"Import!P145","v":0},{"$f":"Import!Q145","v":0},{"$f":"Import!R145","v":0},{"$f":"Import!S145","v":0},{"$f":"Import!T145","v":0},{"$f":"Import!U145","v":0},{"$f":"Import!V145","v":0},{"$f":"Import!W145","v":0},{"$f":"Import!X145","v":0},{"$f":"Import!Y145","v":0},{"$f":"Import!Z145","v":0},{"$f":"Import!AA145","v":0},{"$f":"Import!AB145","v":0},{"$f":"Import!AC145","v":0},{"$f":"Import!AD145","v":0},{"$f":"Import!AE145","v":0},{"$f":"Import!AF145","v":0},{"$f":"Import!AG145","v":0},{"$f":"Import!AH145","v":0},{"$f":"Import!AI145","v":0},{"$f":"Import!AJ145","v":0},{"$f":"Import!AK145","v":0},{"$f":"Import!AL145","v":0}]
[null,{"$f":"Import!A146","v":0},{"$f":"Import!B146","v":0},{"$f":"Import!H146","v":0},{"$f":"Import!I146","v":0},{"$f":"Import!J146","v":0},{"$f":"Import!K146","v":0},{"$f":"Import!L146","v":0},{"$f":"Import!M146","v":0},{"$f":"Import!N146","v":0},{"$f":"Import!O146","v":0},{"$f":"Import!P146","v":0},{"$f":"Import!Q146","v":0},{"$f":"Import!R146","v":0},{"$f":"Import!S146","v":0},{"$f":"Import!T146","v":0},{"$f":"Import!U146","v":0},{"$f":"Import!V146","v":0},{"$f":"Import!W146","v":0},{"$f":"Import!X146","v":0},{"$f":"Import!Y146","v":0},{"$f":"Import!Z146","v":0},{"$f":"Import!AA146","v":0},{"$f":"Import!AB146","v":0},{"$f":"Import!AC146","v":0},{"$f":"Import!AD146","v":0},{"$f":"Import!AE146","v":0},{"$f":"Import!AF146","v":0},{"$f":"Import!AG146","v":0},{"$f":"Import!AH146","v":0},{"$f":"Import!AI146","v":0},{"$f":"Import!AJ146","v":0},{"$f":"Import!AK146","v":0},{"$f":"Import!AL146","v":0}]
[null,{"$f":"Import!A147","v":0},{"$f":"Import!B147","v":0},{"$f":"Import!H147","v":0},{"$f":"Import!I147","v":0},{"$f":"Import!J147","v":0},{"$f":"Import!K147","v":0},{"$f":"Import!L147","v":0},{"$f":"Import!M147","v":0},{"$f":"Import!N147","v":0},{"$f":"Import!O147","v":0},{"$f":"Import!P147","v":0},{"$f":"Import!Q147","v":0},{"$f":"Import!R147","v":0},{"$f":"Import!S147","v":0},{"$f":"Import!T147","v":0},{"$f":"Import!U147","v":0},{"$f":"Import!V147","v":0},{"$f":"Import!W147","v":0},{"$f":"Import!X147","v":0},{"$f":"Import!Y147","v":0},{"$f":"Import!Z147","v":0},{"$f":"Import!AA147","v":0},{"$f":"Import!AB147","v":0},{"$f":"Import!AC147","v":0},{"$f":"Import!AD147","v":0},{"$f":"Import!AE147","v":0},{"$f":"Import!AF147","v":0},{"$f":"Import!AG147","v":0},{"$f":"Import!AH147","v":0},{"$f":"Import!AI147","v":0},{"$f":"Import!AJ147","v":0},{"$f":"Import!AK147","v":0},{"$f":"Import!AL147","v":0}]
[null,{"$f":"Import!A148","v":0},{"$f":"Import!B148","v":0},{"$f":"Import!H148","v":0},{"$f":"Import!I148","v":0},{"$f":"Import!J148","v":0},{"$f":"Import!K148","v":0},{"$f":"Import!L148","v":0},{"$f":"Import!M148","v":0},{"$f":"Import!N148","v":0},{"$f":"Import!O148","v":0},{"$f":"Import!P148","v":0},{"$f":"Import!Q148","v":0},{"$f":"Import!R148","v":0},{"$f":"Import!S148","v":0},{"$f":"Import!T148","v":0},{"$f":"Import!U148","v":0},{"$f":"Import!V148","v":0},{"$f":"Import!W148","v":0},{"$f":"Import!X148","v":0},{"$f":"Import!Y148","v":0},{"$f":"Import!Z148","v":0},{"$f":"Import!AA148","v":0},{"$f":"Import!AB148","v":0},{"$f":"Import!AC148","v":0},{"$f":"Import!AD148","v":0},{"$f":"Import!AE148","v":0},{"$f":"Import!AF148","v":0},{"$f":"Import!AG148","v":0},{"$f":"Import!AH148","v":0},{"$f":"Import!AI148","v":0},{"$f":"Import!AJ148","v":0},{"$f":"Import!AK148","v":0},{"$f":"Import!AL148","v":0}]
[null,{"$f":"Import!A149","v":0},{"$f":"Import!B149","v":0},{"$f":"Import!H149","v":0},{"$f":"Import!I149","v":0},{"$f":"Import!J149","v":0},{"$f":"Import!K149","v":0},{"$f":"Import!L149","v":0},{"$f":"Import!M149","v":0},{"$f":"Import!N149","v":0},{"$f":"Import!O149","v":0},{"$f":"Import!P149","v":0},{"$f":"Import!Q149","v":0},{"$f":"Import!R149","v":0},{"$f":"Import!S149","v":0},{"$f":"Import!T149","v":0},{"$f":"Import!U149","v":0},{"$f":"Import!V149","v":0},{"$f":"Import!W149","v":0},{"$f":"Import!X149","v":0},{"$f":"Import!Y149","v":0},{"$f":"Import!Z149","v":0},{"$f":"Import!AA149","v":0},{"$f":"Import!AB149","v":0},{"$f":"Import!AC149","v":0},{"$f":"Import!AD149","v":0},{"$f":"Import!AE149","v":0},{"$f":"Import!AF149","v":0},{"$f":"Import!AG149","v":0},{"$f":"Import!AH149","v":0},{"$f":"Import!AI149","v":0},{"$f":"Import!AJ149","v":0},{"$f":"Import!AK149","v":0},{"$f":"Import!AL149","v":0}]
[null,{"$f":"Import!A150","v":0},{"$f":"Import!B150","v":0},{"$f":"Import!H150","v":0},{"$f":"Import!I150","v":0},{"$f":"Import!J150","v":0},{"$f":"Import!K150","v":0},{"$f":"Import!L150","v":0},{"$f":"Import!M150","v":0},{"$f":"Import!N150","v":0},{"$f":"Import!O150","v":0},{"$f":"Import!P150","v":0},{"$f":"Import!Q150","v":0},{"$f":"Import!R150","v":0},{"$f":"Import!S150","v":0},{"$f":"Import!T150","v":0},{"$f":"Import!U150","v":0},{"$f":"Import!V150","v":0},{"$f":"Import!W150","v":0},{"$f":"Import!X150","v":0},{"$f":"Import!Y150","v":0},{"$f":"Import!Z150","v":0},{"$f":"Import!AA150","v":0},{"$f":"Import!AB150","v":0},{"$f":"Import!AC150","v":0},{"$f":"Import!AD150","v":0},{"$f":"Import!AE150","v":0},{"$f":"Import!AF150","v":0},{"$f":"Import!AG150","v":0},{"$f":"Import!AH150","v":0},{"$f":"Import!AI150","v":0},{"$f":"Import!AJ150","v":0},{"$f":"Import!AK150","v":0},{"$f":"Import!AL150","v":0}]
[null,{"$f":"Import!A151","v":0},{"$f":"Import!B151","v":0},{"$f":"Import!H151","v":0},{"$f":"Import!I151","v":0},{"$f":"Import!J151","v":0},{"$f":"Import!K151","v":0},{"$f":"Import!L151","v":0},{"$f":"Import!M151","v":0},{"$f":"Import!N151","v":0},{"$f":"Import!O151","v":0},{"$f":"Import!P151","v":0},{"$f":"Import!Q151","v":0},{"$f":"Import!R151","v":0},{"$f":"Import!S151","v":0},{"$f":"Import!T151","v":0},{"$f":"Import!U151","v":0},{"$f":"Import!V151","v":0},{"$f":"Import!W151","v":0},{"$f":"Import!X151","v":0},{"$f":"Import!Y151","v":0},{"$f":"Import!Z151","v":0},{"$f":"Import!AA151","v":0},{"$f":"Import!AB151","v":0},{"$f":"Import!AC151","v":0},{"$f":"Import!AD151","v":0},{"$f":"Import!AE151","v":0},{"$f":"Import!AF151","v":0},{"$f":"Import!AG151","v":0},{"$f":"Import!AH151","v":0},{"$f":"Import!AI151","v":0},{"$f":"Import!AJ151","v":0},{"$f":"Import!AK151","v":0},{"$f":"Import!AL151","v":0}]
[null,{"$f":"Import!A152","v":0},{"$f":"Import!B152","v":0},{"$f":"Import!H152","v":0},{"$f":"Import!I152","v":0},{"$f":"Import!J152","v":0},{"$f":"Import!K152","v":0},{"$f":"Import!L152","v":0},{"$f":"Import!M152","v":0},{"$f":"Import!N152","v":0},{"$f":"Import!O152","v":0},{"$f":"Import!P152","v":0},{"$f":"Import!Q152","v":0},{"$f":"Import!R152","v":0},{"$f":"Import!S152","v":0},{"$f":"Import!T152","v":0},{"$f":"Import!U152","v":0},{"$f":"Import!V152","v":0},{"$f":"Import!W152","v":0},{"$f":"Import!X152","v":0},{"$f":"Import!Y152","v":0},{"$f":"Import!Z152","v":0},{"$f":"Import!AA152","v":0},{"$f":"Import!AB152","v":0},{"$f":"Import!AC152","v":0},{"$f":"Import!AD152","v":0},{"$f":"Import!AE152","v":0},{"$f":"Import!AF152","v":0},{"$f":"Import!AG152","v":0},{"$f":"Import!AH152","v":0},{"$f":"Import!AI152","v":0},{"$f":"Import!AJ152","v":0},{"$f":"Import!AK152","v":0},{"$f":"Import!AL152","v":0}]
[null,{"$f":"Import!A153","v":0},{"$f":"Import!B153","v":0},{"$f":"Import!H153","v":0},{"$f":"Import!I153","v":0},{"$f":"Import!J153","v":0},{"$f":"Import!K153","v":0},{"$f":"Import!L153","v":0},{"$f":"Import!M153","v":0},{"$f":"Import!N153","v":0},{"$f":"Import!O153","v":0},{"$f":"Import!P153","v":0},{"$f":"Import!Q153","v":0},{"$f":"Import!R153","v":0},{"$f":"Import!S153","v":0},{"$f":"Import!T153","v":0},{"$f":"Import!U153","v":0},{"$f":"Import!V153","v":0},{"$f":"Import!W153","v":0},{"$f":"Import!X153","v":0},{"$f":"Import!Y153","v":0},{"$f":"Import!Z153","v":0},{"$f":"Import!AA153","v":0},{"$f":"Import!AB153","v":0},{"$f":"Import!AC153","v":0},{"$f":"Import!AD153","v":0},{"$f":"Import!AE153","v":0},{"$f":"Import!AF153","v":0},{"$f":"Import!AG153","v":0},{"$f":"Import!AH153","v":0},{"$f":"Import!AI153","v":0},{"$f":"Import!AJ153","v":0},{"$f":"Import!AK153","v":0},{"$f":"Import!AL153","v":0}]
[null,{"$f":"Import!A154","v":0},{"$f":"Import!B154","v":0},{"$f":"Import!H154","v":0},{"$f":"Import!I154","v":0},{"$f":"Import!J154","v":0},{"$f":"Import!K154","v":0},{"$f":"Import!L154","v":0},{"$f":"Import!M154","v":0},{"$f":"Import!N154","v":0},{"$f":"Import!O154","v":0},{"$f":"Import!P154","v":0},{"$f":"Import!Q154","v":0},{"$f":"Import!R154","v":0},{"$f":"Import!S154","v":0},{"$f":"Import!T154","v":0},{"$f":"Import!U154","v":0},{"$f":"Import!V154","v":0},{"$f":"Import!W154","v":0},{"$f":"Import!X154","v":0},{"$f":"Import!Y154","v":0},{"$f":"Import!Z154","v":0},{"$f":"Import!AA154","v":0},{"$f":"Import!AB154","v":0},{"$f":"Import!AC154","v":0},{"$f":"Import!AD154","v":0},{"$f":"Import!AE154","v":0},{"$f":"Import!AF154","v":0},{"$f":"Import!AG154","v":0},{"$f":"Import!AH154","v":0},{"$f":"Import!AI154","v":0},{"$f":"Import!AJ154","v":0},{"$f":"Import!AK154","v":0},{"$f":"Import!AL154","v":0}]
[null,{"$f":"Import!A155","v":0},{"$f":"Import!B155","v":0},{"$f":"Import!H155","v":0},{"$f":"Import!I155","v":0},{"$f":"Import!J155","v":0},{"$f":"Import!K155","v":0},{"$f":"Import!L155","v":0},{"$f":"Import!M155","v":0},{"$f":"Import!N155","v":0},{"$f":"Import!O155","v":0},{"$f":"Import!P155","v":0},{"$f":"Import!Q155","v":0},{"$f":"Import!R155","v":0},{"$f":"Import!S155","v":0},{"$f":"Import!T155","v":0},{"$f":"Import!U155","v":0},{"$f":"Import!V155","v":0},{"$f":"Import!W155","v":0},{"$f":"Import!X155","v":0},{"$f":"Import!Y155","v":0},{"$f":"Import!Z155","v":0},{"$f":"Import!AA155","v":0},{"$f":"Import!AB155","v":0},{"$f":"Import!AC155","v":0},{"$f":"Import!AD155","v":0},{"$f":"Import!AE155","v":0},{"$f":"Import!AF155","v":0},{"$f":"Import!AG155","v":0},{"$f":"Import!AH155","v":0},{"$f":"Import!AI155","v":0},{"$f":"Import!AJ155","v":0},{"$f":"Import!AK155","v":0},{"$f":"Import!AL155","v":0}]
[null,{"$f":"Import!A156","v":0},{"$f":"Import!B156","v":0},{"$f":"Import!H156","v":0},{"$f":"Import!I156","v":0},{"$f":"Import!J156","v":0},{"$f":"Import!K156","v":0},{"$f":"Import!L156","v":0},{"$f":"Import!M156","v":0},{"$f":"Import!N156","v":0},{"$f":"Import!O156","v":0},{"$f":"Import!P156","v":0},{"$f":"Import!Q156","v":0},{"$f":"Import!R156","v":0},{"$f":"Import!S156","v":0},{"$f":"Import!T156","v":0},{"$f":"Import!U156","v":0},{"$f":"Import!V156","v":0},{"$f":"Import!W156","v":0},{"$f":"Import!X156","v":0},{"$f":"Import!Y156","v":0},{"$f":"Import!Z156","v":0},{"$f":"Import!AA156","v":0},{"$f":"Import!AB156","v":0},{"$f":"Import!AC156","v":0},{"$f":"Import!AD156","v":0},{"$f":"Import!AE156","v":0},{"$f":"Import!AF156","v":0},{"$f":"Import!AG156","v":0},{"$f":"Import!AH156","v":0},{"$f":"Import!AI156","v":0},{"$f":"Import!AJ156","v":0},{"$f":"Import!AK156","v":0},{"$f":"Import!AL156","v":0}]
[null,{"$f":"Import!A157","v":0},{"$f":"Import!B157","v":0},{"$f":"Import!H157","v":0},{"$f":"Import!I157","v":0},{"$f":"Import!J157","v":0},{"$f":"Import!K157","v":0},{"$f":"Import!L157","v":0},{"$f":"Import!M157","v":0},{"$f":"Import!N157","v":0},{"$f":"Import!O157","v":0},{"$f":"Import!P157","v":0},{"$f":"Import!Q157","v":0},{"$f":"Import!R157","v":0},{"$f":"Import!S157","v":0},{"$f":"Import!T157","v":0},{"$f":"Import!U157","v":0},{"$f":"Import!V157","v":0},{"$f":"Import!W157","v":0},{"$f":"Import!X157","v":0},{"$f":"Import!Y157","v":0},{"$f":"Import!Z157","v":0},{"$f":"Import!AA157","v":0},{"$f":"Import!AB157","v":0},{"$f":"Import!AC157","v":0},{"$f":"Import!AD157","v":0},{"$f":"Import!AE157","v":0},{"$f":"Import!AF157","v":0},{"$f":"Import!AG157","v":0},{"$f":"Import!AH157","v":0},{"$f":"Import!AI157","v":0},{"$f":"Import!AJ157","v":0},{"$f":"Import!AK157","v":0},{"$f":"Import!AL157","v":0}]
[null,{"$f":"Import!A158","v":0},{"$f":"Import!B158","v":0},{"$f":"Import!H158","v":0},{"$f":"Import!I158","v":0},{"$f":"Import!J158","v":0},{"$f":"Import!K158","v":0},{"$f":"Import!L158","v":0},{"$f":"Import!M158","v":0},{"$f":"Import!N158","v":0},{"$f":"Import!O158","v":0},{"$f":"Import!P158","v":0},{"$f":"Import!Q158","v":0},{"$f":"Import!R158","v":0},{"$f":"Import!S158","v":0},{"$f":"Import!T158","v":0},{"$f":"Import!U158","v":0},{"$f":"Import!V158","v":0},{"$f":"Import!W158","v":0},{"$f":"Import!X158","v":0},{"$f":"Import!Y158","v":0},{"$f":"Import!Z158","v":0},{"$f":"Import!AA158","v":0},{"$f":"Import!AB158","v":0},{"$f":"Import!AC158","v":0},{"$f":"Import!AD158","v":0},{"$f":"Import!AE158","v":0},{"$f":"Import!AF158","v":0},{"$f":"Import!AG158","v":0},{"$f":"Import!AH158","v":0},{"$f":"Import!AI158","v":0},{"$f":"Import!AJ158","v":0},{"$f":"Import!AK158","v":0},{"$f":"Import!AL158","v":0}]
[null,{"$f":"Import!A159","v":0},{"$f":"Import!B159","v":0},{"$f":"Import!H159","v":0},{"$f":"Import!I159","v":0},{"$f":"Import!J159","v":0},{"$f":"Import!K159","v":0},{"$f":"Import!L159","v":0},{"$f":"Import!M159","v":0},{"$f":"Import!N159","v":0},{"$f":"Import!O159","v":0},{"$f":"Import!P159","v":0},{"$f":"Import!Q159","v":0},{"$f":"Import!R159","v":0},{"$f":"Import!S159","v":0},{"$f":"Import!T159","v":0},{"$f":"Import!U159","v":0},{"$f":"Import!V159","v":0},{"$f":"Import!W159","v":0},{"$f":"Import!X159","v":0},{"$f":"Import!Y159","v":0},{"$f":"Import!Z159","v":0},{"$f":"Import!AA159","v":0},{"$f":"Import!AB159","v":0},{"$f":"Import!AC159","v":0},{"$f":"Import!AD159","v":0},{"$f":"Import!AE159","v":0},{"$f":"Import!AF159","v":0},{"$f":"Import!AG159","v":0},{"$f":"Import!AH159","v":0},{"$f":"Import!AI159","v":0},{"$f":"Import!AJ159","v":0},{"$f":"Import!AK159","v":0},{"$f":"Import!AL159","v":0}]
[null,{"$f":"Import!A160","v":0},{"$f":"Import!B160","v":0},{"$f":"Import!H160","v":0},{"$f":"Import!I160","v":0},{"$f":"Import!J160","v":0},{"$f":"Import!K160","v":0},{"$f":"Import!L160","v":0},{"$f":"Import!M160","v":0},{"$f":"Import!N160","v":0},{"$f":"Import!O160","v":0},{"$f":"Import!P160","v":0},{"$f":"Import!Q160","v":0},{"$f":"Import!R160","v":0},{"$f":"Import!S160","v":0},{"$f":"Import!T160","v":0},{"$f":"Import!U160","v":0},{"$f":"Import!V160","v":0},{"$f":"Import!W160","v":0},{"$f":"Import!X160","v":0},{"$f":"Import!Y160","v":0},{"$f":"Import!Z160","v":0},{"$f":"Import!AA160","v":0},{"$f":"Import!AB160","v":0},{"$f":"Import!AC160","v":0},{"$f":"Import!AD160","v":0},{"$f":"Import!AE160","v":0},{"$f":"Import!AF160","v":0},{"$f":"Import!AG160","v":0},{"$f":"Import!AH160","v":0},{"$f":"Import!AI160","v":0},{"$f":"Import!AJ160","v":0},{"$f":"Import!AK160","v":0},{"$f":"Import!AL160","v":0}]
[null,{"$f":"Import!A161","v":0},{"$f":"Import!B161","v":0},{"$f":"Import!H161","v":0},{"$f":"Import!I161","v":0},{"$f":"Import!J161","v":0},{"$f":"Import!K161","v":0},{"$f":"Import!L161","v":0},{"$f":"Import!M161","v":0},{"$f":"Import!N161","v":0},{"$f":"Import!O161","v":0},{"$f":"Import!P161","v":0},{"$f":"Import!Q161","v":0},{"$f":"Import!R161","v":0},{"$f":"Import!S161","v":0},{"$f":"Import!T161","v":0},{"$f":"Import!U161","v":0},{"$f":"Import!V161","v":0},{"$f":"Import!W161","v":0},{"$f":"Import!X161","v":0},{"$f":"Import!Y161","v":0},{"$f":"Import!Z161","v":0},{"$f":"Import!AA161","v":0},{"$f":"Import!AB161","v":0},{"$f":"Import!AC161","v":0},{"$f":"Import!AD161","v":0},{"$f":"Import!AE161","v":0},{"$f":"Import!AF161","v":0},{"$f":"Import!AG161","v":0},{"$f":"Import!AH161","v":0},{"$f":"Import!AI161","v":0},{"$f":"Import!AJ161","v":0},{"$f":"Import!AK161","v":0},{"$f":"Import!AL161","v":0}]
[null,{"$f":"Import!A162","v":0},{"$f":"Import!B162","v":0},{"$f":"Import!H162","v":0},{"$f":"Import!I162","v":0},{"$f":"Import!J162","v":0},{"$f":"Import!K162","v":0},{"$f":"Import!L162","v":0},{"$f":"Import!M162","v":0},{"$f":"Import!N162","v":0},{"$f":"Import!O162","v":0},{"$f":"Import!P162","v":0},{"$f":"Import!Q162","v":0},{"$f":"Import!R162","v":0},{"$f":"Import!S162","v":0},{"$f":"Import!T162","v":0},{"$f":"Import!U162","v":0},{"$f":"Import!V162","v":0},{"$f":"Import!W162","v":0},{"$f":"Import!X162","v":0},{"$f":"Import!Y162","v":0},{"$f":"Import!Z162","v":0},{"$f":"Import!AA162","v":0},{"$f":"Import!AB162","v":0},{"$f":"Import!AC162","v":0},{"$f":"Import!AD162","v":0},{"$f":"Import!AE162","v":0},{"$f":"Import!AF162","v":0},{"$f":"Import!AG162","v":0},{"$f":"Import!AH162","v":0},{"$f":"Import!AI162","v":0},{"$f":"Import!AJ162","v":0},{"$f":"Import!AK162","v":0},{"$f":"Import!AL162","v":0}]
[null,{"$f":"Import!A163","v":0},{"$f":"Import!B163","v":0},{"$f":"Import!H163","v":0},{"$f":"Import!I163","v":0},{"$f":"Import!J163","v":0},{"$f":"Import!K163","v":0},{"$f":"Import!L163","v":0},{"$f":"Import!M163","v":0},{"$f":"Import!N163","v":0},{"$f":"Import!O163","v":0},{"$f":"Import!P163","v":0},{"$f":"Import!Q163","v":0},{"$f":"Import!R163","v":0},{"$f":"Import!S163","v":0},{"$f":"Import!T163","v":0},{"$f":"Import!U163","v":0},{"$f":"Import!V163","v":0},{"$f":"Import!W163","v":0},{"$f":"Import!X163","v":0},{"$f":"Import!Y163","v":0},{"$f":"Import!Z163","v":0},{"$f":"Import!AA163","v":0},{"$f":"Import!AB163","v":0},{"$f":"Import!AC163","v":0},{"$f":"Import!AD163","v":0},{"$f":"Import!AE163","v":0},{"$f":"Import!AF163","v":0},{"$f":"Import!AG163","v":0},{"$f":"Import!AH163","v":0},{"$f":"Import!AI163","v":0},{"$f":"Import!AJ163","v":0},{"$f":"Import!AK163","v":0},{"$f":"Import!AL163","v":0}]
[null,{"$f":"Import!A164","v":0},{"$f":"Import!B164","v":0},{"$f":"Import!H164","v":0},{"$f":"Import!I164","v":0},{"$f":"Import!J164","v":0},{"$f":"Import!K164","v":0},{"$f":"Import!L164","v":0},{"$f":"Import!M164","v":0},{"$f":"Import!N164","v":0},{"$f":"Import!O164","v":0},{"$f":"Import!P164","v":0},{"$f":"Import!Q164","v":0},{"$f":"Import!R164","v":0},{"$f":"Import!S164","v":0},{"$f":"Import!T164","v":0},{"$f":"Import!U164","v":0},{"$f":"Import!V164","v":0},{"$f":"Import!W164","v":0},{"$f":"Import!X164","v":0},{"$f":"Import!Y164","v":0},{"$f":"Import!Z164","v":0},{"$f":"Import!AA164","v":0},{"$f":"Import!AB164","v":0},{"$f":"Import!AC164","v":0},{"$f":"Import!AD164","v":0},{"$f":"Import!AE164","v":0},{"$f":"Import!AF164","v":0},{"$f":"Import!AG164","v":0},{"$f":"Import!AH164","v":0},{"$f":"Import!AI164","v":0},{"$f":"Import!AJ164","v":0},{"$f":"Import!AK164","v":0},{"$f":"Import!AL164","v":0}]
[null,{"$f":"Import!A165","v":0},{"$f":"Import!B165","v":0},{"$f":"Import!H165","v":0},{"$f":"Import!I165","v":0},{"$f":"Import!J165","v":0},{"$f":"Import!K165","v":0},{"$f":"Import!L165","v":0},{"$f":"Import!M165","v":0},{"$f":"Import!N165","v":0},{"$f":"Import!O165","v":0},{"$f":"Import!P165","v":0},{"$f":"Import!Q165","v":0},{"$f":"Import!R165","v":0},{"$f":"Import!S165","v":0},{"$f":"Import!T165","v":0},{"$f":"Import!U165","v":0},{"$f":"Import!V165","v":0},{"$f":"Import!W165","v":0},{"$f":"Import!X165","v":0},{"$f":"Import!Y165","v":0},{"$f":"Import!Z165","v":0},{"$f":"Import!AA165","v":0},{"$f":"Import!AB165","v":0},{"$f":"Import!AC165","v":0},{"$f":"Import!AD165","v":0},{"$f":"Import!AE165","v":0},{"$f":"Import!AF165","v":0},{"$f":"Import!AG165","v":0},{"$f":"Import!AH165","v":0},{"$f":"Import!AI165","v":0},{"$f":"Import!AJ165","v":0},{"$f":"Import!AK165","v":0},{"$f":"Import!AL165","v":0}]
[null,{"$f":"Import!A166","v":0},{"$f":"Import!B166","v":0},{"$f":"Import!H166","v":0},{"$f":"Import!I166","v":0},{"$f":"Import!J166","v":0},{"$f":"Import!K166","v":0},{"$f":"Import!L166","v":0},{"$f":"Import!M166","v":0},{"$f":"Import!N166","v":0},{"$f":"Import!O166","v":0},{"$f":"Import!P166","v":0},{"$f":"Import!Q166","v":0},{"$f":"Import!R166","v":0},{"$f":"Import!S166","v":0},{"$f":"Import!T166","v":0},{"$f":"Import!U166","v":0},{"$f":"Import!V166","v":0},{"$f":"Import!W166","v":0},{"$f":"Import!X166","v":0},{"$f":"Import!Y166","v":0},{"$f":"Import!Z166","v":0},{"$f":"Import!AA166","v":0},{"$f":"Import!AB166","v":0},{"$f":"Import!AC166","v":0},{"$f":"Import!AD166","v":0},{"$f":"Import!AE166","v":0},{"$f":"Import!AF166","v":0},{"$f":"Import!AG166","v":0},{"$f":"Import!AH166","v":0},{"$f":"Import!AI166","v":0},{"$f":"Import!AJ166","v":0},{"$f":"Import!AK166","v":0},{"$f":"Import!AL166","v":0}]
[null,{"$f":"Import!A167","v":0},{"$f":"Import!B167","v":0},{"$f":"Import!H167","v":0},{"$f":"Import!I167","v":0},{"$f":"Import!J167","v":0},{"$f":"Import!K167","v":0},{"$f":"Import!L167","v":0},{"$f":"Import!M167","v":0},{"$f":"Import!N167","v":0},{"$f":"Import!O167","v":0},{"$f":"Import!P167","v":0},{"$f":"Import!Q167","v":0},{"$f":"Import!R167","v":0},{"$f":"Import!S167","v":0},{"$f":"Import!T167","v":0},{"$f":"Import!U167","v":0},{"$f":"Import!V167","v":0},{"$f":"Import!W167","v":0},{"$f":"Import!X167","v":0},{"$f":"Import!Y167","v":0},{"$f":"Import!Z167","v":0},{"$f":"Import!AA167","v":0},{"$f":"Import!AB167","v":0},{"$f":"Import!AC167","v":0},{"$f":"Import!AD167","v":0},{"$f":"Import!AE167","v":0},{"$f":"Import!AF167","v":0},{"$f":"Import!AG167","v":0},{"$f":"Import!AH167","v":0},{"$f":"Import!AI167","v":0},{"$f":"Import!AJ167","v":0},{"$f":"Import!AK167","v":0},{"$f":"Import!AL167","v":0}]
[null,{"$f":"Import!A168","v":0},{"$f":"Import!B168","v":0},{"$f":"Import!H168","v":0},{"$f":"Import!I168","v":0},{"$f":"Import!J168","v":0},{"$f":"Import!K168","v":0},{"$f":"Import!L168","v":0},{"$f":"Import!M168","v":0},{"$f":"Import!N168","v":0},{"$f":"Import!O168","v":0},{"$f":"Import!P168","v":0},{"$f":"Import!Q168","v":0},{"$f":"Import!R168","v":0},{"$f":"Import!S168","v":0},{"$f":"Import!T168","v":0},{"$f":"Import!U168","v":0},{"$f":"Import!V168","v":0},{"$f":"Import!W168","v":0},{"$f":"Import!X168","v":0},{"$f":"Import!Y168","v":0},{"$f":"Import!Z168","v":0},{"$f":"Import!AA168","v":0},{"$f":"Import!AB168","v":0},{"$f":"Import!AC168","v":0},{"$f":"Import!AD168","v":0},{"$f":"Import!AE168","v":0},{"$f":"Import!AF168","v":0},{"$f":"Import!AG168","v":0},{"$f":"Import!AH168","v":0},{"$f":"Import!AI168","v":0},{"$f":"Import!AJ168","v":0},{"$f":"Import!AK168","v":0},{"$f":"Import!AL168","v":0}]
[null,{"$f":"Import!A169","v":0},{"$f":"Import!B169","v":0},{"$f":"Import!H169","v":0},{"$f":"Import!I169","v":0},{"$f":"Import!J169","v":0},{"$f":"Import!K169","v":0},{"$f":"Import!L169","v":0},{"$f":"Import!M169","v":0},{"$f":"Import!N169","v":0},{"$f":"Import!O169","v":0},{"$f":"Import!P169","v":0},{"$f":"Import!Q169","v":0},{"$f":"Import!R169","v":0},{"$f":"Import!S169","v":0},{"$f":"Import!T169","v":0},{"$f":"Import!U169","v":0},{"$f":"Import!V169","v":0},{"$f":"Import!W169","v":0},{"$f":"Import!X169","v":0},{"$f":"Import!Y169","v":0},{"$f":"Import!Z169","v":0},{"$f":"Import!AA169","v":0},{"$f":"Import!AB169","v":0},{"$f":"Import!AC169","v":0},{"$f":"Import!AD169","v":0},{"$f":"Import!AE169","v":0},{"$f":"Import!AF169","v":0},{"$f":"Import!AG169","v":0},{"$f":"Import!AH169","v":0},{"$f":"Import!AI169","v":0},{"$f":"Import!AJ169","v":0},{"$f":"Import!AK169","v":0},{"$f":"Import!AL169","v":0}]
[null,{"$f":"Import!A170","v":0},{"$f":"Import!B170","v":0},{"$f":"Import!H170","v":0},{"$f":"Import!I170","v":0},{"$f":"Import!J170","v":0},{"$f":"Import!K170","v":0},{"$f":"Import!L170","v":0},{"$f":"Import!M170","v":0},{"$f":"Import!N170","v":0},{"$f":"Import!O170","v":0},{"$f":"Import!P170","v":0},{"$f":"Import!Q170","v":0},{"$f":"Import!R170","v":0},{"$f":"Import!S170","v":0},{"$f":"Import!T170","v":0},{"$f":"Import!U170","v":0},{"$f":"Import!V170","v":0},{"$f":"Import!W170","v":0},{"$f":"Import!X170","v":0},{"$f":"Import!Y170","v":0},{"$f":"Import!Z170","v":0},{"$f":"Import!AA170","v":0},{"$f":"Import!AB170","v":0},{"$f":"Import!AC170","v":0},{"$f":"Import!AD170","v":0},{"$f":"Import!AE170","v":0},{"$f":"Import!AF170","v":0},{"$f":"Import!AG170","v":0},{"$f":"Import!AH170","v":0},{"$f":"Import!AI170","v":0},{"$f":"Import!AJ170","v":0},{"$f":"Import!AK170","v":0},{"$f":"Import!AL170","v":0}]
[null,{"$f":"Import!A171","v":0},{"$f":"Import!B171","v":0},{"$f":"Import!H171","v":0},{"$f":"Import!I171","v":0},{"$f":"Import!J171","v":0},{"$f":"Import!K171","v":0},{"$f":"Import!L171","v":0},{"$f":"Import!M171","v":0},{"$f":"Import!N171","v":0},{"$f":"Import!O171","v":0},{"$f":"Import!P171","v":0},{"$f":"Import!Q171","v":0},{"$f":"Import!R171","v":0},{"$f":"Import!S171","v":0},{"$f":"Import!T171","v":0},{"$f":"Import!U171","v":0},{"$f":"Import!V171","v":0},{"$f":"Import!W171","v":0},{"$f":"Import!X171","v":0},{"$f":"Import!Y171","v":0},{"$f":"Import!Z171","v":0},{"$f":"Import!AA171","v":0},{"$f":"Import!AB171","v":0},{"$f":"Import!AC171","v":0},{"$f":"Import!AD171","v":0},{"$f":"Import!AE171","v":0},{"$f":"Import!AF171","v":0},{"$f":"Import!AG171","v":0},{"$f":"Import!AH171","v":0},{"$f":"Import!AI171","v":0},{"$f":"Import!AJ171","v":0},{"$f":"Import!AK171","v":0},{"$f":"Import!AL171","v":0}]
[null,{"$f":"Import!A172","v":0},{"$f":"Import!B172","v":0},{"$f":"Import!H172","v":0},{"$f":"Import!I172","v":0},{"$f":"Import!J172","v":0},{"$f":"Import!K172","v":0},{"$f":"Import!L172","v":0},{"$f":"Import!M172","v":0},{"$f":"Import!N172","v":0},{"$f":"Import!O172","v":0},{"$f":"Import!P172","v":0},{"$f":"Import!Q172","v":0},{"$f":"Import!R172","v":0},{"$f":"Import!S172","v":0},{"$f":"Import!T172","v":0},{"$f":"Import!U172","v":0},{"$f":"Import!V172","v":0},{"$f":"Import!W172","v":0},{"$f":"Import!X172","v":0},{"$f":"Import!Y172","v":0},{"$f":"Import!Z172","v":0},{"$f":"Import!AA172","v":0},{"$f":"Import!AB172","v":0},{"$f":"Import!AC172","v":0},{"$f":"Import!AD172","v":0},{"$f":"Import!AE172","v":0},{"$f":"Import!AF172","v":0},{"$f":"Import!AG172","v":0},{"$f":"Import!AH172","v":0},{"$f":"Import!AI172","v":0},{"$f":"Import!AJ172","v":0},{"$f":"Import!AK172","v":0},{"$f":"Import!AL172","v":0}]
[null,{"$f":"Import!A173","v":0},{"$f":"Import!B173","v":0},{"$f":"Import!H173","v":0},{"$f":"Import!I173","v":0},{"$f":"Import!J173","v":0},{"$f":"Import!K173","v":0},{"$f":"Import!L173","v":0},{"$f":"Import!M173","v":0},{"$f":"Import!N173","v":0},{"$f":"Import!O173","v":0},{"$f":"Import!P173","v":0},{"$f":"Import!Q173","v":0},{"$f":"Import!R173","v":0},{"$f":"Import!S173","v":0},{"$f":"Import!T173","v":0},{"$f":"Import!U173","v":0},{"$f":"Import!V173","v":0},{"$f":"Import!W173","v":0},{"$f":"Import!X173","v":0},{"$f":"Import!Y173","v":0},{"$f":"Import!Z173","v":0},{"$f":"Import!AA173","v":0},{"$f":"Import!AB173","v":0},{"$f":"Import!AC173","v":0},{"$f":"Import!AD173","v":0},{"$f":"Import!AE173","v":0},{"$f":"Import!AF173","v":0},{"$f":"Import!AG173","v":0},{"$f":"Import!AH173","v":0},{"$f":"Import!AI173","v":0},{"$f":"Import!AJ173","v":0},{"$f":"Import!AK173","v":0},{"$f":"Import!AL173","v":0}]
[null,{"$f":"Import!A174","v":0},{"$f":"Import!B174","v":0},{"$f":"Import!H174","v":0},{"$f":"Import!I174","v":0},{"$f":"Import!J174","v":0},{"$f":"Import!K174","v":0},{"$f":"Import!L174","v":0},{"$f":"Import!M174","v":0},{"$f":"Import!N174","v":0},{"$f":"Import!O174","v":0},{"$f":"Import!P174","v":0},{"$f":"Import!Q174","v":0},{"$f":"Import!R174","v":0},{"$f":"Import!S174","v":0},{"$f":"Import!T174","v":0},{"$f":"Import!U174","v":0},{"$f":"Import!V174","v":0},{"$f":"Import!W174","v":0},{"$f":"Import!X174","v":0},{"$f":"Import!Y174","v":0},{"$f":"Import!Z174","v":0},{"$f":"Import!AA174","v":0},{"$f":"Import!AB174","v":0},{"$f":"Import!AC174","v":0},{"$f":"Import!AD174","v":0},{"$f":"Import!AE174","v":0},{"$f":"Import!AF174","v":0},{"$f":"Import!AG174","v":0},{"$f":"Import!AH174","v":0},{"$f":"Import!AI174","v":0},{"$f":"Import!AJ174","v":0},{"$f":"Import!AK174","v":0},{"$f":"Import!AL174","v":0}]
[null,{"$f":"Import!A175","v":0},{"$f":"Import!B175","v":0},{"$f":"Import!H175","v":0},{"$f":"Import!I175","v":0},{"$f":"Import!J175","v":0},{"$f":"Import!K175","v":0},{"$f":"Import!L175","v":0},{"$f":"Import!M175","v":0},{"$f":"Import!N175","v":0},{"$f":"Import!O175","v":0},{"$f":"Import!P175","v":0},{"$f":"Import!Q175","v":0},{"$f":"Import!R175","v":0},{"$f":"Import!S175","v":0},{"$f":"Import!T175","v":0},{"$f":"Import!U175","v":0},{"$f":"Import!V175","v":0},{"$f":"Import!W175","v":0},{"$f":"Import!X175","v":0},{"$f":"Import!Y175","v":0},{"$f":"Import!Z175","v":0},{"$f":"Import!AA175","v":0},{"$f":"Import!AB175","v":0},{"$f":"Import!AC175","v":0},{"$f":"Import!AD175","v":0},{"$f":"Import!AE175","v":0},{"$f":"Import!AF175","v":0},{"$f":"Import!AG175","v":0},{"$f":"Import!AH175","v":0},{"$f":"Import!AI175","v":0},{"$f":"Import!AJ175","v":0},{"$f":"Import!AK175","v":0},{"$f":"Import!AL175","v":0}]
[null,{"$f":"Import!A176","v":0},{"$f":"Import!B176","v":0},{"$f":"Import!H176","v":0},{"$f":"Import!I176","v":0},{"$f":"Import!J176","v":0},{"$f":"Import!K176","v":0},{"$f":"Import!L176","v":0},{"$f":"Import!M176","v":0},{"$f":"Import!N176","v":0},{"$f":"Import!O176","v":0},{"$f":"Import!P176","v":0},{"$f":"Import!Q176","v":0},{"$f":"Import!R176","v":0},{"$f":"Import!S176","v":0},{"$f":"Import!T176","v":0},{"$f":"Import!U176","v":0},{"$f":"Import!V176","v":0},{"$f":"Import!W176","v":0},{"$f":"Import!X176","v":0},{"$f":"Import!Y176","v":0},{"$f":"Import!Z176","v":0},{"$f":"Import!AA176","v":0},{"$f":"Import!AB176","v":0},{"$f":"Import!AC176","v":0},{"$f":"Import!AD176","v":0},{"$f":"Import!AE176","v":0},{"$f":"Import!AF176","v":0},{"$f":"Import!AG176","v":0},{"$f":"Import!AH176","v":0},{"$f":"Import!AI176","v":0},{"$f":"Import!AJ176","v":0},{"$f":"Import!AK176","v":0},{"$f":"Import!AL176","v":0}]
[null,{"$f":"Import!A177","v":0},{"$f":"Import!B177","v":0},{"$f":"Import!H177","v":0},{"$f":"Import!I177","v":0},{"$f":"Import!J177","v":0},{"$f":"Import!K177","v":0},{"$f":"Import!L177","v":0},{"$f":"Import!M177","v":0},{"$f":"Import!N177","v":0},{"$f":"Import!O177","v":0},{"$f":"Import!P177","v":0},{"$f":"Import!Q177","v":0},{"$f":"Import!R177","v":0},{"$f":"Import!S177","v":0},{"$f":"Import!T177","v":0},{"$f":"Import!U177","v":0},{"$f":"Import!V177","v":0},{"$f":"Import!W177","v":0},{"$f":"Import!X177","v":0},{"$f":"Import!Y177","v":0},{"$f":"Import!Z177","v":0},{"$f":"Import!AA177","v":0},{"$f":"Import!AB177","v":0},{"$f":"Import!AC177","v":0},{"$f":"Import!AD177","v":0},{"$f":"Import!AE177","v":0},{"$f":"Import!AF177","v":0},{"$f":"Import!AG177","v":0},{"$f":"Import!AH177","v":0},{"$f":"Import!AI177","v":0},{"$f":"Import!AJ177","v":0},{"$f":"Import!AK177","v":0},{"$f":"Import!AL177","v":0}]
[null,{"$f":"Import!A178","v":0},{"$f":"Import!B178","v":0},{"$f":"Import!H178","v":0},{"$f":"Import!I178","v":0},{"$f":"Import!J178","v":0},{"$f":"Import!K178","v":0},{"$f":"Import!L178","v":0},{"$f":"Import!M178","v":0},{"$f":"Import!N178","v":0},{"$f":"Import!O178","v":0},{"$f":"Import!P178","v":0},{"$f":"Import!Q178","v":0},{"$f":"Import!R178","v":0},{"$f":"Import!S178","v":0},{"$f":"Import!T178","v":0},{"$f":"Import!U178","v":0},{"$f":"Import!V178","v":0},{"$f":"Import!W178","v":0},{"$f":"Import!X178","v":0},{"$f":"Import!Y178","v":0},{"$f":"Import!Z178","v":0},{"$f":"Import!AA178","v":0},{"$f":"Import!AB178","v":0},{"$f":"Import!AC178","v":0},{"$f":"Import!AD178","v":0},{"$f":"Import!AE178","v":0},{"$f":"Import!AF178","v":0},{"$f":"Import!AG178","v":0},{"$f":"Import!AH178","v":0},{"$f":"Import!AI178","v":0},{"$f":"Import!AJ178","v":0},{"$f":"Import!AK178","v":0},{"$f":"Import!AL178","v":0}]
[null,{"$f":"Import!A179","v":0},{"$f":"Import!B179","v":0},{"$f":"Import!H179","v":0},{"$f":"Import!I179","v":0},{"$f":"Import!J179","v":0},{"$f":"Import!K179","v":0},{"$f":"Import!L179","v":0},{"$f":"Import!M179","v":0},{"$f":"Import!N179","v":0},{"$f":"Import!O179","v":0},{"$f":"Import!P179","v":0},{"$f":"Import!Q179","v":0},{"$f":"Import!R179","v":0},{"$f":"Import!S179","v":0},{"$f":"Import!T179","v":0},{"$f":"Import!U179","v":0},{"$f":"Import!V179","v":0},{"$f":"Import!W179","v":0},{"$f":"Import!X179","v":0},{"$f":"Import!Y179","v":0},{"$f":"Import!Z179","v":0},{"$f":"Import!AA179","v":0},{"$f":"Import!AB179","v":0},{"$f":"Import!AC179","v":0},{"$f":"Import!AD179","v":0},{"$f":"Import!AE179","v":0},{"$f":"Import!AF179","v":0},{"$f":"Import!AG179","v":0},{"$f":"Import!AH179","v":0},{"$f":"Import!AI179","v":0},{"$f":"Import!AJ179","v":0},{"$f":"Import!AK179","v":0},{"$f":"Import!AL179","v":0}]
[null,{"$f":"Import!A180","v":0},{"$f":"Import!B180","v":0},{"$f":"Import!H180","v":0},{"$f":"Import!I180","v":0},{"$f":"Import!J180","v":0},{"$f":"Import!K180","v":0},{"$f":"Import!L180","v":0},{"$f":"Import!M180","v":0},{"$f":"Import!N180","v":0},{"$f":"Import!O180","v":0},{"$f":"Import!P180","v":0},{"$f":"Import!Q180","v":0},{"$f":"Import!R180","v":0},{"$f":"Import!S180","v":0},{"$f":"Import!T180","v":0},{"$f":"Import!U180","v":0},{"$f":"Import!V180","v":0},{"$f":"Import!W180","v":0},{"$f":"Import!X180","v":0},{"$f":"Import!Y180","v":0},{"$f":"Import!Z180","v":0},{"$f":"Import!AA180","v":0},{"$f":"Import!AB180","v":0},{"$f":"Import!AC180","v":0},{"$f":"Import!AD180","v":0},{"$f":"Import!AE180","v":0},{"$f":"Import!AF180","v":0},{"$f":"Import!AG180","v":0},{"$f":"Import!AH180","v":0},{"$f":"Import!AI180","v":0},{"$f":"Import!AJ180","v":0},{"$f":"Import!AK180","v":0},{"$f":"Import!AL180","v":0}]
[null,{"$f":"Import!A181","v":0},{"$f":"Import!B181","v":0},{"$f":"Import!H181","v":0},{"$f":"Import!I181","v":0},{"$f":"Import!J181","v":0},{"$f":"Import!K181","v":0},{"$f":"Import!L181","v":0},{"$f":"Import!M181","v":0},{"$f":"Import!N181","v":0},{"$f":"Import!O181","v":0},{"$f":"Import!P181","v":0},{"$f":"Import!Q181","v":0},{"$f":"Import!R181","v":0},{"$f":"Import!S181","v":0},{"$f":"Import!T181","v":0},{"$f":"Import!U181","v":0},{"$f":"Import!V181","v":0},{"$f":"Import!W181","v":0},{"$f":"Import!X181","v":0},{"$f":"Import!Y181","v":0},{"$f":"Import!Z181","v":0},{"$f":"Import!AA181","v":0},{"$f":"Import!AB181","v":0},{"$f":"Import!AC181","v":0},{"$f":"Import!AD181","v":0},{"$f":"Import!AE181","v":0},{"$f":"Import!AF181","v":0},{"$f":"Import!AG181","v":0},{"$f":"Import!AH181","v":0},{"$f":"Import!AI181","v":0},{"$f":"Import!AJ181","v":0},{"$f":"Import!AK181","v":0},{"$f":"Import!AL181","v":0}]
[null,{"$f":"Import!A182","v":0},{"$f":"Import!B182","v":0},{"$f":"Import!H182","v":0},{"$f":"Import!I182","v":0},{"$f":"Import!J182","v":0},{"$f":"Import!K182","v":0},{"$f":"Import!L182","v":0},{"$f":"Import!M182","v":0},{"$f":"Import!N182","v":0},{"$f":"Import!O182","v":0},{"$f":"Import!P182","v":0},{"$f":"Import!Q182","v":0},{"$f":"Import!R182","v":0},{"$f":"Import!S182","v":0},{"$f":"Import!T182","v":0},{"$f":"Import!U182","v":0},{"$f":"Import!V182","v":0},{"$f":"Import!W182","v":0},{"$f":"Import!X182","v":0},{"$f":"Import!Y182","v":0},{"$f":"Import!Z182","v":0},{"$f":"Import!AA182","v":0},{"$f":"Import!AB182","v":0},{"$f":"Import!AC182","v":0},{"$f":"Import!AD182","v":0},{"$f":"Import!AE182","v":0},{"$f":"Import!AF182","v":0},{"$f":"Import!AG182","v":0},{"$f":"Import!AH182","v":0},{"$f":"Import!AI182","v":0},{"$f":"Import!AJ182","v":0},{"$f":"Import!AK182","v":0},{"$f":"Import!AL182","v":0}]
[null,{"$f":"Import!A183","v":0},{"$f":"Import!B183","v":0},{"$f":"Import!H183","v":0},{"$f":"Import!I183","v":0},{"$f":"Import!J183","v":0},{"$f":"Import!K183","v":0},{"$f":"Import!L183","v":0},{"$f":"Import!M183","v":0},{"$f":"Import!N183","v":0},{"$f":"Import!O183","v":0},{"$f":"Import!P183","v":0},{"$f":"Import!Q183","v":0},{"$f":"Import!R183","v":0},{"$f":"Import!S183","v":0},{"$f":"Import!T183","v":0},{"$f":"Import!U183","v":0},{"$f":"Import!V183","v":0},{"$f":"Import!W183","v":0},{"$f":"Import!X183","v":0},{"$f":"Import!Y183","v":0},{"$f":"Import!Z183","v":0},{"$f":"Import!AA183","v":0},{"$f":"Import!AB183","v":0},{"$f":"Import!AC183","v":0},{"$f":"Import!AD183","v":0},{"$f":"Import!AE183","v":0},{"$f":"Import!AF183","v":0},{"$f":"Import!AG183","v":0},{"$f":"Import!AH183","v":0},{"$f":"Import!AI183","v":0},{"$f":"Import!AJ183","v":0},{"$f":"Import!AK183","v":0},{"$f":"Import!AL183","v":0}]
[null,{"$f":"Import!A184","v":0},{"$f":"Import!B184","v":0},{"$f":"Import!H184","v":0},{"$f":"Import!I184","v":0},{"$f":"Import!J184","v":0},{"$f":"Import!K184","v":0},{"$f":"Import!L184","v":0},{"$f":"Import!M184","v":0},{"$f":"Import!N184","v":0},{"$f":"Import!O184","v":0},{"$f":"Import!P184","v":0},{"$f":"Import!Q184","v":0},{"$f":"Import!R184","v":0},{"$f":"Import!S184","v":0},{"$f":"Import!T184","v":0},{"$f":"Import!U184","v":0},{"$f":"Import!V184","v":0},{"$f":"Import!W184","v":0},{"$f":"Import!X184","v":0},{"$f":"Import!Y184","v":0},{"$f":"Import!Z184","v":0},{"$f":"Import!AA184","v":0},{"$f":"Import!AB184","v":0},{"$f":"Import!AC184","v":0},{"$f":"Import!AD184","v":0},{"$f":"Import!AE184","v":0},{"$f":"Import!AF184","v":0},{"$f":"Import!AG184","v":0},{"$f":"Import!AH184","v":0},{"$f":"Import!AI184","v":0},{"$f":"Import!AJ184","v":0},{"$f":"Import!AK184","v":0},{"$f":"Import!AL184","v":0}]
[null,{"$f":"Import!A185","v":0},{"$f":"Import!B185","v":0},{"$f":"Import!H185","v":0},{"$f":"Import!I185","v":0},{"$f":"Import!J185","v":0},{"$f":"Import!K185","v":0},{"$f":"Import!L185","v":0},{"$f":"Import!M185","v":0},{"$f":"Import!N185","v":0},{"$f":"Import!O185","v":0},{"$f":"Import!P185","v":0},{"$f":"Import!Q185","v":0},{"$f":"Import!R185","v":0},{"$f":"Import!S185","v":0},{"$f":"Import!T185","v":0},{"$f":"Import!U185","v":0},{"$f":"Import!V185","v":0},{"$f":"Import!W185","v":0},{"$f":"Import!X185","v":0},{"$f":"Import!Y185","v":0},{"$f":"Import!Z185","v":0},{"$f":"Import!AA185","v":0},{"$f":"Import!AB185","v":0},{"$f":"Import!AC185","v":0},{"$f":"Import!AD185","v":0},{"$f":"Import!AE185","v":0},{"$f":"Import!AF185","v":0},{"$f":"Import!AG185","v":0},{"$f":"Import!AH185","v":0},{"$f":"Import!AI185","v":0},{"$f":"Import!AJ185","v":0},{"$f":"Import!AK185","v":0},{"$f":"Import!AL185","v":0}]
[null,{"$f":"Import!A186","v":0},{"$f":"Import!B186","v":0},{"$f":"Import!H186","v":0},{"$f":"Import!I186","v":0},{"$f":"Import!J186","v":0},{"$f":"Import!K186","v":0},{"$f":"Import!L186","v":0},{"$f":"Import!M186","v":0},{"$f":"Import!N186","v":0},{"$f":"Import!O186","v":0},{"$f":"Import!P186","v":0},{"$f":"Import!Q186","v":0},{"$f":"Import!R186","v":0},{"$f":"Import!S186","v":0},{"$f":"Import!T186","v":0},{"$f":"Import!U186","v":0},{"$f":"Import!V186","v":0},{"$f":"Import!W186","v":0},{"$f":"Import!X186","v":0},{"$f":"Import!Y186","v":0},{"$f":"Import!Z186","v":0},{"$f":"Import!AA186","v":0},{"$f":"Import!AB186","v":0},{"$f":"Import!AC186","v":0},{"$f":"Import!AD186","v":0},{"$f":"Import!AE186","v":0},{"$f":"Import!AF186","v":0},{"$f":"Import!AG186","v":0},{"$f":"Import!AH186","v":0},{"$f":"Import!AI186","v":0},{"$f":"Import!AJ186","v":0},{"$f":"Import!AK186","v":0},{"$f":"Import!AL186","v":0}]
[null,{"$f":"Import!A187","v":0},{"$f":"Import!B187","v":0},{"$f":"Import!H187","v":0},{"$f":"Import!I187","v":0},{"$f":"Import!J187","v":0},{"$f":"Import!K187","v":0},{"$f":"Import!L187","v":0},{"$f":"Import!M187","v":0},{"$f":"Import!N187","v":0},{"$f":"Import!O187","v":0},{"$f":"Import!P187","v":0},{"$f":"Import!Q187","v":0},{"$f":"Import!R187","v":0},{"$f":"Import!S187","v":0},{"$f":"Import!T187","v":0},{"$f":"Import!U187","v":0},{"$f":"Import!V187","v":0},{"$f":"Import!W187","v":0},{"$f":"Import!X187","v":0},{"$f":"Import!Y187","v":0},{"$f":"Import!Z187","v":0},{"$f":"Import!AA187","v":0},{"$f":"Import!AB187","v":0},{"$f":"Import!AC187","v":0},{"$f":"Import!AD187","v":0},{"$f":"Import!AE187","v":0},{"$f":"Import!AF187","v":0},{"$f":"Import!AG187","v":0},{"$f":"Import!AH187","v":0},{"$f":"Import!AI187","v":0},{"$f":"Import!AJ187","v":0},{"$f":"Import!AK187","v":0},{"$f":"Import!AL187","v":0}]
[null,{"$f":"Import!A188","v":0},{"$f":"Import!B188","v":0},{"$f":"Import!H188","v":0},{"$f":"Import!I188","v":0},{"$f":"Import!J188","v":0},{"$f":"Import!K188","v":0},{"$f":"Import!L188","v":0},{"$f":"Import!M188","v":0},{"$f":"Import!N188","v":0},{"$f":"Import!O188","v":0},{"$f":"Import!P188","v":0},{"$f":"Import!Q188","v":0},{"$f":"Import!R188","v":0},{"$f":"Import!S188","v":0},{"$f":"Import!T188","v":0},{"$f":"Import!U188","v":0},{"$f":"Import!V188","v":0},{"$f":"Import!W188","v":0},{"$f":"Import!X188","v":0},{"$f":"Import!Y188","v":0},{"$f":"Import!Z188","v":0},{"$f":"Import!AA188","v":0},{"$f":"Import!AB188","v":0},{"$f":"Import!AC188","v":0},{"$f":"Import!AD188","v":0},{"$f":"Import!AE188","v":0},{"$f":"Import!AF188","v":0},{"$f":"Import!AG188","v":0},{"$f":"Import!AH188","v":0},{"$f":"Import!AI188","v":0},{"$f":"Import!AJ188","v":0},{"$f":"Import!AK188","v":0},{"$f":"Import!AL188","v":0}]
[null,{"$f":"Import!A189","v":0},{"$f":"Import!B189","v":0},{"$f":"Import!H189","v":0},{"$f":"Import!I189","v":0},{"$f":"Import!J189","v":0},{"$f":"Import!K189","v":0},{"$f":"Import!L189","v":0},{"$f":"Import!M189","v":0},{"$f":"Import!N189","v":0},{"$f":"Import!O189","v":0},{"$f":"Import!P189","v":0},{"$f":"Import!Q189","v":0},{"$f":"Import!R189","v":0},{"$f":"Import!S189","v":0},{"$f":"Import!T189","v":0},{"$f":"Import!U189","v":0},{"$f":"Import!V189","v":0},{"$f":"Import!W189","v":0},{"$f":"Import!X189","v":0},{"$f":"Import!Y189","v":0},{"$f":"Import!Z189","v":0},{"$f":"Import!AA189","v":0},{"$f":"Import!AB189","v":0},{"$f":"Import!AC189","v":0},{"$f":"Import!AD189","v":0},{"$f":"Import!AE189","v":0},{"$f":"Import!AF189","v":0},{"$f":"Import!AG189","v":0},{"$f":"Import!AH189","v":0},{"$f":"Import!AI189","v":0},{"$f":"Import!AJ189","v":0},{"$f":"Import!AK189","v":0},{"$f":"Import!AL189","v":0}]
[null,{"$f":"Import!A190","v":0},{"$f":"Import!B190","v":0},{"$f":"Import!H190","v":0},{"$f":"Import!I190","v":0},{"$f":"Import!J190","v":0},{"$f":"Import!K190","v":0},{"$f":"Import!L190","v":0},{"$f":"Import!M190","v":0},{"$f":"Import!N190","v":0},{"$f":"Import!O190","v":0},{"$f":"Import!P190","v":0},{"$f":"Import!Q190","v":0},{"$f":"Import!R190","v":0},{"$f":"Import!S190","v":0},{"$f":"Import!T190","v":0},{"$f":"Import!U190","v":0},{"$f":"Import!V190","v":0},{"$f":"Import!W190","v":0},{"$f":"Import!X190","v":0},{"$f":"Import!Y190","v":0},{"$f":"Import!Z190","v":0},{"$f":"Import!AA190","v":0},{"$f":"Import!AB190","v":0},{"$f":"Import!AC190","v":0},{"$f":"Import!AD190","v":0},{"$f":"Import!AE190","v":0},{"$f":"Import!AF190","v":0},{"$f":"Import!AG190","v":0},{"$f":"Import!AH190","v":0},{"$f":"Import!AI190","v":0},{"$f":"Import!AJ190","v":0},{"$f":"Import!AK190","v":0},{"$f":"Import!AL190","v":0}]
[null,{"$f":"Import!A191","v":0},{"$f":"Import!B191","v":0},{"$f":"Import!H191","v":0},{"$f":"Import!I191","v":0},{"$f":"Import!J191","v":0},{"$f":"Import!K191","v":0},{"$f":"Import!L191","v":0},{"$f":"Import!M191","v":0},{"$f":"Import!N191","v":0},{"$f":"Import!O191","v":0},{"$f":"Import!P191","v":0},{"$f":"Import!Q191","v":0},{"$f":"Import!R191","v":0},{"$f":"Import!S191","v":0},{"$f":"Import!T191","v":0},{"$f":"Import!U191","v":0},{"$f":"Import!V191","v":0},{"$f":"Import!W191","v":0},{"$f":"Import!X191","v":0},{"$f":"Import!Y191","v":0},{"$f":"Import!Z191","v":0},{"$f":"Import!AA191","v":0},{"$f":"Import!AB191","v":0},{"$f":"Import!AC191","v":0},{"$f":"Import!AD191","v":0},{"$f":"Import!AE191","v":0},{"$f":"Import!AF191","v":0},{"$f":"Import!AG191","v":0},{"$f":"Import!AH191","v":0},{"$f":"Import!AI191","v":0},{"$f":"Import!AJ191","v":0},{"$f":"Import!AK191","v":0},{"$f":"Import!AL191","v":0}]
[null,{"$f":"Import!A192","v":0},{"$f":"Import!B192","v":0},{"$f":"Import!H192","v":0},{"$f":"Import!I192","v":0},{"$f":"Import!J192","v":0},{"$f":"Import!K192","v":0},{"$f":"Import!L192","v":0},{"$f":"Import!M192","v":0},{"$f":"Import!N192","v":0},{"$f":"Import!O192","v":0},{"$f":"Import!P192","v":0},{"$f":"Import!Q192","v":0},{"$f":"Import!R192","v":0},{"$f":"Import!S192","v":0},{"$f":"Import!T192","v":0},{"$f":"Import!U192","v":0},{"$f":"Import!V192","v":0},{"$f":"Import!W192","v":0},{"$f":"Import!X192","v":0},{"$f":"Import!Y192","v":0},{"$f":"Import!Z192","v":0},{"$f":"Import!AA192","v":0},{"$f":"Import!AB192","v":0},{"$f":"Import!AC192","v":0},{"$f":"Import!AD192","v":0},{"$f":"Import!AE192","v":0},{"$f":"Import!AF192","v":0},{"$f":"Import!AG192","v":0},{"$f":"Import!AH192","v":0},{"$f":"Import!AI192","v":0},{"$f":"Import!AJ192","v":0},{"$f":"Import!AK192","v":0},{"$f":"Import!AL192","v":0}]
[null,{"$f":"Import!A193","v":0},{"$f":"Import!B193","v":0},{"$f":"Import!H193","v":0},{"$f":"Import!I193","v":0},{"$f":"Import!J193","v":0},{"$f":"Import!K193","v":0},{"$f":"Import!L193","v":0},{"$f":"Import!M193","v":0},{"$f":"Import!N193","v":0},{"$f":"Import!O193","v":0},{"$f":"Import!P193","v":0},{"$f":"Import!Q193","v":0},{"$f":"Import!R193","v":0},{"$f":"Import!S193","v":0},{"$f":"Import!T193","v":0},{"$f":"Import!U193","v":0},{"$f":"Import!V193","v":0},{"$f":"Import!W193","v":0},{"$f":"Import!X193","v":0},{"$f":"Import!Y193","v":0},{"$f":"Import!Z193","v":0},{"$f":"Import!AA193","v":0},{"$f":"Import!AB193","v":0},{"$f":"Import!AC193","v":0},{"$f":"Import!AD193","v":0},{"$f":"Import!AE193","v":0},{"$f":"Import!AF193","v":0},{"$f":"Import!AG193","v":0},{"$f":"Import!AH193","v":0},{"$f":"Import!AI193","v":0},{"$f":"Import!AJ193","v":0},{"$f":"Import!AK193","v":0},{"$f":"Import!AL193","v":0}]
[null,{"$f":"Import!A194","v":0},{"$f":"Import!B194","v":0},{"$f":"Import!H194","v":0},{"$f":"Import!I194","v":0},{"$f":"Import!J194","v":0},{"$f":"Import!K194","v":0},{"$f":"Import!L194","v":0},{"$f":"Import!M194","v":0},{"$f":"Import!N194","v":0},{"$f":"Import!O194","v":0},{"$f":"Import!P194","v":0},{"$f":"Import!Q194","v":0},{"$f":"Import!R194","v":0},{"$f":"Import!S194","v":0},{"$f":"Import!T194","v":0},{"$f":"Import!U194","v":0},{"$f":"Import!V194","v":0},{"$f":"Import!W194","v":0},{"$f":"Import!X194","v":0},{"$f":"Import!Y194","v":0},{"$f":"Import!Z194","v":0},{"$f":"Import!AA194","v":0},{"$f":"Import!AB194","v":0},{"$f":"Import!AC194","v":0},{"$f":"Import!AD194","v":0},{"$f":"Import!AE194","v":0},{"$f":"Import!AF194","v":0},{"$f":"Import!AG194","v":0},{"$f":"Import!AH194","v":0},{"$f":"Import!AI194","v":0},{"$f":"Import!AJ194","v":0},{"$f":"Import!AK194","v":0},{"$f":"Import!AL194","v":0}]
[null,{"$f":"Import!A195","v":0},{"$f":"Import!B195","v":0},{"$f":"Import!H195","v":0},{"$f":"Import!I195","v":0},{"$f":"Import!J195","v":0},{"$f":"Import!K195","v":0},{"$f":"Import!L195","v":0},{"$f":"Import!M195","v":0},{"$f":"Import!N195","v":0},{"$f":"Import!O195","v":0},{"$f":"Import!P195","v":0},{"$f":"Import!Q195","v":0},{"$f":"Import!R195","v":0},{"$f":"Import!S195","v":0},{"$f":"Import!T195","v":0},{"$f":"Import!U195","v":0},{"$f":"Import!V195","v":0},{"$f":"Import!W195","v":0},{"$f":"Import!X195","v":0},{"$f":"Import!Y195","v":0},{"$f":"Import!Z195","v":0},{"$f":"Import!AA195","v":0},{"$f":"Import!AB195","v":0},{"$f":"Import!AC195","v":0},{"$f":"Import!AD195","v":0},{"$f":"Import!AE195","v":0},{"$f":"Import!AF195","v":0},{"$f":"Import!AG195","v":0},{"$f":"Import!AH195","v":0},{"$f":"Import!AI195","v":0},{"$f":"Import!AJ195","v":0},{"$f":"Import!AK195","v":0},{"$f":"Import!AL195","v":0}]
[null,{"$f":"Import!A196","v":0},{"$f":"Import!B196","v":0},{"$f":"Import!H196","v":0},{"$f":"Import!I196","v":0},{"$f":"Import!J196","v":0},{"$f":"Import!K196","v":0},{"$f":"Import!L196","v":0},{"$f":"Import!M196","v":0},{"$f":"Import!N196","v":0},{"$f":"Import!O196","v":0},{"$f":"Import!P196","v":0},{"$f":"Import!Q196","v":0},{"$f":"Import!R196","v":0},{"$f":"Import!S196","v":0},{"$f":"Import!T196","v":0},{"$f":"Import!U196","v":0},{"$f":"Import!V196","v":0},{"$f":"Import!W196","v":0},{"$f":"Import!X196","v":0},{"$f":"Import!Y196","v":0},{"$f":"Import!Z196","v":0},{"$f":"Import!AA196","v":0},{"$f":"Import!AB196","v":0},{"$f":"Import!AC196","v":0},{"$f":"Import!AD196","v":0},{"$f":"Import!AE196","v":0},{"$f":"Import!AF196","v":0},{"$f":"Import!AG196","v":0},{"$f":"Import!AH196","v":0},{"$f":"Import!AI196","v":0},{"$f":"Import!AJ196","v":0},{"$f":"Import!AK196","v":0},{"$f":"Import!AL196","v":0}]
[null,{"$f":"Import!A197","v":0},{"$f":"Import!B197","v":0},{"$f":"Import!H197","v":0},{"$f":"Import!I197","v":0},{"$f":"Import!J197","v":0},{"$f":"Import!K197","v":0},{"$f":"Import!L197","v":0},{"$f":"Import!M197","v":0},{"$f":"Import!N197","v":0},{"$f":"Import!O197","v":0},{"$f":"Import!P197","v":0},{"$f":"Import!Q197","v":0},{"$f":"Import!R197","v":0},{"$f":"Import!S197","v":0},{"$f":"Import!T197","v":0},{"$f":"Import!U197","v":0},{"$f":"Import!V197","v":0},{"$f":"Import!W197","v":0},{"$f":"Import!X197","v":0},{"$f":"Import!Y197","v":0},{"$f":"Import!Z197","v":0},{"$f":"Import!AA197","v":0},{"$f":"Import!AB197","v":0},{"$f":"Import!AC197","v":0},{"$f":"Import!AD197","v":0},{"$f":"Import!AE197","v":0},{"$f":"Import!AF197","v":0},{"$f":"Import!AG197","v":0},{"$f":"Import!AH197","v":0},{"$f":"Import!AI197","v":0},{"$f":"Import!AJ197","v":0},{"$f":"Import!AK197","v":0},{"$f":"Import!AL197","v":0}]
[null,{"$f":"Import!A198","v":0},{"$f":"Import!B198","v":0},{"$f":"Import!H198","v":0},{"$f":"Import!I198","v":0},{"$f":"Import!J198","v":0},{"$f":"Import!K198","v":0},{"$f":"Import!L198","v":0},{"$f":"Import!M198","v":0},{"$f":"Import!N198","v":0},{"$f":"Import!O198","v":0},{"$f":"Import!P198","v":0},{"$f":"Import!Q198","v":0},{"$f":"Import!R198","v":0},{"$f":"Import!S198","v":0},{"$f":"Import!T198","v":0},{"$f":"Import!U198","v":0},{"$f":"Import!V198","v":0},{"$f":"Import!W198","v":0},{"$f":"Import!X198","v":0},{"$f":"Import!Y198","v":0},{"$f":"Import!Z198","v":0},{"$f":"Import!AA198","v":0},{"$f":"Import!AB198","v":0},{"$f":"Import!AC198","v":0},{"$f":"Import!AD198","v":0},{"$f":"Import!AE198","v":0},{"$f":"Import!AF198","v":0},{"$f":"Import!AG198","v":0},{"$f":"Import!AH198","v":0},{"$f":"Import!AI198","v":0},{"$f":"Import!AJ198","v":0},{"$f":"Import!AK198","v":0},{"$f":"Import!AL198","v":0}]
[null,{"$f":"Import!A199","v":0},{"$f":"Import!B199","v":0},{"$f":"Import!H199","v":0},{"$f":"Import!I199","v":0},{"$f":"Import!J199","v":0},{"$f":"Import!K199","v":0},{"$f":"Import!L199","v":0},{"$f":"Import!M199","v":0},{"$f":"Import!N199","v":0},{"$f":"Import!O199","v":0},{"$f":"Import!P199","v":0},{"$f":"Import!Q199","v":0},{"$f":"Import!R199","v":0},{"$f":"Import!S199","v":0},{"$f":"Import!T199","v":0},{"$f":"Import!U199","v":0},{"$f":"Import!V199","v":0},{"$f":"Import!W199","v":0},{"$f":"Import!X199","v":0},{"$f":"Import!Y199","v":0},{"$f":"Import!Z199","v":0},{"$f":"Import!AA199","v":0},{"$f":"Import!AB199","v":0},{"$f":"Import!AC199","v":0},{"$f":"Import!AD199","v":0},{"$f":"Import!AE199","v":0},{"$f":"Import!AF199","v":0},{"$f":"Import!AG199","v":0},{"$f":"Import!AH199","v":0},{"$f":"Import!AI199","v":0},{"$f":"Import!AJ199","v":0},{"$f":"Import!AK199","v":0},{"$f":"Import!AL199","v":0}]
[null,{"$f":"Import!A200","v":0},{"$f":"Import!B200","v":0},{"$f":"Import!H200","v":0},{"$f":"Import!I200","v":0},{"$f":"Import!J200","v":0},{"$f":"Import!K200","v":0},{"$f":"Import!L200","v":0},{"$f":"Import!M200","v":0},{"$f":"Import!N200","v":0},{"$f":"Import!O200","v":0},{"$f":"Import!P200","v":0},{"$f":"Import!Q200","v":0},{"$f":"Import!R200","v":0},{"$f":"Import!S200","v":0},{"$f":"Import!T200","v":0},{"$f":"Import!U200","v":0},{"$f":"Import!V200","v":0},{"$f":"Import!W200","v":0},{"$f":"Import!X200","v":0},{"$f":"Import!Y200","v":0},{"$f":"Import!Z200","v":0},{"$f":"Import!AA200","v":0},{"$f":"Import!AB200","v":0},{"$f":"Import!AC200","v":0},{"$f":"Import!AD200","v":0},{"$f":"Import!AE200","v":0},{"$f":"Import!AF200","v":0},{"$f":"Import!AG200","v":0},{"$f":"Import!AH200","v":0},{"$f":"Import!AI200","v":0},{"$f":"Import!AJ200","v":0},{"$f":"Import!AK200","v":0},{"$f":"Import!AL200","v":0}]
[null,{"$f":"Import!A201","v":0},{"$f":"Import!B201","v":0},{"$f":"Import!H201","v":0},{"$f":"Import!I201","v":0},{"$f":"Import!J201","v":0},{"$f":"Import!K201","v":0},{"$f":"Import!L201","v":0},{"$f":"Import!M201","v":0},{"$f":"Import!N201","v":0},{"$f":"Import!O201","v":0},{"$f":"Import!P201","v":0},{"$f":"Import!Q201","v":0},{"$f":"Import!R201","v":0},{"$f":"Import!S201","v":0},{"$f":"Import!T201","v":0},{"$f":"Import!U201","v":0},{"$f":"Import!V201","v":0},{"$f":"Import!W201","v":0},{"$f":"Import!X201","v":0},{"$f":"Import!Y201","v":0},{"$f":"Import!Z201","v":0},{"$f":"Import!AA201","v":0},{"$f":"Import!AB201","v":0},{"$f":"Import!AC201","v":0},{"$f":"Import!AD201","v":0},{"$f":"Import!AE201","v":0},{"$f":"Import!AF201","v":0},{"$f":"Import!AG201","v":0},{"$f":"Import!AH201","v":0},{"$f":"Import!AI201","v":0},{"$f":"Import!AJ201","v":0},{"$f":"Import!AK201","v":0},{"$f":"Import!AL201","v":0}]
[null,{"$f":"Import!A202","v":0},{"$f":"Import!B202","v":0},{"$f":"Import!H202","v":0},{"$f":"Import!I202","v":0},{"$f":"Import!J202","v":0},{"$f":"Import!K202","v":0},{"$f":"Import!L202","v":0},{"$f":"Import!M202","v":0},{"$f":"Import!N202","v":0},{"$f":"Import!O202","v":0},{"$f":"Import!P202","v":0},{"$f":"Import!Q202","v":0},{"$f":"Import!R202","v":0},{"$f":"Import!S202","v":0},{"$f":"Import!T202","v":0},{"$f":"Import!U202","v":0},{"$f":"Import!V202","v":0},{"$f":"Import!W202","v":0},{"$f":"Import!X202","v":0},{"$f":"Import!Y202","v":0},{"$f":"Import!Z202","v":0},{"$f":"Import!AA202","v":0},{"$f":"Import!AB202","v":0},{"$f":"Import!AC202","v":0},{"$f":"Import!AD202","v":0},{"$f":"Import!AE202","v":0},{"$f":"Import!AF202","v":0},{"$f":"Import!AG202","v":0},{"$f":"Import!AH202","v":0},{"$f":"Import!AI202","v":0},{"$f":"Import!AJ202","v":0},{"$f":"Import!AK202","v":0},{"$f":"Import!AL202","v":0}]
[null,{"$f":"Import!A203","v":0},{"$f":"Import!B203","v":0},{"$f":"Import!H203","v":0},{"$f":"Import!I203","v":0},{"$f":"Import!J203","v":0},{"$f":"Import!K203","v":0},{"$f":"Import!L203","v":0},{"$f":"Import!M203","v":0},{"$f":"Import!N203","v":0},{"$f":"Import!O203","v":0},{"$f":"Import!P203","v":0},{"$f":"Import!Q203","v":0},{"$f":"Import!R203","v":0},{"$f":"Import!S203","v":0},{"$f":"Import!T203","v":0},{"$f":"Import!U203","v":0},{"$f":"Import!V203","v":0},{"$f":"Import!W203","v":0},{"$f":"Import!X203","v":0},{"$f":"Import!Y203","v":0},{"$f":"Import!Z203","v":0},{"$f":"Import!AA203","v":0},{"$f":"Import!AB203","v":0},{"$f":"Import!AC203","v":0},{"$f":"Import!AD203","v":0},{"$f":"Import!AE203","v":0},{"$f":"Import!AF203","v":0},{"$f":"Import!AG203","v":0},{"$f":"Import!AH203","v":0},{"$f":"Import!AI203","v":0},{"$f":"Import!AJ203","v":0},{"$f":"Import!AK203","v":0},{"$f":"Import!AL203","v":0}]
[null,{"$f":"Import!A204","v":0},{"$f":"Import!B204","v":0},{"$f":"Import!H204","v":0},{"$f":"Import!I204","v":0},{"$f":"Import!J204","v":0},{"$f":"Import!K204","v":0},{"$f":"Import!L204","v":0},{"$f":"Import!M204","v":0},{"$f":"Import!N204","v":0},{"$f":"Import!O204","v":0},{"$f":"Import!P204","v":0},{"$f":"Import!Q204","v":0},{"$f":"Import!R204","v":0},{"$f":"Import!S204","v":0},{"$f":"Import!T204","v":0},{"$f":"Import!U204","v":0},{"$f":"Import!V204","v":0},{"$f":"Import!W204","v":0},{"$f":"Import!X204","v":0},{"$f":"Import!Y204","v":0},{"$f":"Import!Z204","v":0},{"$f":"Import!AA204","v":0},{"$f":"Import!AB204","v":0},{"$f":"Import!AC204","v":0},{"$f":"Import!AD204","v":0},{"$f":"Import!AE204","v":0},{"$f":"Import!AF204","v":0},{"$f":"Import!AG204","v":0},{"$f":"Import!AH204","v":0},{"$f":"Import!AI204","v":0},{"$f":"Import!AJ204","v":0},{"$f":"Import!AK204","v":0},{"$f":"Import!AL204","v":0}]
[null,{"$f":"Import!A205","v":0},{"$f":"Import!B205","v":0},{"$f":"Import!H205","v":0},{"$f":"Import!I205","v":0},{"$f":"Import!J205","v":0},{"$f":"Import!K205","v":0},{"$f":"Import!L205","v":0},{"$f":"Import!M205","v":0},{"$f":"Import!N205","v":0},{"$f":"Import!O205","v":0},{"$f":"Import!P205","v":0},{"$f":"Import!Q205","v":0},{"$f":"Import!R205","v":0},{"$f":"Import!S205","v":0},{"$f":"Import!T205","v":0},{"$f":"Import!U205","v":0},{"$f":"Import!V205","v":0},{"$f":"Import!W205","v":0},{"$f":"Import!X205","v":0},{"$f":"Import!Y205","v":0},{"$f":"Import!Z205","v":0},{"$f":"Import!AA205","v":0},{"$f":"Import!AB205","v":0},{"$f":"Import!AC205","v":0},{"$f":"Import!AD205","v":0},{"$f":"Import!AE205","v":0},{"$f":"Import!AF205","v":0},{"$f":"Import!AG205","v":0},{"$f":"Import!AH205","v":0},{"$f":"Import!AI205","v":0},{"$f":"Import!AJ205","v":0},{"$f":"Import!AK205","v":0},{"$f":"Import!AL205","v":0}]
[null,{"$f":"Import!A206","v":0},{"$f":"Import!B206","v":0},{"$f":"Import!H206","v":0},{"$f":"Import!I206","v":0},{"$f":"Import!J206","v":0},{"$f":"Import!K206","v":0},{"$f":"Import!L206","v":0},{"$f":"Import!M206","v":0},{"$f":"Import!N206","v":0},{"$f":"Import!O206","v":0},{"$f":"Import!P206","v":0},{"$f":"Import!Q206","v":0},{"$f":"Import!R206","v":0},{"$f":"Import!S206","v":0},{"$f":"Import!T206","v":0},{"$f":"Import!U206","v":0},{"$f":"Import!V206","v":0},{"$f":"Import!W206","v":0},{"$f":"Import!X206","v":0},{"$f":"Import!Y206","v":0},{"$f":"Import!Z206","v":0},{"$f":"Import!AA206","v":0},{"$f":"Import!AB206","v":0},{"$f":"Import!AC206","v":0},{"$f":"Import!AD206","v":0},{"$f":"Import!AE206","v":0},{"$f":"Import!AF206","v":0},{"$f":"Import!AG206","v":0},{"$f":"Import!AH206","v":0},{"$f":"Import!AI206","v":0},{"$f":"Import!AJ206","v":0},{"$f":"Import!AK206","v":0},{"$f":"Import!AL206","v":0}]
[null,{"$f":"Import!A207","v":0},{"$f":"Import!B207","v":0},{"$f":"Import!H207","v":0},{"$f":"Import!I207","v":0},{"$f":"Import!J207","v":0},{"$f":"Import!K207","v":0},{"$f":"Import!L207","v":0},{"$f":"Import!M207","v":0},{"$f":"Import!N207","v":0},{"$f":"Import!O207","v":0},{"$f":"Import!P207","v":0},{"$f":"Import!Q207","v":0},{"$f":"Import!R207","v":0},{"$f":"Import!S207","v":0},{"$f":"Import!T207","v":0},{"$f":"Import!U207","v":0},{"$f":"Import!V207","v":0},{"$f":"Import!W207","v":0},{"$f":"Import!X207","v":0},{"$f":"Import!Y207","v":0},{"$f":"Import!Z207","v":0},{"$f":"Import!AA207","v":0},{"$f":"Import!AB207","v":0},{"$f":"Import!AC207","v":0},{"$f":"Import!AD207","v":0},{"$f":"Import!AE207","v":0},{"$f":"Import!AF207","v":0},{"$f":"Import!AG207","v":0},{"$f":"Import!AH207","v":0},{"$f":"Import!AI207","v":0},{"$f":"Import!AJ207","v":0},{"$f":"Import!AK207","v":0},{"$f":"Import!AL207","v":0}]
[null,{"$f":"Import!A208","v":0},{"$f":"Import!B208","v":0},{"$f":"Import!H208","v":0},{"$f":"Import!I208","v":0},{"$f":"Import!J208","v":0},{"$f":"Import!K208","v":0},{"$f":"Import!L208","v":0},{"$f":"Import!M208","v":0},{"$f":"Import!N208","v":0},{"$f":"Import!O208","v":0},{"$f":"Import!P208","v":0},{"$f":"Import!Q208","v":0},{"$f":"Import!R208","v":0},{"$f":"Import!S208","v":0},{"$f":"Import!T208","v":0},{"$f":"Import!U208","v":0},{"$f":"Import!V208","v":0},{"$f":"Import!W208","v":0},{"$f":"Import!X208","v":0},{"$f":"Import!Y208","v":0},{"$f":"Import!Z208","v":0},{"$f":"Import!AA208","v":0},{"$f":"Import!AB208","v":0},{"$f":"Import!AC208","v":0},{"$f":"Import!AD208","v":0},{"$f":"Import!AE208","v":0},{"$f":"Import!AF208","v":0},{"$f":"Import!AG208","v":0},{"$f":"Import!AH208","v":0},{"$f":"Import!AI208","v":0},{"$f":"Import!AJ208","v":0},{"$f":"Import!AK208","v":0},{"$f":"Import!AL208","v":0}]
[null,{"$f":"Import!A209","v":0},{"$f":"Import!B209","v":0},{"$f":"Import!H209","v":0},{"$f":"Import!I209","v":0},{"$f":"Import!J209","v":0},{"$f":"Import!K209","v":0},{"$f":"Import!L209","v":0},{"$f":"Import!M209","v":0},{"$f":"Import!N209","v":0},{"$f":"Import!O209","v":0},{"$f":"Import!P209","v":0},{"$f":"Import!Q209","v":0},{"$f":"Import!R209","v":0},{"$f":"Import!S209","v":0},{"$f":"Import!T209","v":0},{"$f":"Import!U209","v":0},{"$f":"Import!V209","v":0},{"$f":"Import!W209","v":0},{"$f":"Import!X209","v":0},{"$f":"Import!Y209","v":0},{"$f":"Import!Z209","v":0},{"$f":"Import!AA209","v":0},{"$f":"Import!AB209","v":0},{"$f":"Import!AC209","v":0},{"$f":"Import!AD209","v":0},{"$f":"Import!AE209","v":0},{"$f":"Import!AF209","v":0},{"$f":"Import!AG209","v":0},{"$f":"Import!AH209","v":0},{"$f":"Import!AI209","v":0},{"$f":"Import!AJ209","v":0},{"$f":"Import!AK209","v":0},{"$f":"Import!AL209","v":0}]
[null,{"$f":"Import!A210","v":0},{"$f":"Import!B210","v":0},{"$f":"Import!H210","v":0},{"$f":"Import!I210","v":0},{"$f":"Import!J210","v":0},{"$f":"Import!K210","v":0},{"$f":"Import!L210","v":0},{"$f":"Import!M210","v":0},{"$f":"Import!N210","v":0},{"$f":"Import!O210","v":0},{"$f":"Import!P210","v":0},{"$f":"Import!Q210","v":0},{"$f":"Import!R210","v":0},{"$f":"Import!S210","v":0},{"$f":"Import!T210","v":0},{"$f":"Import!U210","v":0},{"$f":"Import!V210","v":0},{"$f":"Import!W210","v":0},{"$f":"Import!X210","v":0},{"$f":"Import!Y210","v":0},{"$f":"Import!Z210","v":0},{"$f":"Import!AA210","v":0},{"$f":"Import!AB210","v":0},{"$f":"Import!AC210","v":0},{"$f":"Import!AD210","v":0},{"$f":"Import!AE210","v":0},{"$f":"Import!AF210","v":0},{"$f":"Import!AG210","v":0},{"$f":"Import!AH210","v":0},{"$f":"Import!AI210","v":0},{"$f":"Import!AJ210","v":0},{"$f":"Import!AK210","v":0},{"$f":"Import!AL210","v":0}]
[null,{"$f":"Import!A211","v":0},{"$f":"Import!B211","v":0},{"$f":"Import!H211","v":0},{"$f":"Import!I211","v":0},{"$f":"Import!J211","v":0},{"$f":"Import!K211","v":0},{"$f":"Import!L211","v":0},{"$f":"Import!M211","v":0},{"$f":"Import!N211","v":0},{"$f":"Import!O211","v":0},{"$f":"Import!P211","v":0},{"$f":"Import!Q211","v":0},{"$f":"Import!R211","v":0},{"$f":"Import!S211","v":0},{"$f":"Import!T211","v":0},{"$f":"Import!U211","v":0},{"$f":"Import!V211","v":0},{"$f":"Import!W211","v":0},{"$f":"Import!X211","v":0},{"$f":"Import!Y211","v":0},{"$f":"Import!Z211","v":0},{"$f":"Import!AA211","v":0},{"$f":"Import!AB211","v":0},{"$f":"Import!AC211","v":0},{"$f":"Import!AD211","v":0},{"$f":"Import!AE211","v":0},{"$f":"Import!AF211","v":0},{"$f":"Import!AG211","v":0},{"$f":"Import!AH211","v":0},{"$f":"Import!AI211","v":0},{"$f":"Import!AJ211","v":0},{"$f":"Import!AK211","v":0},{"$f":"Import!AL211","v":0}]
[null,{"$f":"Import!A212","v":0},{"$f":"Import!B212","v":0},{"$f":"Import!H212","v":0},{"$f":"Import!I212","v":0},{"$f":"Import!J212","v":0},{"$f":"Import!K212","v":0},{"$f":"Import!L212","v":0},{"$f":"Import!M212","v":0},{"$f":"Import!N212","v":0},{"$f":"Import!O212","v":0},{"$f":"Import!P212","v":0},{"$f":"Import!Q212","v":0},{"$f":"Import!R212","v":0},{"$f":"Import!S212","v":0},{"$f":"Import!T212","v":0},{"$f":"Import!U212","v":0},{"$f":"Import!V212","v":0},{"$f":"Import!W212","v":0},{"$f":"Import!X212","v":0},{"$f":"Import!Y212","v":0},{"$f":"Import!Z212","v":0},{"$f":"Import!AA212","v":0},{"$f":"Import!AB212","v":0},{"$f":"Import!AC212","v":0},{"$f":"Import!AD212","v":0},{"$f":"Import!AE212","v":0},{"$f":"Import!AF212","v":0},{"$f":"Import!AG212","v":0},{"$f":"Import!AH212","v":0},{"$f":"Import!AI212","v":0},{"$f":"Import!AJ212","v":0},{"$f":"Import!AK212","v":0},{"$f":"Import!AL212","v":0}]
[null,{"$f":"Import!A213","v":0},{"$f":"Import!B213","v":0},{"$f":"Import!H213","v":0},{"$f":"Import!I213","v":0},{"$f":"Import!J213","v":0},{"$f":"Import!K213","v":0},{"$f":"Import!L213","v":0},{"$f":"Import!M213","v":0},{"$f":"Import!N213","v":0},{"$f":"Import!O213","v":0},{"$f":"Import!P213","v":0},{"$f":"Import!Q213","v":0},{"$f":"Import!R213","v":0},{"$f":"Import!S213","v":0},{"$f":"Import!T213","v":0},{"$f":"Import!U213","v":0},{"$f":"Import!V213","v":0},{"$f":"Import!W213","v":0},{"$f":"Import!X213","v":0},{"$f":"Import!Y213","v":0},{"$f":"Import!Z213","v":0},{"$f":"Import!AA213","v":0},{"$f":"Import!AB213","v":0},{"$f":"Import!AC213","v":0},{"$f":"Import!AD213","v":0},{"$f":"Import!AE213","v":0},{"$f":"Import!AF213","v":0},{"$f":"Import!AG213","v":0},{"$f":"Import!AH213","v":0},{"$f":"Import!AI213","v":0},{"$f":"Import!AJ213","v":0},{"$f":"Import!AK213","v":0},{"$f":"Import!AL213","v":0}]
[null,{"$f":"Import!A214","v":0},{"$f":"Import!B214","v":0},{"$f":"Import!H214","v":0},{"$f":"Import!I214","v":0},{"$f":"Import!J214","v":0},{"$f":"Import!K214","v":0},{"$f":"Import!L214","v":0},{"$f":"Import!M214","v":0},{"$f":"Import!N214","v":0},{"$f":"Import!O214","v":0},{"$f":"Import!P214","v":0},{"$f":"Import!Q214","v":0},{"$f":"Import!R214","v":0},{"$f":"Import!S214","v":0},{"$f":"Import!T214","v":0},{"$f":"Import!U214","v":0},{"$f":"Import!V214","v":0},{"$f":"Import!W214","v":0},{"$f":"Import!X214","v":0},{"$f":"Import!Y214","v":0},{"$f":"Import!Z214","v":0},{"$f":"Import!AA214","v":0},{"$f":"Import!AB214","v":0},{"$f":"Import!AC214","v":0},{"$f":"Import!AD214","v":0},{"$f":"Import!AE214","v":0},{"$f":"Import!AF214","v":0},{"$f":"Import!AG214","v":0},{"$f":"Import!AH214","v":0},{"$f":"Import!AI214","v":0},{"$f":"Import!AJ214","v":0},{"$f":"Import!AK214","v":0},{"$f":"Import!AL214","v":0}]
[null,{"$f":"Import!A215","v":0},{"$f":"Import!B215","v":0},{"$f":"Import!H215","v":0},{"$f":"Import!I215","v":0},{"$f":"Import!J215","v":0},{"$f":"Import!K215","v":0},{"$f":"Import!L215","v":0},{"$f":"Import!M215","v":0},{"$f":"Import!N215","v":0},{"$f":"Import!O215","v":0},{"$f":"Import!P215","v":0},{"$f":"Import!Q215","v":0},{"$f":"Import!R215","v":0},{"$f":"Import!S215","v":0},{"$f":"Import!T215","v":0},{"$f":"Import!U215","v":0},{"$f":"Import!V215","v":0},{"$f":"Import!W215","v":0},{"$f":"Import!X215","v":0},{"$f":"Import!Y215","v":0},{"$f":"Import!Z215","v":0},{"$f":"Import!AA215","v":0},{"$f":"Import!AB215","v":0},{"$f":"Import!AC215","v":0},{"$f":"Import!AD215","v":0},{"$f":"Import!AE215","v":0},{"$f":"Import!AF215","v":0},{"$f":"Import!AG215","v":0},{"$f":"Import!AH215","v":0},{"$f":"Import!AI215","v":0},{"$f":"Import!AJ215","v":0},{"$f":"Import!AK215","v":0},{"$f":"Import!AL215","v":0}]
[null,{"$f":"Import!A216","v":0},{"$f":"Import!B216","v":0},{"$f":"Import!H216","v":0},{"$f":"Import!I216","v":0},{"$f":"Import!J216","v":0},{"$f":"Import!K216","v":0},{"$f":"Import!L216","v":0},{"$f":"Import!M216","v":0},{"$f":"Import!N216","v":0},{"$f":"Import!O216","v":0},{"$f":"Import!P216","v":0},{"$f":"Import!Q216","v":0},{"$f":"Import!R216","v":0},{"$f":"Import!S216","v":0},{"$f":"Import!T216","v":0},{"$f":"Import!U216","v":0},{"$f":"Import!V216","v":0},{"$f":"Import!W216","v":0},{"$f":"Import!X216","v":0},{"$f":"Import!Y216","v":0},{"$f":"Import!Z216","v":0},{"$f":"Import!AA216","v":0},{"$f":"Import!AB216","v":0},{"$f":"Import!AC216","v":0},{"$f":"Import!AD216","v":0},{"$f":"Import!AE216","v":0},{"$f":"Import!AF216","v":0},{"$f":"Import!AG216","v":0},{"$f":"Import!AH216","v":0},{"$f":"Import!AI216","v":0},{"$f":"Import!AJ216","v":0},{"$f":"Import!AK216","v":0},{"$f":"Import!AL216","v":0}]
[null,{"$f":"Import!A217","v":0},{"$f":"Import!B217","v":0},{"$f":"Import!H217","v":0},{"$f":"Import!I217","v":0},{"$f":"Import!J217","v":0},{"$f":"Import!K217","v":0},{"$f":"Import!L217","v":0},{"$f":"Import!M217","v":0},{"$f":"Import!N217","v":0},{"$f":"Import!O217","v":0},{"$f":"Import!P217","v":0},{"$f":"Import!Q217","v":0},{"$f":"Import!R217","v":0},{"$f":"Import!S217","v":0},{"$f":"Import!T217","v":0},{"$f":"Import!U217","v":0},{"$f":"Import!V217","v":0},{"$f":"Import!W217","v":0},{"$f":"Import!X217","v":0},{"$f":"Import!Y217","v":0},{"$f":"Import!Z217","v":0},{"$f":"Import!AA217","v":0},{"$f":"Import!AB217","v":0},{"$f":"Import!AC217","v":0},{"$f":"Import!AD217","v":0},{"$f":"Import!AE217","v":0},{"$f":"Import!AF217","v":0},{"$f":"Import!AG217","v":0},{"$f":"Import!AH217","v":0},{"$f":"Import!AI217","v":0},{"$f":"Import!AJ217","v":0},{"$f":"Import!AK217","v":0},{"$f":"Import!AL217","v":0}]
[null,{"$f":"Import!A218","v":0},{"$f":"Import!B218","v":0},{"$f":"Import!H218","v":0},{"$f":"Import!I218","v":0},{"$f":"Import!J218","v":0},{"$f":"Import!K218","v":0},{"$f":"Import!L218","v":0},{"$f":"Import!M218","v":0},{"$f":"Import!N218","v":0},{"$f":"Import!O218","v":0},{"$f":"Import!P218","v":0},{"$f":"Import!Q218","v":0},{"$f":"Import!R218","v":0},{"$f":"Import!S218","v":0},{"$f":"Import!T218","v":0},{"$f":"Import!U218","v":0},{"$f":"Import!V218","v":0},{"$f":"Import!W218","v":0},{"$f":"Import!X218","v":0},{"$f":"Import!Y218","v":0},{"$f":"Import!Z218","v":0},{"$f":"Import!AA218","v":0},{"$f":"Import!AB218","v":0},{"$f":"Import!AC218","v":0},{"$f":"Import!AD218","v":0},{"$f":"Import!AE218","v":0},{"$f":"Import!AF218","v":0},{"$f":"Import!AG218","v":0},{"$f":"Import!AH218","v":0},{"$f":"Import!AI218","v":0},{"$f":"Import!AJ218","v":0},{"$f":"Import!AK218","v":0},{"$f":"Import!AL218","v":0}]
[null,{"$f":"Import!A219","v":0},{"$f":"Import!B219","v":0},{"$f":"Import!H219","v":0},{"$f":"Import!I219","v":0},{"$f":"Import!J219","v":0},{"$f":"Import!K219","v":0},{"$f":"Import!L219","v":0},{"$f":"Import!M219","v":0},{"$f":"Import!N219","v":0},{"$f":"Import!O219","v":0},{"$f":"Import!P219","v":0},{"$f":"Import!Q219","v":0},{"$f":"Import!R219","v":0},{"$f":"Import!S219","v":0},{"$f":"Import!T219","v":0},{"$f":"Import!U219","v":0},{"$f":"Import!V219","v":0},{"$f":"Import!W219","v":0},{"$f":"Import!X219","v":0},{"$f":"Import!Y219","v":0},{"$f":"Import!Z219","v":0},{"$f":"Import!AA219","v":0},{"$f":"Import!AB219","v":0},{"$f":"Import!AC219","v":0},{"$f":"Import!AD219","v":0},{"$f":"Import!AE219","v":0},{"$f":"Import!AF219","v":0},{"$f":"Import!AG219","v":0},{"$f":"Import!AH219","v":0},{"$f":"Import!AI219","v":0},{"$f":"Import!AJ219","v":0},{"$f":"Import!AK219","v":0},{"$f":"Import!AL219","v":0}]
[null,{"$f":"Import!A220","v":0},{"$f":"Import!B220","v":0},{"$f":"Import!H220","v":0},{"$f":"Import!I220","v":0},{"$f":"Import!J220","v":0},{"$f":"Import!K220","v":0},{"$f":"Import!L220","v":0},{"$f":"Import!M220","v":0},{"$f":"Import!N220","v":0},{"$f":"Import!O220","v":0},{"$f":"Import!P220","v":0},{"$f":"Import!Q220","v":0},{"$f":"Import!R220","v":0},{"$f":"Import!S220","v":0},{"$f":"Import!T220","v":0},{"$f":"Import!U220","v":0},{"$f":"Import!V220","v":0},{"$f":"Import!W220","v":0},{"$f":"Import!X220","v":0},{"$f":"Import!Y220","v":0},{"$f":"Import!Z220","v":0},{"$f":"Import!AA220","v":0},{"$f":"Import!AB220","v":0},{"$f":"Import!AC220","v":0},{"$f":"Import!AD220","v":0},{"$f":"Import!AE220","v":0},{"$f":"Import!AF220","v":0},{"$f":"Import!AG220","v":0},{"$f":"Import!AH220","v":0},{"$f":"Import!AI220","v":0},{"$f":"Import!AJ220","v":0},{"$f":"Import!AK220","v":0},{"$f":"Import!AL220","v":0}]
[null,{"$f":"Import!A221","v":0},{"$f":"Import!B221","v":0},{"$f":"Import!H221","v":0},{"$f":"Import!I221","v":0},{"$f":"Import!J221","v":0},{"$f":"Import!K221","v":0},{"$f":"Import!L221","v":0},{"$f":"Import!M221","v":0},{"$f":"Import!N221","v":0},{"$f":"Import!O221","v":0},{"$f":"Import!P221","v":0},{"$f":"Import!Q221","v":0},{"$f":"Import!R221","v":0},{"$f":"Import!S221","v":0},{"$f":"Import!T221","v":0},{"$f":"Import!U221","v":0},{"$f":"Import!V221","v":0},{"$f":"Import!W221","v":0},{"$f":"Import!X221","v":0},{"$f":"Import!Y221","v":0},{"$f":"Import!Z221","v":0},{"$f":"Import!AA221","v":0},{"$f":"Import!AB221","v":0},{"$f":"Import!AC221","v":0},{"$f":"Import!AD221","v":0},{"$f":"Import!AE221","v":0},{"$f":"Import!AF221","v":0},{"$f":"Import!AG221","v":0},{"$f":"Import!AH221","v":0},{"$f":"Import!AI221","v":0},{"$f":"Import!AJ221","v":0},{"$f":"Import!AK221","v":0},{"$f":"Import!AL221","v":0}]
[null,{"$f":"Import!A222","v":0},{"$f":"Import!B222","v":0},{"$f":"Import!H222","v":0},{"$f":"Import!I222","v":0},{"$f":"Import!J222","v":0},{"$f":"Import!K222","v":0},{"$f":"Import!L222","v":0},{"$f":"Import!M222","v":0},{"$f":"Import!N222","v":0},{"$f":"Import!O222","v":0},{"$f":"Import!P222","v":0},{"$f":"Import!Q222","v":0},{"$f":"Import!R222","v":0},{"$f":"Import!S222","v":0},{"$f":"Import!T222","v":0},{"$f":"Import!U222","v":0},{"$f":"Import!V222","v":0},{"$f":"Import!W222","v":0},{"$f":"Import!X222","v":0},{"$f":"Import!Y222","v":0},{"$f":"Import!Z222","v":0},{"$f":"Import!AA222","v":0},{"$f":"Import!AB222","v":0},{"$f":"Import!AC222","v":0},{"$f":"Import!AD222","v":0},{"$f":"Import!AE222","v":0},{"$f":"Import!AF222","v":0},{"$f":"Import!AG222","v":0},{"$f":"Import!AH222","v":0},{"$f":"Import!AI222","v":0},{"$f":"Import!AJ222","v":0},{"$f":"Import!AK222","v":0},{"$f":"Import!AL222","v":0}]
[null,{"$f":"Import!A223","v":0},{"$f":"Import!B223","v":0},{"$f":"Import!H223","v":0},{"$f":"Import!I223","v":0},{"$f":"Import!J223","v":0},{"$f":"Import!K223","v":0},{"$f":"Import!L223","v":0},{"$f":"Import!M223","v":0},{"$f":"Import!N223","v":0},{"$f":"Import!O223","v":0},{"$f":"Import!P223","v":0},{"$f":"Import!Q223","v":0},{"$f":"Import!R223","v":0},{"$f":"Import!S223","v":0},{"$f":"Import!T223","v":0},{"$f":"Import!U223","v":0},{"$f":"Import!V223","v":0},{"$f":"Import!W223","v":0},{"$f":"Import!X223","v":0},{"$f":"Import!Y223","v":0},{"$f":"Import!Z223","v":0},{"$f":"Import!AA223","v":0},{"$f":"Import!AB223","v":0},{"$f":"Import!AC223","v":0},{"$f":"Import!AD223","v":0},{"$f":"Import!AE223","v":0},{"$f":"Import!AF223","v":0},{"$f":"Import!AG223","v":0},{"$f":"Import!AH223","v":0},{"$f":"Import!AI223","v":0},{"$f":"Import!AJ223","v":0},{"$f":"Import!AK223","v":0},{"$f":"Import!AL223","v":0}]
[null,{"$f":"Import!A224","v":0},{"$f":"Import!B224","v":0},{"$f":"Import!H224","v":0},{"$f":"Import!I224","v":0},{"$f":"Import!J224","v":0},{"$f":"Import!K224","v":0},{"$f":"Import!L224","v":0},{"$f":"Import!M224","v":0},{"$f":"Import!N224","v":0},{"$f":"Import!O224","v":0},{"$f":"Import!P224","v":0},{"$f":"Import!Q224","v":0},{"$f":"Import!R224","v":0},{"$f":"Import!S224","v":0},{"$f":"Import!T224","v":0},{"$f":"Import!U224","v":0},{"$f":"Import!V224","v":0},{"$f":"Import!W224","v":0},{"$f":"Import!X224","v":0},{"$f":"Import!Y224","v":0},{"$f":"Import!Z224","v":0},{"$f":"Import!AA224","v":0},{"$f":"Import!AB224","v":0},{"$f":"Import!AC224","v":0},{"$f":"Import!AD224","v":0},{"$f":"Import!AE224","v":0},{"$f":"Import!AF224","v":0},{"$f":"Import!AG224","v":0},{"$f":"Import!AH224","v":0},{"$f":"Import!AI224","v":0},{"$f":"Import!AJ224","v":0},{"$f":"Import!AK224","v":0},{"$f":"Import!AL224","v":0}]
[null,{"$f":"Import!A225","v":0},{"$f":"Import!B225","v":0},{"$f":"Import!H225","v":0},{"$f":"Import!I225","v":0},{"$f":"Import!J225","v":0},{"$f":"Import!K225","v":0},{"$f":"Import!L225","v":0},{"$f":"Import!M225","v":0},{"$f":"Import!N225","v":0},{"$f":"Import!O225","v":0},{"$f":"Import!P225","v":0},{"$f":"Import!Q225","v":0},{"$f":"Import!R225","v":0},{"$f":"Import!S225","v":0},{"$f":"Import!T225","v":0},{"$f":"Import!U225","v":0},{"$f":"Import!V225","v":0},{"$f":"Import!W225","v":0},{"$f":"Import!X225","v":0},{"$f":"Import!Y225","v":0},{"$f":"Import!Z225","v":0},{"$f":"Import!AA225","v":0},{"$f":"Import!AB225","v":0},{"$f":"Import!AC225","v":0},{"$f":"Import!AD225","v":0},{"$f":"Import!AE225","v":0},{"$f":"Import!AF225","v":0},{"$f":"Import!AG225","v":0},{"$f":"Import!AH225","v":0},{"$f":"Import!AI225","v":0},{"$f":"Import!AJ225","v":0},{"$f":"Import!AK225","v":0},{"$f":"Import!AL225","v":0}]
[null,{"$f":"Import!A226","v":0},{"$f":"Import!B226","v":0},{"$f":"Import!H226","v":0},{"$f":"Import!I226","v":0},{"$f":"Import!J226","v":0},{"$f":"Import!K226","v":0},{"$f":"Import!L226","v":0},{"$f":"Import!M226","v":0},{"$f":"Import!N226","v":0},{"$f":"Import!O226","v":0},{"$f":"Import!P226","v":0},{"$f":"Import!Q226","v":0},{"$f":"Import!R226","v":0},{"$f":"Import!S226","v":0},{"$f":"Import!T226","v":0},{"$f":"Import!U226","v":0},{"$f":"Import!V226","v":0},{"$f":"Import!W226","v":0},{"$f":"Import!X226","v":0},{"$f":"Import!Y226","v":0},{"$f":"Import!Z226","v":0},{"$f":"Import!AA226","v":0},{"$f":"Import!AB226","v":0},{"$f":"Import!AC226","v":0},{"$f":"Import!AD226","v":0},{"$f":"Import!AE226","v":0},{"$f":"Import!AF226","v":0},{"$f":"Import!AG226","v":0},{"$f":"Import!AH226","v":0},{"$f":"Import!AI226","v":0},{"$f":"Import!AJ226","v":0},{"$f":"Import!AK226","v":0},{"$f":"Import!AL226","v":0}]
[null,{"$f":"Import!A227","v":0},{"$f":"Import!B227","v":0},{"$f":"Import!H227","v":0},{"$f":"Import!I227","v":0},{"$f":"Import!J227","v":0},{"$f":"Import!K227","v":0},{"$f":"Import!L227","v":0},{"$f":"Import!M227","v":0},{"$f":"Import!N227","v":0},{"$f":"Import!O227","v":0},{"$f":"Import!P227","v":0},{"$f":"Import!Q227","v":0},{"$f":"Import!R227","v":0},{"$f":"Import!S227","v":0},{"$f":"Import!T227","v":0},{"$f":"Import!U227","v":0},{"$f":"Import!V227","v":0},{"$f":"Import!W227","v":0},{"$f":"Import!X227","v":0},{"$f":"Import!Y227","v":0},{"$f":"Import!Z227","v":0},{"$f":"Import!AA227","v":0},{"$f":"Import!AB227","v":0},{"$f":"Import!AC227","v":0},{"$f":"Import!AD227","v":0},{"$f":"Import!AE227","v":0},{"$f":"Import!AF227","v":0},{"$f":"Import!AG227","v":0},{"$f":"Import!AH227","v":0},{"$f":"Import!AI227","v":0},{"$f":"Import!AJ227","v":0},{"$f":"Import!AK227","v":0},{"$f":"Import!AL227","v":0}]
[null,{"$f":"Import!A228","v":0},{"$f":"Import!B228","v":0},{"$f":"Import!H228","v":0},{"$f":"Import!I228","v":0},{"$f":"Import!J228","v":0},{"$f":"Import!K228","v":0},{"$f":"Import!L228","v":0},{"$f":"Import!M228","v":0},{"$f":"Import!N228","v":0},{"$f":"Import!O228","v":0},{"$f":"Import!P228","v":0},{"$f":"Import!Q228","v":0},{"$f":"Import!R228","v":0},{"$f":"Import!S228","v":0},{"$f":"Import!T228","v":0},{"$f":"Import!U228","v":0},{"$f":"Import!V228","v":0},{"$f":"Import!W228","v":0},{"$f":"Import!X228","v":0},{"$f":"Import!Y228","v":0},{"$f":"Import!Z228","v":0},{"$f":"Import!AA228","v":0},{"$f":"Import!AB228","v":0},{"$f":"Import!AC228","v":0},{"$f":"Import!AD228","v":0},{"$f":"Import!AE228","v":0},{"$f":"Import!AF228","v":0},{"$f":"Import!AG228","v":0},{"$f":"Import!AH228","v":0},{"$f":"Import!AI228","v":0},{"$f":"Import!AJ228","v":0},{"$f":"Import!AK228","v":0},{"$f":"Import!AL228","v":0}]
[null,{"$f":"Import!A229","v":0},{"$f":"Import!B229","v":0},{"$f":"Import!H229","v":0},{"$f":"Import!I229","v":0},{"$f":"Import!J229","v":0},{"$f":"Import!K229","v":0},{"$f":"Import!L229","v":0},{"$f":"Import!M229","v":0},{"$f":"Import!N229","v":0},{"$f":"Import!O229","v":0},{"$f":"Import!P229","v":0},{"$f":"Import!Q229","v":0},{"$f":"Import!R229","v":0},{"$f":"Import!S229","v":0},{"$f":"Import!T229","v":0},{"$f":"Import!U229","v":0},{"$f":"Import!V229","v":0},{"$f":"Import!W229","v":0},{"$f":"Import!X229","v":0},{"$f":"Import!Y229","v":0},{"$f":"Import!Z229","v":0},{"$f":"Import!AA229","v":0},{"$f":"Import!AB229","v":0},{"$f":"Import!AC229","v":0},{"$f":"Import!AD229","v":0},{"$f":"Import!AE229","v":0},{"$f":"Import!AF229","v":0},{"$f":"Import!AG229","v":0},{"$f":"Import!AH229","v":0},{"$f":"Import!AI229","v":0},{"$f":"Import!AJ229","v":0},{"$f":"Import!AK229","v":0},{"$f":"Import!AL229","v":0}]
[null,{"$f":"Import!A230","v":0},{"$f":"Import!B230","v":0},{"$f":"Import!H230","v":0},{"$f":"Import!I230","v":0},{"$f":"Import!J230","v":0},{"$f":"Import!K230","v":0},{"$f":"Import!L230","v":0},{"$f":"Import!M230","v":0},{"$f":"Import!N230","v":0},{"$f":"Import!O230","v":0},{"$f":"Import!P230","v":0},{"$f":"Import!Q230","v":0},{"$f":"Import!R230","v":0},{"$f":"Import!S230","v":0},{"$f":"Import!T230","v":0},{"$f":"Import!U230","v":0},{"$f":"Import!V230","v":0},{"$f":"Import!W230","v":0},{"$f":"Import!X230","v":0},{"$f":"Import!Y230","v":0},{"$f":"Import!Z230","v":0},{"$f":"Import!AA230","v":0},{"$f":"Import!AB230","v":0},{"$f":"Import!AC230","v":0},{"$f":"Import!AD230","v":0},{"$f":"Import!AE230","v":0},{"$f":"Import!AF230","v":0},{"$f":"Import!AG230","v":0},{"$f":"Import!AH230","v":0},{"$f":"Import!AI230","v":0},{"$f":"Import!AJ230","v":0},{"$f":"Import!AK230","v":0},{"$f":"Import!AL230","v":0}]
[null,{"$f":"Import!A231","v":0},{"$f":"Import!B231","v":0},{"$f":"Import!H231","v":0},{"$f":"Import!I231","v":0},{"$f":"Import!J231","v":0},{"$f":"Import!K231","v":0},{"$f":"Import!L231","v":0},{"$f":"Import!M231","v":0},{"$f":"Import!N231","v":0},{"$f":"Import!O231","v":0},{"$f":"Import!P231","v":0},{"$f":"Import!Q231","v":0},{"$f":"Import!R231","v":0},{"$f":"Import!S231","v":0},{"$f":"Import!T231","v":0},{"$f":"Import!U231","v":0},{"$f":"Import!V231","v":0},{"$f":"Import!W231","v":0},{"$f":"Import!X231","v":0},{"$f":"Import!Y231","v":0},{"$f":"Import!Z231","v":0},{"$f":"Import!AA231","v":0},{"$f":"Import!AB231","v":0},{"$f":"Import!AC231","v":0},{"$f":"Import!AD231","v":0},{"$f":"Import!AE231","v":0},{"$f":"Import!AF231","v":0},{"$f":"Import!AG231","v":0},{"$f":"Import!AH231","v":0},{"$f":"Import!AI231","v":0},{"$f":"Import!AJ231","v":0},{"$f":"Import!AK231","v":0},{"$f":"Import!AL231","v":0}]
[null,{"$f":"Import!A232","v":0},{"$f":"Import!B232","v":0},{"$f":"Import!H232","v":0},{"$f":"Import!I232","v":0},{"$f":"Import!J232","v":0},{"$f":"Import!K232","v":0},{"$f":"Import!L232","v":0},{"$f":"Import!M232","v":0},{"$f":"Import!N232","v":0},{"$f":"Import!O232","v":0},{"$f":"Import!P232","v":0},{"$f":"Import!Q232","v":0},{"$f":"Import!R232","v":0},{"$f":"Import!S232","v":0},{"$f":"Import!T232","v":0},{"$f":"Import!U232","v":0},{"$f":"Import!V232","v":0},{"$f":"Import!W232","v":0},{"$f":"Import!X232","v":0},{"$f":"Import!Y232","v":0},{"$f":"Import!Z232","v":0},{"$f":"Import!AA232","v":0},{"$f":"Import!AB232","v":0},{"$f":"Import!AC232","v":0},{"$f":"Import!AD232","v":0},{"$f":"Import!AE232","v":0},{"$f":"Import!AF232","v":0},{"$f":"Import!AG232","v":0},{"$f":"Import!AH232","v":0},{"$f":"Import!AI232","v":0},{"$f":"Import!AJ232","v":0},{"$f":"Import!AK232","v":0},{"$f":"Import!AL232","v":0}]
[null,{"$f":"Import!A233","v":0},{"$f":"Import!B233","v":0},{"$f":"Import!H233","v":0},{"$f":"Import!I233","v":0},{"$f":"Import!J233","v":0},{"$f":"Import!K233","v":0},{"$f":"Import!L233","v":0},{"$f":"Import!M233","v":0},{"$f":"Import!N233","v":0},{"$f":"Import!O233","v":0},{"$f":"Import!P233","v":0},{"$f":"Import!Q233","v":0},{"$f":"Import!R233","v":0},{"$f":"Import!S233","v":0},{"$f":"Import!T233","v":0},{"$f":"Import!U233","v":0},{"$f":"Import!V233","v":0},{"$f":"Import!W233","v":0},{"$f":"Import!X233","v":0},{"$f":"Import!Y233","v":0},{"$f":"Import!Z233","v":0},{"$f":"Import!AA233","v":0},{"$f":"Import!AB233","v":0},{"$f":"Import!AC233","v":0},{"$f":"Import!AD233","v":0},{"$f":"Import!AE233","v":0},{"$f":"Import!AF233","v":0},{"$f":"Import!AG233","v":0},{"$f":"Import!AH233","v":0},{"$f":"Import!AI233","v":0},{"$f":"Import!AJ233","v":0},{"$f":"Import!AK233","v":0},{"$f":"Import!AL233","v":0}]
[null,{"$f":"Import!A234","v":0},{"$f":"Import!B234","v":0},{"$f":"Import!H234","v":0},{"$f":"Import!I234","v":0},{"$f":"Import!J234","v":0},{"$f":"Import!K234","v":0},{"$f":"Import!L234","v":0},{"$f":"Import!M234","v":0},{"$f":"Import!N234","v":0},{"$f":"Import!O234","v":0},{"$f":"Import!P234","v":0},{"$f":"Import!Q234","v":0},{"$f":"Import!R234","v":0},{"$f":"Import!S234","v":0},{"$f":"Import!T234","v":0},{"$f":"Import!U234","v":0},{"$f":"Import!V234","v":0},{"$f":"Import!W234","v":0},{"$f":"Import!X234","v":0},{"$f":"Import!Y234","v":0},{"$f":"Import!Z234","v":0},{"$f":"Import!AA234","v":0},{"$f":"Import!AB234","v":0},{"$f":"Import!AC234","v":0},{"$f":"Import!AD234","v":0},{"$f":"Import!AE234","v":0},{"$f":"Import!AF234","v":0},{"$f":"Import!AG234","v":0},{"$f":"Import!AH234","v":0},{"$f":"Import!AI234","v":0},{"$f":"Import!AJ234","v":0},{"$f":"Import!AK234","v":0},{"$f":"Import!AL234","v":0}]
[null,{"$f":"Import!A235","v":0},{"$f":"Import!B235","v":0},{"$f":"Import!H235","v":0},{"$f":"Import!I235","v":0},{"$f":"Import!J235","v":0},{"$f":"Import!K235","v":0},{"$f":"Import!L235","v":0},{"$f":"Import!M235","v":0},{"$f":"Import!N235","v":0},{"$f":"Import!O235","v":0},{"$f":"Import!P235","v":0},{"$f":"Import!Q235","v":0},{"$f":"Import!R235","v":0},{"$f":"Import!S235","v":0},{"$f":"Import!T235","v":0},{"$f":"Import!U235","v":0},{"$f":"Import!V235","v":0},{"$f":"Import!W235","v":0},{"$f":"Import!X235","v":0},{"$f":"Import!Y235","v":0},{"$f":"Import!Z235","v":0},{"$f":"Import!AA235","v":0},{"$f":"Import!AB235","v":0},{"$f":"Import!AC235","v":0},{"$f":"Import!AD235","v":0},{"$f":"Import!AE235","v":0},{"$f":"Import!AF235","v":0},{"$f":"Import!AG235","v":0},{"$f":"Import!AH235","v":0},{"$f":"Import!AI235","v":0},{"$f":"Import!AJ235","v":0},{"$f":"Import!AK235","v":0},{"$f":"Import!AL235","v":0}]
[null,{"$f":"Import!A236","v":0},{"$f":"Import!B236","v":0},{"$f":"Import!H236","v":0},{"$f":"Import!I236","v":0},{"$f":"Import!J236","v":0},{"$f":"Import!K236","v":0},{"$f":"Import!L236","v":0},{"$f":"Import!M236","v":0},{"$f":"Import!N236","v":0},{"$f":"Import!O236","v":0},{"$f":"Import!P236","v":0},{"$f":"Import!Q236","v":0},{"$f":"Import!R236","v":0},{"$f":"Import!S236","v":0},{"$f":"Import!T236","v":0},{"$f":"Import!U236","v":0},{"$f":"Import!V236","v":0},{"$f":"Import!W236","v":0},{"$f":"Import!X236","v":0},{"$f":"Import!Y236","v":0},{"$f":"Import!Z236","v":0},{"$f":"Import!AA236","v":0},{"$f":"Import!AB236","v":0},{"$f":"Import!AC236","v":0},{"$f":"Import!AD236","v":0},{"$f":"Import!AE236","v":0},{"$f":"Import!AF236","v":0},{"$f":"Import!AG236","v":0},{"$f":"Import!AH236","v":0},{"$f":"Import!AI236","v":0},{"$f":"Import!AJ236","v":0},{"$f":"Import!AK236","v":0},{"$f":"Import!AL236","v":0}]
[null,{"$f":"Import!A237","v":0},{"$f":"Import!B237","v":0},{"$f":"Import!H237","v":0},{"$f":"Import!I237","v":0},{"$f":"Import!J237","v":0},{"$f":"Import!K237","v":0},{"$f":"Import!L237","v":0},{"$f":"Import!M237","v":0},{"$f":"Import!N237","v":0},{"$f":"Import!O237","v":0},{"$f":"Import!P237","v":0},{"$f":"Import!Q237","v":0},{"$f":"Import!R237","v":0},{"$f":"Import!S237","v":0},{"$f":"Import!T237","v":0},{"$f":"Import!U237","v":0},{"$f":"Import!V237","v":0},{"$f":"Import!W237","v":0},{"$f":"Import!X237","v":0},{"$f":"Import!Y237","v":0},{"$f":"Import!Z237","v":0},{"$f":"Import!AA237","v":0},{"$f":"Import!AB237","v":0},{"$f":"Import!AC237","v":0},{"$f":"Import!AD237","v":0},{"$f":"Import!AE237","v":0},{"$f":"Import!AF237","v":0},{"$f":"Import!AG237","v":0},{"$f":"Import!AH237","v":0},{"$f":"Import!AI237","v":0},{"$f":"Import!AJ237","v":0},{"$f":"Import!AK237","v":0},{"$f":"Import!AL237","v":0}]
[null,{"$f":"Import!A238","v":0},{"$f":"Import!B238","v":0},{"$f":"Import!H238","v":0},{"$f":"Import!I238","v":0},{"$f":"Import!J238","v":0},{"$f":"Import!K238","v":0},{"$f":"Import!L238","v":0},{"$f":"Import!M238","v":0},{"$f":"Import!N238","v":0},{"$f":"Import!O238","v":0},{"$f":"Import!P238","v":0},{"$f":"Import!Q238","v":0},{"$f":"Import!R238","v":0},{"$f":"Import!S238","v":0},{"$f":"Import!T238","v":0},{"$f":"Import!U238","v":0},{"$f":"Import!V238","v":0},{"$f":"Import!W238","v":0},{"$f":"Import!X238","v":0},{"$f":"Import!Y238","v":0},{"$f":"Import!Z238","v":0},{"$f":"Import!AA238","v":0},{"$f":"Import!AB238","v":0},{"$f":"Import!AC238","v":0},{"$f":"Import!AD238","v":0},{"$f":"Import!AE238","v":0},{"$f":"Import!AF238","v":0},{"$f":"Import!AG238","v":0},{"$f":"Import!AH238","v":0},{"$f":"Import!AI238","v":0},{"$f":"Import!AJ238","v":0},{"$f":"Import!AK238","v":0},{"$f":"Import!AL238","v":0}]
[null,{"$f":"Import!A239","v":0},{"$f":"Import!B239","v":0},{"$f":"Import!H239","v":0},{"$f":"Import!I239","v":0},{"$f":"Import!J239","v":0},{"$f":"Import!K239","v":0},{"$f":"Import!L239","v":0},{"$f":"Import!M239","v":0},{"$f":"Import!N239","v":0},{"$f":"Import!O239","v":0},{"$f":"Import!P239","v":0},{"$f":"Import!Q239","v":0},{"$f":"Import!R239","v":0},{"$f":"Import!S239","v":0},{"$f":"Import!T239","v":0},{"$f":"Import!U239","v":0},{"$f":"Import!V239","v":0},{"$f":"Import!W239","v":0},{"$f":"Import!X239","v":0},{"$f":"Import!Y239","v":0},{"$f":"Import!Z239","v":0},{"$f":"Import!AA239","v":0},{"$f":"Import!AB239","v":0},{"$f":"Import!AC239","v":0},{"$f":"Import!AD239","v":0},{"$f":"Import!AE239","v":0},{"$f":"Import!AF239","v":0},{"$f":"Import!AG239","v":0},{"$f":"Import!AH239","v":0},{"$f":"Import!AI239","v":0},{"$f":"Import!AJ239","v":0},{"$f":"Import!AK239","v":0},{"$f":"Import!AL239","v":0}]
[null,{"$f":"Import!A240","v":0},{"$f":"Import!B240","v":0},{"$f":"Import!H240","v":0},{"$f":"Import!I240","v":0},{"$f":"Import!J240","v":0},{"$f":"Import!K240","v":0},{"$f":"Import!L240","v":0},{"$f":"Import!M240","v":0},{"$f":"Import!N240","v":0},{"$f":"Import!O240","v":0},{"$f":"Import!P240","v":0},{"$f":"Import!Q240","v":0},{"$f":"Import!R240","v":0},{"$f":"Import!S240","v":0},{"$f":"Import!T240","v":0},{"$f":"Import!U240","v":0},{"$f":"Import!V240","v":0},{"$f":"Import!W240","v":0},{"$f":"Import!X240","v":0},{"$f":"Import!Y240","v":0},{"$f":"Import!Z240","v":0},{"$f":"Import!AA240","v":0},{"$f":"Import!AB240","v":0},{"$f":"Import!AC240","v":0},{"$f":"Import!AD240","v":0},{"$f":"Import!AE240","v":0},{"$f":"Import!AF240","v":0},{"$f":"Import!AG240","v":0},{"$f":"Import!AH240","v":0},{"$f":"Import!AI240","v":0},{"$f":"Import!AJ240","v":0},{"$f":"Import!AK240","v":0},{"$f":"Import!AL240","v":0}]
[null,{"$f":"Import!A241","v":0},{"$f":"Import!B241","v":0},{"$f":"Import!H241","v":0},{"$f":"Import!I241","v":0},{"$f":"Import!J241","v":0},{"$f":"Import!K241","v":0},{"$f":"Import!L241","v":0},{"$f":"Import!M241","v":0},{"$f":"Import!N241","v":0},{"$f":"Import!O241","v":0},{"$f":"Import!P241","v":0},{"$f":"Import!Q241","v":0},{"$f":"Import!R241","v":0},{"$f":"Import!S241","v":0},{"$f":"Import!T241","v":0},{"$f":"Import!U241","v":0},{"$f":"Import!V241","v":0},{"$f":"Import!W241","v":0},{"$f":"Import!X241","v":0},{"$f":"Import!Y241","v":0},{"$f":"Import!Z241","v":0},{"$f":"Import!AA241","v":0},{"$f":"Import!AB241","v":0},{"$f":"Import!AC241","v":0},{"$f":"Import!AD241","v":0},{"$f":"Import!AE241","v":0},{"$f":"Import!AF241","v":0},{"$f":"Import!AG241","v":0},{"$f":"Import!AH241","v":0},{"$f":"Import!AI241","v":0},{"$f":"Import!AJ241","v":0},{"$f":"Import!AK241","v":0},{"$f":"Import!AL241","v":0}]
[null,{"$f":"Import!A242","v":0},{"$f":"Import!B242","v":0},{"$f":"Import!H242","v":0},{"$f":"Import!I242","v":0},{"$f":"Import!J242","v":0},{"$f":"Import!K242","v":0},{"$f":"Import!L242","v":0},{"$f":"Import!M242","v":0},{"$f":"Import!N242","v":0},{"$f":"Import!O242","v":0},{"$f":"Import!P242","v":0},{"$f":"Import!Q242","v":0},{"$f":"Import!R242","v":0},{"$f":"Import!S242","v":0},{"$f":"Import!T242","v":0},{"$f":"Import!U242","v":0},{"$f":"Import!V242","v":0},{"$f":"Import!W242","v":0},{"$f":"Import!X242","v":0},{"$f":"Import!Y242","v":0},{"$f":"Import!Z242","v":0},{"$f":"Import!AA242","v":0},{"$f":"Import!AB242","v":0},{"$f":"Import!AC242","v":0},{"$f":"Import!AD242","v":0},{"$f":"Import!AE242","v":0},{"$f":"Import!AF242","v":0},{"$f":"Import!AG242","v":0},{"$f":"Import!AH242","v":0},{"$f":"Import!AI242","v":0},{"$f":"Import!AJ242","v":0},{"$f":"Import!AK242","v":0},{"$f":"Import!AL242","v":0}]
[null,{"$f":"Import!A243","v":0},{"$f":"Import!B243","v":0},{"$f":"Import!H243","v":0},{"$f":"Import!I243","v":0},{"$f":"Import!J243","v":0},{"$f":"Import!K243","v":0},{"$f":"Import!L243","v":0},{"$f":"Import!M243","v":0},{"$f":"Import!N243","v":0},{"$f":"Import!O243","v":0},{"$f":"Import!P243","v":0},{"$f":"Import!Q243","v":0},{"$f":"Import!R243","v":0},{"$f":"Import!S243","v":0},{"$f":"Import!T243","v":0},{"$f":"Import!U243","v":0},{"$f":"Import!V243","v":0},{"$f":"Import!W243","v":0},{"$f":"Import!X243","v":0},{"$f":"Import!Y243","v":0},{"$f":"Import!Z243","v":0},{"$f":"Import!AA243","v":0},{"$f":"Import!AB243","v":0},{"$f":"Import!AC243","v":0},{"$f":"Import!AD243","v":0},{"$f":"Import!AE243","v":0},{"$f":"Import!AF243","v":0},{"$f":"Import!AG243","v":0},{"$f":"Import!AH243","v":0},{"$f":"Import!AI243","v":0},{"$f":"Import!AJ243","v":0},{"$f":"Import!AK243","v":0},{"$f":"Import!AL243","v":0}]
[null,{"$f":"Import!A244","v":0},{"$f":"Import!B244","v":0},{"$f":"Import!H244","v":0},{"$f":"Import!I244","v":0},{"$f":"Import!J244","v":0},{"$f":"Import!K244","v":0},{"$f":"Import!L244","v":0},{"$f":"Import!M244","v":0},{"$f":"Import!N244","v":0},{"$f":"Import!O244","v":0},{"$f":"Import!P244","v":0},{"$f":"Import!Q244","v":0},{"$f":"Import!R244","v":0},{"$f":"Import!S244","v":0},{"$f":"Import!T244","v":0},{"$f":"Import!U244","v":0},{"$f":"Import!V244","v":0},{"$f":"Import!W244","v":0},{"$f":"Import!X244","v":0},{"$f":"Import!Y244","v":0},{"$f":"Import!Z244","v":0},{"$f":"Import!AA244","v":0},{"$f":"Import!AB244","v":0},{"$f":"Import!AC244","v":0},{"$f":"Import!AD244","v":0},{"$f":"Import!AE244","v":0},{"$f":"Import!AF244","v":0},{"$f":"Import!AG244","v":0},{"$f":"Import!AH244","v":0},{"$f":"Import!AI244","v":0},{"$f":"Import!AJ244","v":0},{"$f":"Import!AK244","v":0},{"$f":"Import!AL244","v":0}]
[null,{"$f":"Import!A245","v":0},{"$f":"Import!B245","v":0},{"$f":"Import!H245","v":0},{"$f":"Import!I245","v":0},{"$f":"Import!J245","v":0},{"$f":"Import!K245","v":0},{"$f":"Import!L245","v":0},{"$f":"Import!M245","v":0},{"$f":"Import!N245","v":0},{"$f":"Import!O245","v":0},{"$f":"Import!P245","v":0},{"$f":"Import!Q245","v":0},{"$f":"Import!R245","v":0},{"$f":"Import!S245","v":0},{"$f":"Import!T245","v":0},{"$f":"Import!U245","v":0},{"$f":"Import!V245","v":0},{"$f":"Import!W245","v":0},{"$f":"Import!X245","v":0},{"$f":"Import!Y245","v":0},{"$f":"Import!Z245","v":0},{"$f":"Import!AA245","v":0},{"$f":"Import!AB245","v":0},{"$f":"Import!AC245","v":0},{"$f":"Import!AD245","v":0},{"$f":"Import!AE245","v":0},{"$f":"Import!AF245","v":0},{"$f":"Import!AG245","v":0},{"$f":"Import!AH245","v":0},{"$f":"Import!AI245","v":0},{"$f":"Import!AJ245","v":0},{"$f":"Import!AK245","v":0},{"$f":"Import!AL245","v":0}]
[null,{"$f":"Import!A246","v":0},{"$f":"Import!B246","v":0},{"$f":"Import!H246","v":0},{"$f":"Import!I246","v":0},{"$f":"Import!J246","v":0},{"$f":"Import!K246","v":0},{"$f":"Import!L246","v":0},{"$f":"Import!M246","v":0},{"$f":"Import!N246","v":0},{"$f":"Import!O246","v":0},{"$f":"Import!P246","v":0},{"$f":"Import!Q246","v":0},{"$f":"Import!R246","v":0},{"$f":"Import!S246","v":0},{"$f":"Import!T246","v":0},{"$f":"Import!U246","v":0},{"$f":"Import!V246","v":0},{"$f":"Import!W246","v":0},{"$f":"Import!X246","v":0},{"$f":"Import!Y246","v":0},{"$f":"Import!Z246","v":0},{"$f":"Import!AA246","v":0},{"$f":"Import!AB246","v":0},{"$f":"Import!AC246","v":0},{"$f":"Import!AD246","v":0},{"$f":"Import!AE246","v":0},{"$f":"Import!AF246","v":0},{"$f":"Import!AG246","v":0},{"$f":"Import!AH246","v":0},{"$f":"Import!AI246","v":0},{"$f":"Import!AJ246","v":0},{"$f":"Import!AK246","v":0},{"$f":"Import!AL246","v":0}]
[null,{"$f":"Import!A247","v":0},{"$f":"Import!B247","v":0},{"$f":"Import!H247","v":0},{"$f":"Import!I247","v":0},{"$f":"Import!J247","v":0},{"$f":"Import!K247","v":0},{"$f":"Import!L247","v":0},{"$f":"Import!M247","v":0},{"$f":"Import!N247","v":0},{"$f":"Import!O247","v":0},{"$f":"Import!P247","v":0},{"$f":"Import!Q247","v":0},{"$f":"Import!R247","v":0},{"$f":"Import!S247","v":0},{"$f":"Import!T247","v":0},{"$f":"Import!U247","v":0},{"$f":"Import!V247","v":0},{"$f":"Import!W247","v":0},{"$f":"Import!X247","v":0},{"$f":"Import!Y247","v":0},{"$f":"Import!Z247","v":0},{"$f":"Import!AA247","v":0},{"$f":"Import!AB247","v":0},{"$f":"Import!AC247","v":0},{"$f":"Import!AD247","v":0},{"$f":"Import!AE247","v":0},{"$f":"Import!AF247","v":0},{"$f":"Import!AG247","v":0},{"$f":"Import!AH247","v":0},{"$f":"Import!AI247","v":0},{"$f":"Import!AJ247","v":0},{"$f":"Import!AK247","v":0},{"$f":"Import!AL247","v":0}]
[null,{"$f":"Import!A248","v":0},{"$f":"Import!B248","v":0},{"$f":"Import!H248","v":0},{"$f":"Import!I248","v":0},{"$f":"Import!J248","v":0},{"$f":"Import!K248","v":0},{"$f":"Import!L248","v":0},{"$f":"Import!M248","v":0},{"$f":"Import!N248","v":0},{"$f":"Import!O248","v":0},{"$f":"Import!P248","v":0},{"$f":"Import!Q248","v":0},{"$f":"Import!R248","v":0},{"$f":"Import!S248","v":0},{"$f":"Import!T248","v":0},{"$f":"Import!U248","v":0},{"$f":"Import!V248","v":0},{"$f":"Import!W248","v":0},{"$f":"Import!X248","v":0},{"$f":"Import!Y248","v":0},{"$f":"Import!Z248","v":0},{"$f":"Import!AA248","v":0},{"$f":"Import!AB248","v":0},{"$f":"Import!AC248","v":0},{"$f":"Import!AD248","v":0},{"$f":"Import!AE248","v":0},{"$f":"Import!AF248","v":0},{"$f":"Import!AG248","v":0},{"$f":"Import!AH248","v":0},{"$f":"Import!AI248","v":0},{"$f":"Import!AJ248","v":0},{"$f":"Import!AK248","v":0},{"$f":"Import!AL248","v":0}]
[null,{"$f":"Import!A249","v":0},{"$f":"Import!B249","v":0},{"$f":"Import!H249","v":0},{"$f":"Import!I249","v":0},{"$f":"Import!J249","v":0},{"$f":"Import!K249","v":0},{"$f":"Import!L249","v":0},{"$f":"Import!M249","v":0},{"$f":"Import!N249","v":0},{"$f":"Import!O249","v":0},{"$f":"Import!P249","v":0},{"$f":"Import!Q249","v":0},{"$f":"Import!R249","v":0},{"$f":"Import!S249","v":0},{"$f":"Import!T249","v":0},{"$f":"Import!U249","v":0},{"$f":"Import!V249","v":0},{"$f":"Import!W249","v":0},{"$f":"Import!X249","v":0},{"$f":"Import!Y249","v":0},{"$f":"Import!Z249","v":0},{"$f":"Import!AA249","v":0},{"$f":"Import!AB249","v":0},{"$f":"Import!AC249","v":0},{"$f":"Import!AD249","v":0},{"$f":"Import!AE249","v":0},{"$f":"Import!AF249","v":0},{"$f":"Import!AG249","v":0},{"$f":"Import!AH249","v":0},{"$f":"Import!AI249","v":0},{"$f":"Import!AJ249","v":0},{"$f":"Import!AK249","v":0},{"$f":"Import!AL249","v":0}]
[null,{"$f":"Import!A250","v":0},{"$f":"Import!B250","v":0},{"$f":"Import!H250","v":0},{"$f":"Import!I250","v":0},{"$f":"Import!J250","v":0},{"$f":"Import!K250","v":0},{"$f":"Import!L250","v":0},{"$f":"Import!M250","v":0},{"$f":"Import!N250","v":0},{"$f":"Import!O250","v":0},{"$f":"Import!P250","v":0},{"$f":"Import!Q250","v":0},{"$f":"Import!R250","v":0},{"$f":"Import!S250","v":0},{"$f":"Import!T250","v":0},{"$f":"Import!U250","v":0},{"$f":"Import!V250","v":0},{"$f":"Import!W250","v":0},{"$f":"Import!X250","v":0},{"$f":"Import!Y250","v":0},{"$f":"Import!Z250","v":0},{"$f":"Import!AA250","v":0},{"$f":"Import!AB250","v":0},{"$f":"Import!AC250","v":0},{"$f":"Import!AD250","v":0},{"$f":"Import!AE250","v":0},{"$f":"Import!AF250","v":0},{"$f":"Import!AG250","v":0},{"$f":"Import!AH250","v":0},{"$f":"Import!AI250","v":0},{"$f":"Import!AJ250","v":0},{"$f":"Import!AK250","v":0},{"$f":"Import!AL250","v":0}]
[null,{"$f":"Import!A251","v":0},{"$f":"Import!B251","v":0},{"$f":"Import!H251","v":0},{"$f":"Import!I251","v":0},{"$f":"Import!J251","v":0},{"$f":"Import!K251","v":0},{"$f":"Import!L251","v":0},{"$f":"Import!M251","v":0},{"$f":"Import!N251","v":0},{"$f":"Import!O251","v":0},{"$f":"Import!P251","v":0},{"$f":"Import!Q251","v":0},{"$f":"Import!R251","v":0},{"$f":"Import!S251","v":0},{"$f":"Import!T251","v":0},{"$f":"Import!U251","v":0},{"$f":"Import!V251","v":0},{"$f":"Import!W251","v":0},{"$f":"Import!X251","v":0},{"$f":"Import!Y251","v":0},{"$f":"Import!Z251","v":0},{"$f":"Import!AA251","v":0},{"$f":"Import!AB251","v":0},{"$f":"Import!AC251","v":0},{"$f":"Import!AD251","v":0},{"$f":"Import!AE251","v":0},{"$f":"Import!AF251","v":0},{"$f":"Import!AG251","v":0},{"$f":"Import!AH251","v":0},{"$f":"Import!AI251","v":0},{"$f":"Import!AJ251","v":0},{"$f":"Import!AK251","v":0},{"$f":"Import!AL251","v":0}]
[null,{"$f":"Import!A252","v":0},{"$f":"Import!B252","v":0},{"$f":"Import!H252","v":0},{"$f":"Import!I252","v":0},{"$f":"Import!J252","v":0},{"$f":"Import!K252","v":0},{"$f":"Import!L252","v":0},{"$f":"Import!M252","v":0},{"$f":"Import!N252","v":0},{"$f":"Import!O252","v":0},{"$f":"Import!P252","v":0},{"$f":"Import!Q252","v":0},{"$f":"Import!R252","v":0},{"$f":"Import!S252","v":0},{"$f":"Import!T252","v":0},{"$f":"Import!U252","v":0},{"$f":"Import!V252","v":0},{"$f":"Import!W252","v":0},{"$f":"Import!X252","v":0},{"$f":"Import!Y252","v":0},{"$f":"Import!Z252","v":0},{"$f":"Import!AA252","v":0},{"$f":"Import!AB252","v":0},{"$f":"Import!AC252","v":0},{"$f":"Import!AD252","v":0},{"$f":"Import!AE252","v":0},{"$f":"Import!AF252","v":0},{"$f":"Import!AG252","v":0},{"$f":"Import!AH252","v":0},{"$f":"Import!AI252","v":0},{"$f":"Import!AJ252","v":0},{"$f":"Import!AK252","v":0},{"$f":"Import!AL252","v":0}]
[null,{"$f":"Import!A253","v":0},{"$f":"Import!B253","v":0},{"$f":"Import!H253","v":0},{"$f":"Import!I253","v":0},{"$f":"Import!J253","v":0},{"$f":"Import!K253","v":0},{"$f":"Import!L253","v":0},{"$f":"Import!M253","v":0},{"$f":"Import!N253","v":0},{"$f":"Import!O253","v":0},{"$f":"Import!P253","v":0},{"$f":"Import!Q253","v":0},{"$f":"Import!R253","v":0},{"$f":"Import!S253","v":0},{"$f":"Import!T253","v":0},{"$f":"Import!U253","v":0},{"$f":"Import!V253","v":0},{"$f":"Import!W253","v":0},{"$f":"Import!X253","v":0},{"$f":"Import!Y253","v":0},{"$f":"Import!Z253","v":0},{"$f":"Import!AA253","v":0},{"$f":"Import!AB253","v":0},{"$f":"Import!AC253","v":0},{"$f":"Import!AD253","v":0},{"$f":"Import!AE253","v":0},{"$f":"Import!AF253","v":0},{"$f":"Import!AG253","v":0},{"$f":"Import!AH253","v":0},{"$f":"Import!AI253","v":0},{"$f":"Import!AJ253","v":0},{"$f":"Import!AK253","v":0},{"$f":"Import!AL253","v":0}]
[null,{"$f":"Import!A254","v":0},{"$f":"Import!B254","v":0},{"$f":"Import!H254","v":0},{"$f":"Import!I254","v":0},{"$f":"Import!J254","v":0},{"$f":"Import!K254","v":0},{"$f":"Import!L254","v":0},{"$f":"Import!M254","v":0},{"$f":"Import!N254","v":0},{"$f":"Import!O254","v":0},{"$f":"Import!P254","v":0},{"$f":"Import!Q254","v":0},{"$f":"Import!R254","v":0},{"$f":"Import!S254","v":0},{"$f":"Import!T254","v":0},{"$f":"Import!U254","v":0},{"$f":"Import!V254","v":0},{"$f":"Import!W254","v":0},{"$f":"Import!X254","v":0},{"$f":"Import!Y254","v":0},{"$f":"Import!Z254","v":0},{"$f":"Import!AA254","v":0},{"$f":"Import!AB254","v":0},{"$f":"Import!AC254","v":0},{"$f":"Import!AD254","v":0},{"$f":"Import!AE254","v":0},{"$f":"Import!AF254","v":0},{"$f":"Import!AG254","v":0},{"$f":"Import!AH254","v":0},{"$f":"Import!AI254","v":0},{"$f":"Import!AJ254","v":0},{"$f":"Import!AK254","v":0},{"$f":"Import!AL254","v":0}]
[null,{"$f":"Import!A255","v":0},{"$f":"Import!B255","v":0},{"$f":"Import!H255","v":0},{"$f":"Import!I255","v":0},{"$f":"Import!J255","v":0},{"$f":"Import!K255","v":0},{"$f":"Import!L255","v":0},{"$f":"Import!M255","v":0},{"$f":"Import!N255","v":0},{"$f":"Import!O255","v":0},{"$f":"Import!P255","v":0},{"$f":"Import!Q255","v":0},{"$f":"Import!R255","v":0},{"$f":"Import!S255","v":0},{"$f":"Import!T255","v":0},{"$f":"Import!U255","v":0},{"$f":"Import!V255","v":0},{"$f":"Import!W255","v":0},{"$f":"Import!X255","v":0},{"$f":"Import!Y255","v":0},{"$f":"Import!Z255","v":0},{"$f":"Import!AA255","v":0},{"$f":"Import!AB255","v":0},{"$f":"Import!AC255","v":0},{"$f":"Import!AD255","v":0},{"$f":"Import!AE255","v":0},{"$f":"Import!AF255","v":0},{"$f":"Import!AG255","v":0},{"$f":"Import!AH255","v":0},{"$f":"Import!AI255","v":0},{"$f":"Import!AJ255","v":0},{"$f":"Import!AK255","v":0},{"$f":"Import!AL255","v":0}]
[null,{"$f":"Import!A256","v":0},{"$f":"Import!B256","v":0},{"$f":"Import!H256","v":0},{"$f":"Import!I256","v":0},{"$f":"Import!J256","v":0},{"$f":"Import!K256","v":0},{"$f":"Import!L256","v":0},{"$f":"Import!M256","v":0},{"$f":"Import!N256","v":0},{"$f":"Import!O256","v":0},{"$f":"Import!P256","v":0},{"$f":"Import!Q256","v":0},{"$f":"Import!R256","v":0},{"$f":"Import!S256","v":0},{"$f":"Import!T256","v":0},{"$f":"Import!U256","v":0},{"$f":"Import!V256","v":0},{"$f":"Import!W256","v":0},{"$f":"Import!X256","v":0},{"$f":"Import!Y256","v":0},{"$f":"Import!Z256","v":0},{"$f":"Import!AA256","v":0},{"$f":"Import!AB256","v":0},{"$f":"Import!AC256","v":0},{"$f":"Import!AD256","v":0},{"$f":"Import!AE256","v":0},{"$f":"Import!AF256","v":0},{"$f":"Import!AG256","v":0},{"$f":"Import!AH256","v":0},{"$f":"Import!AI256","v":0},{"$f":"Import!AJ256","v":0},{"$f":"Import!AK256","v":0},{"$f":"Import!AL256","v":0}]
[null,{"$f":"Import!A257","v":0},{"$f":"Import!B257","v":0},{"$f":"Import!H257","v":0},{"$f":"Import!I257","v":0},{"$f":"Import!J257","v":0},{"$f":"Import!K257","v":0},{"$f":"Import!L257","v":0},{"$f":"Import!M257","v":0},{"$f":"Import!N257","v":0},{"$f":"Import!O257","v":0},{"$f":"Import!P257","v":0},{"$f":"Import!Q257","v":0},{"$f":"Import!R257","v":0},{"$f":"Import!S257","v":0},{"$f":"Import!T257","v":0},{"$f":"Import!U257","v":0},{"$f":"Import!V257","v":0},{"$f":"Import!W257","v":0},{"$f":"Import!X257","v":0},{"$f":"Import!Y257","v":0},{"$f":"Import!Z257","v":0},{"$f":"Import!AA257","v":0},{"$f":"Import!AB257","v":0},{"$f":"Import!AC257","v":0},{"$f":"Import!AD257","v":0},{"$f":"Import!AE257","v":0},{"$f":"Import!AF257","v":0},{"$f":"Import!AG257","v":0},{"$f":"Import!AH257","v":0},{"$f":"Import!AI257","v":0},{"$f":"Import!AJ257","v":0},{"$f":"Import!AK257","v":0},{"$f":"Import!AL257","v":0}]
[null,{"$f":"Import!A258","v":0},{"$f":"Import!B258","v":0},{"$f":"Import!H258","v":0},{"$f":"Import!I258","v":0},{"$f":"Import!J258","v":0},{"$f":"Import!K258","v":0},{"$f":"Import!L258","v":0},{"$f":"Import!M258","v":0},{"$f":"Import!N258","v":0},{"$f":"Import!O258","v":0},{"$f":"Import!P258","v":0},{"$f":"Import!Q258","v":0},{"$f":"Import!R258","v":0},{"$f":"Import!S258","v":0},{"$f":"Import!T258","v":0},{"$f":"Import!U258","v":0},{"$f":"Import!V258","v":0},{"$f":"Import!W258","v":0},{"$f":"Import!X258","v":0},{"$f":"Import!Y258","v":0},{"$f":"Import!Z258","v":0},{"$f":"Import!AA258","v":0},{"$f":"Import!AB258","v":0},{"$f":"Import!AC258","v":0},{"$f":"Import!AD258","v":0},{"$f":"Import!AE258","v":0},{"$f":"Import!AF258","v":0},{"$f":"Import!AG258","v":0},{"$f":"Import!AH258","v":0},{"$f":"Import!AI258","v":0},{"$f":"Import!AJ258","v":0},{"$f":"Import!AK258","v":0},{"$f":"Import!AL258","v":0}]
[null,{"$f":"Import!A259","v":0},{"$f":"Import!B259","v":0},{"$f":"Import!H259","v":0},{"$f":"Import!I259","v":0},{"$f":"Import!J259","v":0},{"$f":"Import!K259","v":0},{"$f":"Import!L259","v":0},{"$f":"Import!M259","v":0},{"$f":"Import!N259","v":0},{"$f":"Import!O259","v":0},{"$f":"Import!P259","v":0},{"$f":"Import!Q259","v":0},{"$f":"Import!R259","v":0},{"$f":"Import!S259","v":0},{"$f":"Import!T259","v":0},{"$f":"Import!U259","v":0},{"$f":"Import!V259","v":0},{"$f":"Import!W259","v":0},{"$f":"Import!X259","v":0},{"$f":"Import!Y259","v":0},{"$f":"Import!Z259","v":0},{"$f":"Import!AA259","v":0},{"$f":"Import!AB259","v":0},{"$f":"Import!AC259","v":0},{"$f":"Import!AD259","v":0},{"$f":"Import!AE259","v":0},{"$f":"Import!AF259","v":0},{"$f":"Import!AG259","v":0},{"$f":"Import!AH259","v":0},{"$f":"Import!AI259","v":0},{"$f":"Import!AJ259","v":0},{"$f":"Import!AK259","v":0},{"$f":"Import!AL259","v":0}]
[null,{"$f":"Import!A260","v":0},{"$f":"Import!B260","v":0},{"$f":"Import!H260","v":0},{"$f":"Import!I260","v":0},{"$f":"Import!J260","v":0},{"$f":"Import!K260","v":0},{"$f":"Import!L260","v":0},{"$f":"Import!M260","v":0},{"$f":"Import!N260","v":0},{"$f":"Import!O260","v":0},{"$f":"Import!P260","v":0},{"$f":"Import!Q260","v":0},{"$f":"Import!R260","v":0},{"$f":"Import!S260","v":0},{"$f":"Import!T260","v":0},{"$f":"Import!U260","v":0},{"$f":"Import!V260","v":0},{"$f":"Import!W260","v":0},{"$f":"Import!X260","v":0},{"$f":"Import!Y260","v":0},{"$f":"Import!Z260","v":0},{"$f":"Import!AA260","v":0},{"$f":"Import!AB260","v":0},{"$f":"Import!AC260","v":0},{"$f":"Import!AD260","v":0},{"$f":"Import!AE260","v":0},{"$f":"Import!AF260","v":0},{"$f":"Import!AG260","v":0},{"$f":"Import!AH260","v":0},{"$f":"Import!AI260","v":0},{"$f":"Import!AJ260","v":0},{"$f":"Import!AK260","v":0},{"$f":"Import!AL260","v":0}]
[null,{"$f":"Import!A261","v":0},{"$f":"Import!B261","v":0},{"$f":"Import!H261","v":0},{"$f":"Import!I261","v":0},{"$f":"Import!J261","v":0},{"$f":"Import!K261","v":0},{"$f":"Import!L261","v":0},{"$f":"Import!M261","v":0},{"$f":"Import!N261","v":0},{"$f":"Import!O261","v":0},{"$f":"Import!P261","v":0},{"$f":"Import!Q261","v":0},{"$f":"Import!R261","v":0},{"$f":"Import!S261","v":0},{"$f":"Import!T261","v":0},{"$f":"Import!U261","v":0},{"$f":"Import!V261","v":0},{"$f":"Import!W261","v":0},{"$f":"Import!X261","v":0},{"$f":"Import!Y261","v":0},{"$f":"Import!Z261","v":0},{"$f":"Import!AA261","v":0},{"$f":"Import!AB261","v":0},{"$f":"Import!AC261","v":0},{"$f":"Import!AD261","v":0},{"$f":"Import!AE261","v":0},{"$f":"Import!AF261","v":0},{"$f":"Import!AG261","v":0},{"$f":"Import!AH261","v":0},{"$f":"Import!AI261","v":0},{"$f":"Import!AJ261","v":0},{"$f":"Import!AK261","v":0},{"$f":"Import!AL261","v":0}]
[null,{"$f":"Import!A262","v":0},{"$f":"Import!B262","v":0},{"$f":"Import!H262","v":0},{"$f":"Import!I262","v":0},{"$f":"Import!J262","v":0},{"$f":"Import!K262","v":0},{"$f":"Import!L262","v":0},{"$f":"Import!M262","v":0},{"$f":"Import!N262","v":0},{"$f":"Import!O262","v":0},{"$f":"Import!P262","v":0},{"$f":"Import!Q262","v":0},{"$f":"Import!R262","v":0},{"$f":"Import!S262","v":0},{"$f":"Import!T262","v":0},{"$f":"Import!U262","v":0},{"$f":"Import!V262","v":0},{"$f":"Import!W262","v":0},{"$f":"Import!X262","v":0},{"$f":"Import!Y262","v":0},{"$f":"Import!Z262","v":0},{"$f":"Import!AA262","v":0},{"$f":"Import!AB262","v":0},{"$f":"Import!AC262","v":0},{"$f":"Import!AD262","v":0},{"$f":"Import!AE262","v":0},{"$f":"Import!AF262","v":0},{"$f":"Import!AG262","v":0},{"$f":"Import!AH262","v":0},{"$f":"Import!AI262","v":0},{"$f":"Import!AJ262","v":0},{"$f":"Import!AK262","v":0},{"$f":"Import!AL262","v":0}]
[null,{"$f":"Import!A263","v":0},{"$f":"Import!B263","v":0},{"$f":"Import!H263","v":0},{"$f":"Import!I263","v":0},{"$f":"Import!J263","v":0},{"$f":"Import!K263","v":0},{"$f":"Import!L263","v":0},{"$f":"Import!M263","v":0},{"$f":"Import!N263","v":0},{"$f":"Import!O263","v":0},{"$f":"Import!P263","v":0},{"$f":"Import!Q263","v":0},{"$f":"Import!R263","v":0},{"$f":"Import!S263","v":0},{"$f":"Import!T263","v":0},{"$f":"Import!U263","v":0},{"$f":"Import!V263","v":0},{"$f":"Import!W263","v":0},{"$f":"Import!X263","v":0},{"$f":"Import!Y263","v":0},{"$f":"Import!Z263","v":0},{"$f":"Import!AA263","v":0},{"$f":"Import!AB263","v":0},{"$f":"Import!AC263","v":0},{"$f":"Import!AD263","v":0},{"$f":"Import!AE263","v":0},{"$f":"Import!AF263","v":0},{"$f":"Import!AG263","v":0},{"$f":"Import!AH263","v":0},{"$f":"Import!AI263","v":0},{"$f":"Import!AJ263","v":0},{"$f":"Import!AK263","v":0},{"$f":"Import!AL263","v":0}]
[null,{"$f":"Import!A264","v":0},{"$f":"Import!B264","v":0},{"$f":"Import!H264","v":0},{"$f":"Import!I264","v":0},{"$f":"Import!J264","v":0},{"$f":"Import!K264","v":0},{"$f":"Import!L264","v":0},{"$f":"Import!M264","v":0},{"$f":"Import!N264","v":0},{"$f":"Import!O264","v":0},{"$f":"Import!P264","v":0},{"$f":"Import!Q264","v":0},{"$f":"Import!R264","v":0},{"$f":"Import!S264","v":0},{"$f":"Import!T264","v":0},{"$f":"Import!U264","v":0},{"$f":"Import!V264","v":0},{"$f":"Import!W264","v":0},{"$f":"Import!X264","v":0},{"$f":"Import!Y264","v":0},{"$f":"Import!Z264","v":0},{"$f":"Import!AA264","v":0},{"$f":"Import!AB264","v":0},{"$f":"Import!AC264","v":0},{"$f":"Import!AD264","v":0},{"$f":"Import!AE264","v":0},{"$f":"Import!AF264","v":0},{"$f":"Import!AG264","v":0},{"$f":"Import!AH264","v":0},{"$f":"Import!AI264","v":0},{"$f":"Import!AJ264","v":0},{"$f":"Import!AK264","v":0},{"$f":"Import!AL264","v":0}]
[null,{"$f":"Import!A265","v":0},{"$f":"Import!B265","v":0},{"$f":"Import!H265","v":0},{"$f":"Import!I265","v":0},{"$f":"Import!J265","v":0},{"$f":"Import!K265","v":0},{"$f":"Import!L265","v":0},{"$f":"Import!M265","v":0},{"$f":"Import!N265","v":0},{"$f":"Import!O265","v":0},{"$f":"Import!P265","v":0},{"$f":"Import!Q265","v":0},{"$f":"Import!R265","v":0},{"$f":"Import!S265","v":0},{"$f":"Import!T265","v":0},{"$f":"Import!U265","v":0},{"$f":"Import!V265","v":0},{"$f":"Import!W265","v":0},{"$f":"Import!X265","v":0},{"$f":"Import!Y265","v":0},{"$f":"Import!Z265","v":0},{"$f":"Import!AA265","v":0},{"$f":"Import!AB265","v":0},{"$f":"Import!AC265","v":0},{"$f":"Import!AD265","v":0},{"$f":"Import!AE265","v":0},{"$f":"Import!AF265","v":0},{"$f":"Import!AG265","v":0},{"$f":"Import!AH265","v":0},{"$f":"Import!AI265","v":0},{"$f":"Import!AJ265","v":0},{"$f":"Import!AK265","v":0},{"$f":"Import!AL265","v":0}]
[null,{"$f":"Import!A266","v":0},{"$f":"Import!B266","v":0},{"$f":"Import!H266","v":0},{"$f":"Import!I266","v":0},{"$f":"Import!J266","v":0},{"$f":"Import!K266","v":0},{"$f":"Import!L266","v":0},{"$f":"Import!M266","v":0},{"$f":"Import!N266","v":0},{"$f":"Import!O266","v":0},{"$f":"Import!P266","v":0},{"$f":"Import!Q266","v":0},{"$f":"Import!R266","v":0},{"$f":"Import!S266","v":0},{"$f":"Import!T266","v":0},{"$f":"Import!U266","v":0},{"$f":"Import!V266","v":0},{"$f":"Import!W266","v":0},{"$f":"Import!X266","v":0},{"$f":"Import!Y266","v":0},{"$f":"Import!Z266","v":0},{"$f":"Import!AA266","v":0},{"$f":"Import!AB266","v":0},{"$f":"Import!AC266","v":0},{"$f":"Import!AD266","v":0},{"$f":"Import!AE266","v":0},{"$f":"Import!AF266","v":0},{"$f":"Import!AG266","v":0},{"$f":"Import!AH266","v":0},{"$f":"Import!AI266","v":0},{"$f":"Import!AJ266","v":0},{"$f":"Import!AK266","v":0},{"$f":"Import!AL266","v":0}]
[null,{"$f":"Import!A267","v":0},{"$f":"Import!B267","v":0},{"$f":"Import!H267","v":0},{"$f":"Import!I267","v":0},{"$f":"Import!J267","v":0},{"$f":"Import!K267","v":0},{"$f":"Import!L267","v":0},{"$f":"Import!M267","v":0},{"$f":"Import!N267","v":0},{"$f":"Import!O267","v":0},{"$f":"Import!P267","v":0},{"$f":"Import!Q267","v":0},{"$f":"Import!R267","v":0},{"$f":"Import!S267","v":0},{"$f":"Import!T267","v":0},{"$f":"Import!U267","v":0},{"$f":"Import!V267","v":0},{"$f":"Import!W267","v":0},{"$f":"Import!X267","v":0},{"$f":"Import!Y267","v":0},{"$f":"Import!Z267","v":0},{"$f":"Import!AA267","v":0},{"$f":"Import!AB267","v":0},{"$f":"Import!AC267","v":0},{"$f":"Import!AD267","v":0},{"$f":"Import!AE267","v":0},{"$f":"Import!AF267","v":0},{"$f":"Import!AG267","v":0},{"$f":"Import!AH267","v":0},{"$f":"Import!AI267","v":0},{"$f":"Import!AJ267","v":0},{"$f":"Import!AK267","v":0},{"$f":"Import!AL267","v":0}]
[null,{"$f":"Import!A268","v":0},{"$f":"Import!B268","v":0},{"$f":"Import!H268","v":0},{"$f":"Import!I268","v":0},{"$f":"Import!J268","v":0},{"$f":"Import!K268","v":0},{"$f":"Import!L268","v":0},{"$f":"Import!M268","v":0},{"$f":"Import!N268","v":0},{"$f":"Import!O268","v":0},{"$f":"Import!P268","v":0},{"$f":"Import!Q268","v":0},{"$f":"Import!R268","v":0},{"$f":"Import!S268","v":0},{"$f":"Import!T268","v":0},{"$f":"Import!U268","v":0},{"$f":"Import!V268","v":0},{"$f":"Import!W268","v":0},{"$f":"Import!X268","v":0},{"$f":"Import!Y268","v":0},{"$f":"Import!Z268","v":0},{"$f":"Import!AA268","v":0},{"$f":"Import!AB268","v":0},{"$f":"Import!AC268","v":0},{"$f":"Import!AD268","v":0},{"$f":"Import!AE268","v":0},{"$f":"Import!AF268","v":0},{"$f":"Import!AG268","v":0},{"$f":"Import!AH268","v":0},{"$f":"Import!AI268","v":0},{"$f":"Import!AJ268","v":0},{"$f":"Import!AK268","v":0},{"$f":"Import!AL268","v":0}]
[null,{"$f":"Import!A269","v":0},{"$f":"Import!B269","v":0},{"$f":"Import!H269","v":0},{"$f":"Import!I269","v":0},{"$f":"Import!J269","v":0},{"$f":"Import!K269","v":0},{"$f":"Import!L269","v":0},{"$f":"Import!M269","v":0},{"$f":"Import!N269","v":0},{"$f":"Import!O269","v":0},{"$f":"Import!P269","v":0},{"$f":"Import!Q269","v":0},{"$f":"Import!R269","v":0},{"$f":"Import!S269","v":0},{"$f":"Import!T269","v":0},{"$f":"Import!U269","v":0},{"$f":"Import!V269","v":0},{"$f":"Import!W269","v":0},{"$f":"Import!X269","v":0},{"$f":"Import!Y269","v":0},{"$f":"Import!Z269","v":0},{"$f":"Import!AA269","v":0},{"$f":"Import!AB269","v":0},{"$f":"Import!AC269","v":0},{"$f":"Import!AD269","v":0},{"$f":"Import!AE269","v":0},{"$f":"Import!AF269","v":0},{"$f":"Import!AG269","v":0},{"$f":"Import!AH269","v":0},{"$f":"Import!AI269","v":0},{"$f":"Import!AJ269","v":0},{"$f":"Import!AK269","v":0},{"$f":"Import!AL269","v":0}]
[null,{"$f":"Import!A270","v":0},{"$f":"Import!B270","v":0},{"$f":"Import!H270","v":0},{"$f":"Import!I270","v":0},{"$f":"Import!J270","v":0},{"$f":"Import!K270","v":0},{"$f":"Import!L270","v":0},{"$f":"Import!M270","v":0},{"$f":"Import!N270","v":0},{"$f":"Import!O270","v":0},{"$f":"Import!P270","v":0},{"$f":"Import!Q270","v":0},{"$f":"Import!R270","v":0},{"$f":"Import!S270","v":0},{"$f":"Import!T270","v":0},{"$f":"Import!U270","v":0},{"$f":"Import!V270","v":0},{"$f":"Import!W270","v":0},{"$f":"Import!X270","v":0},{"$f":"Import!Y270","v":0},{"$f":"Import!Z270","v":0},{"$f":"Import!AA270","v":0},{"$f":"Import!AB270","v":0},{"$f":"Import!AC270","v":0},{"$f":"Import!AD270","v":0},{"$f":"Import!AE270","v":0},{"$f":"Import!AF270","v":0},{"$f":"Import!AG270","v":0},{"$f":"Import!AH270","v":0},{"$f":"Import!AI270","v":0},{"$f":"Import!AJ270","v":0},{"$f":"Import!AK270","v":0},{"$f":"Import!AL270","v":0}]
[null,{"$f":"Import!A271","v":0},{"$f":"Import!B271","v":0},{"$f":"Import!H271","v":0},{"$f":"Import!I271","v":0},{"$f":"Import!J271","v":0},{"$f":"Import!K271","v":0},{"$f":"Import!L271","v":0},{"$f":"Import!M271","v":0},{"$f":"Import!N271","v":0},{"$f":"Import!O271","v":0},{"$f":"Import!P271","v":0},{"$f":"Import!Q271","v":0},{"$f":"Import!R271","v":0},{"$f":"Import!S271","v":0},{"$f":"Import!T271","v":0},{"$f":"Import!U271","v":0},{"$f":"Import!V271","v":0},{"$f":"Import!W271","v":0},{"$f":"Import!X271","v":0},{"$f":"Import!Y271","v":0},{"$f":"Import!Z271","v":0},{"$f":"Import!AA271","v":0},{"$f":"Import!AB271","v":0},{"$f":"Import!AC271","v":0},{"$f":"Import!AD271","v":0},{"$f":"Import!AE271","v":0},{"$f":"Import!AF271","v":0},{"$f":"Import!AG271","v":0},{"$f":"Import!AH271","v":0},{"$f":"Import!AI271","v":0},{"$f":"Import!AJ271","v":0},{"$f":"Import!AK271","v":0},{"$f":"Import!AL271","v":0}]
[null,{"$f":"Import!A272","v":0},{"$f":"Import!B272","v":0},{"$f":"Import!H272","v":0},{"$f":"Import!I272","v":0},{"$f":"Import!J272","v":0},{"$f":"Import!K272","v":0},{"$f":"Import!L272","v":0},{"$f":"Import!M272","v":0},{"$f":"Import!N272","v":0},{"$f":"Import!O272","v":0},{"$f":"Import!P272","v":0},{"$f":"Import!Q272","v":0},{"$f":"Import!R272","v":0},{"$f":"Import!S272","v":0},{"$f":"Import!T272","v":0},{"$f":"Import!U272","v":0},{"$f":"Import!V272","v":0},{"$f":"Import!W272","v":0},{"$f":"Import!X272","v":0},{"$f":"Import!Y272","v":0},{"$f":"Import!Z272","v":0},{"$f":"Import!AA272","v":0},{"$f":"Import!AB272","v":0},{"$f":"Import!AC272","v":0},{"$f":"Import!AD272","v":0},{"$f":"Import!AE272","v":0},{"$f":"Import!AF272","v":0},{"$f":"Import!AG272","v":0},{"$f":"Import!AH272","v":0},{"$f":"Import!AI272","v":0},{"$f":"Import!AJ272","v":0},{"$f":"Import!AK272","v":0},{"$f":"Import!AL272","v":0}]
[null,{"$f":"Import!A273","v":0},{"$f":"Import!B273","v":0},{"$f":"Import!H273","v":0},{"$f":"Import!I273","v":0},{"$f":"Import!J273","v":0},{"$f":"Import!K273","v":0},{"$f":"Import!L273","v":0},{"$f":"Import!M273","v":0},{"$f":"Import!N273","v":0},{"$f":"Import!O273","v":0},{"$f":"Import!P273","v":0},{"$f":"Import!Q273","v":0},{"$f":"Import!R273","v":0},{"$f":"Import!S273","v":0},{"$f":"Import!T273","v":0},{"$f":"Import!U273","v":0},{"$f":"Import!V273","v":0},{"$f":"Import!W273","v":0},{"$f":"Import!X273","v":0},{"$f":"Import!Y273","v":0},{"$f":"Import!Z273","v":0},{"$f":"Import!AA273","v":0},{"$f":"Import!AB273","v":0},{"$f":"Import!AC273","v":0},{"$f":"Import!AD273","v":0},{"$f":"Import!AE273","v":0},{"$f":"Import!AF273","v":0},{"$f":"Import!AG273","v":0},{"$f":"Import!AH273","v":0},{"$f":"Import!AI273","v":0},{"$f":"Import!AJ273","v":0},{"$f":"Import!AK273","v":0},{"$f":"Import!AL273","v":0}]
[null,{"$f":"Import!A274","v":0},{"$f":"Import!B274","v":0},{"$f":"Import!H274","v":0},{"$f":"Import!I274","v":0},{"$f":"Import!J274","v":0},{"$f":"Import!K274","v":0},{"$f":"Import!L274","v":0},{"$f":"Import!M274","v":0},{"$f":"Import!N274","v":0},{"$f":"Import!O274","v":0},{"$f":"Import!P274","v":0},{"$f":"Import!Q274","v":0},{"$f":"Import!R274","v":0},{"$f":"Import!S274","v":0},{"$f":"Import!T274","v":0},{"$f":"Import!U274","v":0},{"$f":"Import!V274","v":0},{"$f":"Import!W274","v":0},{"$f":"Import!X274","v":0},{"$f":"Import!Y274","v":0},{"$f":"Import!Z274","v":0},{"$f":"Import!AA274","v":0},{"$f":"Import!AB274","v":0},{"$f":"Import!AC274","v":0},{"$f":"Import!AD274","v":0},{"$f":"Import!AE274","v":0},{"$f":"Import!AF274","v":0},{"$f":"Import!AG274","v":0},{"$f":"Import!AH274","v":0},{"$f":"Import!AI274","v":0},{"$f":"Import!AJ274","v":0},{"$f":"Import!AK274","v":0},{"$f":"Import!AL274","v":0}]
[null,{"$f":"Import!A275","v":0},{"$f":"Import!B275","v":0},{"$f":"Import!H275","v":0},{"$f":"Import!I275","v":0},{"$f":"Import!J275","v":0},{"$f":"Import!K275","v":0},{"$f":"Import!L275","v":0},{"$f":"Import!M275","v":0},{"$f":"Import!N275","v":0},{"$f":"Import!O275","v":0},{"$f":"Import!P275","v":0},{"$f":"Import!Q275","v":0},{"$f":"Import!R275","v":0},{"$f":"Import!S275","v":0},{"$f":"Import!T275","v":0},{"$f":"Import!U275","v":0},{"$f":"Import!V275","v":0},{"$f":"Import!W275","v":0},{"$f":"Import!X275","v":0},{"$f":"Import!Y275","v":0},{"$f":"Import!Z275","v":0},{"$f":"Import!AA275","v":0},{"$f":"Import!AB275","v":0},{"$f":"Import!AC275","v":0},{"$f":"Import!AD275","v":0},{"$f":"Import!AE275","v":0},{"$f":"Import!AF275","v":0},{"$f":"Import!AG275","v":0},{"$f":"Import!AH275","v":0},{"$f":"Import!AI275","v":0},{"$f":"Import!AJ275","v":0},{"$f":"Import!AK275","v":0},{"$f":"Import!AL275","v":0}]
[null,{"$f":"Import!A276","v":0},{"$f":"Import!B276","v":0},{"$f":"Import!H276","v":0},{"$f":"Import!I276","v":0},{"$f":"Import!J276","v":0},{"$f":"Import!K276","v":0},{"$f":"Import!L276","v":0},{"$f":"Import!M276","v":0},{"$f":"Import!N276","v":0},{"$f":"Import!O276","v":0},{"$f":"Import!P276","v":0},{"$f":"Import!Q276","v":0},{"$f":"Import!R276","v":0},{"$f":"Import!S276","v":0},{"$f":"Import!T276","v":0},{"$f":"Import!U276","v":0},{"$f":"Import!V276","v":0},{"$f":"Import!W276","v":0},{"$f":"Import!X276","v":0},{"$f":"Import!Y276","v":0},{"$f":"Import!Z276","v":0},{"$f":"Import!AA276","v":0},{"$f":"Import!AB276","v":0},{"$f":"Import!AC276","v":0},{"$f":"Import!AD276","v":0},{"$f":"Import!AE276","v":0},{"$f":"Import!AF276","v":0},{"$f":"Import!AG276","v":0},{"$f":"Import!AH276","v":0},{"$f":"Import!AI276","v":0},{"$f":"Import!AJ276","v":0},{"$f":"Import!AK276","v":0},{"$f":"Import!AL276","v":0}]
[null,{"$f":"Import!A277","v":0},{"$f":"Import!B277","v":0},{"$f":"Import!H277","v":0},{"$f":"Import!I277","v":0},{"$f":"Import!J277","v":0},{"$f":"Import!K277","v":0},{"$f":"Import!L277","v":0},{"$f":"Import!M277","v":0},{"$f":"Import!N277","v":0},{"$f":"Import!O277","v":0},{"$f":"Import!P277","v":0},{"$f":"Import!Q277","v":0},{"$f":"Import!R277","v":0},{"$f":"Import!S277","v":0},{"$f":"Import!T277","v":0},{"$f":"Import!U277","v":0},{"$f":"Import!V277","v":0},{"$f":"Import!W277","v":0},{"$f":"Import!X277","v":0},{"$f":"Import!Y277","v":0},{"$f":"Import!Z277","v":0},{"$f":"Import!AA277","v":0},{"$f":"Import!AB277","v":0},{"$f":"Import!AC277","v":0},{"$f":"Import!AD277","v":0},{"$f":"Import!AE277","v":0},{"$f":"Import!AF277","v":0},{"$f":"Import!AG277","v":0},{"$f":"Import!AH277","v":0},{"$f":"Import!AI277","v":0},{"$f":"Import!AJ277","v":0},{"$f":"Import!AK277","v":0},{"$f":"Import!AL277","v":0}]
[null,{"$f":"Import!A278","v":0},{"$f":"Import!B278","v":0},{"$f":"Import!H278","v":0},{"$f":"Import!I278","v":0},{"$f":"Import!J278","v":0},{"$f":"Import!K278","v":0},{"$f":"Import!L278","v":0},{"$f":"Import!M278","v":0},{"$f":"Import!N278","v":0},{"$f":"Import!O278","v":0},{"$f":"Import!P278","v":0},{"$f":"Import!Q278","v":0},{"$f":"Import!R278","v":0},{"$f":"Import!S278","v":0},{"$f":"Import!T278","v":0},{"$f":"Import!U278","v":0},{"$f":"Import!V278","v":0},{"$f":"Import!W278","v":0},{"$f":"Import!X278","v":0},{"$f":"Import!Y278","v":0},{"$f":"Import!Z278","v":0},{"$f":"Import!AA278","v":0},{"$f":"Import!AB278","v":0},{"$f":"Import!AC278","v":0},{"$f":"Import!AD278","v":0},{"$f":"Import!AE278","v":0},{"$f":"Import!AF278","v":0},{"$f":"Import!AG278","v":0},{"$f":"Import!AH278","v":0},{"$f":"Import!AI278","v":0},{"$f":"Import!AJ278","v":0},{"$f":"Import!AK278","v":0},{"$f":"Import!AL278","v":0}]
[null,{"$f":"Import!A279","v":0},{"$f":"Import!B279","v":0},{"$f":"Import!H279","v":0},{"$f":"Import!I279","v":0},{"$f":"Import!J279","v":0},{"$f":"Import!K279","v":0},{"$f":"Import!L279","v":0},{"$f":"Import!M279","v":0},{"$f":"Import!N279","v":0},{"$f":"Import!O279","v":0},{"$f":"Import!P279","v":0},{"$f":"Import!Q279","v":0},{"$f":"Import!R279","v":0},{"$f":"Import!S279","v":0},{"$f":"Import!T279","v":0},{"$f":"Import!U279","v":0},{"$f":"Import!V279","v":0},{"$f":"Import!W279","v":0},{"$f":"Import!X279","v":0},{"$f":"Import!Y279","v":0},{"$f":"Import!Z279","v":0},{"$f":"Import!AA279","v":0},{"$f":"Import!AB279","v":0},{"$f":"Import!AC279","v":0},{"$f":"Import!AD279","v":0},{"$f":"Import!AE279","v":0},{"$f":"Import!AF279","v":0},{"$f":"Import!AG279","v":0},{"$f":"Import!AH279","v":0},{"$f":"Import!AI279","v":0},{"$f":"Import!AJ279","v":0},{"$f":"Import!AK279","v":0},{"$f":"Import!AL279","v":0}]
[null,{"$f":"Import!A280","v":0},{"$f":"Import!B280","v":0},{"$f":"Import!H280","v":0},{"$f":"Import!I280","v":0},{"$f":"Import!J280","v":0},{"$f":"Import!K280","v":0},{"$f":"Import!L280","v":0},{"$f":"Import!M280","v":0},{"$f":"Import!N280","v":0},{"$f":"Import!O280","v":0},{"$f":"Import!P280","v":0},{"$f":"Import!Q280","v":0},{"$f":"Import!R280","v":0},{"$f":"Import!S280","v":0},{"$f":"Import!T280","v":0},{"$f":"Import!U280","v":0},{"$f":"Import!V280","v":0},{"$f":"Import!W280","v":0},{"$f":"Import!X280","v":0},{"$f":"Import!Y280","v":0},{"$f":"Import!Z280","v":0},{"$f":"Import!AA280","v":0},{"$f":"Import!AB280","v":0},{"$f":"Import!AC280","v":0},{"$f":"Import!AD280","v":0},{"$f":"Import!AE280","v":0},{"$f":"Import!AF280","v":0},{"$f":"Import!AG280","v":0},{"$f":"Import!AH280","v":0},{"$f":"Import!AI280","v":0},{"$f":"Import!AJ280","v":0},{"$f":"Import!AK280","v":0},{"$f":"Import!AL280","v":0}]
[null,{"$f":"Import!A281","v":0},{"$f":"Import!B281","v":0},{"$f":"Import!H281","v":0},{"$f":"Import!I281","v":0},{"$f":"Import!J281","v":0},{"$f":"Import!K281","v":0},{"$f":"Import!L281","v":0},{"$f":"Import!M281","v":0},{"$f":"Import!N281","v":0},{"$f":"Import!O281","v":0},{"$f":"Import!P281","v":0},{"$f":"Import!Q281","v":0},{"$f":"Import!R281","v":0},{"$f":"Import!S281","v":0},{"$f":"Import!T281","v":0},{"$f":"Import!U281","v":0},{"$f":"Import!V281","v":0},{"$f":"Import!W281","v":0},{"$f":"Import!X281","v":0},{"$f":"Import!Y281","v":0},{"$f":"Import!Z281","v":0},{"$f":"Import!AA281","v":0},{"$f":"Import!AB281","v":0},{"$f":"Import!AC281","v":0},{"$f":"Import!AD281","v":0},{"$f":"Import!AE281","v":0},{"$f":"Import!AF281","v":0},{"$f":"Import!AG281","v":0},{"$f":"Import!AH281","v":0},{"$f":"Import!AI281","v":0},{"$f":"Import!AJ281","v":0},{"$f":"Import!AK281","v":0},{"$f":"Import!AL281","v":0}]
[null,{"$f":"Import!A282","v":0},{"$f":"Import!B282","v":0},{"$f":"Import!H282","v":0},{"$f":"Import!I282","v":0},{"$f":"Import!J282","v":0},{"$f":"Import!K282","v":0},{"$f":"Import!L282","v":0},{"$f":"Import!M282","v":0},{"$f":"Import!N282","v":0},{"$f":"Import!O282","v":0},{"$f":"Import!P282","v":0},{"$f":"Import!Q282","v":0},{"$f":"Import!R282","v":0},{"$f":"Import!S282","v":0},{"$f":"Import!T282","v":0},{"$f":"Import!U282","v":0},{"$f":"Import!V282","v":0},{"$f":"Import!W282","v":0},{"$f":"Import!X282","v":0},{"$f":"Import!Y282","v":0},{"$f":"Import!Z282","v":0},{"$f":"Import!AA282","v":0},{"$f":"Import!AB282","v":0},{"$f":"Import!AC282","v":0},{"$f":"Import!AD282","v":0},{"$f":"Import!AE282","v":0},{"$f":"Import!AF282","v":0},{"$f":"Import!AG282","v":0},{"$f":"Import!AH282","v":0},{"$f":"Import!AI282","v":0},{"$f":"Import!AJ282","v":0},{"$f":"Import!AK282","v":0},{"$f":"Import!AL282","v":0}]
[null,{"$f":"Import!A283","v":0},{"$f":"Import!B283","v":0},{"$f":"Import!H283","v":0},{"$f":"Import!I283","v":0},{"$f":"Import!J283","v":0},{"$f":"Import!K283","v":0},{"$f":"Import!L283","v":0},{"$f":"Import!M283","v":0},{"$f":"Import!N283","v":0},{"$f":"Import!O283","v":0},{"$f":"Import!P283","v":0},{"$f":"Import!Q283","v":0},{"$f":"Import!R283","v":0},{"$f":"Import!S283","v":0},{"$f":"Import!T283","v":0},{"$f":"Import!U283","v":0},{"$f":"Import!V283","v":0},{"$f":"Import!W283","v":0},{"$f":"Import!X283","v":0},{"$f":"Import!Y283","v":0},{"$f":"Import!Z283","v":0},{"$f":"Import!AA283","v":0},{"$f":"Import!AB283","v":0},{"$f":"Import!AC283","v":0},{"$f":"Import!AD283","v":0},{"$f":"Import!AE283","v":0},{"$f":"Import!AF283","v":0},{"$f":"Import!AG283","v":0},{"$f":"Import!AH283","v":0},{"$f":"Import!AI283","v":0},{"$f":"Import!AJ283","v":0},{"$f":"Import!AK283","v":0},{"$f":"Import!AL283","v":0}]
[null,{"$f":"Import!A284","v":0},{"$f":"Import!B284","v":0},{"$f":"Import!H284","v":0},{"$f":"Import!I284","v":0},{"$f":"Import!J284","v":0},{"$f":"Import!K284","v":0},{"$f":"Import!L284","v":0},{"$f":"Import!M284","v":0},{"$f":"Import!N284","v":0},{"$f":"Import!O284","v":0},{"$f":"Import!P284","v":0},{"$f":"Import!Q284","v":0},{"$f":"Import!R284","v":0},{"$f":"Import!S284","v":0},{"$f":"Import!T284","v":0},{"$f":"Import!U284","v":0},{"$f":"Import!V284","v":0},{"$f":"Import!W284","v":0},{"$f":"Import!X284","v":0},{"$f":"Import!Y284","v":0},{"$f":"Import!Z284","v":0},{"$f":"Import!AA284","v":0},{"$f":"Import!AB284","v":0},{"$f":"Import!AC284","v":0},{"$f":"Import!AD284","v":0},{"$f":"Import!AE284","v":0},{"$f":"Import!AF284","v":0},{"$f":"Import!AG284","v":0},{"$f":"Import!AH284","v":0},{"$f":"Import!AI284","v":0},{"$f":"Import!AJ284","v":0},{"$f":"Import!AK284","v":0},{"$f":"Import!AL284","v":0}]
[null,{"$f":"Import!A285","v":0},{"$f":"Import!B285","v":0},{"$f":"Import!H285","v":0},{"$f":"Import!I285","v":0},{"$f":"Import!J285","v":0},{"$f":"Import!K285","v":0},{"$f":"Import!L285","v":0},{"$f":"Import!M285","v":0},{"$f":"Import!N285","v":0},{"$f":"Import!O285","v":0},{"$f":"Import!P285","v":0},{"$f":"Import!Q285","v":0},{"$f":"Import!R285","v":0},{"$f":"Import!S285","v":0},{"$f":"Import!T285","v":0},{"$f":"Import!U285","v":0},{"$f":"Import!V285","v":0},{"$f":"Import!W285","v":0},{"$f":"Import!X285","v":0},{"$f":"Import!Y285","v":0},{"$f":"Import!Z285","v":0},{"$f":"Import!AA285","v":0},{"$f":"Import!AB285","v":0},{"$f":"Import!AC285","v":0},{"$f":"Import!AD285","v":0},{"$f":"Import!AE285","v":0},{"$f":"Import!AF285","v":0},{"$f":"Import!AG285","v":0},{"$f":"Import!AH285","v":0},{"$f":"Import!AI285","v":0},{"$f":"Import!AJ285","v":0},{"$f":"Import!AK285","v":0},{"$f":"Import!AL285","v":0}]
[null,{"$f":"Import!A286","v":0},{"$f":"Import!B286","v":0},{"$f":"Import!H286","v":0},{"$f":"Import!I286","v":0},{"$f":"Import!J286","v":0},{"$f":"Import!K286","v":0},{"$f":"Import!L286","v":0},{"$f":"Import!M286","v":0},{"$f":"Import!N286","v":0},{"$f":"Import!O286","v":0},{"$f":"Import!P286","v":0},{"$f":"Import!Q286","v":0},{"$f":"Import!R286","v":0},{"$f":"Import!S286","v":0},{"$f":"Import!T286","v":0},{"$f":"Import!U286","v":0},{"$f":"Import!V286","v":0},{"$f":"Import!W286","v":0},{"$f":"Import!X286","v":0},{"$f":"Import!Y286","v":0},{"$f":"Import!Z286","v":0},{"$f":"Import!AA286","v":0},{"$f":"Import!AB286","v":0},{"$f":"Import!AC286","v":0},{"$f":"Import!AD286","v":0},{"$f":"Import!AE286","v":0},{"$f":"Import!AF286","v":0},{"$f":"Import!AG286","v":0},{"$f":"Import!AH286","v":0},{"$f":"Import!AI286","v":0},{"$f":"Import!AJ286","v":0},{"$f":"Import!AK286","v":0},{"$f":"Import!AL286","v":0}]
[null,{"$f":"Import!A287","v":0},{"$f":"Import!B287","v":0},{"$f":"Import!H287","v":0},{"$f":"Import!I287","v":0},{"$f":"Import!J287","v":0},{"$f":"Import!K287","v":0},{"$f":"Import!L287","v":0},{"$f":"Import!M287","v":0},{"$f":"Import!N287","v":0},{"$f":"Import!O287","v":0},{"$f":"Import!P287","v":0},{"$f":"Import!Q287","v":0},{"$f":"Import!R287","v":0},{"$f":"Import!S287","v":0},{"$f":"Import!T287","v":0},{"$f":"Import!U287","v":0},{"$f":"Import!V287","v":0},{"$f":"Import!W287","v":0},{"$f":"Import!X287","v":0},{"$f":"Import!Y287","v":0},{"$f":"Import!Z287","v":0},{"$f":"Import!AA287","v":0},{"$f":"Import!AB287","v":0},{"$f":"Import!AC287","v":0},{"$f":"Import!AD287","v":0},{"$f":"Import!AE287","v":0},{"$f":"Import!AF287","v":0},{"$f":"Import!AG287","v":0},{"$f":"Import!AH287","v":0},{"$f":"Import!AI287","v":0},{"$f":"Import!AJ287","v":0},{"$f":"Import!AK287","v":0},{"$f":"Import!AL287","v":0}]
[null,{"$f":"Import!A288","v":0},{"$f":"Import!B288","v":0},{"$f":"Import!H288","v":0},{"$f":"Import!I288","v":0},{"$f":"Import!J288","v":0},{"$f":"Import!K288","v":0},{"$f":"Import!L288","v":0},{"$f":"Import!M288","v":0},{"$f":"Import!N288","v":0},{"$f":"Import!O288","v":0},{"$f":"Import!P288","v":0},{"$f":"Import!Q288","v":0},{"$f":"Import!R288","v":0},{"$f":"Import!S288","v":0},{"$f":"Import!T288","v":0},{"$f":"Import!U288","v":0},{"$f":"Import!V288","v":0},{"$f":"Import!W288","v":0},{"$f":"Import!X288","v":0},{"$f":"Import!Y288","v":0},{"$f":"Import!Z288","v":0},{"$f":"Import!AA288","v":0},{"$f":"Import!AB288","v":0},{"$f":"Import!AC288","v":0},{"$f":"Import!AD288","v":0},{"$f":"Import!AE288","v":0},{"$f":"Import!AF288","v":0},{"$f":"Import!AG288","v":0},{"$f":"Import!AH288","v":0},{"$f":"Import!AI288","v":0},{"$f":"Import!AJ288","v":0},{"$f":"Import!AK288","v":0},{"$f":"Import!AL288","v":0}]
[null,{"$f":"Import!A289","v":0},{"$f":"Import!B289","v":0},{"$f":"Import!H289","v":0},{"$f":"Import!I289","v":0},{"$f":"Import!J289","v":0},{"$f":"Import!K289","v":0},{"$f":"Import!L289","v":0},{"$f":"Import!M289","v":0},{"$f":"Import!N289","v":0},{"$f":"Import!O289","v":0},{"$f":"Import!P289","v":0},{"$f":"Import!Q289","v":0},{"$f":"Import!R289","v":0},{"$f":"Import!S289","v":0},{"$f":"Import!T289","v":0},{"$f":"Import!U289","v":0},{"$f":"Import!V289","v":0},{"$f":"Import!W289","v":0},{"$f":"Import!X289","v":0},{"$f":"Import!Y289","v":0},{"$f":"Import!Z289","v":0},{"$f":"Import!AA289","v":0},{"$f":"Import!AB289","v":0},{"$f":"Import!AC289","v":0},{"$f":"Import!AD289","v":0},{"$f":"Import!AE289","v":0},{"$f":"Import!AF289","v":0},{"$f":"Import!AG289","v":0},{"$f":"Import!AH289","v":0},{"$f":"Import!AI289","v":0},{"$f":"Import!AJ289","v":0},{"$f":"Import!AK289","v":0},{"$f":"Import!AL289","v":0}]
[null,{"$f":"Import!A290","v":0},{"$f":"Import!B290","v":0},{"$f":"Import!H290","v":0},{"$f":"Import!I290","v":0},{"$f":"Import!J290","v":0},{"$f":"Import!K290","v":0},{"$f":"Import!L290","v":0},{"$f":"Import!M290","v":0},{"$f":"Import!N290","v":0},{"$f":"Import!O290","v":0},{"$f":"Import!P290","v":0},{"$f":"Import!Q290","v":0},{"$f":"Import!R290","v":0},{"$f":"Import!S290","v":0},{"$f":"Import!T290","v":0},{"$f":"Import!U290","v":0},{"$f":"Import!V290","v":0},{"$f":"Import!W290","v":0},{"$f":"Import!X290","v":0},{"$f":"Import!Y290","v":0},{"$f":"Import!Z290","v":0},{"$f":"Import!AA290","v":0},{"$f":"Import!AB290","v":0},{"$f":"Import!AC290","v":0},{"$f":"Import!AD290","v":0},{"$f":"Import!AE290","v":0},{"$f":"Import!AF290","v":0},{"$f":"Import!AG290","v":0},{"$f":"Import!AH290","v":0},{"$f":"Import!AI290","v":0},{"$f":"Import!AJ290","v":0},{"$f":"Import!AK290","v":0},{"$f":"Import!AL290","v":0}]
[null,{"$f":"Import!A291","v":0},{"$f":"Import!B291","v":0},{"$f":"Import!H291","v":0},{"$f":"Import!I291","v":0},{"$f":"Import!J291","v":0},{"$f":"Import!K291","v":0},{"$f":"Import!L291","v":0},{"$f":"Import!M291","v":0},{"$f":"Import!N291","v":0},{"$f":"Import!O291","v":0},{"$f":"Import!P291","v":0},{"$f":"Import!Q291","v":0},{"$f":"Import!R291","v":0},{"$f":"Import!S291","v":0},{"$f":"Import!T291","v":0},{"$f":"Import!U291","v":0},{"$f":"Import!V291","v":0},{"$f":"Import!W291","v":0},{"$f":"Import!X291","v":0},{"$f":"Import!Y291","v":0},{"$f":"Import!Z291","v":0},{"$f":"Import!AA291","v":0},{"$f":"Import!AB291","v":0},{"$f":"Import!AC291","v":0},{"$f":"Import!AD291","v":0},{"$f":"Import!AE291","v":0},{"$f":"Import!AF291","v":0},{"$f":"Import!AG291","v":0},{"$f":"Import!AH291","v":0},{"$f":"Import!AI291","v":0},{"$f":"Import!AJ291","v":0},{"$f":"Import!AK291","v":0},{"$f":"Import!AL291","v":0}]
[null,{"$f":"Import!A292","v":0},{"$f":"Import!B292","v":0},{"$f":"Import!H292","v":0},{"$f":"Import!I292","v":0},{"$f":"Import!J292","v":0},{"$f":"Import!K292","v":0},{"$f":"Import!L292","v":0},{"$f":"Import!M292","v":0},{"$f":"Import!N292","v":0},{"$f":"Import!O292","v":0},{"$f":"Import!P292","v":0},{"$f":"Import!Q292","v":0},{"$f":"Import!R292","v":0},{"$f":"Import!S292","v":0},{"$f":"Import!T292","v":0},{"$f":"Import!U292","v":0},{"$f":"Import!V292","v":0},{"$f":"Import!W292","v":0},{"$f":"Import!X292","v":0},{"$f":"Import!Y292","v":0},{"$f":"Import!Z292","v":0},{"$f":"Import!AA292","v":0},{"$f":"Import!AB292","v":0},{"$f":"Import!AC292","v":0},{"$f":"Import!AD292","v":0},{"$f":"Import!AE292","v":0},{"$f":"Import!AF292","v":0},{"$f":"Import!AG292","v":0},{"$f":"Import!AH292","v":0},{"$f":"Import!AI292","v":0},{"$f":"Import!AJ292","v":0},{"$f":"Import!AK292","v":0},{"$f":"Import!AL292","v":0}]
[null,{"$f":"Import!A293","v":0},{"$f":"Import!B293","v":0},{"$f":"Import!H293","v":0},{"$f":"Import!I293","v":0},{"$f":"Import!J293","v":0},{"$f":"Import!K293","v":0},{"$f":"Import!L293","v":0},{"$f":"Import!M293","v":0},{"$f":"Import!N293","v":0},{"$f":"Import!O293","v":0},{"$f":"Import!P293","v":0},{"$f":"Import!Q293","v":0},{"$f":"Import!R293","v":0},{"$f":"Import!S293","v":0},{"$f":"Import!T293","v":0},{"$f":"Import!U293","v":0},{"$f":"Import!V293","v":0},{"$f":"Import!W293","v":0},{"$f":"Import!X293","v":0},{"$f":"Import!Y293","v":0},{"$f":"Import!Z293","v":0},{"$f":"Import!AA293","v":0},{"$f":"Import!AB293","v":0},{"$f":"Import!AC293","v":0},{"$f":"Import!AD293","v":0},{"$f":"Import!AE293","v":0},{"$f":"Import!AF293","v":0},{"$f":"Import!AG293","v":0},{"$f":"Import!AH293","v":0},{"$f":"Import!AI293","v":0},{"$f":"Import!AJ293","v":0},{"$f":"Import!AK293","v":0},{"$f":"Import!AL293","v":0}]
[null,{"$f":"Import!A294","v":0},{"$f":"Import!B294","v":0},{"$f":"Import!H294","v":0},{"$f":"Import!I294","v":0},{"$f":"Import!J294","v":0},{"$f":"Import!K294","v":0},{"$f":"Import!L294","v":0},{"$f":"Import!M294","v":0},{"$f":"Import!N294","v":0},{"$f":"Import!O294","v":0},{"$f":"Import!P294","v":0},{"$f":"Import!Q294","v":0},{"$f":"Import!R294","v":0},{"$f":"Import!S294","v":0},{"$f":"Import!T294","v":0},{"$f":"Import!U294","v":0},{"$f":"Import!V294","v":0},{"$f":"Import!W294","v":0},{"$f":"Import!X294","v":0},{"$f":"Import!Y294","v":0},{"$f":"Import!Z294","v":0},{"$f":"Import!AA294","v":0},{"$f":"Import!AB294","v":0},{"$f":"Import!AC294","v":0},{"$f":"Import!AD294","v":0},{"$f":"Import!AE294","v":0},{"$f":"Import!AF294","v":0},{"$f":"Import!AG294","v":0},{"$f":"Import!AH294","v":0},{"$f":"Import!AI294","v":0},{"$f":"Import!AJ294","v":0},{"$f":"Import!AK294","v":0},{"$f":"Import!AL294","v":0}]
[null,{"$f":"Import!A295","v":0},{"$f":"Import!B295","v":0},{"$f":"Import!H295","v":0},{"$f":"Import!I295","v":0},{"$f":"Import!J295","v":0},{"$f":"Import!K295","v":0},{"$f":"Import!L295","v":0},{"$f":"Import!M295","v":0},{"$f":"Import!N295","v":0},{"$f":"Import!O295","v":0},{"$f":"Import!P295","v":0},{"$f":"Import!Q295","v":0},{"$f":"Import!R295","v":0},{"$f":"Import!S295","v":0},{"$f":"Import!T295","v":0},{"$f":"Import!U295","v":0},{"$f":"Import!V295","v":0},{"$f":"Import!W295","v":0},{"$f":"Import!X295","v":0},{"$f":"Import!Y295","v":0},{"$f":"Import!Z295","v":0},{"$f":"Import!AA295","v":0},{"$f":"Import!AB295","v":0},{"$f":"Import!AC295","v":0},{"$f":"Import!AD295","v":0},{"$f":"Import!AE295","v":0},{"$f":"Import!AF295","v":0},{"$f":"Import!AG295","v":0},{"$f":"Import!AH295","v":0},{"$f":"Import!AI295","v":0},{"$f":"Import!AJ295","v":0},{"$f":"Import!AK295","v":0},{"$f":"Import!AL295","v":0}]
[null,{"$f":"Import!A296","v":0},{"$f":"Import!B296","v":0},{"$f":"Import!H296","v":0},{"$f":"Import!I296","v":0},{"$f":"Import!J296","v":0},{"$f":"Import!K296","v":0},{"$f":"Import!L296","v":0},{"$f":"Import!M296","v":0},{"$f":"Import!N296","v":0},{"$f":"Import!O296","v":0},{"$f":"Import!P296","v":0},{"$f":"Import!Q296","v":0},{"$f":"Import!R296","v":0},{"$f":"Import!S296","v":0},{"$f":"Import!T296","v":0},{"$f":"Import!U296","v":0},{"$f":"Import!V296","v":0},{"$f":"Import!W296","v":0},{"$f":"Import!X296","v":0},{"$f":"Import!Y296","v":0},{"$f":"Import!Z296","v":0},{"$f":"Import!AA296","v":0},{"$f":"Import!AB296","v":0},{"$f":"Import!AC296","v":0},{"$f":"Import!AD296","v":0},{"$f":"Import!AE296","v":0},{"$f":"Import!AF296","v":0},{"$f":"Import!AG296","v":0},{"$f":"Import!AH296","v":0},{"$f":"Import!AI296","v":0},{"$f":"Import!AJ296","v":0},{"$f":"Import!AK296","v":0},{"$f":"Import!AL296","v":0}]
[null,{"$f":"Import!A297","v":0},{"$f":"Import!B297","v":0},{"$f":"Import!H297","v":0},{"$f":"Import!I297","v":0},{"$f":"Import!J297","v":0},{"$f":"Import!K297","v":0},{"$f":"Import!L297","v":0},{"$f":"Import!M297","v":0},{"$f":"Import!N297","v":0},{"$f":"Import!O297","v":0},{"$f":"Import!P297","v":0},{"$f":"Import!Q297","v":0},{"$f":"Import!R297","v":0},{"$f":"Import!S297","v":0},{"$f":"Import!T297","v":0},{"$f":"Import!U297","v":0},{"$f":"Import!V297","v":0},{"$f":"Import!W297","v":0},{"$f":"Import!X297","v":0},{"$f":"Import!Y297","v":0},{"$f":"Import!Z297","v":0},{"$f":"Import!AA297","v":0},{"$f":"Import!AB297","v":0},{"$f":"Import!AC297","v":0},{"$f":"Import!AD297","v":0},{"$f":"Import!AE297","v":0},{"$f":"Import!AF297","v":0},{"$f":"Import!AG297","v":0},{"$f":"Import!AH297","v":0},{"$f":"Import!AI297","v":0},{"$f":"Import!AJ297","v":0},{"$f":"Import!AK297","v":0},{"$f":"Import!AL297","v":0}]
[null,{"$f":"Import!A298","v":0},{"$f":"Import!B298","v":0},{"$f":"Import!H298","v":0},{"$f":"Import!I298","v":0},{"$f":"Import!J298","v":0},{"$f":"Import!K298","v":0},{"$f":"Import!L298","v":0},{"$f":"Import!M298","v":0},{"$f":"Import!N298","v":0},{"$f":"Import!O298","v":0},{"$f":"Import!P298","v":0},{"$f":"Import!Q298","v":0},{"$f":"Import!R298","v":0},{"$f":"Import!S298","v":0},{"$f":"Import!T298","v":0},{"$f":"Import!U298","v":0},{"$f":"Import!V298","v":0},{"$f":"Import!W298","v":0},{"$f":"Import!X298","v":0},{"$f":"Import!Y298","v":0},{"$f":"Import!Z298","v":0},{"$f":"Import!AA298","v":0},{"$f":"Import!AB298","v":0},{"$f":"Import!AC298","v":0},{"$f":"Import!AD298","v":0},{"$f":"Import!AE298","v":0},{"$f":"Import!AF298","v":0},{"$f":"Import!AG298","v":0},{"$f":"Import!AH298","v":0},{"$f":"Import!AI298","v":0},{"$f":"Import!AJ298","v":0},{"$f":"Import!AK298","v":0},{"$f":"Import!AL298","v":0}]
[null,{"$f":"Import!A299","v":0},{"$f":"Import!B299","v":0},{"$f":"Import!H299","v":0},{"$f":"Import!I299","v":0},{"$f":"Import!J299","v":0},{"$f":"Import!K299","v":0},{"$f":"Import!L299","v":0},{"$f":"Import!M299","v":0},{"$f":"Import!N299","v":0},{"$f":"Import!O299","v":0},{"$f":"Import!P299","v":0},{"$f":"Import!Q299","v":0},{"$f":"Import!R299","v":0},{"$f":"Import!S299","v":0},{"$f":"Import!T299","v":0},{"$f":"Import!U299","v":0},{"$f":"Import!V299","v":0},{"$f":"Import!W299","v":0},{"$f":"Import!X299","v":0},{"$f":"Import!Y299","v":0},{"$f":"Import!Z299","v":0},{"$f":"Import!AA299","v":0},{"$f":"Import!AB299","v":0},{"$f":"Import!AC299","v":0},{"$f":"Import!AD299","v":0},{"$f":"Import!AE299","v":0},{"$f":"Import!AF299","v":0},{"$f":"Import!AG299","v":0},{"$f":"Import!AH299","v":0},{"$f":"Import!AI299","v":0},{"$f":"Import!AJ299","v":0},{"$f":"Import!AK299","v":0},{"$f":"Import!AL299","v":0}]
[null,{"$f":"Import!A300","v":0},{"$f":"Import!B300","v":0},{"$f":"Import!H300","v":0},{"$f":"Import!I300","v":0},{"$f":"Import!J300","v":0},{"$f":"Import!K300","v":0},{"$f":"Import!L300","v":0},{"$f":"Import!M300","v":0},{"$f":"Import!N300","v":0},{"$f":"Import!O300","v":0},{"$f":"Import!P300","v":0},{"$f":"Import!Q300","v":0},{"$f":"Import!R300","v":0},{"$f":"Import!S300","v":0},{"$f":"Import!T300","v":0},{"$f":"Import!U300","v":0},{"$f":"Import!V300","v":0},{"$f":"Import!W300","v":0},{"$f":"Import!X300","v":0},{"$f":"Import!Y300","v":0},{"$f":"Import!Z300","v":0},{"$f":"Import!AA300","v":0},{"$f":"Import!AB300","v":0},{"$f":"Import!AC300","v":0},{"$f":"Import!AD300","v":0},{"$f":"Import!AE300","v":0},{"$f":"Import!AF300","v":0},{"$f":"Import!AG300","v":0},{"$f":"Import!AH300","v":0},{"$f":"Import!AI300","v":0},{"$f":"Import!AJ300","v":0},{"$f":"Import!AK300","v":0},{"$f":"Import!AL300","v":0}]
[null,{"$f":"Import!A301","v":0},{"$f":"Import!B301","v":0},{"$f":"Import!H301","v":0},{"$f":"Import!I301","v":0},{"$f":"Import!J301","v":0},{"$f":"Import!K301","v":0},{"$f":"Import!L301","v":0},{"$f":"Import!M301","v":0},{"$f":"Import!N301","v":0},{"$f":"Import!O301","v":0},{"$f":"Import!P301","v":0},{"$f":"Import!Q301","v":0},{"$f":"Import!R301","v":0},{"$f":"Import!S301","v":0},{"$f":"Import!T301","v":0},{"$f":"Import!U301","v":0},{"$f":"Import!V301","v":0},{"$f":"Import!W301","v":0},{"$f":"Import!X301","v":0},{"$f":"Import!Y301","v":0},{"$f":"Import!Z301","v":0},{"$f":"Import!AA301","v":0},{"$f":"Import!AB301","v":0},{"$f":"Import!AC301","v":0},{"$f":"Import!AD301","v":0},{"$f":"Import!AE301","v":0},{"$f":"Import!AF301","v":0},{"$f":"Import!AG301","v":0},{"$f":"Import!AH301","v":0},{"$f":"Import!AI301","v":0},{"$f":"Import!AJ301","v":0},{"$f":"Import!AK301","v":0},{"$f":"Import!AL301","v":0}]
[null,{"$f":"Import!A302","v":0},{"$f":"Import!B302","v":0},{"$f":"Import!H302","v":0},{"$f":"Import!I302","v":0},{"$f":"Import!J302","v":0},{"$f":"Import!K302","v":0},{"$f":"Import!L302","v":0},{"$f":"Import!M302","v":0},{"$f":"Import!N302","v":0},{"$f":"Import!O302","v":0},{"$f":"Import!P302","v":0},{"$f":"Import!Q302","v":0},{"$f":"Import!R302","v":0},{"$f":"Import!S302","v":0},{"$f":"Import!T302","v":0},{"$f":"Import!U302","v":0},{"$f":"Import!V302","v":0},{"$f":"Import!W302","v":0},{"$f":"Import!X302","v":0},{"$f":"Import!Y302","v":0},{"$f":"Import!Z302","v":0},{"$f":"Import!AA302","v":0},{"$f":"Import!AB302","v":0},{"$f":"Import!AC302","v":0},{"$f":"Import!AD302","v":0},{"$f":"Import!AE302","v":0},{"$f":"Import!AF302","v":0},{"$f":"Import!AG302","v":0},{"$f":"Import!AH302","v":0},{"$f":"Import!AI302","v":0},{"$f":"Import!AJ302","v":0},{"$f":"Import!AK302","v":0},{"$f":"Import!AL302","v":0}]
[null,{"$f":"Import!A303","v":0},{"$f":"Import!B303","v":0},{"$f":"Import!H303","v":0},{"$f":"Import!I303","v":0},{"$f":"Import!J303","v":0},{"$f":"Import!K303","v":0},{"$f":"Import!L303","v":0},{"$f":"Import!M303","v":0},{"$f":"Import!N303","v":0},{"$f":"Import!O303","v":0},{"$f":"Import!P303","v":0},{"$f":"Import!Q303","v":0},{"$f":"Import!R303","v":0},{"$f":"Import!S303","v":0},{"$f":"Import!T303","v":0},{"$f":"Import!U303","v":0},{"$f":"Import!V303","v":0},{"$f":"Import!W303","v":0},{"$f":"Import!X303","v":0},{"$f":"Import!Y303","v":0},{"$f":"Import!Z303","v":0},{"$f":"Import!AA303","v":0},{"$f":"Import!AB303","v":0},{"$f":"Import!AC303","v":0},{"$f":"Import!AD303","v":0},{"$f":"Import!AE303","v":0},{"$f":"Import!AF303","v":0},{"$f":"Import!AG303","v":0},{"$f":"Import!AH303","v":0},{"$f":"Import!AI303","v":0},{"$f":"Import!AJ303","v":0},{"$f":"Import!AK303","v":0},{"$f":"Import!AL303","v":0}]
[null,{"$f":"Import!A304","v":0},{"$f":"Import!B304","v":0},{"$f":"Import!H304","v":0},{"$f":"Import!I304","v":0},{"$f":"Import!J304","v":0},{"$f":"Import!K304","v":0},{"$f":"Import!L304","v":0},{"$f":"Import!M304","v":0},{"$f":"Import!N304","v":0},{"$f":"Import!O304","v":0},{"$f":"Import!P304","v":0},{"$f":"Import!Q304","v":0},{"$f":"Import!R304","v":0},{"$f":"Import!S304","v":0},{"$f":"Import!T304","v":0},{"$f":"Import!U304","v":0},{"$f":"Import!V304","v":0},{"$f":"Import!W304","v":0},{"$f":"Import!X304","v":0},{"$f":"Import!Y304","v":0},{"$f":"Import!Z304","v":0},{"$f":"Import!AA304","v":0},{"$f":"Import!AB304","v":0},{"$f":"Import!AC304","v":0},{"$f":"Import!AD304","v":0},{"$f":"Import!AE304","v":0},{"$f":"Import!AF304","v":0},{"$f":"Import!AG304","v":0},{"$f":"Import!AH304","v":0},{"$f":"Import!AI304","v":0},{"$f":"Import!AJ304","v":0},{"$f":"Import!AK304","v":0},{"$f":"Import!AL304","v":0}]
[null,{"$f":"Import!A305","v":0},{"$f":"Import!B305","v":0},{"$f":"Import!H305","v":0},{"$f":"Import!I305","v":0},{"$f":"Import!J305","v":0},{"$f":"Import!K305","v":0},{"$f":"Import!L305","v":0},{"$f":"Import!M305","v":0},{"$f":"Import!N305","v":0},{"$f":"Import!O305","v":0},{"$f":"Import!P305","v":0},{"$f":"Import!Q305","v":0},{"$f":"Import!R305","v":0},{"$f":"Import!S305","v":0},{"$f":"Import!T305","v":0},{"$f":"Import!U305","v":0},{"$f":"Import!V305","v":0},{"$f":"Import!W305","v":0},{"$f":"Import!X305","v":0},{"$f":"Import!Y305","v":0},{"$f":"Import!Z305","v":0},{"$f":"Import!AA305","v":0},{"$f":"Import!AB305","v":0},{"$f":"Import!AC305","v":0},{"$f":"Import!AD305","v":0},{"$f":"Import!AE305","v":0},{"$f":"Import!AF305","v":0},{"$f":"Import!AG305","v":0},{"$f":"Import!AH305","v":0},{"$f":"Import!AI305","v":0},{"$f":"Import!AJ305","v":0},{"$f":"Import!AK305","v":0},{"$f":"Import!AL305","v":0}]
[null,{"$f":"Import!A306","v":0},{"$f":"Import!B306","v":0},{"$f":"Import!H306","v":0},{"$f":"Import!I306","v":0},{"$f":"Import!J306","v":0},{"$f":"Import!K306","v":0},{"$f":"Import!L306","v":0},{"$f":"Import!M306","v":0},{"$f":"Import!N306","v":0},{"$f":"Import!O306","v":0},{"$f":"Import!P306","v":0},{"$f":"Import!Q306","v":0},{"$f":"Import!R306","v":0},{"$f":"Import!S306","v":0},{"$f":"Import!T306","v":0},{"$f":"Import!U306","v":0},{"$f":"Import!V306","v":0},{"$f":"Import!W306","v":0},{"$f":"Import!X306","v":0},{"$f":"Import!Y306","v":0},{"$f":"Import!Z306","v":0},{"$f":"Import!AA306","v":0},{"$f":"Import!AB306","v":0},{"$f":"Import!AC306","v":0},{"$f":"Import!AD306","v":0},{"$f":"Import!AE306","v":0},{"$f":"Import!AF306","v":0},{"$f":"Import!AG306","v":0},{"$f":"Import!AH306","v":0},{"$f":"Import!AI306","v":0},{"$f":"Import!AJ306","v":0},{"$f":"Import!AK306","v":0},{"$f":"Import!AL306","v":0}]
[null,{"$f":"Import!A307","v":0},{"$f":"Import!B307","v":0},{"$f":"Import!H307","v":0},{"$f":"Import!I307","v":0},{"$f":"Import!J307","v":0},{"$f":"Import!K307","v":0},{"$f":"Import!L307","v":0},{"$f":"Import!M307","v":0},{"$f":"Import!N307","v":0},{"$f":"Import!O307","v":0},{"$f":"Import!P307","v":0},{"$f":"Import!Q307","v":0},{"$f":"Import!R307","v":0},{"$f":"Import!S307","v":0},{"$f":"Import!T307","v":0},{"$f":"Import!U307","v":0},{"$f":"Import!V307","v":0},{"$f":"Import!W307","v":0},{"$f":"Import!X307","v":0},{"$f":"Import!Y307","v":0},{"$f":"Import!Z307","v":0},{"$f":"Import!AA307","v":0},{"$f":"Import!AB307","v":0},{"$f":"Import!AC307","v":0},{"$f":"Import!AD307","v":0},{"$f":"Import!AE307","v":0},{"$f":"Import!AF307","v":0},{"$f":"Import!AG307","v":0},{"$f":"Import!AH307","v":0},{"$f":"Import!AI307","v":0},{"$f":"Import!AJ307","v":0},{"$f":"Import!AK307","v":0},{"$f":"Import!AL307","v":0}]
[null,{"$f":"Import!A308","v":0},{"$f":"Import!B308","v":0},{"$f":"Import!H308","v":0},{"$f":"Import!I308","v":0},{"$f":"Import!J308","v":0},{"$f":"Import!K308","v":0},{"$f":"Import!L308","v":0},{"$f":"Import!M308","v":0},{"$f":"Import!N308","v":0},{"$f":"Import!O308","v":0},{"$f":"Import!P308","v":0},{"$f":"Import!Q308","v":0},{"$f":"Import!R308","v":0},{"$f":"Import!S308","v":0},{"$f":"Import!T308","v":0},{"$f":"Import!U308","v":0},{"$f":"Import!V308","v":0},{"$f":"Import!W308","v":0},{"$f":"Import!X308","v":0},{"$f":"Import!Y308","v":0},{"$f":"Import!Z308","v":0},{"$f":"Import!AA308","v":0},{"$f":"Import!AB308","v":0},{"$f":"Import!AC308","v":0},{"$f":"Import!AD308","v":0},{"$f":"Import!AE308","v":0},{"$f":"Import!AF308","v":0},{"$f":"Import!AG308","v":0},{"$f":"Import!AH308","v":0},{"$f":"Import!AI308","v":0},{"$f":"Import!AJ308","v":0},{"$f":"Import!AK308","v":0},{"$f":"Import!AL308","v":0}]
[null,{"$f":"Import!A309","v":0},{"$f":"Import!B309","v":0},{"$f":"Import!H309","v":0},{"$f":"Import!I309","v":0},{"$f":"Import!J309","v":0},{"$f":"Import!K309","v":0},{"$f":"Import!L309","v":0},{"$f":"Import!M309","v":0},{"$f":"Import!N309","v":0},{"$f":"Import!O309","v":0},{"$f":"Import!P309","v":0},{"$f":"Import!Q309","v":0},{"$f":"Import!R309","v":0},{"$f":"Import!S309","v":0},{"$f":"Import!T309","v":0},{"$f":"Import!U309","v":0},{"$f":"Import!V309","v":0},{"$f":"Import!W309","v":0},{"$f":"Import!X309","v":0},{"$f":"Import!Y309","v":0},{"$f":"Import!Z309","v":0},{"$f":"Import!AA309","v":0},{"$f":"Import!AB309","v":0},{"$f":"Import!AC309","v":0},{"$f":"Import!AD309","v":0},{"$f":"Import!AE309","v":0},{"$f":"Import!AF309","v":0},{"$f":"Import!AG309","v":0},{"$f":"Import!AH309","v":0},{"$f":"Import!AI309","v":0},{"$f":"Import!AJ309","v":0},{"$f":"Import!AK309","v":0},{"$f":"Import!AL309","v":0}]
[null,{"$f":"Import!A310","v":0},{"$f":"Import!B310","v":0},{"$f":"Import!H310","v":0},{"$f":"Import!I310","v":0},{"$f":"Import!J310","v":0},{"$f":"Import!K310","v":0},{"$f":"Import!L310","v":0},{"$f":"Import!M310","v":0},{"$f":"Import!N310","v":0},{"$f":"Import!O310","v":0},{"$f":"Import!P310","v":0},{"$f":"Import!Q310","v":0},{"$f":"Import!R310","v":0},{"$f":"Import!S310","v":0},{"$f":"Import!T310","v":0},{"$f":"Import!U310","v":0},{"$f":"Import!V310","v":0},{"$f":"Import!W310","v":0},{"$f":"Import!X310","v":0},{"$f":"Import!Y310","v":0},{"$f":"Import!Z310","v":0},{"$f":"Import!AA310","v":0},{"$f":"Import!AB310","v":0},{"$f":"Import!AC310","v":0},{"$f":"Import!AD310","v":0},{"$f":"Import!AE310","v":0},{"$f":"Import!AF310","v":0},{"$f":"Import!AG310","v":0},{"$f":"Import!AH310","v":0},{"$f":"Import!AI310","v":0},{"$f":"Import!AJ310","v":0},{"$f":"Import!AK310","v":0},{"$f":"Import!AL310","v":0}]
[null,{"$f":"Import!A311","v":0},{"$f":"Import!B311","v":0},{"$f":"Import!H311","v":0},{"$f":"Import!I311","v":0},{"$f":"Import!J311","v":0},{"$f":"Import!K311","v":0},{"$f":"Import!L311","v":0},{"$f":"Import!M311","v":0},{"$f":"Import!N311","v":0},{"$f":"Import!O311","v":0},{"$f":"Import!P311","v":0},{"$f":"Import!Q311","v":0},{"$f":"Import!R311","v":0},{"$f":"Import!S311","v":0},{"$f":"Import!T311","v":0},{"$f":"Import!U311","v":0},{"$f":"Import!V311","v":0},{"$f":"Import!W311","v":0},{"$f":"Import!X311","v":0},{"$f":"Import!Y311","v":0},{"$f":"Import!Z311","v":0},{"$f":"Import!AA311","v":0},{"$f":"Import!AB311","v":0},{"$f":"Import!AC311","v":0},{"$f":"Import!AD311","v":0},{"$f":"Import!AE311","v":0},{"$f":"Import!AF311","v":0},{"$f":"Import!AG311","v":0},{"$f":"Import!AH311","v":0},{"$f":"Import!AI311","v":0},{"$f":"Import!AJ311","v":0},{"$f":"Import!AK311","v":0},{"$f":"Import!AL311","v":0}]
[null,{"$f":"Import!A312","v":0},{"$f":"Import!B312","v":0},{"$f":"Import!H312","v":0},{"$f":"Import!I312","v":0},{"$f":"Import!J312","v":0},{"$f":"Import!K312","v":0},{"$f":"Import!L312","v":0},{"$f":"Import!M312","v":0},{"$f":"Import!N312","v":0},{"$f":"Import!O312","v":0},{"$f":"Import!P312","v":0},{"$f":"Import!Q312","v":0},{"$f":"Import!R312","v":0},{"$f":"Import!S312","v":0},{"$f":"Import!T312","v":0},{"$f":"Import!U312","v":0},{"$f":"Import!V312","v":0},{"$f":"Import!W312","v":0},{"$f":"Import!X312","v":0},{"$f":"Import!Y312","v":0},{"$f":"Import!Z312","v":0},{"$f":"Import!AA312","v":0},{"$f":"Import!AB312","v":0},{"$f":"Import!AC312","v":0},{"$f":"Import!AD312","v":0},{"$f":"Import!AE312","v":0},{"$f":"Import!AF312","v":0},{"$f":"Import!AG312","v":0},{"$f":"Import!AH312","v":0},{"$f":"Import!AI312","v":0},{"$f":"Import!AJ312","v":0},{"$f":"Import!AK312","v":0},{"$f":"Import!AL312","v":0}]
[null,{"$f":"Import!A313","v":0},{"$f":"Import!B313","v":0},{"$f":"Import!H313","v":0},{"$f":"Import!I313","v":0},{"$f":"Import!J313","v":0},{"$f":"Import!K313","v":0},{"$f":"Import!L313","v":0},{"$f":"Import!M313","v":0},{"$f":"Import!N313","v":0},{"$f":"Import!O313","v":0},{"$f":"Import!P313","v":0},{"$f":"Import!Q313","v":0},{"$f":"Import!R313","v":0},{"$f":"Import!S313","v":0},{"$f":"Import!T313","v":0},{"$f":"Import!U313","v":0},{"$f":"Import!V313","v":0},{"$f":"Import!W313","v":0},{"$f":"Import!X313","v":0},{"$f":"Import!Y313","v":0},{"$f":"Import!Z313","v":0},{"$f":"Import!AA313","v":0},{"$f":"Import!AB313","v":0},{"$f":"Import!AC313","v":0},{"$f":"Import!AD313","v":0},{"$f":"Import!AE313","v":0},{"$f":"Import!AF313","v":0},{"$f":"Import!AG313","v":0},{"$f":"Import!AH313","v":0},{"$f":"Import!AI313","v":0},{"$f":"Import!AJ313","v":0},{"$f":"Import!AK313","v":0},{"$f":"Import!AL313","v":0}]
[null,{"$f":"Import!A314","v":0},{"$f":"Import!B314","v":0},{"$f":"Import!H314","v":0},{"$f":"Import!I314","v":0},{"$f":"Import!J314","v":0},{"$f":"Import!K314","v":0},{"$f":"Import!L314","v":0},{"$f":"Import!M314","v":0},{"$f":"Import!N314","v":0},{"$f":"Import!O314","v":0},{"$f":"Import!P314","v":0},{"$f":"Import!Q314","v":0},{"$f":"Import!R314","v":0},{"$f":"Import!S314","v":0},{"$f":"Import!T314","v":0},{"$f":"Import!U314","v":0},{"$f":"Import!V314","v":0},{"$f":"Import!W314","v":0},{"$f":"Import!X314","v":0},{"$f":"Import!Y314","v":0},{"$f":"Import!Z314","v":0},{"$f":"Import!AA314","v":0},{"$f":"Import!AB314","v":0},{"$f":"Import!AC314","v":0},{"$f":"Import!AD314","v":0},{"$f":"Import!AE314","v":0},{"$f":"Import!AF314","v":0},{"$f":"Import!AG314","v":0},{"$f":"Import!AH314","v":0},{"$f":"Import!AI314","v":0},{"$f":"Import!AJ314","v":0},{"$f":"Import!AK314","v":0},{"$f":"Import!AL314","v":0}]
[null,{"$f":"Import!A315","v":0},{"$f":"Import!B315","v":0},{"$f":"Import!H315","v":0},{"$f":"Import!I315","v":0},{"$f":"Import!J315","v":0},{"$f":"Import!K315","v":0},{"$f":"Import!L315","v":0},{"$f":"Import!M315","v":0},{"$f":"Import!N315","v":0},{"$f":"Import!O315","v":0},{"$f":"Import!P315","v":0},{"$f":"Import!Q315","v":0},{"$f":"Import!R315","v":0},{"$f":"Import!S315","v":0},{"$f":"Import!T315","v":0},{"$f":"Import!U315","v":0},{"$f":"Import!V315","v":0},{"$f":"Import!W315","v":0},{"$f":"Import!X315","v":0},{"$f":"Import!Y315","v":0},{"$f":"Import!Z315","v":0},{"$f":"Import!AA315","v":0},{"$f":"Import!AB315","v":0},{"$f":"Import!AC315","v":0},{"$f":"Import!AD315","v":0},{"$f":"Import!AE315","v":0},{"$f":"Import!AF315","v":0},{"$f":"Import!AG315","v":0},{"$f":"Import!AH315","v":0},{"$f":"Import!AI315","v":0},{"$f":"Import!AJ315","v":0},{"$f":"Import!AK315","v":0},{"$f":"Import!AL315","v":0}]
[null,{"$f":"Import!A316","v":0},{"$f":"Import!B316","v":0},{"$f":"Import!H316","v":0},{"$f":"Import!I316","v":0},{"$f":"Import!J316","v":0},{"$f":"Import!K316","v":0},{"$f":"Import!L316","v":0},{"$f":"Import!M316","v":0},{"$f":"Import!N316","v":0},{"$f":"Import!O316","v":0},{"$f":"Import!P316","v":0},{"$f":"Import!Q316","v":0},{"$f":"Import!R316","v":0},{"$f":"Import!S316","v":0},{"$f":"Import!T316","v":0},{"$f":"Import!U316","v":0},{"$f":"Import!V316","v":0},{"$f":"Import!W316","v":0},{"$f":"Import!X316","v":0},{"$f":"Import!Y316","v":0},{"$f":"Import!Z316","v":0},{"$f":"Import!AA316","v":0},{"$f":"Import!AB316","v":0},{"$f":"Import!AC316","v":0},{"$f":"Import!AD316","v":0},{"$f":"Import!AE316","v":0},{"$f":"Import!AF316","v":0},{"$f":"Import!AG316","v":0},{"$f":"Import!AH316","v":0},{"$f":"Import!AI316","v":0},{"$f":"Import!AJ316","v":0},{"$f":"Import!AK316","v":0},{"$f":"Import!AL316","v":0}]
[null,{"$f":"Import!A317","v":0},{"$f":"Import!B317","v":0},{"$f":"Import!H317","v":0},{"$f":"Import!I317","v":0},{"$f":"Import!J317","v":0},{"$f":"Import!K317","v":0},{"$f":"Import!L317","v":0},{"$f":"Import!M317","v":0},{"$f":"Import!N317","v":0},{"$f":"Import!O317","v":0},{"$f":"Import!P317","v":0},{"$f":"Import!Q317","v":0},{"$f":"Import!R317","v":0},{"$f":"Import!S317","v":0},{"$f":"Import!T317","v":0},{"$f":"Import!U317","v":0},{"$f":"Import!V317","v":0},{"$f":"Import!W317","v":0},{"$f":"Import!X317","v":0},{"$f":"Import!Y317","v":0},{"$f":"Import!Z317","v":0},{"$f":"Import!AA317","v":0},{"$f":"Import!AB317","v":0},{"$f":"Import!AC317","v":0},{"$f":"Import!AD317","v":0},{"$f":"Import!AE317","v":0},{"$f":"Import!AF317","v":0},{"$f":"Import!AG317","v":0},{"$f":"Import!AH317","v":0},{"$f":"Import!AI317","v":0},{"$f":"Import!AJ317","v":0},{"$f":"Import!AK317","v":0},{"$f":"Import!AL317","v":0}]
[null,{"$f":"Import!A318","v":0},{"$f":"Import!B318","v":0},{"$f":"Import!H318","v":0},{"$f":"Import!I318","v":0},{"$f":"Import!J318","v":0},{"$f":"Import!K318","v":0},{"$f":"Import!L318","v":0},{"$f":"Import!M318","v":0},{"$f":"Import!N318","v":0},{"$f":"Import!O318","v":0},{"$f":"Import!P318","v":0},{"$f":"Import!Q318","v":0},{"$f":"Import!R318","v":0},{"$f":"Import!S318","v":0},{"$f":"Import!T318","v":0},{"$f":"Import!U318","v":0},{"$f":"Import!V318","v":0},{"$f":"Import!W318","v":0},{"$f":"Import!X318","v":0},{"$f":"Import!Y318","v":0},{"$f":"Import!Z318","v":0},{"$f":"Import!AA318","v":0},{"$f":"Import!AB318","v":0},{"$f":"Import!AC318","v":0},{"$f":"Import!AD318","v":0},{"$f":"Import!AE318","v":0},{"$f":"Import!AF318","v":0},{"$f":"Import!AG318","v":0},{"$f":"Import!AH318","v":0},{"$f":"Import!AI318","v":0},{"$f":"Import!AJ318","v":0},{"$f":"Import!AK318","v":0},{"$f":"Import!AL318","v":0}]
[null,{"$f":"Import!A319","v":0},{"$f":"Import!B319","v":0},{"$f":"Import!H319","v":0},{"$f":"Import!I319","v":0},{"$f":"Import!J319","v":0},{"$f":"Import!K319","v":0},{"$f":"Import!L319","v":0},{"$f":"Import!M319","v":0},{"$f":"Import!N319","v":0},{"$f":"Import!O319","v":0},{"$f":"Import!P319","v":0},{"$f":"Import!Q319","v":0},{"$f":"Import!R319","v":0},{"$f":"Import!S319","v":0},{"$f":"Import!T319","v":0},{"$f":"Import!U319","v":0},{"$f":"Import!V319","v":0},{"$f":"Import!W319","v":0},{"$f":"Import!X319","v":0},{"$f":"Import!Y319","v":0},{"$f":"Import!Z319","v":0},{"$f":"Import!AA319","v":0},{"$f":"Import!AB319","v":0},{"$f":"Import!AC319","v":0},{"$f":"Import!AD319","v":0},{"$f":"Import!AE319","v":0},{"$f":"Import!AF319","v":0},{"$f":"Import!AG319","v":0},{"$f":"Import!AH319","v":0},{"$f":"Import!AI319","v":0},{"$f":"Import!AJ319","v":0},{"$f":"Import!AK319","v":0},{"$f":"Import!AL319","v":0}]
[null,{"$f":"Import!A320","v":0},{"$f":"Import!B320","v":0},{"$f":"Import!H320","v":0},{"$f":"Import!I320","v":0},{"$f":"Import!J320","v":0},{"$f":"Import!K320","v":0},{"$f":"Import!L320","v":0},{"$f":"Import!M320","v":0},{"$f":"Import!N320","v":0},{"$f":"Import!O320","v":0},{"$f":"Import!P320","v":0},{"$f":"Import!Q320","v":0},{"$f":"Import!R320","v":0},{"$f":"Import!S320","v":0},{"$f":"Import!T320","v":0},{"$f":"Import!U320","v":0},{"$f":"Import!V320","v":0},{"$f":"Import!W320","v":0},{"$f":"Import!X320","v":0},{"$f":"Import!Y320","v":0},{"$f":"Import!Z320","v":0},{"$f":"Import!AA320","v":0},{"$f":"Import!AB320","v":0},{"$f":"Import!AC320","v":0},{"$f":"Import!AD320","v":0},{"$f":"Import!AE320","v":0},{"$f":"Import!AF320","v":0},{"$f":"Import!AG320","v":0},{"$f":"Import!AH320","v":0},{"$f":"Import!AI320","v":0},{"$f":"Import!AJ320","v":0},{"$f":"Import!AK320","v":0},{"$f":"Import!AL320","v":0}]
[null,{"$f":"Import!A321","v":0},{"$f":"Import!B321","v":0},{"$f":"Import!H321","v":0},{"$f":"Import!I321","v":0},{"$f":"Import!J321","v":0},{"$f":"Import!K321","v":0},{"$f":"Import!L321","v":0},{"$f":"Import!M321","v":0},{"$f":"Import!N321","v":0},{"$f":"Import!O321","v":0},{"$f":"Import!P321","v":0},{"$f":"Import!Q321","v":0},{"$f":"Import!R321","v":0},{"$f":"Import!S321","v":0},{"$f":"Import!T321","v":0},{"$f":"Import!U321","v":0},{"$f":"Import!V321","v":0},{"$f":"Import!W321","v":0},{"$f":"Import!X321","v":0},{"$f":"Import!Y321","v":0},{"$f":"Import!Z321","v":0},{"$f":"Import!AA321","v":0},{"$f":"Import!AB321","v":0},{"$f":"Import!AC321","v":0},{"$f":"Import!AD321","v":0},{"$f":"Import!AE321","v":0},{"$f":"Import!AF321","v":0},{"$f":"Import!AG321","v":0},{"$f":"Import!AH321","v":0},{"$f":"Import!AI321","v":0},{"$f":"Import!AJ321","v":0},{"$f":"Import!AK321","v":0},{"$f":"Import!AL321","v":0}]
[null,{"$f":"Import!A322","v":0},{"$f":"Import!B322","v":0},{"$f":"Import!H322","v":0},{"$f":"Import!I322","v":0},{"$f":"Import!J322","v":0},{"$f":"Import!K322","v":0},{"$f":"Import!L322","v":0},{"$f":"Import!M322","v":0},{"$f":"Import!N322","v":0},{"$f":"Import!O322","v":0},{"$f":"Import!P322","v":0},{"$f":"Import!Q322","v":0},{"$f":"Import!R322","v":0},{"$f":"Import!S322","v":0},{"$f":"Import!T322","v":0},{"$f":"Import!U322","v":0},{"$f":"Import!V322","v":0},{"$f":"Import!W322","v":0},{"$f":"Import!X322","v":0},{"$f":"Import!Y322","v":0},{"$f":"Import!Z322","v":0},{"$f":"Import!AA322","v":0},{"$f":"Import!AB322","v":0},{"$f":"Import!AC322","v":0},{"$f":"Import!AD322","v":0},{"$f":"Import!AE322","v":0},{"$f":"Import!AF322","v":0},{"$f":"Import!AG322","v":0},{"$f":"Import!AH322","v":0},{"$f":"Import!AI322","v":0},{"$f":"Import!AJ322","v":0},{"$f":"Import!AK322","v":0},{"$f":"Import!AL322","v":0}]
[null,{"$f":"Import!A323","v":0},{"$f":"Import!B323","v":0},{"$f":"Import!H323","v":0},{"$f":"Import!I323","v":0},{"$f":"Import!J323","v":0},{"$f":"Import!K323","v":0},{"$f":"Import!L323","v":0},{"$f":"Import!M323","v":0},{"$f":"Import!N323","v":0},{"$f":"Import!O323","v":0},{"$f":"Import!P323","v":0},{"$f":"Import!Q323","v":0},{"$f":"Import!R323","v":0},{"$f":"Import!S323","v":0},{"$f":"Import!T323","v":0},{"$f":"Import!U323","v":0},{"$f":"Import!V323","v":0},{"$f":"Import!W323","v":0},{"$f":"Import!X323","v":0},{"$f":"Import!Y323","v":0},{"$f":"Import!Z323","v":0},{"$f":"Import!AA323","v":0},{"$f":"Import!AB323","v":0},{"$f":"Import!AC323","v":0},{"$f":"Import!AD323","v":0},{"$f":"Import!AE323","v":0},{"$f":"Import!AF323","v":0},{"$f":"Import!AG323","v":0},{"$f":"Import!AH323","v":0},{"$f":"Import!AI323","v":0},{"$f":"Import!AJ323","v":0},{"$f":"Import!AK323","v":0},{"$f":"Import!AL323","v":0}]
[null,{"$f":"Import!A324","v":0},{"$f":"Import!B324","v":0},{"$f":"Import!H324","v":0},{"$f":"Import!I324","v":0},{"$f":"Import!J324","v":0},{"$f":"Import!K324","v":0},{"$f":"Import!L324","v":0},{"$f":"Import!M324","v":0},{"$f":"Import!N324","v":0},{"$f":"Import!O324","v":0},{"$f":"Import!P324","v":0},{"$f":"Import!Q324","v":0},{"$f":"Import!R324","v":0},{"$f":"Import!S324","v":0},{"$f":"Import!T324","v":0},{"$f":"Import!U324","v":0},{"$f":"Import!V324","v":0},{"$f":"Import!W324","v":0},{"$f":"Import!X324","v":0},{"$f":"Import!Y324","v":0},{"$f":"Import!Z324","v":0},{"$f":"Import!AA324","v":0},{"$f":"Import!AB324","v":0},{"$f":"Import!AC324","v":0},{"$f":"Import!AD324","v":0},{"$f":"Import!AE324","v":0},{"$f":"Import!AF324","v":0},{"$f":"Import!AG324","v":0},{"$f":"Import!AH324","v":0},{"$f":"Import!AI324","v":0},{"$f":"Import!AJ324","v":0},{"$f":"Import!AK324","v":0},{"$f":"Import!AL324","v":0}]
[null,{"$f":"Import!A325","v":0},{"$f":"Import!B325","v":0},{"$f":"Import!H325","v":0},{"$f":"Import!I325","v":0},{"$f":"Import!J325","v":0},{"$f":"Import!K325","v":0},{"$f":"Import!L325","v":0},{"$f":"Import!M325","v":0},{"$f":"Import!N325","v":0},{"$f":"Import!O325","v":0},{"$f":"Import!P325","v":0},{"$f":"Import!Q325","v":0},{"$f":"Import!R325","v":0},{"$f":"Import!S325","v":0},{"$f":"Import!T325","v":0},{"$f":"Import!U325","v":0},{"$f":"Import!V325","v":0},{"$f":"Import!W325","v":0},{"$f":"Import!X325","v":0},{"$f":"Import!Y325","v":0},{"$f":"Import!Z325","v":0},{"$f":"Import!AA325","v":0},{"$f":"Import!AB325","v":0},{"$f":"Import!AC325","v":0},{"$f":"Import!AD325","v":0},{"$f":"Import!AE325","v":0},{"$f":"Import!AF325","v":0},{"$f":"Import!AG325","v":0},{"$f":"Import!AH325","v":0},{"$f":"Import!AI325","v":0},{"$f":"Import!AJ325","v":0},{"$f":"Import!AK325","v":0},{"$f":"Import!AL325","v":0}]
[null,{"$f":"Import!A326","v":0},{"$f":"Import!B326","v":0},{"$f":"Import!H326","v":0},{"$f":"Import!I326","v":0},{"$f":"Import!J326","v":0},{"$f":"Import!K326","v":0},{"$f":"Import!L326","v":0},{"$f":"Import!M326","v":0},{"$f":"Import!N326","v":0},{"$f":"Import!O326","v":0},{"$f":"Import!P326","v":0},{"$f":"Import!Q326","v":0},{"$f":"Import!R326","v":0},{"$f":"Import!S326","v":0},{"$f":"Import!T326","v":0},{"$f":"Import!U326","v":0},{"$f":"Import!V326","v":0},{"$f":"Import!W326","v":0},{"$f":"Import!X326","v":0},{"$f":"Import!Y326","v":0},{"$f":"Import!Z326","v":0},{"$f":"Import!AA326","v":0},{"$f":"Import!AB326","v":0},{"$f":"Import!AC326","v":0},{"$f":"Import!AD326","v":0},{"$f":"Import!AE326","v":0},{"$f":"Import!AF326","v":0},{"$f":"Import!AG326","v":0},{"$f":"Import!AH326","v":0},{"$f":"Import!AI326","v":0},{"$f":"Import!AJ326","v":0},{"$f":"Import!AK326","v":0},{"$f":"Import!AL326","v":0}]
[null,{"$f":"Import!A327","v":0},{"$f":"Import!B327","v":0},{"$f":"Import!H327","v":0},{"$f":"Import!I327","v":0},{"$f":"Import!J327","v":0},{"$f":"Import!K327","v":0},{"$f":"Import!L327","v":0},{"$f":"Import!M327","v":0},{"$f":"Import!N327","v":0},{"$f":"Import!O327","v":0},{"$f":"Import!P327","v":0},{"$f":"Import!Q327","v":0},{"$f":"Import!R327","v":0},{"$f":"Import!S327","v":0},{"$f":"Import!T327","v":0},{"$f":"Import!U327","v":0},{"$f":"Import!V327","v":0},{"$f":"Import!W327","v":0},{"$f":"Import!X327","v":0},{"$f":"Import!Y327","v":0},{"$f":"Import!Z327","v":0},{"$f":"Import!AA327","v":0},{"$f":"Import!AB327","v":0},{"$f":"Import!AC327","v":0},{"$f":"Import!AD327","v":0},{"$f":"Import!AE327","v":0},{"$f":"Import!AF327","v":0},{"$f":"Import!AG327","v":0},{"$f":"Import!AH327","v":0},{"$f":"Import!AI327","v":0},{"$f":"Import!AJ327","v":0},{"$f":"Import!AK327","v":0},{"$f":"Import!AL327","v":0}]
[null,{"$f":"Import!A328","v":0},{"$f":"Import!B328","v":0},{"$f":"Import!H328","v":0},{"$f":"Import!I328","v":0},{"$f":"Import!J328","v":0},{"$f":"Import!K328","v":0},{"$f":"Import!L328","v":0},{"$f":"Import!M328","v":0},{"$f":"Import!N328","v":0},{"$f":"Import!O328","v":0},{"$f":"Import!P328","v":0},{"$f":"Import!Q328","v":0},{"$f":"Import!R328","v":0},{"$f":"Import!S328","v":0},{"$f":"Import!T328","v":0},{"$f":"Import!U328","v":0},{"$f":"Import!V328","v":0},{"$f":"Import!W328","v":0},{"$f":"Import!X328","v":0},{"$f":"Import!Y328","v":0},{"$f":"Import!Z328","v":0},{"$f":"Import!AA328","v":0},{"$f":"Import!AB328","v":0},{"$f":"Import!AC328","v":0},{"$f":"Import!AD328","v":0},{"$f":"Import!AE328","v":0},{"$f":"Import!AF328","v":0},{"$f":"Import!AG328","v":0},{"$f":"Import!AH328","v":0},{"$f":"Import!AI328","v":0},{"$f":"Import!AJ328","v":0},{"$f":"Import!AK328","v":0},{"$f":"Import!AL328","v":0}]
[null,{"$f":"Import!A329","v":0},{"$f":"Import!B329","v":0},{"$f":"Import!H329","v":0},{"$f":"Import!I329","v":0},{"$f":"Import!J329","v":0},{"$f":"Import!K329","v":0},{"$f":"Import!L329","v":0},{"$f":"Import!M329","v":0},{"$f":"Import!N329","v":0},{"$f":"Import!O329","v":0},{"$f":"Import!P329","v":0},{"$f":"Import!Q329","v":0},{"$f":"Import!R329","v":0},{"$f":"Import!S329","v":0},{"$f":"Import!T329","v":0},{"$f":"Import!U329","v":0},{"$f":"Import!V329","v":0},{"$f":"Import!W329","v":0},{"$f":"Import!X329","v":0},{"$f":"Import!Y329","v":0},{"$f":"Import!Z329","v":0},{"$f":"Import!AA329","v":0},{"$f":"Import!AB329","v":0},{"$f":"Import!AC329","v":0},{"$f":"Import!AD329","v":0},{"$f":"Import!AE329","v":0},{"$f":"Import!AF329","v":0},{"$f":"Import!AG329","v":0},{"$f":"Import!AH329","v":0},{"$f":"Import!AI329","v":0},{"$f":"Import!AJ329","v":0},{"$f":"Import!AK329","v":0},{"$f":"Import!AL329","v":0}]
[null,{"$f":"Import!A330","v":0},{"$f":"Import!B330","v":0},{"$f":"Import!H330","v":0},{"$f":"Import!I330","v":0},{"$f":"Import!J330","v":0},{"$f":"Import!K330","v":0},{"$f":"Import!L330","v":0},{"$f":"Import!M330","v":0},{"$f":"Import!N330","v":0},{"$f":"Import!O330","v":0},{"$f":"Import!P330","v":0},{"$f":"Import!Q330","v":0},{"$f":"Import!R330","v":0},{"$f":"Import!S330","v":0},{"$f":"Import!T330","v":0},{"$f":"Import!U330","v":0},{"$f":"Import!V330","v":0},{"$f":"Import!W330","v":0},{"$f":"Import!X330","v":0},{"$f":"Import!Y330","v":0},{"$f":"Import!Z330","v":0},{"$f":"Import!AA330","v":0},{"$f":"Import!AB330","v":0},{"$f":"Import!AC330","v":0},{"$f":"Import!AD330","v":0},{"$f":"Import!AE330","v":0},{"$f":"Import!AF330","v":0},{"$f":"Import!AG330","v":0},{"$f":"Import!AH330","v":0},{"$f":"Import!AI330","v":0},{"$f":"Import!AJ330","v":0},{"$f":"Import!AK330","v":0},{"$f":"Import!AL330","v":0}]
[null,{"$f":"Import!A331","v":0},{"$f":"Import!B331","v":0},{"$f":"Import!H331","v":0},{"$f":"Import!I331","v":0},{"$f":"Import!J331","v":0},{"$f":"Import!K331","v":0},{"$f":"Import!L331","v":0},{"$f":"Import!M331","v":0},{"$f":"Import!N331","v":0},{"$f":"Import!O331","v":0},{"$f":"Import!P331","v":0},{"$f":"Import!Q331","v":0},{"$f":"Import!R331","v":0},{"$f":"Import!S331","v":0},{"$f":"Import!T331","v":0},{"$f":"Import!U331","v":0},{"$f":"Import!V331","v":0},{"$f":"Import!W331","v":0},{"$f":"Import!X331","v":0},{"$f":"Import!Y331","v":0},{"$f":"Import!Z331","v":0},{"$f":"Import!AA331","v":0},{"$f":"Import!AB331","v":0},{"$f":"Import!AC331","v":0},{"$f":"Import!AD331","v":0},{"$f":"Import!AE331","v":0},{"$f":"Import!AF331","v":0},{"$f":"Import!AG331","v":0},{"$f":"Import!AH331","v":0},{"$f":"Import!AI331","v":0},{"$f":"Import!AJ331","v":0},{"$f":"Import!AK331","v":0},{"$f":"Import!AL331","v":0}]
[null,{"$f":"Import!A332","v":0},{"$f":"Import!B332","v":0},{"$f":"Import!H332","v":0},{"$f":"Import!I332","v":0},{"$f":"Import!J332","v":0},{"$f":"Import!K332","v":0},{"$f":"Import!L332","v":0},{"$f":"Import!M332","v":0},{"$f":"Import!N332","v":0},{"$f":"Import!O332","v":0},{"$f":"Import!P332","v":0},{"$f":"Import!Q332","v":0},{"$f":"Import!R332","v":0},{"$f":"Import!S332","v":0},{"$f":"Import!T332","v":0},{"$f":"Import!U332","v":0},{"$f":"Import!V332","v":0},{"$f":"Import!W332","v":0},{"$f":"Import!X332","v":0},{"$f":"Import!Y332","v":0},{"$f":"Import!Z332","v":0},{"$f":"Import!AA332","v":0},{"$f":"Import!AB332","v":0},{"$f":"Import!AC332","v":0},{"$f":"Import!AD332","v":0},{"$f":"Import!AE332","v":0},{"$f":"Import!AF332","v":0},{"$f":"Import!AG332","v":0},{"$f":"Import!AH332","v":0},{"$f":"Import!AI332","v":0},{"$f":"Import!AJ332","v":0},{"$f":"Import!AK332","v":0},{"$f":"Import!AL332","v":0}]
[null,{"$f":"Import!A333","v":0},{"$f":"Import!B333","v":0},{"$f":"Import!H333","v":0},{"$f":"Import!I333","v":0},{"$f":"Import!J333","v":0},{"$f":"Import!K333","v":0},{"$f":"Import!L333","v":0},{"$f":"Import!M333","v":0},{"$f":"Import!N333","v":0},{"$f":"Import!O333","v":0},{"$f":"Import!P333","v":0},{"$f":"Import!Q333","v":0},{"$f":"Import!R333","v":0},{"$f":"Import!S333","v":0},{"$f":"Import!T333","v":0},{"$f":"Import!U333","v":0},{"$f":"Import!V333","v":0},{"$f":"Import!W333","v":0},{"$f":"Import!X333","v":0},{"$f":"Import!Y333","v":0},{"$f":"Import!Z333","v":0},{"$f":"Import!AA333","v":0},{"$f":"Import!AB333","v":0},{"$f":"Import!AC333","v":0},{"$f":"Import!AD333","v":0},{"$f":"Import!AE333","v":0},{"$f":"Import!AF333","v":0},{"$f":"Import!AG333","v":0},{"$f":"Import!AH333","v":0},{"$f":"Import!AI333","v":0},{"$f":"Import!AJ333","v":0},{"$f":"Import!AK333","v":0},{"$f":"Import!AL333","v":0}]
[null,{"$f":"Import!A334","v":0},{"$f":"Import!B334","v":0},{"$f":"Import!H334","v":0},{"$f":"Import!I334","v":0},{"$f":"Import!J334","v":0},{"$f":"Import!K334","v":0},{"$f":"Import!L334","v":0},{"$f":"Import!M334","v":0},{"$f":"Import!N334","v":0},{"$f":"Import!O334","v":0},{"$f":"Import!P334","v":0},{"$f":"Import!Q334","v":0},{"$f":"Import!R334","v":0},{"$f":"Import!S334","v":0},{"$f":"Import!T334","v":0},{"$f":"Import!U334","v":0},{"$f":"Import!V334","v":0},{"$f":"Import!W334","v":0},{"$f":"Import!X334","v":0},{"$f":"Import!Y334","v":0},{"$f":"Import!Z334","v":0},{"$f":"Import!AA334","v":0},{"$f":"Import!AB334","v":0},{"$f":"Import!AC334","v":0},{"$f":"Import!AD334","v":0},{"$f":"Import!AE334","v":0},{"$f":"Import!AF334","v":0},{"$f":"Import!AG334","v":0},{"$f":"Import!AH334","v":0},{"$f":"Import!AI334","v":0},{"$f":"Import!AJ334","v":0},{"$f":"Import!AK334","v":0},{"$f":"Import!AL334","v":0}]
[null,{"$f":"Import!A335","v":0},{"$f":"Import!B335","v":0},{"$f":"Import!H335","v":0},{"$f":"Import!I335","v":0},{"$f":"Import!J335","v":0},{"$f":"Import!K335","v":0},{"$f":"Import!L335","v":0},{"$f":"Import!M335","v":0},{"$f":"Import!N335","v":0},{"$f":"Import!O335","v":0},{"$f":"Import!P335","v":0},{"$f":"Import!Q335","v":0},{"$f":"Import!R335","v":0},{"$f":"Import!S335","v":0},{"$f":"Import!T335","v":0},{"$f":"Import!U335","v":0},{"$f":"Import!V335","v":0},{"$f":"Import!W335","v":0},{"$f":"Import!X335","v":0},{"$f":"Import!Y335","v":0},{"$f":"Import!Z335","v":0},{"$f":"Import!AA335","v":0},{"$f":"Import!AB335","v":0},{"$f":"Import!AC335","v":0},{"$f":"Import!AD335","v":0},{"$f":"Import!AE335","v":0},{"$f":"Import!AF335","v":0},{"$f":"Import!AG335","v":0},{"$f":"Import!AH335","v":0},{"$f":"Import!AI335","v":0},{"$f":"Import!AJ335","v":0},{"$f":"Import!AK335","v":0},{"$f":"Import!AL335","v":0}]
[null,{"$f":"Import!A336","v":0},{"$f":"Import!B336","v":0},{"$f":"Import!H336","v":0},{"$f":"Import!I336","v":0},{"$f":"Import!J336","v":0},{"$f":"Import!K336","v":0},{"$f":"Import!L336","v":0},{"$f":"Import!M336","v":0},{"$f":"Import!N336","v":0},{"$f":"Import!O336","v":0},{"$f":"Import!P336","v":0},{"$f":"Import!Q336","v":0},{"$f":"Import!R336","v":0},{"$f":"Import!S336","v":0},{"$f":"Import!T336","v":0},{"$f":"Import!U336","v":0},{"$f":"Import!V336","v":0},{"$f":"Import!W336","v":0},{"$f":"Import!X336","v":0},{"$f":"Import!Y336","v":0},{"$f":"Import!Z336","v":0},{"$f":"Import!AA336","v":0},{"$f":"Import!AB336","v":0},{"$f":"Import!AC336","v":0},{"$f":"Import!AD336","v":0},{"$f":"Import!AE336","v":0},{"$f":"Import!AF336","v":0},{"$f":"Import!AG336","v":0},{"$f":"Import!AH336","v":0},{"$f":"Import!AI336","v":0},{"$f":"Import!AJ336","v":0},{"$f":"Import!AK336","v":0},{"$f":"Import!AL336","v":0}]
[null,{"$f":"Import!A337","v":0},{"$f":"Import!B337","v":0},{"$f":"Import!H337","v":0},{"$f":"Import!I337","v":0},{"$f":"Import!J337","v":0},{"$f":"Import!K337","v":0},{"$f":"Import!L337","v":0},{"$f":"Import!M337","v":0},{"$f":"Import!N337","v":0},{"$f":"Import!O337","v":0},{"$f":"Import!P337","v":0},{"$f":"Import!Q337","v":0},{"$f":"Import!R337","v":0},{"$f":"Import!S337","v":0},{"$f":"Import!T337","v":0},{"$f":"Import!U337","v":0},{"$f":"Import!V337","v":0},{"$f":"Import!W337","v":0},{"$f":"Import!X337","v":0},{"$f":"Import!Y337","v":0},{"$f":"Import!Z337","v":0},{"$f":"Import!AA337","v":0},{"$f":"Import!AB337","v":0},{"$f":"Import!AC337","v":0},{"$f":"Import!AD337","v":0},{"$f":"Import!AE337","v":0},{"$f":"Import!AF337","v":0},{"$f":"Import!AG337","v":0},{"$f":"Import!AH337","v":0},{"$f":"Import!AI337","v":0},{"$f":"Import!AJ337","v":0},{"$f":"Import!AK337","v":0},{"$f":"Import!AL337","v":0}]
[null,{"$f":"Import!A338","v":0},{"$f":"Import!B338","v":0},{"$f":"Import!H338","v":0},{"$f":"Import!I338","v":0},{"$f":"Import!J338","v":0},{"$f":"Import!K338","v":0},{"$f":"Import!L338","v":0},{"$f":"Import!M338","v":0},{"$f":"Import!N338","v":0},{"$f":"Import!O338","v":0},{"$f":"Import!P338","v":0},{"$f":"Import!Q338","v":0},{"$f":"Import!R338","v":0},{"$f":"Import!S338","v":0},{"$f":"Import!T338","v":0},{"$f":"Import!U338","v":0},{"$f":"Import!V338","v":0},{"$f":"Import!W338","v":0},{"$f":"Import!X338","v":0},{"$f":"Import!Y338","v":0},{"$f":"Import!Z338","v":0},{"$f":"Import!AA338","v":0},{"$f":"Import!AB338","v":0},{"$f":"Import!AC338","v":0},{"$f":"Import!AD338","v":0},{"$f":"Import!AE338","v":0},{"$f":"Import!AF338","v":0},{"$f":"Import!AG338","v":0},{"$f":"Import!AH338","v":0},{"$f":"Import!AI338","v":0},{"$f":"Import!AJ338","v":0},{"$f":"Import!AK338","v":0},{"$f":"Import!AL338","v":0}]
[null,{"$f":"Import!A339","v":0},{"$f":"Import!B339","v":0},{"$f":"Import!H339","v":0},{"$f":"Import!I339","v":0},{"$f":"Import!J339","v":0},{"$f":"Import!K339","v":0},{"$f":"Import!L339","v":0},{"$f":"Import!M339","v":0},{"$f":"Import!N339","v":0},{"$f":"Import!O339","v":0},{"$f":"Import!P339","v":0},{"$f":"Import!Q339","v":0},{"$f":"Import!R339","v":0},{"$f":"Import!S339","v":0},{"$f":"Import!T339","v":0},{"$f":"Import!U339","v":0},{"$f":"Import!V339","v":0},{"$f":"Import!W339","v":0},{"$f":"Import!X339","v":0},{"$f":"Import!Y339","v":0},{"$f":"Import!Z339","v":0},{"$f":"Import!AA339","v":0},{"$f":"Import!AB339","v":0},{"$f":"Import!AC339","v":0},{"$f":"Import!AD339","v":0},{"$f":"Import!AE339","v":0},{"$f":"Import!AF339","v":0},{"$f":"Import!AG339","v":0},{"$f":"Import!AH339","v":0},{"$f":"Import!AI339","v":0},{"$f":"Import!AJ339","v":0},{"$f":"Import!AK339","v":0},{"$f":"Import!AL339","v":0}]
[null,{"$f":"Import!A340","v":0},{"$f":"Import!B340","v":0},{"$f":"Import!H340","v":0},{"$f":"Import!I340","v":0},{"$f":"Import!J340","v":0},{"$f":"Import!K340","v":0},{"$f":"Import!L340","v":0},{"$f":"Import!M340","v":0},{"$f":"Import!N340","v":0},{"$f":"Import!O340","v":0},{"$f":"Import!P340","v":0},{"$f":"Import!Q340","v":0},{"$f":"Import!R340","v":0},{"$f":"Import!S340","v":0},{"$f":"Import!T340","v":0},{"$f":"Import!U340","v":0},{"$f":"Import!V340","v":0},{"$f":"Import!W340","v":0},{"$f":"Import!X340","v":0},{"$f":"Import!Y340","v":0},{"$f":"Import!Z340","v":0},{"$f":"Import!AA340","v":0},{"$f":"Import!AB340","v":0},{"$f":"Import!AC340","v":0},{"$f":"Import!AD340","v":0},{"$f":"Import!AE340","v":0},{"$f":"Import!AF340","v":0},{"$f":"Import!AG340","v":0},{"$f":"Import!AH340","v":0},{"$f":"Import!AI340","v":0},{"$f":"Import!AJ340","v":0},{"$f":"Import!AK340","v":0},{"$f":"Import!AL340","v":0}]
[null,{"$f":"Import!A341","v":0},{"$f":"Import!B341","v":0},{"$f":"Import!H341","v":0},{"$f":"Import!I341","v":0},{"$f":"Import!J341","v":0},{"$f":"Import!K341","v":0},{"$f":"Import!L341","v":0},{"$f":"Import!M341","v":0},{"$f":"Import!N341","v":0},{"$f":"Import!O341","v":0},{"$f":"Import!P341","v":0},{"$f":"Import!Q341","v":0},{"$f":"Import!R341","v":0},{"$f":"Import!S341","v":0},{"$f":"Import!T341","v":0},{"$f":"Import!U341","v":0},{"$f":"Import!V341","v":0},{"$f":"Import!W341","v":0},{"$f":"Import!X341","v":0},{"$f":"Import!Y341","v":0},{"$f":"Import!Z341","v":0},{"$f":"Import!AA341","v":0},{"$f":"Import!AB341","v":0},{"$f":"Import!AC341","v":0},{"$f":"Import!AD341","v":0},{"$f":"Import!AE341","v":0},{"$f":"Import!AF341","v":0},{"$f":"Import!AG341","v":0},{"$f":"Import!AH341","v":0},{"$f":"Import!AI341","v":0},{"$f":"Import!AJ341","v":0},{"$f":"Import!AK341","v":0},{"$f":"Import!AL341","v":0}]
[null,{"$f":"Import!A342","v":0},{"$f":"Import!B342","v":0},{"$f":"Import!H342","v":0},{"$f":"Import!I342","v":0},{"$f":"Import!J342","v":0},{"$f":"Import!K342","v":0},{"$f":"Import!L342","v":0},{"$f":"Import!M342","v":0},{"$f":"Import!N342","v":0},{"$f":"Import!O342","v":0},{"$f":"Import!P342","v":0},{"$f":"Import!Q342","v":0},{"$f":"Import!R342","v":0},{"$f":"Import!S342","v":0},{"$f":"Import!T342","v":0},{"$f":"Import!U342","v":0},{"$f":"Import!V342","v":0},{"$f":"Import!W342","v":0},{"$f":"Import!X342","v":0},{"$f":"Import!Y342","v":0},{"$f":"Import!Z342","v":0},{"$f":"Import!AA342","v":0},{"$f":"Import!AB342","v":0},{"$f":"Import!AC342","v":0},{"$f":"Import!AD342","v":0},{"$f":"Import!AE342","v":0},{"$f":"Import!AF342","v":0},{"$f":"Import!AG342","v":0},{"$f":"Import!AH342","v":0},{"$f":"Import!AI342","v":0},{"$f":"Import!AJ342","v":0},{"$f":"Import!AK342","v":0},{"$f":"Import!AL342","v":0}]
[null,{"$f":"Import!A343","v":0},{"$f":"Import!B343","v":0},{"$f":"Import!H343","v":0},{"$f":"Import!I343","v":0},{"$f":"Import!J343","v":0},{"$f":"Import!K343","v":0},{"$f":"Import!L343","v":0},{"$f":"Import!M343","v":0},{"$f":"Import!N343","v":0},{"$f":"Import!O343","v":0},{"$f":"Import!P343","v":0},{"$f":"Import!Q343","v":0},{"$f":"Import!R343","v":0},{"$f":"Import!S343","v":0},{"$f":"Import!T343","v":0},{"$f":"Import!U343","v":0},{"$f":"Import!V343","v":0},{"$f":"Import!W343","v":0},{"$f":"Import!X343","v":0},{"$f":"Import!Y343","v":0},{"$f":"Import!Z343","v":0},{"$f":"Import!AA343","v":0},{"$f":"Import!AB343","v":0},{"$f":"Import!AC343","v":0},{"$f":"Import!AD343","v":0},{"$f":"Import!AE343","v":0},{"$f":"Import!AF343","v":0},{"$f":"Import!AG343","v":0},{"$f":"Import!AH343","v":0},{"$f":"Import!AI343","v":0},{"$f":"Import!AJ343","v":0},{"$f":"Import!AK343","v":0},{"$f":"Import!AL343","v":0}]
[null,{"$f":"Import!A344","v":0},{"$f":"Import!B344","v":0},{"$f":"Import!H344","v":0},{"$f":"Import!I344","v":0},{"$f":"Import!J344","v":0},{"$f":"Import!K344","v":0},{"$f":"Import!L344","v":0},{"$f":"Import!M344","v":0},{"$f":"Import!N344","v":0},{"$f":"Import!O344","v":0},{"$f":"Import!P344","v":0},{"$f":"Import!Q344","v":0},{"$f":"Import!R344","v":0},{"$f":"Import!S344","v":0},{"$f":"Import!T344","v":0},{"$f":"Import!U344","v":0},{"$f":"Import!V344","v":0},{"$f":"Import!W344","v":0},{"$f":"Import!X344","v":0},{"$f":"Import!Y344","v":0},{"$f":"Import!Z344","v":0},{"$f":"Import!AA344","v":0},{"$f":"Import!AB344","v":0},{"$f":"Import!AC344","v":0},{"$f":"Import!AD344","v":0},{"$f":"Import!AE344","v":0},{"$f":"Import!AF344","v":0},{"$f":"Import!AG344","v":0},{"$f":"Import!AH344","v":0},{"$f":"Import!AI344","v":0},{"$f":"Import!AJ344","v":0},{"$f":"Import!AK344","v":0},{"$f":"Import!AL344","v":0}]
[null,{"$f":"Import!A345","v":0},{"$f":"Import!B345","v":0},{"$f":"Import!H345","v":0},{"$f":"Import!I345","v":0},{"$f":"Import!J345","v":0},{"$f":"Import!K345","v":0},{"$f":"Import!L345","v":0},{"$f":"Import!M345","v":0},{"$f":"Import!N345","v":0},{"$f":"Import!O345","v":0},{"$f":"Import!P345","v":0},{"$f":"Import!Q345","v":0},{"$f":"Import!R345","v":0},{"$f":"Import!S345","v":0},{"$f":"Import!T345","v":0},{"$f":"Import!U345","v":0},{"$f":"Import!V345","v":0},{"$f":"Import!W345","v":0},{"$f":"Import!X345","v":0},{"$f":"Import!Y345","v":0},{"$f":"Import!Z345","v":0},{"$f":"Import!AA345","v":0},{"$f":"Import!AB345","v":0},{"$f":"Import!AC345","v":0},{"$f":"Import!AD345","v":0},{"$f":"Import!AE345","v":0},{"$f":"Import!AF345","v":0},{"$f":"Import!AG345","v":0},{"$f":"Import!AH345","v":0},{"$f":"Import!AI345","v":0},{"$f":"Import!AJ345","v":0},{"$f":"Import!AK345","v":0},{"$f":"Import!AL345","v":0}]
[null,{"$f":"Import!A346","v":0},{"$f":"Import!B346","v":0},{"$f":"Import!H346","v":0},{"$f":"Import!I346","v":0},{"$f":"Import!J346","v":0},{"$f":"Import!K346","v":0},{"$f":"Import!L346","v":0},{"$f":"Import!M346","v":0},{"$f":"Import!N346","v":0},{"$f":"Import!O346","v":0},{"$f":"Import!P346","v":0},{"$f":"Import!Q346","v":0},{"$f":"Import!R346","v":0},{"$f":"Import!S346","v":0},{"$f":"Import!T346","v":0},{"$f":"Import!U346","v":0},{"$f":"Import!V346","v":0},{"$f":"Import!W346","v":0},{"$f":"Import!X346","v":0},{"$f":"Import!Y346","v":0},{"$f":"Import!Z346","v":0},{"$f":"Import!AA346","v":0},{"$f":"Import!AB346","v":0},{"$f":"Import!AC346","v":0},{"$f":"Import!AD346","v":0},{"$f":"Import!AE346","v":0},{"$f":"Import!AF346","v":0},{"$f":"Import!AG346","v":0},{"$f":"Import!AH346","v":0},{"$f":"Import!AI346","v":0},{"$f":"Import!AJ346","v":0},{"$f":"Import!AK346","v":0},{"$f":"Import!AL346","v":0}]
[null,{"$f":"Import!A347","v":0},{"$f":"Import!B347","v":0},{"$f":"Import!H347","v":0},{"$f":"Import!I347","v":0},{"$f":"Import!J347","v":0},{"$f":"Import!K347","v":0},{"$f":"Import!L347","v":0},{"$f":"Import!M347","v":0},{"$f":"Import!N347","v":0},{"$f":"Import!O347","v":0},{"$f":"Import!P347","v":0},{"$f":"Import!Q347","v":0},{"$f":"Import!R347","v":0},{"$f":"Import!S347","v":0},{"$f":"Import!T347","v":0},{"$f":"Import!U347","v":0},{"$f":"Import!V347","v":0},{"$f":"Import!W347","v":0},{"$f":"Import!X347","v":0},{"$f":"Import!Y347","v":0},{"$f":"Import!Z347","v":0},{"$f":"Import!AA347","v":0},{"$f":"Import!AB347","v":0},{"$f":"Import!AC347","v":0},{"$f":"Import!AD347","v":0},{"$f":"Import!AE347","v":0},{"$f":"Import!AF347","v":0},{"$f":"Import!AG347","v":0},{"$f":"Import!AH347","v":0},{"$f":"Import!AI347","v":0},{"$f":"Import!AJ347","v":0},{"$f":"Import!AK347","v":0},{"$f":"Import!AL347","v":0}]
[null,{"$f":"Import!A348","v":0},{"$f":"Import!B348","v":0},{"$f":"Import!H348","v":0},{"$f":"Import!I348","v":0},{"$f":"Import!J348","v":0},{"$f":"Import!K348","v":0},{"$f":"Import!L348","v":0},{"$f":"Import!M348","v":0},{"$f":"Import!N348","v":0},{"$f":"Import!O348","v":0},{"$f":"Import!P348","v":0},{"$f":"Import!Q348","v":0},{"$f":"Import!R348","v":0},{"$f":"Import!S348","v":0},{"$f":"Import!T348","v":0},{"$f":"Import!U348","v":0},{"$f":"Import!V348","v":0},{"$f":"Import!W348","v":0},{"$f":"Import!X348","v":0},{"$f":"Import!Y348","v":0},{"$f":"Import!Z348","v":0},{"$f":"Import!AA348","v":0},{"$f":"Import!AB348","v":0},{"$f":"Import!AC348","v":0},{"$f":"Import!AD348","v":0},{"$f":"Import!AE348","v":0},{"$f":"Import!AF348","v":0},{"$f":"Import!AG348","v":0},{"$f":"Import!AH348","v":0},{"$f":"Import!AI348","v":0},{"$f":"Import!AJ348","v":0},{"$f":"Import!AK348","v":0},{"$f":"Import!AL348","v":0}]
[null,{"$f":"Import!A349","v":0},{"$f":"Import!B349","v":0},{"$f":"Import!H349","v":0},{"$f":"Import!I349","v":0},{"$f":"Import!J349","v":0},{"$f":"Import!K349","v":0},{"$f":"Import!L349","v":0},{"$f":"Import!M349","v":0},{"$f":"Import!N349","v":0},{"$f":"Import!O349","v":0},{"$f":"Import!P349","v":0},{"$f":"Import!Q349","v":0},{"$f":"Import!R349","v":0},{"$f":"Import!S349","v":0},{"$f":"Import!T349","v":0},{"$f":"Import!U349","v":0},{"$f":"Import!V349","v":0},{"$f":"Import!W349","v":0},{"$f":"Import!X349","v":0},{"$f":"Import!Y349","v":0},{"$f":"Import!Z349","v":0},{"$f":"Import!AA349","v":0},{"$f":"Import!AB349","v":0},{"$f":"Import!AC349","v":0},{"$f":"Import!AD349","v":0},{"$f":"Import!AE349","v":0},{"$f":"Import!AF349","v":0},{"$f":"Import!AG349","v":0},{"$f":"Import!AH349","v":0},{"$f":"Import!AI349","v":0},{"$f":"Import!AJ349","v":0},{"$f":"Import!AK349","v":0},{"$f":"Import!AL349","v":0}]
[null,{"$f":"Import!A350","v":0},{"$f":"Import!B350","v":0},{"$f":"Import!H350","v":0},{"$f":"Import!I350","v":0},{"$f":"Import!J350","v":0},{"$f":"Import!K350","v":0},{"$f":"Import!L350","v":0},{"$f":"Import!M350","v":0},{"$f":"Import!N350","v":0},{"$f":"Import!O350","v":0},{"$f":"Import!P350","v":0},{"$f":"Import!Q350","v":0},{"$f":"Import!R350","v":0},{"$f":"Import!S350","v":0},{"$f":"Import!T350","v":0},{"$f":"Import!U350","v":0},{"$f":"Import!V350","v":0},{"$f":"Import!W350","v":0},{"$f":"Import!X350","v":0},{"$f":"Import!Y350","v":0},{"$f":"Import!Z350","v":0},{"$f":"Import!AA350","v":0},{"$f":"Import!AB350","v":0},{"$f":"Import!AC350","v":0},{"$f":"Import!AD350","v":0},{"$f":"Import!AE350","v":0},{"$f":"Import!AF350","v":0},{"$f":"Import!AG350","v":0},{"$f":"Import!AH350","v":0},{"$f":"Import!AI350","v":0},{"$f":"Import!AJ350","v":0},{"$f":"Import!AK350","v":0},{"$f":"Import!AL350","v":0}]
[null,{"$f":"Import!A351","v":0},{"$f":"Import!B351","v":0},{"$f":"Import!H351","v":0},{"$f":"Import!I351","v":0},{"$f":"Import!J351","v":0},{"$f":"Import!K351","v":0},{"$f":"Import!L351","v":0},{"$f":"Import!M351","v":0},{"$f":"Import!N351","v":0},{"$f":"Import!O351","v":0},{"$f":"Import!P351","v":0},{"$f":"Import!Q351","v":0},{"$f":"Import!R351","v":0},{"$f":"Import!S351","v":0},{"$f":"Import!T351","v":0},{"$f":"Import!U351","v":0},{"$f":"Import!V351","v":0},{"$f":"Import!W351","v":0},{"$f":"Import!X351","v":0},{"$f":"Import!Y351","v":0},{"$f":"Import!Z351","v":0},{"$f":"Import!AA351","v":0},{"$f":"Import!AB351","v":0},{"$f":"Import!AC351","v":0},{"$f":"Import!AD351","v":0},{"$f":"Import!AE351","v":0},{"$f":"Import!AF351","v":0},{"$f":"Import!AG351","v":0},{"$f":"Import!AH351","v":0},{"$f":"Import!AI351","v":0},{"$f":"Import!AJ351","v":0},{"$f":"Import!AK351","v":0},{"$f":"Import!AL351","v":0}]
[null,{"$f":"Import!A352","v":0},{"$f":"Import!B352","v":0},{"$f":"Import!H352","v":0},{"$f":"Import!I352","v":0},{"$f":"Import!J352","v":0},{"$f":"Import!K352","v":0},{"$f":"Import!L352","v":0},{"$f":"Import!M352","v":0},{"$f":"Import!N352","v":0},{"$f":"Import!O352","v":0},{"$f":"Import!P352","v":0},{"$f":"Import!Q352","v":0},{"$f":"Import!R352","v":0},{"$f":"Import!S352","v":0},{"$f":"Import!T352","v":0},{"$f":"Import!U352","v":0},{"$f":"Import!V352","v":0},{"$f":"Import!W352","v":0},{"$f":"Import!X352","v":0},{"$f":"Import!Y352","v":0},{"$f":"Import!Z352","v":0},{"$f":"Import!AA352","v":0},{"$f":"Import!AB352","v":0},{"$f":"Import!AC352","v":0},{"$f":"Import!AD352","v":0},{"$f":"Import!AE352","v":0},{"$f":"Import!AF352","v":0},{"$f":"Import!AG352","v":0},{"$f":"Import!AH352","v":0},{"$f":"Import!AI352","v":0},{"$f":"Import!AJ352","v":0},{"$f":"Import!AK352","v":0},{"$f":"Import!AL352","v":0}]
[null,{"$f":"Import!A353","v":0},{"$f":"Import!B353","v":0},{"$f":"Import!H353","v":0},{"$f":"Import!I353","v":0},{"$f":"Import!J353","v":0},{"$f":"Import!K353","v":0},{"$f":"Import!L353","v":0},{"$f":"Import!M353","v":0},{"$f":"Import!N353","v":0},{"$f":"Import!O353","v":0},{"$f":"Import!P353","v":0},{"$f":"Import!Q353","v":0},{"$f":"Import!R353","v":0},{"$f":"Import!S353","v":0},{"$f":"Import!T353","v":0},{"$f":"Import!U353","v":0},{"$f":"Import!V353","v":0},{"$f":"Import!W353","v":0},{"$f":"Import!X353","v":0},{"$f":"Import!Y353","v":0},{"$f":"Import!Z353","v":0},{"$f":"Import!AA353","v":0},{"$f":"Import!AB353","v":0},{"$f":"Import!AC353","v":0},{"$f":"Import!AD353","v":0},{"$f":"Import!AE353","v":0},{"$f":"Import!AF353","v":0},{"$f":"Import!AG353","v":0},{"$f":"Import!AH353","v":0},{"$f":"Import!AI353","v":0},{"$f":"Import!AJ353","v":0},{"$f":"Import!AK353","v":0},{"$f":"Import!AL353","v":0}]
[null,{"$f":"Import!A354","v":0},{"$f":"Import!B354","v":0},{"$f":"Import!H354","v":0},{"$f":"Import!I354","v":0},{"$f":"Import!J354","v":0},{"$f":"Import!K354","v":0},{"$f":"Import!L354","v":0},{"$f":"Import!M354","v":0},{"$f":"Import!N354","v":0},{"$f":"Import!O354","v":0},{"$f":"Import!P354","v":0},{"$f":"Import!Q354","v":0},{"$f":"Import!R354","v":0},{"$f":"Import!S354","v":0},{"$f":"Import!T354","v":0},{"$f":"Import!U354","v":0},{"$f":"Import!V354","v":0},{"$f":"Import!W354","v":0},{"$f":"Import!X354","v":0},{"$f":"Import!Y354","v":0},{"$f":"Import!Z354","v":0},{"$f":"Import!AA354","v":0},{"$f":"Import!AB354","v":0},{"$f":"Import!AC354","v":0},{"$f":"Import!AD354","v":0},{"$f":"Import!AE354","v":0},{"$f":"Import!AF354","v":0},{"$f":"Import!AG354","v":0},{"$f":"Import!AH354","v":0},{"$f":"Import!AI354","v":0},{"$f":"Import!AJ354","v":0},{"$f":"Import!AK354","v":0},{"$f":"Import!AL354","v":0}]
[null,{"$f":"Import!A355","v":0},{"$f":"Import!B355","v":0},{"$f":"Import!H355","v":0},{"$f":"Import!I355","v":0},{"$f":"Import!J355","v":0},{"$f":"Import!K355","v":0},{"$f":"Import!L355","v":0},{"$f":"Import!M355","v":0},{"$f":"Import!N355","v":0},{"$f":"Import!O355","v":0},{"$f":"Import!P355","v":0},{"$f":"Import!Q355","v":0},{"$f":"Import!R355","v":0},{"$f":"Import!S355","v":0},{"$f":"Import!T355","v":0},{"$f":"Import!U355","v":0},{"$f":"Import!V355","v":0},{"$f":"Import!W355","v":0},{"$f":"Import!X355","v":0},{"$f":"Import!Y355","v":0},{"$f":"Import!Z355","v":0},{"$f":"Import!AA355","v":0},{"$f":"Import!AB355","v":0},{"$f":"Import!AC355","v":0},{"$f":"Import!AD355","v":0},{"$f":"Import!AE355","v":0},{"$f":"Import!AF355","v":0},{"$f":"Import!AG355","v":0},{"$f":"Import!AH355","v":0},{"$f":"Import!AI355","v":0},{"$f":"Import!AJ355","v":0},{"$f":"Import!AK355","v":0},{"$f":"Import!AL355","v":0}]
[null,{"$f":"Import!A356","v":0},{"$f":"Import!B356","v":0},{"$f":"Import!H356","v":0},{"$f":"Import!I356","v":0},{"$f":"Import!J356","v":0},{"$f":"Import!K356","v":0},{"$f":"Import!L356","v":0},{"$f":"Import!M356","v":0},{"$f":"Import!N356","v":0},{"$f":"Import!O356","v":0},{"$f":"Import!P356","v":0},{"$f":"Import!Q356","v":0},{"$f":"Import!R356","v":0},{"$f":"Import!S356","v":0},{"$f":"Import!T356","v":0},{"$f":"Import!U356","v":0},{"$f":"Import!V356","v":0},{"$f":"Import!W356","v":0},{"$f":"Import!X356","v":0},{"$f":"Import!Y356","v":0},{"$f":"Import!Z356","v":0},{"$f":"Import!AA356","v":0},{"$f":"Import!AB356","v":0},{"$f":"Import!AC356","v":0},{"$f":"Import!AD356","v":0},{"$f":"Import!AE356","v":0},{"$f":"Import!AF356","v":0},{"$f":"Import!AG356","v":0},{"$f":"Import!AH356","v":0},{"$f":"Import!AI356","v":0},{"$f":"Import!AJ356","v":0},{"$f":"Import!AK356","v":0},{"$f":"Import!AL356","v":0}]
[null,{"$f":"Import!A357","v":0},{"$f":"Import!B357","v":0},{"$f":"Import!H357","v":0},{"$f":"Import!I357","v":0},{"$f":"Import!J357","v":0},{"$f":"Import!K357","v":0},{"$f":"Import!L357","v":0},{"$f":"Import!M357","v":0},{"$f":"Import!N357","v":0},{"$f":"Import!O357","v":0},{"$f":"Import!P357","v":0},{"$f":"Import!Q357","v":0},{"$f":"Import!R357","v":0},{"$f":"Import!S357","v":0},{"$f":"Import!T357","v":0},{"$f":"Import!U357","v":0},{"$f":"Import!V357","v":0},{"$f":"Import!W357","v":0},{"$f":"Import!X357","v":0},{"$f":"Import!Y357","v":0},{"$f":"Import!Z357","v":0},{"$f":"Import!AA357","v":0},{"$f":"Import!AB357","v":0},{"$f":"Import!AC357","v":0},{"$f":"Import!AD357","v":0},{"$f":"Import!AE357","v":0},{"$f":"Import!AF357","v":0},{"$f":"Import!AG357","v":0},{"$f":"Import!AH357","v":0},{"$f":"Import!AI357","v":0},{"$f":"Import!AJ357","v":0},{"$f":"Import!AK357","v":0},{"$f":"Import!AL357","v":0}]
[null,{"$f":"Import!A358","v":0},{"$f":"Import!B358","v":0},{"$f":"Import!H358","v":0},{"$f":"Import!I358","v":0},{"$f":"Import!J358","v":0},{"$f":"Import!K358","v":0},{"$f":"Import!L358","v":0},{"$f":"Import!M358","v":0},{"$f":"Import!N358","v":0},{"$f":"Import!O358","v":0},{"$f":"Import!P358","v":0},{"$f":"Import!Q358","v":0},{"$f":"Import!R358","v":0},{"$f":"Import!S358","v":0},{"$f":"Import!T358","v":0},{"$f":"Import!U358","v":0},{"$f":"Import!V358","v":0},{"$f":"Import!W358","v":0},{"$f":"Import!X358","v":0},{"$f":"Import!Y358","v":0},{"$f":"Import!Z358","v":0},{"$f":"Import!AA358","v":0},{"$f":"Import!AB358","v":0},{"$f":"Import!AC358","v":0},{"$f":"Import!AD358","v":0},{"$f":"Import!AE358","v":0},{"$f":"Import!AF358","v":0},{"$f":"Import!AG358","v":0},{"$f":"Import!AH358","v":0},{"$f":"Import!AI358","v":0},{"$f":"Import!AJ358","v":0},{"$f":"Import!AK358","v":0},{"$f":"Import!AL358","v":0}]
[null,{"$f":"Import!A359","v":0},{"$f":"Import!B359","v":0},{"$f":"Import!H359","v":0},{"$f":"Import!I359","v":0},{"$f":"Import!J359","v":0},{"$f":"Import!K359","v":0},{"$f":"Import!L359","v":0},{"$f":"Import!M359","v":0},{"$f":"Import!N359","v":0},{"$f":"Import!O359","v":0},{"$f":"Import!P359","v":0},{"$f":"Import!Q359","v":0},{"$f":"Import!R359","v":0},{"$f":"Import!S359","v":0},{"$f":"Import!T359","v":0},{"$f":"Import!U359","v":0},{"$f":"Import!V359","v":0},{"$f":"Import!W359","v":0},{"$f":"Import!X359","v":0},{"$f":"Import!Y359","v":0},{"$f":"Import!Z359","v":0},{"$f":"Import!AA359","v":0},{"$f":"Import!AB359","v":0},{"$f":"Import!AC359","v":0},{"$f":"Import!AD359","v":0},{"$f":"Import!AE359","v":0},{"$f":"Import!AF359","v":0},{"$f":"Import!AG359","v":0},{"$f":"Import!AH359","v":0},{"$f":"Import!AI359","v":0},{"$f":"Import!AJ359","v":0},{"$f":"Import!AK359","v":0},{"$f":"Import!AL359","v":0}]
[null,{"$f":"Import!A360","v":0},{"$f":"Import!B360","v":0},{"$f":"Import!H360","v":0},{"$f":"Import!I360","v":0},{"$f":"Import!J360","v":0},{"$f":"Import!K360","v":0},{"$f":"Import!L360","v":0},{"$f":"Import!M360","v":0},{"$f":"Import!N360","v":0},{"$f":"Import!O360","v":0},{"$f":"Import!P360","v":0},{"$f":"Import!Q360","v":0},{"$f":"Import!R360","v":0},{"$f":"Import!S360","v":0},{"$f":"Import!T360","v":0},{"$f":"Import!U360","v":0},{"$f":"Import!V360","v":0},{"$f":"Import!W360","v":0},{"$f":"Import!X360","v":0},{"$f":"Import!Y360","v":0},{"$f":"Import!Z360","v":0},{"$f":"Import!AA360","v":0},{"$f":"Import!AB360","v":0},{"$f":"Import!AC360","v":0},{"$f":"Import!AD360","v":0},{"$f":"Import!AE360","v":0},{"$f":"Import!AF360","v":0},{"$f":"Import!AG360","v":0},{"$f":"Import!AH360","v":0},{"$f":"Import!AI360","v":0},{"$f":"Import!AJ360","v":0},{"$f":"Import!AK360","v":0},{"$f":"Import!AL360","v":0}]
[null,{"$f":"Import!A361","v":0},{"$f":"Import!B361","v":0},{"$f":"Import!H361","v":0},{"$f":"Import!I361","v":0},{"$f":"Import!J361","v":0},{"$f":"Import!K361","v":0},{"$f":"Import!L361","v":0},{"$f":"Import!M361","v":0},{"$f":"Import!N361","v":0},{"$f":"Import!O361","v":0},{"$f":"Import!P361","v":0},{"$f":"Import!Q361","v":0},{"$f":"Import!R361","v":0},{"$f":"Import!S361","v":0},{"$f":"Import!T361","v":0},{"$f":"Import!U361","v":0},{"$f":"Import!V361","v":0},{"$f":"Import!W361","v":0},{"$f":"Import!X361","v":0},{"$f":"Import!Y361","v":0},{"$f":"Import!Z361","v":0},{"$f":"Import!AA361","v":0},{"$f":"Import!AB361","v":0},{"$f":"Import!AC361","v":0},{"$f":"Import!AD361","v":0},{"$f":"Import!AE361","v":0},{"$f":"Import!AF361","v":0},{"$f":"Import!AG361","v":0},{"$f":"Import!AH361","v":0},{"$f":"Import!AI361","v":0},{"$f":"Import!AJ361","v":0},{"$f":"Import!AK361","v":0},{"$f":"Import!AL361","v":0}]
[null,{"$f":"Import!A362","v":0},{"$f":"Import!B362","v":0},{"$f":"Import!H362","v":0},{"$f":"Import!I362","v":0},{"$f":"Import!J362","v":0},{"$f":"Import!K362","v":0},{"$f":"Import!L362","v":0},{"$f":"Import!M362","v":0},{"$f":"Import!N362","v":0},{"$f":"Import!O362","v":0},{"$f":"Import!P362","v":0},{"$f":"Import!Q362","v":0},{"$f":"Import!R362","v":0},{"$f":"Import!S362","v":0},{"$f":"Import!T362","v":0},{"$f":"Import!U362","v":0},{"$f":"Import!V362","v":0},{"$f":"Import!W362","v":0},{"$f":"Import!X362","v":0},{"$f":"Import!Y362","v":0},{"$f":"Import!Z362","v":0},{"$f":"Import!AA362","v":0},{"$f":"Import!AB362","v":0},{"$f":"Import!AC362","v":0},{"$f":"Import!AD362","v":0},{"$f":"Import!AE362","v":0},{"$f":"Import!AF362","v":0},{"$f":"Import!AG362","v":0},{"$f":"Import!AH362","v":0},{"$f":"Import!AI362","v":0},{"$f":"Import!AJ362","v":0},{"$f":"Import!AK362","v":0},{"$f":"Import!AL362","v":0}]
[null,{"$f":"Import!A363","v":0},{"$f":"Import!B363","v":0},{"$f":"Import!H363","v":0},{"$f":"Import!I363","v":0},{"$f":"Import!J363","v":0},{"$f":"Import!K363","v":0},{"$f":"Import!L363","v":0},{"$f":"Import!M363","v":0},{"$f":"Import!N363","v":0},{"$f":"Import!O363","v":0},{"$f":"Import!P363","v":0},{"$f":"Import!Q363","v":0},{"$f":"Import!R363","v":0},{"$f":"Import!S363","v":0},{"$f":"Import!T363","v":0},{"$f":"Import!U363","v":0},{"$f":"Import!V363","v":0},{"$f":"Import!W363","v":0},{"$f":"Import!X363","v":0},{"$f":"Import!Y363","v":0},{"$f":"Import!Z363","v":0},{"$f":"Import!AA363","v":0},{"$f":"Import!AB363","v":0},{"$f":"Import!AC363","v":0},{"$f":"Import!AD363","v":0},{"$f":"Import!AE363","v":0},{"$f":"Import!AF363","v":0},{"$f":"Import!AG363","v":0},{"$f":"Import!AH363","v":0},{"$f":"Import!AI363","v":0},{"$f":"Import!AJ363","v":0},{"$f":"Import!AK363","v":0},{"$f":"Import!AL363","v":0}]
[null,{"$f":"Import!A364","v":0},{"$f":"Import!B364","v":0},{"$f":"Import!H364","v":0},{"$f":"Import!I364","v":0},{"$f":"Import!J364","v":0},{"$f":"Import!K364","v":0},{"$f":"Import!L364","v":0},{"$f":"Import!M364","v":0},{"$f":"Import!N364","v":0},{"$f":"Import!O364","v":0},{"$f":"Import!P364","v":0},{"$f":"Import!Q364","v":0},{"$f":"Import!R364","v":0},{"$f":"Import!S364","v":0},{"$f":"Import!T364","v":0},{"$f":"Import!U364","v":0},{"$f":"Import!V364","v":0},{"$f":"Import!W364","v":0},{"$f":"Import!X364","v":0},{"$f":"Import!Y364","v":0},{"$f":"Import!Z364","v":0},{"$f":"Import!AA364","v":0},{"$f":"Import!AB364","v":0},{"$f":"Import!AC364","v":0},{"$f":"Import!AD364","v":0},{"$f":"Import!AE364","v":0},{"$f":"Import!AF364","v":0},{"$f":"Import!AG364","v":0},{"$f":"Import!AH364","v":0},{"$f":"Import!AI364","v":0},{"$f":"Import!AJ364","v":0},{"$f":"Import!AK364","v":0},{"$f":"Import!AL364","v":0}]
[null,{"$f":"Import!A365","v":0},{"$f":"Import!B365","v":0},{"$f":"Import!H365","v":0},{"$f":"Import!I365","v":0},{"$f":"Import!J365","v":0},{"$f":"Import!K365","v":0},{"$f":"Import!L365","v":0},{"$f":"Import!M365","v":0},{"$f":"Import!N365","v":0},{"$f":"Import!O365","v":0},{"$f":"Import!P365","v":0},{"$f":"Import!Q365","v":0},{"$f":"Import!R365","v":0},{"$f":"Import!S365","v":0},{"$f":"Import!T365","v":0},{"$f":"Import!U365","v":0},{"$f":"Import!V365","v":0},{"$f":"Import!W365","v":0},{"$f":"Import!X365","v":0},{"$f":"Import!Y365","v":0},{"$f":"Import!Z365","v":0},{"$f":"Import!AA365","v":0},{"$f":"Import!AB365","v":0},{"$f":"Import!AC365","v":0},{"$f":"Import!AD365","v":0},{"$f":"Import!AE365","v":0},{"$f":"Import!AF365","v":0},{"$f":"Import!AG365","v":0},{"$f":"Import!AH365","v":0},{"$f":"Import!AI365","v":0},{"$f":"Import!AJ365","v":0},{"$f":"Import!AK365","v":0},{"$f":"Import!AL365","v":0}]
[null,{"$f":"Import!A366","v":0},{"$f":"Import!B366","v":0},{"$f":"Import!H366","v":0},{"$f":"Import!I366","v":0},{"$f":"Import!J366","v":0},{"$f":"Import!K366","v":0},{"$f":"Import!L366","v":0},{"$f":"Import!M366","v":0},{"$f":"Import!N366","v":0},{"$f":"Import!O366","v":0},{"$f":"Import!P366","v":0},{"$f":"Import!Q366","v":0},{"$f":"Import!R366","v":0},{"$f":"Import!S366","v":0},{"$f":"Import!T366","v":0},{"$f":"Import!U366","v":0},{"$f":"Import!V366","v":0},{"$f":"Import!W366","v":0},{"$f":"Import!X366","v":0},{"$f":"Import!Y366","v":0},{"$f":"Import!Z366","v":0},{"$f":"Import!AA366","v":0},{"$f":"Import!AB366","v":0},{"$f":"Import!AC366","v":0},{"$f":"Import!AD366","v":0},{"$f":"Import!AE366","v":0},{"$f":"Import!AF366","v":0},{"$f":"Import!AG366","v":0},{"$f":"Import!AH366","v":0},{"$f":"Import!AI366","v":0},{"$f":"Import!AJ366","v":0},{"$f":"Import!AK366","v":0},{"$f":"Import!AL366","v":0}]
[null,{"$f":"Import!A367","v":0},{"$f":"Import!B367","v":0},{"$f":"Import!H367","v":0},{"$f":"Import!I367","v":0},{"$f":"Import!J367","v":0},{"$f":"Import!K367","v":0},{"$f":"Import!L367","v":0},{"$f":"Import!M367","v":0},{"$f":"Import!N367","v":0},{"$f":"Import!O367","v":0},{"$f":"Import!P367","v":0},{"$f":"Import!Q367","v":0},{"$f":"Import!R367","v":0},{"$f":"Import!S367","v":0},{"$f":"Import!T367","v":0},{"$f":"Import!U367","v":0},{"$f":"Import!V367","v":0},{"$f":"Import!W367","v":0},{"$f":"Import!X367","v":0},{"$f":"Import!Y367","v":0},{"$f":"Import!Z367","v":0},{"$f":"Import!AA367","v":0},{"$f":"Import!AB367","v":0},{"$f":"Import!AC367","v":0},{"$f":"Import!AD367","v":0},{"$f":"Import!AE367","v":0},{"$f":"Import!AF367","v":0},{"$f":"Import!AG367","v":0},{"$f":"Import!AH367","v":0},{"$f":"Import!AI367","v":0},{"$f":"Import!AJ367","v":0},{"$f":"Import!AK367","v":0},{"$f":"Import!AL367","v":0}]
[null,{"$f":"Import!A368","v":0},{"$f":"Import!B368","v":0},{"$f":"Import!H368","v":0},{"$f":"Import!I368","v":0},{"$f":"Import!J368","v":0},{"$f":"Import!K368","v":0},{"$f":"Import!L368","v":0},{"$f":"Import!M368","v":0},{"$f":"Import!N368","v":0},{"$f":"Import!O368","v":0},{"$f":"Import!P368","v":0},{"$f":"Import!Q368","v":0},{"$f":"Import!R368","v":0},{"$f":"Import!S368","v":0},{"$f":"Import!T368","v":0},{"$f":"Import!U368","v":0},{"$f":"Import!V368","v":0},{"$f":"Import!W368","v":0},{"$f":"Import!X368","v":0},{"$f":"Import!Y368","v":0},{"$f":"Import!Z368","v":0},{"$f":"Import!AA368","v":0},{"$f":"Import!AB368","v":0},{"$f":"Import!AC368","v":0},{"$f":"Import!AD368","v":0},{"$f":"Import!AE368","v":0},{"$f":"Import!AF368","v":0},{"$f":"Import!AG368","v":0},{"$f":"Import!AH368","v":0},{"$f":"Import!AI368","v":0},{"$f":"Import!AJ368","v":0},{"$f":"Import!AK368","v":0},{"$f":"Import!AL368","v":0}]
[null,{"$f":"Import!A369","v":0},{"$f":"Import!B369","v":0},{"$f":"Import!H369","v":0},{"$f":"Import!I369","v":0},{"$f":"Import!J369","v":0},{"$f":"Import!K369","v":0},{"$f":"Import!L369","v":0},{"$f":"Import!M369","v":0},{"$f":"Import!N369","v":0},{"$f":"Import!O369","v":0},{"$f":"Import!P369","v":0},{"$f":"Import!Q369","v":0},{"$f":"Import!R369","v":0},{"$f":"Import!S369","v":0},{"$f":"Import!T369","v":0},{"$f":"Import!U369","v":0},{"$f":"Import!V369","v":0},{"$f":"Import!W369","v":0},{"$f":"Import!X369","v":0},{"$f":"Import!Y369","v":0},{"$f":"Import!Z369","v":0},{"$f":"Import!AA369","v":0},{"$f":"Import!AB369","v":0},{"$f":"Import!AC369","v":0},{"$f":"Import!AD369","v":0},{"$f":"Import!AE369","v":0},{"$f":"Import!AF369","v":0},{"$f":"Import!AG369","v":0},{"$f":"Import!AH369","v":0},{"$f":"Import!AI369","v":0},{"$f":"Import!AJ369","v":0},{"$f":"Import!AK369","v":0},{"$f":"Import!AL369","v":0}]
[null,{"$f":"Import!A370","v":0},{"$f":"Import!B370","v":0},{"$f":"Import!H370","v":0},{"$f":"Import!I370","v":0},{"$f":"Import!J370","v":0},{"$f":"Import!K370","v":0},{"$f":"Import!L370","v":0},{"$f":"Import!M370","v":0},{"$f":"Import!N370","v":0},{"$f":"Import!O370","v":0},{"$f":"Import!P370","v":0},{"$f":"Import!Q370","v":0},{"$f":"Import!R370","v":0},{"$f":"Import!S370","v":0},{"$f":"Import!T370","v":0},{"$f":"Import!U370","v":0},{"$f":"Import!V370","v":0},{"$f":"Import!W370","v":0},{"$f":"Import!X370","v":0},{"$f":"Import!Y370","v":0},{"$f":"Import!Z370","v":0},{"$f":"Import!AA370","v":0},{"$f":"Import!AB370","v":0},{"$f":"Import!AC370","v":0},{"$f":"Import!AD370","v":0},{"$f":"Import!AE370","v":0},{"$f":"Import!AF370","v":0},{"$f":"Import!AG370","v":0},{"$f":"Import!AH370","v":0},{"$f":"Import!AI370","v":0},{"$f":"Import!AJ370","v":0},{"$f":"Import!AK370","v":0},{"$f":"Import!AL370","v":0}]
[null,{"$f":"Import!A371","v":0},{"$f":"Import!B371","v":0},{"$f":"Import!H371","v":0},{"$f":"Import!I371","v":0},{"$f":"Import!J371","v":0},{"$f":"Import!K371","v":0},{"$f":"Import!L371","v":0},{"$f":"Import!M371","v":0},{"$f":"Import!N371","v":0},{"$f":"Import!O371","v":0},{"$f":"Import!P371","v":0},{"$f":"Import!Q371","v":0},{"$f":"Import!R371","v":0},{"$f":"Import!S371","v":0},{"$f":"Import!T371","v":0},{"$f":"Import!U371","v":0},{"$f":"Import!V371","v":0},{"$f":"Import!W371","v":0},{"$f":"Import!X371","v":0},{"$f":"Import!Y371","v":0},{"$f":"Import!Z371","v":0},{"$f":"Import!AA371","v":0},{"$f":"Import!AB371","v":0},{"$f":"Import!AC371","v":0},{"$f":"Import!AD371","v":0},{"$f":"Import!AE371","v":0},{"$f":"Import!AF371","v":0},{"$f":"Import!AG371","v":0},{"$f":"Import!AH371","v":0},{"$f":"Import!AI371","v":0},{"$f":"Import!AJ371","v":0},{"$f":"Import!AK371","v":0},{"$f":"Import!AL371","v":0}]
[null,{"$f":"Import!A372","v":0},{"$f":"Import!B372","v":0},{"$f":"Import!H372","v":0},{"$f":"Import!I372","v":0},{"$f":"Import!J372","v":0},{"$f":"Import!K372","v":0},{"$f":"Import!L372","v":0},{"$f":"Import!M372","v":0},{"$f":"Import!N372","v":0},{"$f":"Import!O372","v":0},{"$f":"Import!P372","v":0},{"$f":"Import!Q372","v":0},{"$f":"Import!R372","v":0},{"$f":"Import!S372","v":0},{"$f":"Import!T372","v":0},{"$f":"Import!U372","v":0},{"$f":"Import!V372","v":0},{"$f":"Import!W372","v":0},{"$f":"Import!X372","v":0},{"$f":"Import!Y372","v":0},{"$f":"Import!Z372","v":0},{"$f":"Import!AA372","v":0},{"$f":"Import!AB372","v":0},{"$f":"Import!AC372","v":0},{"$f":"Import!AD372","v":0},{"$f":"Import!AE372","v":0},{"$f":"Import!AF372","v":0},{"$f":"Import!AG372","v":0},{"$f":"Import!AH372","v":0},{"$f":"Import!AI372","v":0},{"$f":"Import!AJ372","v":0},{"$f":"Import!AK372","v":0},{"$f":"Import!AL372","v":0}]
[null,{"$f":"Import!A373","v":0},{"$f":"Import!B373","v":0},{"$f":"Import!H373","v":0},{"$f":"Import!I373","v":0},{"$f":"Import!J373","v":0},{"$f":"Import!K373","v":0},{"$f":"Import!L373","v":0},{"$f":"Import!M373","v":0},{"$f":"Import!N373","v":0},{"$f":"Import!O373","v":0},{"$f":"Import!P373","v":0},{"$f":"Import!Q373","v":0},{"$f":"Import!R373","v":0},{"$f":"Import!S373","v":0},{"$f":"Import!T373","v":0},{"$f":"Import!U373","v":0},{"$f":"Import!V373","v":0},{"$f":"Import!W373","v":0},{"$f":"Import!X373","v":0},{"$f":"Import!Y373","v":0},{"$f":"Import!Z373","v":0},{"$f":"Import!AA373","v":0},{"$f":"Import!AB373","v":0},{"$f":"Import!AC373","v":0},{"$f":"Import!AD373","v":0},{"$f":"Import!AE373","v":0},{"$f":"Import!AF373","v":0},{"$f":"Import!AG373","v":0},{"$f":"Import!AH373","v":0},{"$f":"Import!AI373","v":0},{"$f":"Import!AJ373","v":0},{"$f":"Import!AK373","v":0},{"$f":"Import!AL373","v":0}]
[null,{"$f":"Import!A374","v":0},{"$f":"Import!B374","v":0},{"$f":"Import!H374","v":0},{"$f":"Import!I374","v":0},{"$f":"Import!J374","v":0},{"$f":"Import!K374","v":0},{"$f":"Import!L374","v":0},{"$f":"Import!M374","v":0},{"$f":"Import!N374","v":0},{"$f":"Import!O374","v":0},{"$f":"Import!P374","v":0},{"$f":"Import!Q374","v":0},{"$f":"Import!R374","v":0},{"$f":"Import!S374","v":0},{"$f":"Import!T374","v":0},{"$f":"Import!U374","v":0},{"$f":"Import!V374","v":0},{"$f":"Import!W374","v":0},{"$f":"Import!X374","v":0},{"$f":"Import!Y374","v":0},{"$f":"Import!Z374","v":0},{"$f":"Import!AA374","v":0},{"$f":"Import!AB374","v":0},{"$f":"Import!AC374","v":0},{"$f":"Import!AD374","v":0},{"$f":"Import!AE374","v":0},{"$f":"Import!AF374","v":0},{"$f":"Import!AG374","v":0},{"$f":"Import!AH374","v":0},{"$f":"Import!AI374","v":0},{"$f":"Import!AJ374","v":0},{"$f":"Import!AK374","v":0},{"$f":"Import!AL374","v":0}]
[null,{"$f":"Import!A375","v":0},{"$f":"Import!B375","v":0},{"$f":"Import!H375","v":0},{"$f":"Import!I375","v":0},{"$f":"Import!J375","v":0},{"$f":"Import!K375","v":0},{"$f":"Import!L375","v":0},{"$f":"Import!M375","v":0},{"$f":"Import!N375","v":0},{"$f":"Import!O375","v":0},{"$f":"Import!P375","v":0},{"$f":"Import!Q375","v":0},{"$f":"Import!R375","v":0},{"$f":"Import!S375","v":0},{"$f":"Import!T375","v":0},{"$f":"Import!U375","v":0},{"$f":"Import!V375","v":0},{"$f":"Import!W375","v":0},{"$f":"Import!X375","v":0},{"$f":"Import!Y375","v":0},{"$f":"Import!Z375","v":0},{"$f":"Import!AA375","v":0},{"$f":"Import!AB375","v":0},{"$f":"Import!AC375","v":0},{"$f":"Import!AD375","v":0},{"$f":"Import!AE375","v":0},{"$f":"Import!AF375","v":0},{"$f":"Import!AG375","v":0},{"$f":"Import!AH375","v":0},{"$f":"Import!AI375","v":0},{"$f":"Import!AJ375","v":0},{"$f":"Import!AK375","v":0},{"$f":"Import!AL375","v":0}]
[null,{"$f":"Import!A376","v":0},{"$f":"Import!B376","v":0},{"$f":"Import!H376","v":0},{"$f":"Import!I376","v":0},{"$f":"Import!J376","v":0},{"$f":"Import!K376","v":0},{"$f":"Import!L376","v":0},{"$f":"Import!M376","v":0},{"$f":"Import!N376","v":0},{"$f":"Import!O376","v":0},{"$f":"Import!P376","v":0},{"$f":"Import!Q376","v":0},{"$f":"Import!R376","v":0},{"$f":"Import!S376","v":0},{"$f":"Import!T376","v":0},{"$f":"Import!U376","v":0},{"$f":"Import!V376","v":0},{"$f":"Import!W376","v":0},{"$f":"Import!X376","v":0},{"$f":"Import!Y376","v":0},{"$f":"Import!Z376","v":0},{"$f":"Import!AA376","v":0},{"$f":"Import!AB376","v":0},{"$f":"Import!AC376","v":0},{"$f":"Import!AD376","v":0},{"$f":"Import!AE376","v":0},{"$f":"Import!AF376","v":0},{"$f":"Import!AG376","v":0},{"$f":"Import!AH376","v":0},{"$f":"Import!AI376","v":0},{"$f":"Import!AJ376","v":0},{"$f":"Import!AK376","v":0},{"$f":"Import!AL376","v":0}]
[null,{"$f":"Import!A377","v":0},{"$f":"Import!B377","v":0},{"$f":"Import!H377","v":0},{"$f":"Import!I377","v":0},{"$f":"Import!J377","v":0},{"$f":"Import!K377","v":0},{"$f":"Import!L377","v":0},{"$f":"Import!M377","v":0},{"$f":"Import!N377","v":0},{"$f":"Import!O377","v":0},{"$f":"Import!P377","v":0},{"$f":"Import!Q377","v":0},{"$f":"Import!R377","v":0},{"$f":"Import!S377","v":0},{"$f":"Import!T377","v":0},{"$f":"Import!U377","v":0},{"$f":"Import!V377","v":0},{"$f":"Import!W377","v":0},{"$f":"Import!X377","v":0},{"$f":"Import!Y377","v":0},{"$f":"Import!Z377","v":0},{"$f":"Import!AA377","v":0},{"$f":"Import!AB377","v":0},{"$f":"Import!AC377","v":0},{"$f":"Import!AD377","v":0},{"$f":"Import!AE377","v":0},{"$f":"Import!AF377","v":0},{"$f":"Import!AG377","v":0},{"$f":"Import!AH377","v":0},{"$f":"Import!AI377","v":0},{"$f":"Import!AJ377","v":0},{"$f":"Import!AK377","v":0},{"$f":"Import!AL377","v":0}]
[null,{"$f":"Import!A378","v":0},{"$f":"Import!B378","v":0},{"$f":"Import!H378","v":0},{"$f":"Import!I378","v":0},{"$f":"Import!J378","v":0},{"$f":"Import!K378","v":0},{"$f":"Import!L378","v":0},{"$f":"Import!M378","v":0},{"$f":"Import!N378","v":0},{"$f":"Import!O378","v":0},{"$f":"Import!P378","v":0},{"$f":"Import!Q378","v":0},{"$f":"Import!R378","v":0},{"$f":"Import!S378","v":0},{"$f":"Import!T378","v":0},{"$f":"Import!U378","v":0},{"$f":"Import!V378","v":0},{"$f":"Import!W378","v":0},{"$f":"Import!X378","v":0},{"$f":"Import!Y378","v":0},{"$f":"Import!Z378","v":0},{"$f":"Import!AA378","v":0},{"$f":"Import!AB378","v":0},{"$f":"Import!AC378","v":0},{"$f":"Import!AD378","v":0},{"$f":"Import!AE378","v":0},{"$f":"Import!AF378","v":0},{"$f":"Import!AG378","v":0},{"$f":"Import!AH378","v":0},{"$f":"Import!AI378","v":0},{"$f":"Import!AJ378","v":0},{"$f":"Import!AK378","v":0},{"$f":"Import!AL378","v":0}]
[null,{"$f":"Import!A379","v":0},{"$f":"Import!B379","v":0},{"$f":"Import!H379","v":0},{"$f":"Import!I379","v":0},{"$f":"Import!J379","v":0},{"$f":"Import!K379","v":0},{"$f":"Import!L379","v":0},{"$f":"Import!M379","v":0},{"$f":"Import!N379","v":0},{"$f":"Import!O379","v":0},{"$f":"Import!P379","v":0},{"$f":"Import!Q379","v":0},{"$f":"Import!R379","v":0},{"$f":"Import!S379","v":0},{"$f":"Import!T379","v":0},{"$f":"Import!U379","v":0},{"$f":"Import!V379","v":0},{"$f":"Import!W379","v":0},{"$f":"Import!X379","v":0},{"$f":"Import!Y379","v":0},{"$f":"Import!Z379","v":0},{"$f":"Import!AA379","v":0},{"$f":"Import!AB379","v":0},{"$f":"Import!AC379","v":0},{"$f":"Import!AD379","v":0},{"$f":"Import!AE379","v":0},{"$f":"Import!AF379","v":0},{"$f":"Import!AG379","v":0},{"$f":"Import!AH379","v":0},{"$f":"Import!AI379","v":0},{"$f":"Import!AJ379","v":0},{"$f":"Import!AK379","v":0},{"$f":"Import!AL379","v":0}]
[null,{"$f":"Import!A380","v":0},{"$f":"Import!B380","v":0},{"$f":"Import!H380","v":0},{"$f":"Import!I380","v":0},{"$f":"Import!J380","v":0},{"$f":"Import!K380","v":0},{"$f":"Import!L380","v":0},{"$f":"Import!M380","v":0},{"$f":"Import!N380","v":0},{"$f":"Import!O380","v":0},{"$f":"Import!P380","v":0},{"$f":"Import!Q380","v":0},{"$f":"Import!R380","v":0},{"$f":"Import!S380","v":0},{"$f":"Import!T380","v":0},{"$f":"Import!U380","v":0},{"$f":"Import!V380","v":0},{"$f":"Import!W380","v":0},{"$f":"Import!X380","v":0},{"$f":"Import!Y380","v":0},{"$f":"Import!Z380","v":0},{"$f":"Import!AA380","v":0},{"$f":"Import!AB380","v":0},{"$f":"Import!AC380","v":0},{"$f":"Import!AD380","v":0},{"$f":"Import!AE380","v":0},{"$f":"Import!AF380","v":0},{"$f":"Import!AG380","v":0},{"$f":"Import!AH380","v":0},{"$f":"Import!AI380","v":0},{"$f":"Import!AJ380","v":0},{"$f":"Import!AK380","v":0},{"$f":"Import!AL380","v":0}]
[null,{"$f":"Import!A381","v":0},{"$f":"Import!B381","v":0},{"$f":"Import!H381","v":0},{"$f":"Import!I381","v":0},{"$f":"Import!J381","v":0},{"$f":"Import!K381","v":0},{"$f":"Import!L381","v":0},{"$f":"Import!M381","v":0},{"$f":"Import!N381","v":0},{"$f":"Import!O381","v":0},{"$f":"Import!P381","v":0},{"$f":"Import!Q381","v":0},{"$f":"Import!R381","v":0},{"$f":"Import!S381","v":0},{"$f":"Import!T381","v":0},{"$f":"Import!U381","v":0},{"$f":"Import!V381","v":0},{"$f":"Import!W381","v":0},{"$f":"Import!X381","v":0},{"$f":"Import!Y381","v":0},{"$f":"Import!Z381","v":0},{"$f":"Import!AA381","v":0},{"$f":"Import!AB381","v":0},{"$f":"Import!AC381","v":0},{"$f":"Import!AD381","v":0},{"$f":"Import!AE381","v":0},{"$f":"Import!AF381","v":0},{"$f":"Import!AG381","v":0},{"$f":"Import!AH381","v":0},{"$f":"Import!AI381","v":0},{"$f":"Import!AJ381","v":0},{"$f":"Import!AK381","v":0},{"$f":"Import!AL381","v":0}]
[null,{"$f":"Import!A382","v":0},{"$f":"Import!B382","v":0},{"$f":"Import!H382","v":0},{"$f":"Import!I382","v":0},{"$f":"Import!J382","v":0},{"$f":"Import!K382","v":0},{"$f":"Import!L382","v":0},{"$f":"Import!M382","v":0},{"$f":"Import!N382","v":0},{"$f":"Import!O382","v":0},{"$f":"Import!P382","v":0},{"$f":"Import!Q382","v":0},{"$f":"Import!R382","v":0},{"$f":"Import!S382","v":0},{"$f":"Import!T382","v":0},{"$f":"Import!U382","v":0},{"$f":"Import!V382","v":0},{"$f":"Import!W382","v":0},{"$f":"Import!X382","v":0},{"$f":"Import!Y382","v":0},{"$f":"Import!Z382","v":0},{"$f":"Import!AA382","v":0},{"$f":"Import!AB382","v":0},{"$f":"Import!AC382","v":0},{"$f":"Import!AD382","v":0},{"$f":"Import!AE382","v":0},{"$f":"Import!AF382","v":0},{"$f":"Import!AG382","v":0},{"$f":"Import!AH382","v":0},{"$f":"Import!AI382","v":0},{"$f":"Import!AJ382","v":0},{"$f":"Import!AK382","v":0},{"$f":"Import!AL382","v":0}]
[null,{"$f":"Import!A383","v":0},{"$f":"Import!B383","v":0},{"$f":"Import!H383","v":0},{"$f":"Import!I383","v":0},{"$f":"Import!J383","v":0},{"$f":"Import!K383","v":0},{"$f":"Import!L383","v":0},{"$f":"Import!M383","v":0},{"$f":"Import!N383","v":0},{"$f":"Import!O383","v":0},{"$f":"Import!P383","v":0},{"$f":"Import!Q383","v":0},{"$f":"Import!R383","v":0},{"$f":"Import!S383","v":0},{"$f":"Import!T383","v":0},{"$f":"Import!U383","v":0},{"$f":"Import!V383","v":0},{"$f":"Import!W383","v":0},{"$f":"Import!X383","v":0},{"$f":"Import!Y383","v":0},{"$f":"Import!Z383","v":0},{"$f":"Import!AA383","v":0},{"$f":"Import!AB383","v":0},{"$f":"Import!AC383","v":0},{"$f":"Import!AD383","v":0},{"$f":"Import!AE383","v":0},{"$f":"Import!AF383","v":0},{"$f":"Import!AG383","v":0},{"$f":"Import!AH383","v":0},{"$f":"Import!AI383","v":0},{"$f":"Import!AJ383","v":0},{"$f":"Import!AK383","v":0},{"$f":"Import!AL383","v":0}]
[null,{"$f":"Import!A384","v":0},{"$f":"Import!B384","v":0},{"$f":"Import!H384","v":0},{"$f":"Import!I384","v":0},{"$f":"Import!J384","v":0},{"$f":"Import!K384","v":0},{"$f":"Import!L384","v":0},{"$f":"Import!M384","v":0},{"$f":"Import!N384","v":0},{"$f":"Import!O384","v":0},{"$f":"Import!P384","v":0},{"$f":"Import!Q384","v":0},{"$f":"Import!R384","v":0},{"$f":"Import!S384","v":0},{"$f":"Import!T384","v":0},{"$f":"Import!U384","v":0},{"$f":"Import!V384","v":0},{"$f":"Import!W384","v":0},{"$f":"Import!X384","v":0},{"$f":"Import!Y384","v":0},{"$f":"Import!Z384","v":0},{"$f":"Import!AA384","v":0},{"$f":"Import!AB384","v":0},{"$f":"Import!AC384","v":0},{"$f":"Import!AD384","v":0},{"$f":"Import!AE384","v":0},{"$f":"Import!AF384","v":0},{"$f":"Import!AG384","v":0},{"$f":"Import!AH384","v":0},{"$f":"Import!AI384","v":0},{"$f":"Import!AJ384","v":0},{"$f":"Import!AK384","v":0},{"$f":"Import!AL384","v":0}]
[null,{"$f":"Import!A385","v":0},{"$f":"Import!B385","v":0},{"$f":"Import!H385","v":0},{"$f":"Import!I385","v":0},{"$f":"Import!J385","v":0},{"$f":"Import!K385","v":0},{"$f":"Import!L385","v":0},{"$f":"Import!M385","v":0},{"$f":"Import!N385","v":0},{"$f":"Import!O385","v":0},{"$f":"Import!P385","v":0},{"$f":"Import!Q385","v":0},{"$f":"Import!R385","v":0},{"$f":"Import!S385","v":0},{"$f":"Import!T385","v":0},{"$f":"Import!U385","v":0},{"$f":"Import!V385","v":0},{"$f":"Import!W385","v":0},{"$f":"Import!X385","v":0},{"$f":"Import!Y385","v":0},{"$f":"Import!Z385","v":0},{"$f":"Import!AA385","v":0},{"$f":"Import!AB385","v":0},{"$f":"Import!AC385","v":0},{"$f":"Import!AD385","v":0},{"$f":"Import!AE385","v":0},{"$f":"Import!AF385","v":0},{"$f":"Import!AG385","v":0},{"$f":"Import!AH385","v":0},{"$f":"Import!AI385","v":0},{"$f":"Import!AJ385","v":0},{"$f":"Import!AK385","v":0},{"$f":"Import!AL385","v":0}]
[null,{"$f":"Import!A386","v":0},{"$f":"Import!B386","v":0},{"$f":"Import!H386","v":0},{"$f":"Import!I386","v":0},{"$f":"Import!J386","v":0},{"$f":"Import!K386","v":0},{"$f":"Import!L386","v":0},{"$f":"Import!M386","v":0},{"$f":"Import!N386","v":0},{"$f":"Import!O386","v":0},{"$f":"Import!P386","v":0},{"$f":"Import!Q386","v":0},{"$f":"Import!R386","v":0},{"$f":"Import!S386","v":0},{"$f":"Import!T386","v":0},{"$f":"Import!U386","v":0},{"$f":"Import!V386","v":0},{"$f":"Import!W386","v":0},{"$f":"Import!X386","v":0},{"$f":"Import!Y386","v":0},{"$f":"Import!Z386","v":0},{"$f":"Import!AA386","v":0},{"$f":"Import!AB386","v":0},{"$f":"Import!AC386","v":0},{"$f":"Import!AD386","v":0},{"$f":"Import!AE386","v":0},{"$f":"Import!AF386","v":0},{"$f":"Import!AG386","v":0},{"$f":"Import!AH386","v":0},{"$f":"Import!AI386","v":0},{"$f":"Import!AJ386","v":0},{"$f":"Import!AK386","v":0},{"$f":"Import!AL386","v":0}]
[null,{"$f":"Import!A387","v":0},{"$f":"Import!B387","v":0},{"$f":"Import!H387","v":0},{"$f":"Import!I387","v":0},{"$f":"Import!J387","v":0},{"$f":"Import!K387","v":0},{"$f":"Import!L387","v":0},{"$f":"Import!M387","v":0},{"$f":"Import!N387","v":0},{"$f":"Import!O387","v":0},{"$f":"Import!P387","v":0},{"$f":"Import!Q387","v":0},{"$f":"Import!R387","v":0},{"$f":"Import!S387","v":0},{"$f":"Import!T387","v":0},{"$f":"Import!U387","v":0},{"$f":"Import!V387","v":0},{"$f":"Import!W387","v":0},{"$f":"Import!X387","v":0},{"$f":"Import!Y387","v":0},{"$f":"Import!Z387","v":0},{"$f":"Import!AA387","v":0},{"$f":"Import!AB387","v":0},{"$f":"Import!AC387","v":0},{"$f":"Import!AD387","v":0},{"$f":"Import!AE387","v":0},{"$f":"Import!AF387","v":0},{"$f":"Import!AG387","v":0},{"$f":"Import!AH387","v":0},{"$f":"Import!AI387","v":0},{"$f":"Import!AJ387","v":0},{"$f":"Import!AK387","v":0},{"$f":"Import!AL387","v":0}]
[null,{"$f":"Import!A388","v":0},{"$f":"Import!B388","v":0},{"$f":"Import!H388","v":0},{"$f":"Import!I388","v":0},{"$f":"Import!J388","v":0},{"$f":"Import!K388","v":0},{"$f":"Import!L388","v":0},{"$f":"Import!M388","v":0},{"$f":"Import!N388","v":0},{"$f":"Import!O388","v":0},{"$f":"Import!P388","v":0},{"$f":"Import!Q388","v":0},{"$f":"Import!R388","v":0},{"$f":"Import!S388","v":0},{"$f":"Import!T388","v":0},{"$f":"Import!U388","v":0},{"$f":"Import!V388","v":0},{"$f":"Import!W388","v":0},{"$f":"Import!X388","v":0},{"$f":"Import!Y388","v":0},{"$f":"Import!Z388","v":0},{"$f":"Import!AA388","v":0},{"$f":"Import!AB388","v":0},{"$f":"Import!AC388","v":0},{"$f":"Import!AD388","v":0},{"$f":"Import!AE388","v":0},{"$f":"Import!AF388","v":0},{"$f":"Import!AG388","v":0},{"$f":"Import!AH388","v":0},{"$f":"Import!AI388","v":0},{"$f":"Import!AJ388","v":0},{"$f":"Import!AK388","v":0},{"$f":"Import!AL388","v":0}]
[null,{"$f":"Import!A389","v":0},{"$f":"Import!B389","v":0},{"$f":"Import!H389","v":0},{"$f":"Import!I389","v":0},{"$f":"Import!J389","v":0},{"$f":"Import!K389","v":0},{"$f":"Import!L389","v":0},{"$f":"Import!M389","v":0},{"$f":"Import!N389","v":0},{"$f":"Import!O389","v":0},{"$f":"Import!P389","v":0},{"$f":"Import!Q389","v":0},{"$f":"Import!R389","v":0},{"$f":"Import!S389","v":0},{"$f":"Import!T389","v":0},{"$f":"Import!U389","v":0},{"$f":"Import!V389","v":0},{"$f":"Import!W389","v":0},{"$f":"Import!X389","v":0},{"$f":"Import!Y389","v":0},{"$f":"Import!Z389","v":0},{"$f":"Import!AA389","v":0},{"$f":"Import!AB389","v":0},{"$f":"Import!AC389","v":0},{"$f":"Import!AD389","v":0},{"$f":"Import!AE389","v":0},{"$f":"Import!AF389","v":0},{"$f":"Import!AG389","v":0},{"$f":"Import!AH389","v":0},{"$f":"Import!AI389","v":0},{"$f":"Import!AJ389","v":0},{"$f":"Import!AK389","v":0},{"$f":"Import!AL389","v":0}]
[null,{"$f":"Import!A390","v":0},{"$f":"Import!B390","v":0},{"$f":"Import!H390","v":0},{"$f":"Import!I390","v":0},{"$f":"Import!J390","v":0},{"$f":"Import!K390","v":0},{"$f":"Import!L390","v":0},{"$f":"Import!M390","v":0},{"$f":"Import!N390","v":0},{"$f":"Import!O390","v":0},{"$f":"Import!P390","v":0},{"$f":"Import!Q390","v":0},{"$f":"Import!R390","v":0},{"$f":"Import!S390","v":0},{"$f":"Import!T390","v":0},{"$f":"Import!U390","v":0},{"$f":"Import!V390","v":0},{"$f":"Import!W390","v":0},{"$f":"Import!X390","v":0},{"$f":"Import!Y390","v":0},{"$f":"Import!Z390","v":0},{"$f":"Import!AA390","v":0},{"$f":"Import!AB390","v":0},{"$f":"Import!AC390","v":0},{"$f":"Import!AD390","v":0},{"$f":"Import!AE390","v":0},{"$f":"Import!AF390","v":0},{"$f":"Import!AG390","v":0},{"$f":"Import!AH390","v":0},{"$f":"Import!AI390","v":0},{"$f":"Import!AJ390","v":0},{"$f":"Import!AK390","v":0},{"$f":"Import!AL390","v":0}]
[null,{"$f":"Import!A391","v":0},{"$f":"Import!B391","v":0},{"$f":"Import!H391","v":0},{"$f":"Import!I391","v":0},{"$f":"Import!J391","v":0},{"$f":"Import!K391","v":0},{"$f":"Import!L391","v":0},{"$f":"Import!M391","v":0},{"$f":"Import!N391","v":0},{"$f":"Import!O391","v":0},{"$f":"Import!P391","v":0},{"$f":"Import!Q391","v":0},{"$f":"Import!R391","v":0},{"$f":"Import!S391","v":0},{"$f":"Import!T391","v":0},{"$f":"Import!U391","v":0},{"$f":"Import!V391","v":0},{"$f":"Import!W391","v":0},{"$f":"Import!X391","v":0},{"$f":"Import!Y391","v":0},{"$f":"Import!Z391","v":0},{"$f":"Import!AA391","v":0},{"$f":"Import!AB391","v":0},{"$f":"Import!AC391","v":0},{"$f":"Import!AD391","v":0},{"$f":"Import!AE391","v":0},{"$f":"Import!AF391","v":0},{"$f":"Import!AG391","v":0},{"$f":"Import!AH391","v":0},{"$f":"Import!AI391","v":0},{"$f":"Import!AJ391","v":0},{"$f":"Import!AK391","v":0},{"$f":"Import!AL391","v":0}]
[null,{"$f":"Import!A392","v":0},{"$f":"Import!B392","v":0},{"$f":"Import!H392","v":0},{"$f":"Import!I392","v":0},{"$f":"Import!J392","v":0},{"$f":"Import!K392","v":0},{"$f":"Import!L392","v":0},{"$f":"Import!M392","v":0},{"$f":"Import!N392","v":0},{"$f":"Import!O392","v":0},{"$f":"Import!P392","v":0},{"$f":"Import!Q392","v":0},{"$f":"Import!R392","v":0},{"$f":"Import!S392","v":0},{"$f":"Import!T392","v":0},{"$f":"Import!U392","v":0},{"$f":"Import!V392","v":0},{"$f":"Import!W392","v":0},{"$f":"Import!X392","v":0},{"$f":"Import!Y392","v":0},{"$f":"Import!Z392","v":0},{"$f":"Import!AA392","v":0},{"$f":"Import!AB392","v":0},{"$f":"Import!AC392","v":0},{"$f":"Import!AD392","v":0},{"$f":"Import!AE392","v":0},{"$f":"Import!AF392","v":0},{"$f":"Import!AG392","v":0},{"$f":"Import!AH392","v":0},{"$f":"Import!AI392","v":0},{"$f":"Import!AJ392","v":0},{"$f":"Import!AK392","v":0},{"$f":"Import!AL392","v":0}]
[null,{"$f":"Import!A393","v":0},{"$f":"Import!B393","v":0},{"$f":"Import!H393","v":0},{"$f":"Import!I393","v":0},{"$f":"Import!J393","v":0},{"$f":"Import!K393","v":0},{"$f":"Import!L393","v":0},{"$f":"Import!M393","v":0},{"$f":"Import!N393","v":0},{"$f":"Import!O393","v":0},{"$f":"Import!P393","v":0},{"$f":"Import!Q393","v":0},{"$f":"Import!R393","v":0},{"$f":"Import!S393","v":0},{"$f":"Import!T393","v":0},{"$f":"Import!U393","v":0},{"$f":"Import!V393","v":0},{"$f":"Import!W393","v":0},{"$f":"Import!X393","v":0},{"$f":"Import!Y393","v":0},{"$f":"Import!Z393","v":0},{"$f":"Import!AA393","v":0},{"$f":"Import!AB393","v":0},{"$f":"Import!AC393","v":0},{"$f":"Import!AD393","v":0},{"$f":"Import!AE393","v":0},{"$f":"Import!AF393","v":0},{"$f":"Import!AG393","v":0},{"$f":"Import!AH393","v":0},{"$f":"Import!AI393","v":0},{"$f":"Import!AJ393","v":0},{"$f":"Import!AK393","v":0},{"$f":"Import!AL393","v":0}]
[null,{"$f":"Import!A394","v":0},{"$f":"Import!B394","v":0},{"$f":"Import!H394","v":0},{"$f":"Import!I394","v":0},{"$f":"Import!J394","v":0},{"$f":"Import!K394","v":0},{"$f":"Import!L394","v":0},{"$f":"Import!M394","v":0},{"$f":"Import!N394","v":0},{"$f":"Import!O394","v":0},{"$f":"Import!P394","v":0},{"$f":"Import!Q394","v":0},{"$f":"Import!R394","v":0},{"$f":"Import!S394","v":0},{"$f":"Import!T394","v":0},{"$f":"Import!U394","v":0},{"$f":"Import!V394","v":0},{"$f":"Import!W394","v":0},{"$f":"Import!X394","v":0},{"$f":"Import!Y394","v":0},{"$f":"Import!Z394","v":0},{"$f":"Import!AA394","v":0},{"$f":"Import!AB394","v":0},{"$f":"Import!AC394","v":0},{"$f":"Import!AD394","v":0},{"$f":"Import!AE394","v":0},{"$f":"Import!AF394","v":0},{"$f":"Import!AG394","v":0},{"$f":"Import!AH394","v":0},{"$f":"Import!AI394","v":0},{"$f":"Import!AJ394","v":0},{"$f":"Import!AK394","v":0},{"$f":"Import!AL394","v":0}]
[null,{"$f":"Import!A395","v":0},{"$f":"Import!B395","v":0},{"$f":"Import!H395","v":0},{"$f":"Import!I395","v":0},{"$f":"Import!J395","v":0},{"$f":"Import!K395","v":0},{"$f":"Import!L395","v":0},{"$f":"Import!M395","v":0},{"$f":"Import!N395","v":0},{"$f":"Import!O395","v":0},{"$f":"Import!P395","v":0},{"$f":"Import!Q395","v":0},{"$f":"Import!R395","v":0},{"$f":"Import!S395","v":0},{"$f":"Import!T395","v":0},{"$f":"Import!U395","v":0},{"$f":"Import!V395","v":0},{"$f":"Import!W395","v":0},{"$f":"Import!X395","v":0},{"$f":"Import!Y395","v":0},{"$f":"Import!Z395","v":0},{"$f":"Import!AA395","v":0},{"$f":"Import!AB395","v":0},{"$f":"Import!AC395","v":0},{"$f":"Import!AD395","v":0},{"$f":"Import!AE395","v":0},{"$f":"Import!AF395","v":0},{"$f":"Import!AG395","v":0},{"$f":"Import!AH395","v":0},{"$f":"Import!AI395","v":0},{"$f":"Import!AJ395","v":0},{"$f":"Import!AK395","v":0},{"$f":"Import!AL395","v":0}]
[null,{"$f":"Import!A396","v":0},{"$f":"Import!B396","v":0},{"$f":"Import!H396","v":0},{"$f":"Import!I396","v":0},{"$f":"Import!J396","v":0},{"$f":"Import!K396","v":0},{"$f":"Import!L396","v":0},{"$f":"Import!M396","v":0},{"$f":"Import!N396","v":0},{"$f":"Import!O396","v":0},{"$f":"Import!P396","v":0},{"$f":"Import!Q396","v":0},{"$f":"Import!R396","v":0},{"$f":"Import!S396","v":0},{"$f":"Import!T396","v":0},{"$f":"Import!U396","v":0},{"$f":"Import!V396","v":0},{"$f":"Import!W396","v":0},{"$f":"Import!X396","v":0},{"$f":"Import!Y396","v":0},{"$f":"Import!Z396","v":0},{"$f":"Import!AA396","v":0},{"$f":"Import!AB396","v":0},{"$f":"Import!AC396","v":0},{"$f":"Import!AD396","v":0},{"$f":"Import!AE396","v":0},{"$f":"Import!AF396","v":0},{"$f":"Import!AG396","v":0},{"$f":"Import!AH396","v":0},{"$f":"Import!AI396","v":0},{"$f":"Import!AJ396","v":0},{"$f":"Import!AK396","v":0},{"$f":"Import!AL396","v":0}]
[null,{"$f":"Import!A397","v":0},{"$f":"Import!B397","v":0},{"$f":"Import!H397","v":0},{"$f":"Import!I397","v":0},{"$f":"Import!J397","v":0},{"$f":"Import!K397","v":0},{"$f":"Import!L397","v":0},{"$f":"Import!M397","v":0},{"$f":"Import!N397","v":0},{"$f":"Import!O397","v":0},{"$f":"Import!P397","v":0},{"$f":"Import!Q397","v":0},{"$f":"Import!R397","v":0},{"$f":"Import!S397","v":0},{"$f":"Import!T397","v":0},{"$f":"Import!U397","v":0},{"$f":"Import!V397","v":0},{"$f":"Import!W397","v":0},{"$f":"Import!X397","v":0},{"$f":"Import!Y397","v":0},{"$f":"Import!Z397","v":0},{"$f":"Import!AA397","v":0},{"$f":"Import!AB397","v":0},{"$f":"Import!AC397","v":0},{"$f":"Import!AD397","v":0},{"$f":"Import!AE397","v":0},{"$f":"Import!AF397","v":0},{"$f":"Import!AG397","v":0},{"$f":"Import!AH397","v":0},{"$f":"Import!AI397","v":0},{"$f":"Import!AJ397","v":0},{"$f":"Import!AK397","v":0},{"$f":"Import!AL397","v":0}]
[null,{"$f":"Import!A398","v":0},{"$f":"Import!B398","v":0},{"$f":"Import!H398","v":0},{"$f":"Import!I398","v":0},{"$f":"Import!J398","v":0},{"$f":"Import!K398","v":0},{"$f":"Import!L398","v":0},{"$f":"Import!M398","v":0},{"$f":"Import!N398","v":0},{"$f":"Import!O398","v":0},{"$f":"Import!P398","v":0},{"$f":"Import!Q398","v":0},{"$f":"Import!R398","v":0},{"$f":"Import!S398","v":0},{"$f":"Import!T398","v":0},{"$f":"Import!U398","v":0},{"$f":"Import!V398","v":0},{"$f":"Import!W398","v":0},{"$f":"Import!X398","v":0},{"$f":"Import!Y398","v":0},{"$f":"Import!Z398","v":0},{"$f":"Import!AA398","v":0},{"$f":"Import!AB398","v":0},{"$f":"Import!AC398","v":0},{"$f":"Import!AD398","v":0},{"$f":"Import!AE398","v":0},{"$f":"Import!AF398","v":0},{"$f":"Import!AG398","v":0},{"$f":"Import!AH398","v":0},{"$f":"Import!AI398","v":0},{"$f":"Import!AJ398","v":0},{"$f":"Import!AK398","v":0},{"$f":"Import!AL398","v":0}]
[null,{"$f":"Import!A399","v":0},{"$f":"Import!B399","v":0},{"$f":"Import!H399","v":0},{"$f":"Import!I399","v":0},{"$f":"Import!J399","v":0},{"$f":"Import!K399","v":0},{"$f":"Import!L399","v":0},{"$f":"Import!M399","v":0},{"$f":"Import!N399","v":0},{"$f":"Import!O399","v":0},{"$f":"Import!P399","v":0},{"$f":"Import!Q399","v":0},{"$f":"Import!R399","v":0},{"$f":"Import!S399","v":0},{"$f":"Import!T399","v":0},{"$f":"Import!U399","v":0},{"$f":"Import!V399","v":0},{"$f":"Import!W399","v":0},{"$f":"Import!X399","v":0},{"$f":"Import!Y399","v":0},{"$f":"Import!Z399","v":0},{"$f":"Import!AA399","v":0},{"$f":"Import!AB399","v":0},{"$f":"Import!AC399","v":0},{"$f":"Import!AD399","v":0},{"$f":"Import!AE399","v":0},{"$f":"Import!AF399","v":0},{"$f":"Import!AG399","v":0},{"$f":"Import!AH399","v":0},{"$f":"Import!AI399","v":0},{"$f":"Import!AJ399","v":0},{"$f":"Import!AK399","v":0},{"$f":"Import!AL399","v":0}]
[null,{"$f":"Import!A400","v":0},{"$f":"Import!B400","v":0},{"$f":"Import!H400","v":0},{"$f":"Import!I400","v":0},{"$f":"Import!J400","v":0},{"$f":"Import!K400","v":0},{"$f":"Import!L400","v":0},{"$f":"Import!M400","v":0},{"$f":"Import!N400","v":0},{"$f":"Import!O400","v":0},{"$f":"Import!P400","v":0},{"$f":"Import!Q400","v":0},{"$f":"Import!R400","v":0},{"$f":"Import!S400","v":0},{"$f":"Import!T400","v":0},{"$f":"Import!U400","v":0},{"$f":"Import!V400","v":0},{"$f":"Import!W400","v":0},{"$f":"Import!X400","v":0},{"$f":"Import!Y400","v":0},{"$f":"Import!Z400","v":0},{"$f":"Import!AA400","v":0},{"$f":"Import!AB400","v":0},{"$f":"Import!AC400","v":0},{"$f":"Import!AD400","v":0},{"$f":"Import!AE400","v":0},{"$f":"Import!AF400","v":0},{"$f":"Import!AG400","v":0},{"$f":"Import!AH400","v":0},{"$f":"Import!AI400","v":0},{"$f":"Import!AJ400","v":0},{"$f":"Import!AK400","v":0},{"$f":"Import!AL400","v":0}]
[null,{"$f":"Import!A401","v":0},{"$f":"Import!B401","v":0},{"$f":"Import!H401","v":0},{"$f":"Import!I401","v":0},{"$f":"Import!J401","v":0},{"$f":"Import!K401","v":0},{"$f":"Import!L401","v":0},{"$f":"Import!M401","v":0},{"$f":"Import!N401","v":0},{"$f":"Import!O401","v":0},{"$f":"Import!P401","v":0},{"$f":"Import!Q401","v":0},{"$f":"Import!R401","v":0},{"$f":"Import!S401","v":0},{"$f":"Import!T401","v":0},{"$f":"Import!U401","v":0},{"$f":"Import!V401","v":0},{"$f":"Import!W401","v":0},{"$f":"Import!X401","v":0},{"$f":"Import!Y401","v":0},{"$f":"Import!Z401","v":0},{"$f":"Import!AA401","v":0},{"$f":"Import!AB401","v":0},{"$f":"Import!AC401","v":0},{"$f":"Import!AD401","v":0},{"$f":"Import!AE401","v":0},{"$f":"Import!AF401","v":0},{"$f":"Import!AG401","v":0},{"$f":"Import!AH401","v":0},{"$f":"Import!AI401","v":0},{"$f":"Import!AJ401","v":0},{"$f":"Import!AK401","v":0},{"$f":"Import!AL401","v":0}]
[null,{"$f":"Import!A402","v":0},{"$f":"Import!B402","v":0},{"$f":"Import!H402","v":0},{"$f":"Import!I402","v":0},{"$f":"Import!J402","v":0},{"$f":"Import!K402","v":0},{"$f":"Import!L402","v":0},{"$f":"Import!M402","v":0},{"$f":"Import!N402","v":0},{"$f":"Import!O402","v":0},{"$f":"Import!P402","v":0},{"$f":"Import!Q402","v":0},{"$f":"Import!R402","v":0},{"$f":"Import!S402","v":0},{"$f":"Import!T402","v":0},{"$f":"Import!U402","v":0},{"$f":"Import!V402","v":0},{"$f":"Import!W402","v":0},{"$f":"Import!X402","v":0},{"$f":"Import!Y402","v":0},{"$f":"Import!Z402","v":0},{"$f":"Import!AA402","v":0},{"$f":"Import!AB402","v":0},{"$f":"Import!AC402","v":0},{"$f":"Import!AD402","v":0},{"$f":"Import!AE402","v":0},{"$f":"Import!AF402","v":0},{"$f":"Import!AG402","v":0},{"$f":"Import!AH402","v":0},{"$f":"Import!AI402","v":0},{"$f":"Import!AJ402","v":0},{"$f":"Import!AK402","v":0},{"$f":"Import!AL402","v":0}]
[null,{"$f":"Import!A403","v":0},{"$f":"Import!B403","v":0},{"$f":"Import!H403","v":0},{"$f":"Import!I403","v":0},{"$f":"Import!J403","v":0},{"$f":"Import!K403","v":0},{"$f":"Import!L403","v":0},{"$f":"Import!M403","v":0},{"$f":"Import!N403","v":0},{"$f":"Import!O403","v":0},{"$f":"Import!P403","v":0},{"$f":"Import!Q403","v":0},{"$f":"Import!R403","v":0},{"$f":"Import!S403","v":0},{"$f":"Import!T403","v":0},{"$f":"Import!U403","v":0},{"$f":"Import!V403","v":0},{"$f":"Import!W403","v":0},{"$f":"Import!X403","v":0},{"$f":"Import!Y403","v":0},{"$f":"Import!Z403","v":0},{"$f":"Import!AA403","v":0},{"$f":"Import!AB403","v":0},{"$f":"Import!AC403","v":0},{"$f":"Import!AD403","v":0},{"$f":"Import!AE403","v":0},{"$f":"Import!AF403","v":0},{"$f":"Import!AG403","v":0},{"$f":"Import!AH403","v":0},{"$f":"Import!AI403","v":0},{"$f":"Import!AJ403","v":0},{"$f":"Import!AK403","v":0},{"$f":"Import!AL403","v":0}]
[null,{"$f":"Import!A404","v":0},{"$f":"Import!B404","v":0},{"$f":"Import!H404","v":0},{"$f":"Import!I404","v":0},{"$f":"Import!J404","v":0},{"$f":"Import!K404","v":0},{"$f":"Import!L404","v":0},{"$f":"Import!M404","v":0},{"$f":"Import!N404","v":0},{"$f":"Import!O404","v":0},{"$f":"Import!P404","v":0},{"$f":"Import!Q404","v":0},{"$f":"Import!R404","v":0},{"$f":"Import!S404","v":0},{"$f":"Import!T404","v":0},{"$f":"Import!U404","v":0},{"$f":"Import!V404","v":0},{"$f":"Import!W404","v":0},{"$f":"Import!X404","v":0},{"$f":"Import!Y404","v":0},{"$f":"Import!Z404","v":0},{"$f":"Import!AA404","v":0},{"$f":"Import!AB404","v":0},{"$f":"Import!AC404","v":0},{"$f":"Import!AD404","v":0},{"$f":"Import!AE404","v":0},{"$f":"Import!AF404","v":0},{"$f":"Import!AG404","v":0},{"$f":"Import!AH404","v":0},{"$f":"Import!AI404","v":0},{"$f":"Import!AJ404","v":0},{"$f":"Import!AK404","v":0},{"$f":"Import!AL404","v":0}]
[null,{"$f":"Import!A405","v":0},{"$f":"Import!B405","v":0},{"$f":"Import!H405","v":0},{"$f":"Import!I405","v":0},{"$f":"Import!J405","v":0},{"$f":"Import!K405","v":0},{"$f":"Import!L405","v":0},{"$f":"Import!M405","v":0},{"$f":"Import!N405","v":0},{"$f":"Import!O405","v":0},{"$f":"Import!P405","v":0},{"$f":"Import!Q405","v":0},{"$f":"Import!R405","v":0},{"$f":"Import!S405","v":0},{"$f":"Import!T405","v":0},{"$f":"Import!U405","v":0},{"$f":"Import!V405","v":0},{"$f":"Import!W405","v":0},{"$f":"Import!X405","v":0},{"$f":"Import!Y405","v":0},{"$f":"Import!Z405","v":0},{"$f":"Import!AA405","v":0},{"$f":"Import!AB405","v":0},{"$f":"Import!AC405","v":0},{"$f":"Import!AD405","v":0},{"$f":"Import!AE405","v":0},{"$f":"Import!AF405","v":0},{"$f":"Import!AG405","v":0},{"$f":"Import!AH405","v":0},{"$f":"Import!AI405","v":0},{"$f":"Import!AJ405","v":0},{"$f":"Import!AK405","v":0},{"$f":"Import!AL405","v":0}]
[null,{"$f":"Import!A406","v":0},{"$f":"Import!B406","v":0},{"$f":"Import!H406","v":0},{"$f":"Import!I406","v":0},{"$f":"Import!J406","v":0},{"$f":"Import!K406","v":0},{"$f":"Import!L406","v":0},{"$f":"Import!M406","v":0},{"$f":"Import!N406","v":0},{"$f":"Import!O406","v":0},{"$f":"Import!P406","v":0},{"$f":"Import!Q406","v":0},{"$f":"Import!R406","v":0},{"$f":"Import!S406","v":0},{"$f":"Import!T406","v":0},{"$f":"Import!U406","v":0},{"$f":"Import!V406","v":0},{"$f":"Import!W406","v":0},{"$f":"Import!X406","v":0},{"$f":"Import!Y406","v":0},{"$f":"Import!Z406","v":0},{"$f":"Import!AA406","v":0},{"$f":"Import!AB406","v":0},{"$f":"Import!AC406","v":0},{"$f":"Import!AD406","v":0},{"$f":"Import!AE406","v":0},{"$f":"Import!AF406","v":0},{"$f":"Import!AG406","v":0},{"$f":"Import!AH406","v":0},{"$f":"Import!AI406","v":0},{"$f":"Import!AJ406","v":0},{"$f":"Import!AK406","v":0},{"$f":"Import!AL406","v":0}]
[null,{"$f":"Import!A407","v":0},{"$f":"Import!B407","v":0},{"$f":"Import!H407","v":0},{"$f":"Import!I407","v":0},{"$f":"Import!J407","v":0},{"$f":"Import!K407","v":0},{"$f":"Import!L407","v":0},{"$f":"Import!M407","v":0},{"$f":"Import!N407","v":0},{"$f":"Import!O407","v":0},{"$f":"Import!P407","v":0},{"$f":"Import!Q407","v":0},{"$f":"Import!R407","v":0},{"$f":"Import!S407","v":0},{"$f":"Import!T407","v":0},{"$f":"Import!U407","v":0},{"$f":"Import!V407","v":0},{"$f":"Import!W407","v":0},{"$f":"Import!X407","v":0},{"$f":"Import!Y407","v":0},{"$f":"Import!Z407","v":0},{"$f":"Import!AA407","v":0},{"$f":"Import!AB407","v":0},{"$f":"Import!AC407","v":0},{"$f":"Import!AD407","v":0},{"$f":"Import!AE407","v":0},{"$f":"Import!AF407","v":0},{"$f":"Import!AG407","v":0},{"$f":"Import!AH407","v":0},{"$f":"Import!AI407","v":0},{"$f":"Import!AJ407","v":0},{"$f":"Import!AK407","v":0},{"$f":"Import!AL407","v":0}]
[null,{"$f":"Import!A408","v":0},{"$f":"Import!B408","v":0},{"$f":"Import!H408","v":0},{"$f":"Import!I408","v":0},{"$f":"Import!J408","v":0},{"$f":"Import!K408","v":0},{"$f":"Import!L408","v":0},{"$f":"Import!M408","v":0},{"$f":"Import!N408","v":0},{"$f":"Import!O408","v":0},{"$f":"Import!P408","v":0},{"$f":"Import!Q408","v":0},{"$f":"Import!R408","v":0},{"$f":"Import!S408","v":0},{"$f":"Import!T408","v":0},{"$f":"Import!U408","v":0},{"$f":"Import!V408","v":0},{"$f":"Import!W408","v":0},{"$f":"Import!X408","v":0},{"$f":"Import!Y408","v":0},{"$f":"Import!Z408","v":0},{"$f":"Import!AA408","v":0},{"$f":"Import!AB408","v":0},{"$f":"Import!AC408","v":0},{"$f":"Import!AD408","v":0},{"$f":"Import!AE408","v":0},{"$f":"Import!AF408","v":0},{"$f":"Import!AG408","v":0},{"$f":"Import!AH408","v":0},{"$f":"Import!AI408","v":0},{"$f":"Import!AJ408","v":0},{"$f":"Import!AK408","v":0},{"$f":"Import!AL408","v":0}]
[null,{"$f":"Import!A409","v":0},{"$f":"Import!B409","v":0},{"$f":"Import!H409","v":0},{"$f":"Import!I409","v":0},{"$f":"Import!J409","v":0},{"$f":"Import!K409","v":0},{"$f":"Import!L409","v":0},{"$f":"Import!M409","v":0},{"$f":"Import!N409","v":0},{"$f":"Import!O409","v":0},{"$f":"Import!P409","v":0},{"$f":"Import!Q409","v":0},{"$f":"Import!R409","v":0},{"$f":"Import!S409","v":0},{"$f":"Import!T409","v":0},{"$f":"Import!U409","v":0},{"$f":"Import!V409","v":0},{"$f":"Import!W409","v":0},{"$f":"Import!X409","v":0},{"$f":"Import!Y409","v":0},{"$f":"Import!Z409","v":0},{"$f":"Import!AA409","v":0},{"$f":"Import!AB409","v":0},{"$f":"Import!AC409","v":0},{"$f":"Import!AD409","v":0},{"$f":"Import!AE409","v":0},{"$f":"Import!AF409","v":0},{"$f":"Import!AG409","v":0},{"$f":"Import!AH409","v":0},{"$f":"Import!AI409","v":0},{"$f":"Import!AJ409","v":0},{"$f":"Import!AK409","v":0},{"$f":"Import!AL409","v":0}]
[null,{"$f":"Import!A410","v":0},{"$f":"Import!B410","v":0},{"$f":"Import!H410","v":0},{"$f":"Import!I410","v":0},{"$f":"Import!J410","v":0},{"$f":"Import!K410","v":0},{"$f":"Import!L410","v":0},{"$f":"Import!M410","v":0},{"$f":"Import!N410","v":0},{"$f":"Import!O410","v":0},{"$f":"Import!P410","v":0},{"$f":"Import!Q410","v":0},{"$f":"Import!R410","v":0},{"$f":"Import!S410","v":0},{"$f":"Import!T410","v":0},{"$f":"Import!U410","v":0},{"$f":"Import!V410","v":0},{"$f":"Import!W410","v":0},{"$f":"Import!X410","v":0},{"$f":"Import!Y410","v":0},{"$f":"Import!Z410","v":0},{"$f":"Import!AA410","v":0},{"$f":"Import!AB410","v":0},{"$f":"Import!AC410","v":0},{"$f":"Import!AD410","v":0},{"$f":"Import!AE410","v":0},{"$f":"Import!AF410","v":0},{"$f":"Import!AG410","v":0},{"$f":"Import!AH410","v":0},{"$f":"Import!AI410","v":0},{"$f":"Import!AJ410","v":0},{"$f":"Import!AK410","v":0},{"$f":"Import!AL410","v":0}]
[null,{"$f":"Import!A411","v":0},{"$f":"Import!B411","v":0},{"$f":"Import!H411","v":0},{"$f":"Import!I411","v":0},{"$f":"Import!J411","v":0},{"$f":"Import!K411","v":0},{"$f":"Import!L411","v":0},{"$f":"Import!M411","v":0},{"$f":"Import!N411","v":0},{"$f":"Import!O411","v":0},{"$f":"Import!P411","v":0},{"$f":"Import!Q411","v":0},{"$f":"Import!R411","v":0},{"$f":"Import!S411","v":0},{"$f":"Import!T411","v":0},{"$f":"Import!U411","v":0},{"$f":"Import!V411","v":0},{"$f":"Import!W411","v":0},{"$f":"Import!X411","v":0},{"$f":"Import!Y411","v":0},{"$f":"Import!Z411","v":0},{"$f":"Import!AA411","v":0},{"$f":"Import!AB411","v":0},{"$f":"Import!AC411","v":0},{"$f":"Import!AD411","v":0},{"$f":"Import!AE411","v":0},{"$f":"Import!AF411","v":0},{"$f":"Import!AG411","v":0},{"$f":"Import!AH411","v":0},{"$f":"Import!AI411","v":0},{"$f":"Import!AJ411","v":0},{"$f":"Import!AK411","v":0},{"$f":"Import!AL411","v":0}]
[null,{"$f":"Import!A412","v":0},{"$f":"Import!B412","v":0},{"$f":"Import!H412","v":0},{"$f":"Import!I412","v":0},{"$f":"Import!J412","v":0},{"$f":"Import!K412","v":0},{"$f":"Import!L412","v":0},{"$f":"Import!M412","v":0},{"$f":"Import!N412","v":0},{"$f":"Import!O412","v":0},{"$f":"Import!P412","v":0},{"$f":"Import!Q412","v":0},{"$f":"Import!R412","v":0},{"$f":"Import!S412","v":0},{"$f":"Import!T412","v":0},{"$f":"Import!U412","v":0},{"$f":"Import!V412","v":0},{"$f":"Import!W412","v":0},{"$f":"Import!X412","v":0},{"$f":"Import!Y412","v":0},{"$f":"Import!Z412","v":0},{"$f":"Import!AA412","v":0},{"$f":"Import!AB412","v":0},{"$f":"Import!AC412","v":0},{"$f":"Import!AD412","v":0},{"$f":"Import!AE412","v":0},{"$f":"Import!AF412","v":0},{"$f":"Import!AG412","v":0},{"$f":"Import!AH412","v":0},{"$f":"Import!AI412","v":0},{"$f":"Import!AJ412","v":0},{"$f":"Import!AK412","v":0},{"$f":"Import!AL412","v":0}]
[null,{"$f":"Import!A413","v":0},{"$f":"Import!B413","v":0},{"$f":"Import!H413","v":0},{"$f":"Import!I413","v":0},{"$f":"Import!J413","v":0},{"$f":"Import!K413","v":0},{"$f":"Import!L413","v":0},{"$f":"Import!M413","v":0},{"$f":"Import!N413","v":0},{"$f":"Import!O413","v":0},{"$f":"Import!P413","v":0},{"$f":"Import!Q413","v":0},{"$f":"Import!R413","v":0},{"$f":"Import!S413","v":0},{"$f":"Import!T413","v":0},{"$f":"Import!U413","v":0},{"$f":"Import!V413","v":0},{"$f":"Import!W413","v":0},{"$f":"Import!X413","v":0},{"$f":"Import!Y413","v":0},{"$f":"Import!Z413","v":0},{"$f":"Import!AA413","v":0},{"$f":"Import!AB413","v":0},{"$f":"Import!AC413","v":0},{"$f":"Import!AD413","v":0},{"$f":"Import!AE413","v":0},{"$f":"Import!AF413","v":0},{"$f":"Import!AG413","v":0},{"$f":"Import!AH413","v":0},{"$f":"Import!AI413","v":0},{"$f":"Import!AJ413","v":0},{"$f":"Import!AK413","v":0},{"$f":"Import!AL413","v":0}]
[null,{"$f":"Import!A414","v":0},{"$f":"Import!B414","v":0},{"$f":"Import!H414","v":0},{"$f":"Import!I414","v":0},{"$f":"Import!J414","v":0},{"$f":"Import!K414","v":0},{"$f":"Import!L414","v":0},{"$f":"Import!M414","v":0},{"$f":"Import!N414","v":0},{"$f":"Import!O414","v":0},{"$f":"Import!P414","v":0},{"$f":"Import!Q414","v":0},{"$f":"Import!R414","v":0},{"$f":"Import!S414","v":0},{"$f":"Import!T414","v":0},{"$f":"Import!U414","v":0},{"$f":"Import!V414","v":0},{"$f":"Import!W414","v":0},{"$f":"Import!X414","v":0},{"$f":"Import!Y414","v":0},{"$f":"Import!Z414","v":0},{"$f":"Import!AA414","v":0},{"$f":"Import!AB414","v":0},{"$f":"Import!AC414","v":0},{"$f":"Import!AD414","v":0},{"$f":"Import!AE414","v":0},{"$f":"Import!AF414","v":0},{"$f":"Import!AG414","v":0},{"$f":"Import!AH414","v":0},{"$f":"Import!AI414","v":0},{"$f":"Import!AJ414","v":0},{"$f":"Import!AK414","v":0},{"$f":"Import!AL414","v":0}]
[null,{"$f":"Import!A415","v":0},{"$f":"Import!B415","v":0},{"$f":"Import!H415","v":0},{"$f":"Import!I415","v":0},{"$f":"Import!J415","v":0},{"$f":"Import!K415","v":0},{"$f":"Import!L415","v":0},{"$f":"Import!M415","v":0},{"$f":"Import!N415","v":0},{"$f":"Import!O415","v":0},{"$f":"Import!P415","v":0},{"$f":"Import!Q415","v":0},{"$f":"Import!R415","v":0},{"$f":"Import!S415","v":0},{"$f":"Import!T415","v":0},{"$f":"Import!U415","v":0},{"$f":"Import!V415","v":0},{"$f":"Import!W415","v":0},{"$f":"Import!X415","v":0},{"$f":"Import!Y415","v":0},{"$f":"Import!Z415","v":0},{"$f":"Import!AA415","v":0},{"$f":"Import!AB415","v":0},{"$f":"Import!AC415","v":0},{"$f":"Import!AD415","v":0},{"$f":"Import!AE415","v":0},{"$f":"Import!AF415","v":0},{"$f":"Import!AG415","v":0},{"$f":"Import!AH415","v":0},{"$f":"Import!AI415","v":0},{"$f":"Import!AJ415","v":0},{"$f":"Import!AK415","v":0},{"$f":"Import!AL415","v":0}]
[null,{"$f":"Import!A416","v":0},{"$f":"Import!B416","v":0},{"$f":"Import!H416","v":0},{"$f":"Import!I416","v":0},{"$f":"Import!J416","v":0},{"$f":"Import!K416","v":0},{"$f":"Import!L416","v":0},{"$f":"Import!M416","v":0},{"$f":"Import!N416","v":0},{"$f":"Import!O416","v":0},{"$f":"Import!P416","v":0},{"$f":"Import!Q416","v":0},{"$f":"Import!R416","v":0},{"$f":"Import!S416","v":0},{"$f":"Import!T416","v":0},{"$f":"Import!U416","v":0},{"$f":"Import!V416","v":0},{"$f":"Import!W416","v":0},{"$f":"Import!X416","v":0},{"$f":"Import!Y416","v":0},{"$f":"Import!Z416","v":0},{"$f":"Import!AA416","v":0},{"$f":"Import!AB416","v":0},{"$f":"Import!AC416","v":0},{"$f":"Import!AD416","v":0},{"$f":"Import!AE416","v":0},{"$f":"Import!AF416","v":0},{"$f":"Import!AG416","v":0},{"$f":"Import!AH416","v":0},{"$f":"Import!AI416","v":0},{"$f":"Import!AJ416","v":0},{"$f":"Import!AK416","v":0},{"$f":"Import!AL416","v":0}]
[null,{"$f":"Import!A417","v":0},{"$f":"Import!B417","v":0},{"$f":"Import!H417","v":0},{"$f":"Import!I417","v":0},{"$f":"Import!J417","v":0},{"$f":"Import!K417","v":0},{"$f":"Import!L417","v":0},{"$f":"Import!M417","v":0},{"$f":"Import!N417","v":0},{"$f":"Import!O417","v":0},{"$f":"Import!P417","v":0},{"$f":"Import!Q417","v":0},{"$f":"Import!R417","v":0},{"$f":"Import!S417","v":0},{"$f":"Import!T417","v":0},{"$f":"Import!U417","v":0},{"$f":"Import!V417","v":0},{"$f":"Import!W417","v":0},{"$f":"Import!X417","v":0},{"$f":"Import!Y417","v":0},{"$f":"Import!Z417","v":0},{"$f":"Import!AA417","v":0},{"$f":"Import!AB417","v":0},{"$f":"Import!AC417","v":0},{"$f":"Import!AD417","v":0},{"$f":"Import!AE417","v":0},{"$f":"Import!AF417","v":0},{"$f":"Import!AG417","v":0},{"$f":"Import!AH417","v":0},{"$f":"Import!AI417","v":0},{"$f":"Import!AJ417","v":0},{"$f":"Import!AK417","v":0},{"$f":"Import!AL417","v":0}]
[null,{"$f":"Import!A418","v":0},{"$f":"Import!B418","v":0},{"$f":"Import!H418","v":0},{"$f":"Import!I418","v":0},{"$f":"Import!J418","v":0},{"$f":"Import!K418","v":0},{"$f":"Import!L418","v":0},{"$f":"Import!M418","v":0},{"$f":"Import!N418","v":0},{"$f":"Import!O418","v":0},{"$f":"Import!P418","v":0},{"$f":"Import!Q418","v":0},{"$f":"Import!R418","v":0},{"$f":"Import!S418","v":0},{"$f":"Import!T418","v":0},{"$f":"Import!U418","v":0},{"$f":"Import!V418","v":0},{"$f":"Import!W418","v":0},{"$f":"Import!X418","v":0},{"$f":"Import!Y418","v":0},{"$f":"Import!Z418","v":0},{"$f":"Import!AA418","v":0},{"$f":"Import!AB418","v":0},{"$f":"Import!AC418","v":0},{"$f":"Import!AD418","v":0},{"$f":"Import!AE418","v":0},{"$f":"Import!AF418","v":0},{"$f":"Import!AG418","v":0},{"$f":"Import!AH418","v":0},{"$f":"Import!AI418","v":0},{"$f":"Import!AJ418","v":0},{"$f":"Import!AK418","v":0},{"$f":"Import!AL418","v":0}]
[null,{"$f":"Import!A419","v":0},{"$f":"Import!B419","v":0},{"$f":"Import!H419","v":0},{"$f":"Import!I419","v":0},{"$f":"Import!J419","v":0},{"$f":"Import!K419","v":0},{"$f":"Import!L419","v":0},{"$f":"Import!M419","v":0},{"$f":"Import!N419","v":0},{"$f":"Import!O419","v":0},{"$f":"Import!P419","v":0},{"$f":"Import!Q419","v":0},{"$f":"Import!R419","v":0},{"$f":"Import!S419","v":0},{"$f":"Import!T419","v":0},{"$f":"Import!U419","v":0},{"$f":"Import!V419","v":0},{"$f":"Import!W419","v":0},{"$f":"Import!X419","v":0},{"$f":"Import!Y419","v":0},{"$f":"Import!Z419","v":0},{"$f":"Import!AA419","v":0},{"$f":"Import!AB419","v":0},{"$f":"Import!AC419","v":0},{"$f":"Import!AD419","v":0},{"$f":"Import!AE419","v":0},{"$f":"Import!AF419","v":0},{"$f":"Import!AG419","v":0},{"$f":"Import!AH419","v":0},{"$f":"Import!AI419","v":0},{"$f":"Import!AJ419","v":0},{"$f":"Import!AK419","v":0},{"$f":"Import!AL419","v":0}]
[null,{"$f":"Import!A420","v":0},{"$f":"Import!B420","v":0},{"$f":"Import!H420","v":0},{"$f":"Import!I420","v":0},{"$f":"Import!J420","v":0},{"$f":"Import!K420","v":0},{"$f":"Import!L420","v":0},{"$f":"Import!M420","v":0},{"$f":"Import!N420","v":0},{"$f":"Import!O420","v":0},{"$f":"Import!P420","v":0},{"$f":"Import!Q420","v":0},{"$f":"Import!R420","v":0},{"$f":"Import!S420","v":0},{"$f":"Import!T420","v":0},{"$f":"Import!U420","v":0},{"$f":"Import!V420","v":0},{"$f":"Import!W420","v":0},{"$f":"Import!X420","v":0},{"$f":"Import!Y420","v":0},{"$f":"Import!Z420","v":0},{"$f":"Import!AA420","v":0},{"$f":"Import!AB420","v":0},{"$f":"Import!AC420","v":0},{"$f":"Import!AD420","v":0},{"$f":"Import!AE420","v":0},{"$f":"Import!AF420","v":0},{"$f":"Import!AG420","v":0},{"$f":"Import!AH420","v":0},{"$f":"Import!AI420","v":0},{"$f":"Import!AJ420","v":0},{"$f":"Import!AK420","v":0},{"$f":"Import!AL420","v":0}]
[null,{"$f":"Import!A421","v":0},{"$f":"Import!B421","v":0},{"$f":"Import!H421","v":0},{"$f":"Import!I421","v":0},{"$f":"Import!J421","v":0},{"$f":"Import!K421","v":0},{"$f":"Import!L421","v":0},{"$f":"Import!M421","v":0},{"$f":"Import!N421","v":0},{"$f":"Import!O421","v":0},{"$f":"Import!P421","v":0},{"$f":"Import!Q421","v":0},{"$f":"Import!R421","v":0},{"$f":"Import!S421","v":0},{"$f":"Import!T421","v":0},{"$f":"Import!U421","v":0},{"$f":"Import!V421","v":0},{"$f":"Import!W421","v":0},{"$f":"Import!X421","v":0},{"$f":"Import!Y421","v":0},{"$f":"Import!Z421","v":0},{"$f":"Import!AA421","v":0},{"$f":"Import!AB421","v":0},{"$f":"Import!AC421","v":0},{"$f":"Import!AD421","v":0},{"$f":"Import!AE421","v":0},{"$f":"Import!AF421","v":0},{"$f":"Import!AG421","v":0},{"$f":"Import!AH421","v":0},{"$f":"Import!AI421","v":0},{"$f":"Import!AJ421","v":0},{"$f":"Import!AK421","v":0},{"$f":"Import!AL421","v":0}]
[null,{"$f":"Import!A422","v":0},{"$f":"Import!B422","v":0},{"$f":"Import!H422","v":0},{"$f":"Import!I422","v":0},{"$f":"Import!J422","v":0},{"$f":"Import!K422","v":0},{"$f":"Import!L422","v":0},{"$f":"Import!M422","v":0},{"$f":"Import!N422","v":0},{"$f":"Import!O422","v":0},{"$f":"Import!P422","v":0},{"$f":"Import!Q422","v":0},{"$f":"Import!R422","v":0},{"$f":"Import!S422","v":0},{"$f":"Import!T422","v":0},{"$f":"Import!U422","v":0},{"$f":"Import!V422","v":0},{"$f":"Import!W422","v":0},{"$f":"Import!X422","v":0},{"$f":"Import!Y422","v":0},{"$f":"Import!Z422","v":0},{"$f":"Import!AA422","v":0},{"$f":"Import!AB422","v":0},{"$f":"Import!AC422","v":0},{"$f":"Import!AD422","v":0},{"$f":"Import!AE422","v":0},{"$f":"Import!AF422","v":0},{"$f":"Import!AG422","v":0},{"$f":"Import!AH422","v":0},{"$f":"Import!AI422","v":0},{"$f":"Import!AJ422","v":0},{"$f":"Import!AK422","v":0},{"$f":"Import!AL422","v":0}]
[null,{"$f":"Import!A423","v":0},{"$f":"Import!B423","v":0},{"$f":"Import!H423","v":0},{"$f":"Import!I423","v":0},{"$f":"Import!J423","v":0},{"$f":"Import!K423","v":0},{"$f":"Import!L423","v":0},{"$f":"Import!M423","v":0},{"$f":"Import!N423","v":0},{"$f":"Import!O423","v":0},{"$f":"Import!P423","v":0},{"$f":"Import!Q423","v":0},{"$f":"Import!R423","v":0},{"$f":"Import!S423","v":0},{"$f":"Import!T423","v":0},{"$f":"Import!U423","v":0},{"$f":"Import!V423","v":0},{"$f":"Import!W423","v":0},{"$f":"Import!X423","v":0},{"$f":"Import!Y423","v":0},{"$f":"Import!Z423","v":0},{"$f":"Import!AA423","v":0},{"$f":"Import!AB423","v":0},{"$f":"Import!AC423","v":0},{"$f":"Import!AD423","v":0},{"$f":"Import!AE423","v":0},{"$f":"Import!AF423","v":0},{"$f":"Import!AG423","v":0},{"$f":"Import!AH423","v":0},{"$f":"Import!AI423","v":0},{"$f":"Import!AJ423","v":0},{"$f":"Import!AK423","v":0},{"$f":"Import!AL423","v":0}]
[null,{"$f":"Import!A424","v":0},{"$f":"Import!B424","v":0},{"$f":"Import!H424","v":0},{"$f":"Import!I424","v":0},{"$f":"Import!J424","v":0},{"$f":"Import!K424","v":0},{"$f":"Import!L424","v":0},{"$f":"Import!M424","v":0},{"$f":"Import!N424","v":0},{"$f":"Import!O424","v":0},{"$f":"Import!P424","v":0},{"$f":"Import!Q424","v":0},{"$f":"Import!R424","v":0},{"$f":"Import!S424","v":0},{"$f":"Import!T424","v":0},{"$f":"Import!U424","v":0},{"$f":"Import!V424","v":0},{"$f":"Import!W424","v":0},{"$f":"Import!X424","v":0},{"$f":"Import!Y424","v":0},{"$f":"Import!Z424","v":0},{"$f":"Import!AA424","v":0},{"$f":"Import!AB424","v":0},{"$f":"Import!AC424","v":0},{"$f":"Import!AD424","v":0},{"$f":"Import!AE424","v":0},{"$f":"Import!AF424","v":0},{"$f":"Import!AG424","v":0},{"$f":"Import!AH424","v":0},{"$f":"Import!AI424","v":0},{"$f":"Import!AJ424","v":0},{"$f":"Import!AK424","v":0},{"$f":"Import!AL424","v":0}]
[null,{"$f":"Import!A425","v":0},{"$f":"Import!B425","v":0},{"$f":"Import!H425","v":0},{"$f":"Import!I425","v":0},{"$f":"Import!J425","v":0},{"$f":"Import!K425","v":0},{"$f":"Import!L425","v":0},{"$f":"Import!M425","v":0},{"$f":"Import!N425","v":0},{"$f":"Import!O425","v":0},{"$f":"Import!P425","v":0},{"$f":"Import!Q425","v":0},{"$f":"Import!R425","v":0},{"$f":"Import!S425","v":0},{"$f":"Import!T425","v":0},{"$f":"Import!U425","v":0},{"$f":"Import!V425","v":0},{"$f":"Import!W425","v":0},{"$f":"Import!X425","v":0},{"$f":"Import!Y425","v":0},{"$f":"Import!Z425","v":0},{"$f":"Import!AA425","v":0},{"$f":"Import!AB425","v":0},{"$f":"Import!AC425","v":0},{"$f":"Import!AD425","v":0},{"$f":"Import!AE425","v":0},{"$f":"Import!AF425","v":0},{"$f":"Import!AG425","v":0},{"$f":"Import!AH425","v":0},{"$f":"Import!AI425","v":0},{"$f":"Import!AJ425","v":0},{"$f":"Import!AK425","v":0},{"$f":"Import!AL425","v":0}]
[null,{"$f":"Import!A426","v":0},{"$f":"Import!B426","v":0},{"$f":"Import!H426","v":0},{"$f":"Import!I426","v":0},{"$f":"Import!J426","v":0},{"$f":"Import!K426","v":0},{"$f":"Import!L426","v":0},{"$f":"Import!M426","v":0},{"$f":"Import!N426","v":0},{"$f":"Import!O426","v":0},{"$f":"Import!P426","v":0},{"$f":"Import!Q426","v":0},{"$f":"Import!R426","v":0},{"$f":"Import!S426","v":0},{"$f":"Import!T426","v":0},{"$f":"Import!U426","v":0},{"$f":"Import!V426","v":0},{"$f":"Import!W426","v":0},{"$f":"Import!X426","v":0},{"$f":"Import!Y426","v":0},{"$f":"Import!Z426","v":0},{"$f":"Import!AA426","v":0},{"$f":"Import!AB426","v":0},{"$f":"Import!AC426","v":0},{"$f":"Import!AD426","v":0},{"$f":"Import!AE426","v":0},{"$f":"Import!AF426","v":0},{"$f":"Import!AG426","v":0},{"$f":"Import!AH426","v":0},{"$f":"Import!AI426","v":0},{"$f":"Import!AJ426","v":0},{"$f":"Import!AK426","v":0},{"$f":"Import!AL426","v":0}]
[null,{"$f":"Import!A427","v":0},{"$f":"Import!B427","v":0},{"$f":"Import!H427","v":0},{"$f":"Import!I427","v":0},{"$f":"Import!J427","v":0},{"$f":"Import!K427","v":0},{"$f":"Import!L427","v":0},{"$f":"Import!M427","v":0},{"$f":"Import!N427","v":0},{"$f":"Import!O427","v":0},{"$f":"Import!P427","v":0},{"$f":"Import!Q427","v":0},{"$f":"Import!R427","v":0},{"$f":"Import!S427","v":0},{"$f":"Import!T427","v":0},{"$f":"Import!U427","v":0},{"$f":"Import!V427","v":0},{"$f":"Import!W427","v":0},{"$f":"Import!X427","v":0},{"$f":"Import!Y427","v":0},{"$f":"Import!Z427","v":0},{"$f":"Import!AA427","v":0},{"$f":"Import!AB427","v":0},{"$f":"Import!AC427","v":0},{"$f":"Import!AD427","v":0},{"$f":"Import!AE427","v":0},{"$f":"Import!AF427","v":0},{"$f":"Import!AG427","v":0},{"$f":"Import!AH427","v":0},{"$f":"Import!AI427","v":0},{"$f":"Import!AJ427","v":0},{"$f":"Import!AK427","v":0},{"$f":"Import!AL427","v":0}]
[null,{"$f":"Import!A428","v":0},{"$f":"Import!B428","v":0},{"$f":"Import!H428","v":0},{"$f":"Import!I428","v":0},{"$f":"Import!J428","v":0},{"$f":"Import!K428","v":0},{"$f":"Import!L428","v":0},{"$f":"Import!M428","v":0},{"$f":"Import!N428","v":0},{"$f":"Import!O428","v":0},{"$f":"Import!P428","v":0},{"$f":"Import!Q428","v":0},{"$f":"Import!R428","v":0},{"$f":"Import!S428","v":0},{"$f":"Import!T428","v":0},{"$f":"Import!U428","v":0},{"$f":"Import!V428","v":0},{"$f":"Import!W428","v":0},{"$f":"Import!X428","v":0},{"$f":"Import!Y428","v":0},{"$f":"Import!Z428","v":0},{"$f":"Import!AA428","v":0},{"$f":"Import!AB428","v":0},{"$f":"Import!AC428","v":0},{"$f":"Import!AD428","v":0},{"$f":"Import!AE428","v":0},{"$f":"Import!AF428","v":0},{"$f":"Import!AG428","v":0},{"$f":"Import!AH428","v":0},{"$f":"Import!AI428","v":0},{"$f":"Import!AJ428","v":0},{"$f":"Import!AK428","v":0},{"$f":"Import!AL428","v":0}]
[null,{"$f":"Import!A429","v":0},{"$f":"Import!B429","v":0},{"$f":"Import!H429","v":0},{"$f":"Import!I429","v":0},{"$f":"Import!J429","v":0},{"$f":"Import!K429","v":0},{"$f":"Import!L429","v":0},{"$f":"Import!M429","v":0},{"$f":"Import!N429","v":0},{"$f":"Import!O429","v":0},{"$f":"Import!P429","v":0},{"$f":"Import!Q429","v":0},{"$f":"Import!R429","v":0},{"$f":"Import!S429","v":0},{"$f":"Import!T429","v":0},{"$f":"Import!U429","v":0},{"$f":"Import!V429","v":0},{"$f":"Import!W429","v":0},{"$f":"Import!X429","v":0},{"$f":"Import!Y429","v":0},{"$f":"Import!Z429","v":0},{"$f":"Import!AA429","v":0},{"$f":"Import!AB429","v":0},{"$f":"Import!AC429","v":0},{"$f":"Import!AD429","v":0},{"$f":"Import!AE429","v":0},{"$f":"Import!AF429","v":0},{"$f":"Import!AG429","v":0},{"$f":"Import!AH429","v":0},{"$f":"Import!AI429","v":0},{"$f":"Import!AJ429","v":0},{"$f":"Import!AK429","v":0},{"$f":"Import!AL429","v":0}]
[null,{"$f":"Import!A430","v":0},{"$f":"Import!B430","v":0},{"$f":"Import!H430","v":0},{"$f":"Import!I430","v":0},{"$f":"Import!J430","v":0},{"$f":"Import!K430","v":0},{"$f":"Import!L430","v":0},{"$f":"Import!M430","v":0},{"$f":"Import!N430","v":0},{"$f":"Import!O430","v":0},{"$f":"Import!P430","v":0},{"$f":"Import!Q430","v":0},{"$f":"Import!R430","v":0},{"$f":"Import!S430","v":0},{"$f":"Import!T430","v":0},{"$f":"Import!U430","v":0},{"$f":"Import!V430","v":0},{"$f":"Import!W430","v":0},{"$f":"Import!X430","v":0},{"$f":"Import!Y430","v":0},{"$f":"Import!Z430","v":0},{"$f":"Import!AA430","v":0},{"$f":"Import!AB430","v":0},{"$f":"Import!AC430","v":0},{"$f":"Import!AD430","v":0},{"$f":"Import!AE430","v":0},{"$f":"Import!AF430","v":0},{"$f":"Import!AG430","v":0},{"$f":"Import!AH430","v":0},{"$f":"Import!AI430","v":0},{"$f":"Import!AJ430","v":0},{"$f":"Import!AK430","v":0},{"$f":"Import!AL430","v":0}]
[null,{"$f":"Import!A431","v":0},{"$f":"Import!B431","v":0},{"$f":"Import!H431","v":0},{"$f":"Import!I431","v":0},{"$f":"Import!J431","v":0},{"$f":"Import!K431","v":0},{"$f":"Import!L431","v":0},{"$f":"Import!M431","v":0},{"$f":"Import!N431","v":0},{"$f":"Import!O431","v":0},{"$f":"Import!P431","v":0},{"$f":"Import!Q431","v":0},{"$f":"Import!R431","v":0},{"$f":"Import!S431","v":0},{"$f":"Import!T431","v":0},{"$f":"Import!U431","v":0},{"$f":"Import!V431","v":0},{"$f":"Import!W431","v":0},{"$f":"Import!X431","v":0},{"$f":"Import!Y431","v":0},{"$f":"Import!Z431","v":0},{"$f":"Import!AA431","v":0},{"$f":"Import!AB431","v":0},{"$f":"Import!AC431","v":0},{"$f":"Import!AD431","v":0},{"$f":"Import!AE431","v":0},{"$f":"Import!AF431","v":0},{"$f":"Import!AG431","v":0},{"$f":"Import!AH431","v":0},{"$f":"Import!AI431","v":0},{"$f":"Import!AJ431","v":0},{"$f":"Import!AK431","v":0},{"$f":"Import!AL431","v":0}]
[null,{"$f":"Import!A432","v":0},{"$f":"Import!B432","v":0},{"$f":"Import!H432","v":0},{"$f":"Import!I432","v":0},{"$f":"Import!J432","v":0},{"$f":"Import!K432","v":0},{"$f":"Import!L432","v":0},{"$f":"Import!M432","v":0},{"$f":"Import!N432","v":0},{"$f":"Import!O432","v":0},{"$f":"Import!P432","v":0},{"$f":"Import!Q432","v":0},{"$f":"Import!R432","v":0},{"$f":"Import!S432","v":0},{"$f":"Import!T432","v":0},{"$f":"Import!U432","v":0},{"$f":"Import!V432","v":0},{"$f":"Import!W432","v":0},{"$f":"Import!X432","v":0},{"$f":"Import!Y432","v":0},{"$f":"Import!Z432","v":0},{"$f":"Import!AA432","v":0},{"$f":"Import!AB432","v":0},{"$f":"Import!AC432","v":0},{"$f":"Import!AD432","v":0},{"$f":"Import!AE432","v":0},{"$f":"Import!AF432","v":0},{"$f":"Import!AG432","v":0},{"$f":"Import!AH432","v":0},{"$f":"Import!AI432","v":0},{"$f":"Import!AJ432","v":0},{"$f":"Import!AK432","v":0},{"$f":"Import!AL432","v":0}]
[null,{"$f":"Import!A433","v":0},{"$f":"Import!B433","v":0},{"$f":"Import!H433","v":0},{"$f":"Import!I433","v":0},{"$f":"Import!J433","v":0},{"$f":"Import!K433","v":0},{"$f":"Import!L433","v":0},{"$f":"Import!M433","v":0},{"$f":"Import!N433","v":0},{"$f":"Import!O433","v":0},{"$f":"Import!P433","v":0},{"$f":"Import!Q433","v":0},{"$f":"Import!R433","v":0},{"$f":"Import!S433","v":0},{"$f":"Import!T433","v":0},{"$f":"Import!U433","v":0},{"$f":"Import!V433","v":0},{"$f":"Import!W433","v":0},{"$f":"Import!X433","v":0},{"$f":"Import!Y433","v":0},{"$f":"Import!Z433","v":0},{"$f":"Import!AA433","v":0},{"$f":"Import!AB433","v":0},{"$f":"Import!AC433","v":0},{"$f":"Import!AD433","v":0},{"$f":"Import!AE433","v":0},{"$f":"Import!AF433","v":0},{"$f":"Import!AG433","v":0},{"$f":"Import!AH433","v":0},{"$f":"Import!AI433","v":0},{"$f":"Import!AJ433","v":0},{"$f":"Import!AK433","v":0},{"$f":"Import!AL433","v":0}]
[null,{"$f":"Import!A434","v":0},{"$f":"Import!B434","v":0},{"$f":"Import!H434","v":0},{"$f":"Import!I434","v":0},{"$f":"Import!J434","v":0},{"$f":"Import!K434","v":0},{"$f":"Import!L434","v":0},{"$f":"Import!M434","v":0},{"$f":"Import!N434","v":0},{"$f":"Import!O434","v":0},{"$f":"Import!P434","v":0},{"$f":"Import!Q434","v":0},{"$f":"Import!R434","v":0},{"$f":"Import!S434","v":0},{"$f":"Import!T434","v":0},{"$f":"Import!U434","v":0},{"$f":"Import!V434","v":0},{"$f":"Import!W434","v":0},{"$f":"Import!X434","v":0},{"$f":"Import!Y434","v":0},{"$f":"Import!Z434","v":0},{"$f":"Import!AA434","v":0},{"$f":"Import!AB434","v":0},{"$f":"Import!AC434","v":0},{"$f":"Import!AD434","v":0},{"$f":"Import!AE434","v":0},{"$f":"Import!AF434","v":0},{"$f":"Import!AG434","v":0},{"$f":"Import!AH434","v":0},{"$f":"Import!AI434","v":0},{"$f":"Import!AJ434","v":0},{"$f":"Import!AK434","v":0},{"$f":"Import!AL434","v":0}]
[null,{"$f":"Import!A435","v":0},{"$f":"Import!B435","v":0},{"$f":"Import!H435","v":0},{"$f":"Import!I435","v":0},{"$f":"Import!J435","v":0},{"$f":"Import!K435","v":0},{"$f":"Import!L435","v":0},{"$f":"Import!M435","v":0},{"$f":"Import!N435","v":0},{"$f":"Import!O435","v":0},{"$f":"Import!P435","v":0},{"$f":"Import!Q435","v":0},{"$f":"Import!R435","v":0},{"$f":"Import!S435","v":0},{"$f":"Import!T435","v":0},{"$f":"Import!U435","v":0},{"$f":"Import!V435","v":0},{"$f":"Import!W435","v":0},{"$f":"Import!X435","v":0},{"$f":"Import!Y435","v":0},{"$f":"Import!Z435","v":0},{"$f":"Import!AA435","v":0},{"$f":"Import!AB435","v":0},{"$f":"Import!AC435","v":0},{"$f":"Import!AD435","v":0},{"$f":"Import!AE435","v":0},{"$f":"Import!AF435","v":0},{"$f":"Import!AG435","v":0},{"$f":"Import!AH435","v":0},{"$f":"Import!AI435","v":0},{"$f":"Import!AJ435","v":0},{"$f":"Import!AK435","v":0},{"$f":"Import!AL435","v":0}]
[null,{"$f":"Import!A436","v":0},{"$f":"Import!B436","v":0},{"$f":"Import!H436","v":0},{"$f":"Import!I436","v":0},{"$f":"Import!J436","v":0},{"$f":"Import!K436","v":0},{"$f":"Import!L436","v":0},{"$f":"Import!M436","v":0},{"$f":"Import!N436","v":0},{"$f":"Import!O436","v":0},{"$f":"Import!P436","v":0},{"$f":"Import!Q436","v":0},{"$f":"Import!R436","v":0},{"$f":"Import!S436","v":0},{"$f":"Import!T436","v":0},{"$f":"Import!U436","v":0},{"$f":"Import!V436","v":0},{"$f":"Import!W436","v":0},{"$f":"Import!X436","v":0},{"$f":"Import!Y436","v":0},{"$f":"Import!Z436","v":0},{"$f":"Import!AA436","v":0},{"$f":"Import!AB436","v":0},{"$f":"Import!AC436","v":0},{"$f":"Import!AD436","v":0},{"$f":"Import!AE436","v":0},{"$f":"Import!AF436","v":0},{"$f":"Import!AG436","v":0},{"$f":"Import!AH436","v":0},{"$f":"Import!AI436","v":0},{"$f":"Import!AJ436","v":0},{"$f":"Import!AK436","v":0},{"$f":"Import!AL436","v":0}]
[null,{"$f":"Import!A437","v":0},{"$f":"Import!B437","v":0},{"$f":"Import!H437","v":0},{"$f":"Import!I437","v":0},{"$f":"Import!J437","v":0},{"$f":"Import!K437","v":0},{"$f":"Import!L437","v":0},{"$f":"Import!M437","v":0},{"$f":"Import!N437","v":0},{"$f":"Import!O437","v":0},{"$f":"Import!P437","v":0},{"$f":"Import!Q437","v":0},{"$f":"Import!R437","v":0},{"$f":"Import!S437","v":0},{"$f":"Import!T437","v":0},{"$f":"Import!U437","v":0},{"$f":"Import!V437","v":0},{"$f":"Import!W437","v":0},{"$f":"Import!X437","v":0},{"$f":"Import!Y437","v":0},{"$f":"Import!Z437","v":0},{"$f":"Import!AA437","v":0},{"$f":"Import!AB437","v":0},{"$f":"Import!AC437","v":0},{"$f":"Import!AD437","v":0},{"$f":"Import!AE437","v":0},{"$f":"Import!AF437","v":0},{"$f":"Import!AG437","v":0},{"$f":"Import!AH437","v":0},{"$f":"Import!AI437","v":0},{"$f":"Import!AJ437","v":0},{"$f":"Import!AK437","v":0},{"$f":"Import!AL437","v":0}]
[null,{"$f":"Import!A438","v":0},{"$f":"Import!B438","v":0},{"$f":"Import!H438","v":0},{"$f":"Import!I438","v":0},{"$f":"Import!J438","v":0},{"$f":"Import!K438","v":0},{"$f":"Import!L438","v":0},{"$f":"Import!M438","v":0},{"$f":"Import!N438","v":0},{"$f":"Import!O438","v":0},{"$f":"Import!P438","v":0},{"$f":"Import!Q438","v":0},{"$f":"Import!R438","v":0},{"$f":"Import!S438","v":0},{"$f":"Import!T438","v":0},{"$f":"Import!U438","v":0},{"$f":"Import!V438","v":0},{"$f":"Import!W438","v":0},{"$f":"Import!X438","v":0},{"$f":"Import!Y438","v":0},{"$f":"Import!Z438","v":0},{"$f":"Import!AA438","v":0},{"$f":"Import!AB438","v":0},{"$f":"Import!AC438","v":0},{"$f":"Import!AD438","v":0},{"$f":"Import!AE438","v":0},{"$f":"Import!AF438","v":0},{"$f":"Import!AG438","v":0},{"$f":"Import!AH438","v":0},{"$f":"Import!AI438","v":0},{"$f":"Import!AJ438","v":0},{"$f":"Import!AK438","v":0},{"$f":"Import!AL438","v":0}]
[null,{"$f":"Import!A439","v":0},{"$f":"Import!B439","v":0},{"$f":"Import!H439","v":0},{"$f":"Import!I439","v":0},{"$f":"Import!J439","v":0},{"$f":"Import!K439","v":0},{"$f":"Import!L439","v":0},{"$f":"Import!M439","v":0},{"$f":"Import!N439","v":0},{"$f":"Import!O439","v":0},{"$f":"Import!P439","v":0},{"$f":"Import!Q439","v":0},{"$f":"Import!R439","v":0},{"$f":"Import!S439","v":0},{"$f":"Import!T439","v":0},{"$f":"Import!U439","v":0},{"$f":"Import!V439","v":0},{"$f":"Import!W439","v":0},{"$f":"Import!X439","v":0},{"$f":"Import!Y439","v":0},{"$f":"Import!Z439","v":0},{"$f":"Import!AA439","v":0},{"$f":"Import!AB439","v":0},{"$f":"Import!AC439","v":0},{"$f":"Import!AD439","v":0},{"$f":"Import!AE439","v":0},{"$f":"Import!AF439","v":0},{"$f":"Import!AG439","v":0},{"$f":"Import!AH439","v":0},{"$f":"Import!AI439","v":0},{"$f":"Import!AJ439","v":0},{"$f":"Import!AK439","v":0},{"$f":"Import!AL439","v":0}]
[null,{"$f":"Import!A440","v":0},{"$f":"Import!B440","v":0},{"$f":"Import!H440","v":0},{"$f":"Import!I440","v":0},{"$f":"Import!J440","v":0},{"$f":"Import!K440","v":0},{"$f":"Import!L440","v":0},{"$f":"Import!M440","v":0},{"$f":"Import!N440","v":0},{"$f":"Import!O440","v":0},{"$f":"Import!P440","v":0},{"$f":"Import!Q440","v":0},{"$f":"Import!R440","v":0},{"$f":"Import!S440","v":0},{"$f":"Import!T440","v":0},{"$f":"Import!U440","v":0},{"$f":"Import!V440","v":0},{"$f":"Import!W440","v":0},{"$f":"Import!X440","v":0},{"$f":"Import!Y440","v":0},{"$f":"Import!Z440","v":0},{"$f":"Import!AA440","v":0},{"$f":"Import!AB440","v":0},{"$f":"Import!AC440","v":0},{"$f":"Import!AD440","v":0},{"$f":"Import!AE440","v":0},{"$f":"Import!AF440","v":0},{"$f":"Import!AG440","v":0},{"$f":"Import!AH440","v":0},{"$f":"Import!AI440","v":0},{"$f":"Import!AJ440","v":0},{"$f":"Import!AK440","v":0},{"$f":"Import!AL440","v":0}]
[null,{"$f":"Import!A441","v":0},{"$f":"Import!B441","v":0},{"$f":"Import!H441","v":0},{"$f":"Import!I441","v":0},{"$f":"Import!J441","v":0},{"$f":"Import!K441","v":0},{"$f":"Import!L441","v":0},{"$f":"Import!M441","v":0},{"$f":"Import!N441","v":0},{"$f":"Import!O441","v":0},{"$f":"Import!P441","v":0},{"$f":"Import!Q441","v":0},{"$f":"Import!R441","v":0},{"$f":"Import!S441","v":0},{"$f":"Import!T441","v":0},{"$f":"Import!U441","v":0},{"$f":"Import!V441","v":0},{"$f":"Import!W441","v":0},{"$f":"Import!X441","v":0},{"$f":"Import!Y441","v":0},{"$f":"Import!Z441","v":0},{"$f":"Import!AA441","v":0},{"$f":"Import!AB441","v":0},{"$f":"Import!AC441","v":0},{"$f":"Import!AD441","v":0},{"$f":"Import!AE441","v":0},{"$f":"Import!AF441","v":0},{"$f":"Import!AG441","v":0},{"$f":"Import!AH441","v":0},{"$f":"Import!AI441","v":0},{"$f":"Import!AJ441","v":0},{"$f":"Import!AK441","v":0},{"$f":"Import!AL441","v":0}]
[null,{"$f":"Import!A442","v":0},{"$f":"Import!B442","v":0},{"$f":"Import!H442","v":0},{"$f":"Import!I442","v":0},{"$f":"Import!J442","v":0},{"$f":"Import!K442","v":0},{"$f":"Import!L442","v":0},{"$f":"Import!M442","v":0},{"$f":"Import!N442","v":0},{"$f":"Import!O442","v":0},{"$f":"Import!P442","v":0},{"$f":"Import!Q442","v":0},{"$f":"Import!R442","v":0},{"$f":"Import!S442","v":0},{"$f":"Import!T442","v":0},{"$f":"Import!U442","v":0},{"$f":"Import!V442","v":0},{"$f":"Import!W442","v":0},{"$f":"Import!X442","v":0},{"$f":"Import!Y442","v":0},{"$f":"Import!Z442","v":0},{"$f":"Import!AA442","v":0},{"$f":"Import!AB442","v":0},{"$f":"Import!AC442","v":0},{"$f":"Import!AD442","v":0},{"$f":"Import!AE442","v":0},{"$f":"Import!AF442","v":0},{"$f":"Import!AG442","v":0},{"$f":"Import!AH442","v":0},{"$f":"Import!AI442","v":0},{"$f":"Import!AJ442","v":0},{"$f":"Import!AK442","v":0},{"$f":"Import!AL442","v":0}]
[null,{"$f":"Import!A443","v":0},{"$f":"Import!B443","v":0},{"$f":"Import!H443","v":0},{"$f":"Import!I443","v":0},{"$f":"Import!J443","v":0},{"$f":"Import!K443","v":0},{"$f":"Import!L443","v":0},{"$f":"Import!M443","v":0},{"$f":"Import!N443","v":0},{"$f":"Import!O443","v":0},{"$f":"Import!P443","v":0},{"$f":"Import!Q443","v":0},{"$f":"Import!R443","v":0},{"$f":"Import!S443","v":0},{"$f":"Import!T443","v":0},{"$f":"Import!U443","v":0},{"$f":"Import!V443","v":0},{"$f":"Import!W443","v":0},{"$f":"Import!X443","v":0},{"$f":"Import!Y443","v":0},{"$f":"Import!Z443","v":0},{"$f":"Import!AA443","v":0},{"$f":"Import!AB443","v":0},{"$f":"Import!AC443","v":0},{"$f":"Import!AD443","v":0},{"$f":"Import!AE443","v":0},{"$f":"Import!AF443","v":0},{"$f":"Import!AG443","v":0},{"$f":"Import!AH443","v":0},{"$f":"Import!AI443","v":0},{"$f":"Import!AJ443","v":0},{"$f":"Import!AK443","v":0},{"$f":"Import!AL443","v":0}]
[null,{"$f":"Import!A444","v":0},{"$f":"Import!B444","v":0},{"$f":"Import!H444","v":0},{"$f":"Import!I444","v":0},{"$f":"Import!J444","v":0},{"$f":"Import!K444","v":0},{"$f":"Import!L444","v":0},{"$f":"Import!M444","v":0},{"$f":"Import!N444","v":0},{"$f":"Import!O444","v":0},{"$f":"Import!P444","v":0},{"$f":"Import!Q444","v":0},{"$f":"Import!R444","v":0},{"$f":"Import!S444","v":0},{"$f":"Import!T444","v":0},{"$f":"Import!U444","v":0},{"$f":"Import!V444","v":0},{"$f":"Import!W444","v":0},{"$f":"Import!X444","v":0},{"$f":"Import!Y444","v":0},{"$f":"Import!Z444","v":0},{"$f":"Import!AA444","v":0},{"$f":"Import!AB444","v":0},{"$f":"Import!AC444","v":0},{"$f":"Import!AD444","v":0},{"$f":"Import!AE444","v":0},{"$f":"Import!AF444","v":0},{"$f":"Import!AG444","v":0},{"$f":"Import!AH444","v":0},{"$f":"Import!AI444","v":0},{"$f":"Import!AJ444","v":0},{"$f":"Import!AK444","v":0},{"$f":"Import!AL444","v":0}]
[null,{"$f":"Import!A445","v":0},{"$f":"Import!B445","v":0},{"$f":"Import!H445","v":0},{"$f":"Import!I445","v":0},{"$f":"Import!J445","v":0},{"$f":"Import!K445","v":0},{"$f":"Import!L445","v":0},{"$f":"Import!M445","v":0},{"$f":"Import!N445","v":0},{"$f":"Import!O445","v":0},{"$f":"Import!P445","v":0},{"$f":"Import!Q445","v":0},{"$f":"Import!R445","v":0},{"$f":"Import!S445","v":0},{"$f":"Import!T445","v":0},{"$f":"Import!U445","v":0},{"$f":"Import!V445","v":0},{"$f":"Import!W445","v":0},{"$f":"Import!X445","v":0},{"$f":"Import!Y445","v":0},{"$f":"Import!Z445","v":0},{"$f":"Import!AA445","v":0},{"$f":"Import!AB445","v":0},{"$f":"Import!AC445","v":0},{"$f":"Import!AD445","v":0},{"$f":"Import!AE445","v":0},{"$f":"Import!AF445","v":0},{"$f":"Import!AG445","v":0},{"$f":"Import!AH445","v":0},{"$f":"Import!AI445","v":0},{"$f":"Import!AJ445","v":0},{"$f":"Import!AK445","v":0},{"$f":"Import!AL445","v":0}]
[null,{"$f":"Import!A446","v":0},{"$f":"Import!B446","v":0},{"$f":"Import!H446","v":0},{"$f":"Import!I446","v":0},{"$f":"Import!J446","v":0},{"$f":"Import!K446","v":0},{"$f":"Import!L446","v":0},{"$f":"Import!M446","v":0},{"$f":"Import!N446","v":0},{"$f":"Import!O446","v":0},{"$f":"Import!P446","v":0},{"$f":"Import!Q446","v":0},{"$f":"Import!R446","v":0},{"$f":"Import!S446","v":0},{"$f":"Import!T446","v":0},{"$f":"Import!U446","v":0},{"$f":"Import!V446","v":0},{"$f":"Import!W446","v":0},{"$f":"Import!X446","v":0},{"$f":"Import!Y446","v":0},{"$f":"Import!Z446","v":0},{"$f":"Import!AA446","v":0},{"$f":"Import!AB446","v":0},{"$f":"Import!AC446","v":0},{"$f":"Import!AD446","v":0},{"$f":"Import!AE446","v":0},{"$f":"Import!AF446","v":0},{"$f":"Import!AG446","v":0},{"$f":"Import!AH446","v":0},{"$f":"Import!AI446","v":0},{"$f":"Import!AJ446","v":0},{"$f":"Import!AK446","v":0},{"$f":"Import!AL446","v":0}]
[null,{"$f":"Import!A447","v":0},{"$f":"Import!B447","v":0},{"$f":"Import!H447","v":0},{"$f":"Import!I447","v":0},{"$f":"Import!J447","v":0},{"$f":"Import!K447","v":0},{"$f":"Import!L447","v":0},{"$f":"Import!M447","v":0},{"$f":"Import!N447","v":0},{"$f":"Import!O447","v":0},{"$f":"Import!P447","v":0},{"$f":"Import!Q447","v":0},{"$f":"Import!R447","v":0},{"$f":"Import!S447","v":0},{"$f":"Import!T447","v":0},{"$f":"Import!U447","v":0},{"$f":"Import!V447","v":0},{"$f":"Import!W447","v":0},{"$f":"Import!X447","v":0},{"$f":"Import!Y447","v":0},{"$f":"Import!Z447","v":0},{"$f":"Import!AA447","v":0},{"$f":"Import!AB447","v":0},{"$f":"Import!AC447","v":0},{"$f":"Import!AD447","v":0},{"$f":"Import!AE447","v":0},{"$f":"Import!AF447","v":0},{"$f":"Import!AG447","v":0},{"$f":"Import!AH447","v":0},{"$f":"Import!AI447","v":0},{"$f":"Import!AJ447","v":0},{"$f":"Import!AK447","v":0},{"$f":"Import!AL447","v":0}]
[null,{"$f":"Import!A448","v":0},{"$f":"Import!B448","v":0},{"$f":"Import!H448","v":0},{"$f":"Import!I448","v":0},{"$f":"Import!J448","v":0},{"$f":"Import!K448","v":0},{"$f":"Import!L448","v":0},{"$f":"Import!M448","v":0},{"$f":"Import!N448","v":0},{"$f":"Import!O448","v":0},{"$f":"Import!P448","v":0},{"$f":"Import!Q448","v":0},{"$f":"Import!R448","v":0},{"$f":"Import!S448","v":0},{"$f":"Import!T448","v":0},{"$f":"Import!U448","v":0},{"$f":"Import!V448","v":0},{"$f":"Import!W448","v":0},{"$f":"Import!X448","v":0},{"$f":"Import!Y448","v":0},{"$f":"Import!Z448","v":0},{"$f":"Import!AA448","v":0},{"$f":"Import!AB448","v":0},{"$f":"Import!AC448","v":0},{"$f":"Import!AD448","v":0},{"$f":"Import!AE448","v":0},{"$f":"Import!AF448","v":0},{"$f":"Import!AG448","v":0},{"$f":"Import!AH448","v":0},{"$f":"Import!AI448","v":0},{"$f":"Import!AJ448","v":0},{"$f":"Import!AK448","v":0},{"$f":"Import!AL448","v":0}]
[null,{"$f":"Import!A449","v":0},{"$f":"Import!B449","v":0},{"$f":"Import!H449","v":0},{"$f":"Import!I449","v":0},{"$f":"Import!J449","v":0},{"$f":"Import!K449","v":0},{"$f":"Import!L449","v":0},{"$f":"Import!M449","v":0},{"$f":"Import!N449","v":0},{"$f":"Import!O449","v":0},{"$f":"Import!P449","v":0},{"$f":"Import!Q449","v":0},{"$f":"Import!R449","v":0},{"$f":"Import!S449","v":0},{"$f":"Import!T449","v":0},{"$f":"Import!U449","v":0},{"$f":"Import!V449","v":0},{"$f":"Import!W449","v":0},{"$f":"Import!X449","v":0},{"$f":"Import!Y449","v":0},{"$f":"Import!Z449","v":0},{"$f":"Import!AA449","v":0},{"$f":"Import!AB449","v":0},{"$f":"Import!AC449","v":0},{"$f":"Import!AD449","v":0},{"$f":"Import!AE449","v":0},{"$f":"Import!AF449","v":0},{"$f":"Import!AG449","v":0},{"$f":"Import!AH449","v":0},{"$f":"Import!AI449","v":0},{"$f":"Import!AJ449","v":0},{"$f":"Import!AK449","v":0},{"$f":"Import!AL449","v":0}]
[null,{"$f":"Import!A450","v":0},{"$f":"Import!B450","v":0},{"$f":"Import!H450","v":0},{"$f":"Import!I450","v":0},{"$f":"Import!J450","v":0},{"$f":"Import!K450","v":0},{"$f":"Import!L450","v":0},{"$f":"Import!M450","v":0},{"$f":"Import!N450","v":0},{"$f":"Import!O450","v":0},{"$f":"Import!P450","v":0},{"$f":"Import!Q450","v":0},{"$f":"Import!R450","v":0},{"$f":"Import!S450","v":0},{"$f":"Import!T450","v":0},{"$f":"Import!U450","v":0},{"$f":"Import!V450","v":0},{"$f":"Import!W450","v":0},{"$f":"Import!X450","v":0},{"$f":"Import!Y450","v":0},{"$f":"Import!Z450","v":0},{"$f":"Import!AA450","v":0},{"$f":"Import!AB450","v":0},{"$f":"Import!AC450","v":0},{"$f":"Import!AD450","v":0},{"$f":"Import!AE450","v":0},{"$f":"Import!AF450","v":0},{"$f":"Import!AG450","v":0},{"$f":"Import!AH450","v":0},{"$f":"Import!AI450","v":0},{"$f":"Import!AJ450","v":0},{"$f":"Import!AK450","v":0},{"$f":"Import!AL450","v":0}]
[null,{"$f":"Import!A451","v":0},{"$f":"Import!B451","v":0},{"$f":"Import!H451","v":0},{"$f":"Import!I451","v":0},{"$f":"Import!J451","v":0},{"$f":"Import!K451","v":0},{"$f":"Import!L451","v":0},{"$f":"Import!M451","v":0},{"$f":"Import!N451","v":0},{"$f":"Import!O451","v":0},{"$f":"Import!P451","v":0},{"$f":"Import!Q451","v":0},{"$f":"Import!R451","v":0},{"$f":"Import!S451","v":0},{"$f":"Import!T451","v":0},{"$f":"Import!U451","v":0},{"$f":"Import!V451","v":0},{"$f":"Import!W451","v":0},{"$f":"Import!X451","v":0},{"$f":"Import!Y451","v":0},{"$f":"Import!Z451","v":0},{"$f":"Import!AA451","v":0},{"$f":"Import!AB451","v":0},{"$f":"Import!AC451","v":0},{"$f":"Import!AD451","v":0},{"$f":"Import!AE451","v":0},{"$f":"Import!AF451","v":0},{"$f":"Import!AG451","v":0},{"$f":"Import!AH451","v":0},{"$f":"Import!AI451","v":0},{"$f":"Import!AJ451","v":0},{"$f":"Import!AK451","v":0},{"$f":"Import!AL451","v":0}]
[null,{"$f":"Import!A452","v":0},{"$f":"Import!B452","v":0},{"$f":"Import!H452","v":0},{"$f":"Import!I452","v":0},{"$f":"Import!J452","v":0},{"$f":"Import!K452","v":0},{"$f":"Import!L452","v":0},{"$f":"Import!M452","v":0},{"$f":"Import!N452","v":0},{"$f":"Import!O452","v":0},{"$f":"Import!P452","v":0},{"$f":"Import!Q452","v":0},{"$f":"Import!R452","v":0},{"$f":"Import!S452","v":0},{"$f":"Import!T452","v":0},{"$f":"Import!U452","v":0},{"$f":"Import!V452","v":0},{"$f":"Import!W452","v":0},{"$f":"Import!X452","v":0},{"$f":"Import!Y452","v":0},{"$f":"Import!Z452","v":0},{"$f":"Import!AA452","v":0},{"$f":"Import!AB452","v":0},{"$f":"Import!AC452","v":0},{"$f":"Import!AD452","v":0},{"$f":"Import!AE452","v":0},{"$f":"Import!AF452","v":0},{"$f":"Import!AG452","v":0},{"$f":"Import!AH452","v":0},{"$f":"Import!AI452","v":0},{"$f":"Import!AJ452","v":0},{"$f":"Import!AK452","v":0},{"$f":"Import!AL452","v":0}]
[null,{"$f":"Import!A453","v":0},{"$f":"Import!B453","v":0},{"$f":"Import!H453","v":0},{"$f":"Import!I453","v":0},{"$f":"Import!J453","v":0},{"$f":"Import!K453","v":0},{"$f":"Import!L453","v":0},{"$f":"Import!M453","v":0},{"$f":"Import!N453","v":0},{"$f":"Import!O453","v":0},{"$f":"Import!P453","v":0},{"$f":"Import!Q453","v":0},{"$f":"Import!R453","v":0},{"$f":"Import!S453","v":0},{"$f":"Import!T453","v":0},{"$f":"Import!U453","v":0},{"$f":"Import!V453","v":0},{"$f":"Import!W453","v":0},{"$f":"Import!X453","v":0},{"$f":"Import!Y453","v":0},{"$f":"Import!Z453","v":0},{"$f":"Import!AA453","v":0},{"$f":"Import!AB453","v":0},{"$f":"Import!AC453","v":0},{"$f":"Import!AD453","v":0},{"$f":"Import!AE453","v":0},{"$f":"Import!AF453","v":0},{"$f":"Import!AG453","v":0},{"$f":"Import!AH453","v":0},{"$f":"Import!AI453","v":0},{"$f":"Import!AJ453","v":0},{"$f":"Import!AK453","v":0},{"$f":"Import!AL453","v":0}]
[null,{"$f":"Import!A454","v":0},{"$f":"Import!B454","v":0},{"$f":"Import!H454","v":0},{"$f":"Import!I454","v":0},{"$f":"Import!J454","v":0},{"$f":"Import!K454","v":0},{"$f":"Import!L454","v":0},{"$f":"Import!M454","v":0},{"$f":"Import!N454","v":0},{"$f":"Import!O454","v":0},{"$f":"Import!P454","v":0},{"$f":"Import!Q454","v":0},{"$f":"Import!R454","v":0},{"$f":"Import!S454","v":0},{"$f":"Import!T454","v":0},{"$f":"Import!U454","v":0},{"$f":"Import!V454","v":0},{"$f":"Import!W454","v":0},{"$f":"Import!X454","v":0},{"$f":"Import!Y454","v":0},{"$f":"Import!Z454","v":0},{"$f":"Import!AA454","v":0},{"$f":"Import!AB454","v":0},{"$f":"Import!AC454","v":0},{"$f":"Import!AD454","v":0},{"$f":"Import!AE454","v":0},{"$f":"Import!AF454","v":0},{"$f":"Import!AG454","v":0},{"$f":"Import!AH454","v":0},{"$f":"Import!AI454","v":0},{"$f":"Import!AJ454","v":0},{"$f":"Import!AK454","v":0},{"$f":"Import!AL454","v":0}]
[null,{"$f":"Import!A455","v":0},{"$f":"Import!B455","v":0},{"$f":"Import!H455","v":0},{"$f":"Import!I455","v":0},{"$f":"Import!J455","v":0},{"$f":"Import!K455","v":0},{"$f":"Import!L455","v":0},{"$f":"Import!M455","v":0},{"$f":"Import!N455","v":0},{"$f":"Import!O455","v":0},{"$f":"Import!P455","v":0},{"$f":"Import!Q455","v":0},{"$f":"Import!R455","v":0},{"$f":"Import!S455","v":0},{"$f":"Import!T455","v":0},{"$f":"Import!U455","v":0},{"$f":"Import!V455","v":0},{"$f":"Import!W455","v":0},{"$f":"Import!X455","v":0},{"$f":"Import!Y455","v":0},{"$f":"Import!Z455","v":0},{"$f":"Import!AA455","v":0},{"$f":"Import!AB455","v":0},{"$f":"Import!AC455","v":0},{"$f":"Import!AD455","v":0},{"$f":"Import!AE455","v":0},{"$f":"Import!AF455","v":0},{"$f":"Import!AG455","v":0},{"$f":"Import!AH455","v":0},{"$f":"Import!AI455","v":0},{"$f":"Import!AJ455","v":0},{"$f":"Import!AK455","v":0},{"$f":"Import!AL455","v":0}]
[null,{"$f":"Import!A456","v":0},{"$f":"Import!B456","v":0},{"$f":"Import!H456","v":0},{"$f":"Import!I456","v":0},{"$f":"Import!J456","v":0},{"$f":"Import!K456","v":0},{"$f":"Import!L456","v":0},{"$f":"Import!M456","v":0},{"$f":"Import!N456","v":0},{"$f":"Import!O456","v":0},{"$f":"Import!P456","v":0},{"$f":"Import!Q456","v":0},{"$f":"Import!R456","v":0},{"$f":"Import!S456","v":0},{"$f":"Import!T456","v":0},{"$f":"Import!U456","v":0},{"$f":"Import!V456","v":0},{"$f":"Import!W456","v":0},{"$f":"Import!X456","v":0},{"$f":"Import!Y456","v":0},{"$f":"Import!Z456","v":0},{"$f":"Import!AA456","v":0},{"$f":"Import!AB456","v":0},{"$f":"Import!AC456","v":0},{"$f":"Import!AD456","v":0},{"$f":"Import!AE456","v":0},{"$f":"Import!AF456","v":0},{"$f":"Import!AG456","v":0},{"$f":"Import!AH456","v":0},{"$f":"Import!AI456","v":0},{"$f":"Import!AJ456","v":0},{"$f":"Import!AK456","v":0},{"$f":"Import!AL456","v":0}]
[null,{"$f":"Import!A457","v":0},{"$f":"Import!B457","v":0},{"$f":"Import!H457","v":0},{"$f":"Import!I457","v":0},{"$f":"Import!J457","v":0},{"$f":"Import!K457","v":0},{"$f":"Import!L457","v":0},{"$f":"Import!M457","v":0},{"$f":"Import!N457","v":0},{"$f":"Import!O457","v":0},{"$f":"Import!P457","v":0},{"$f":"Import!Q457","v":0},{"$f":"Import!R457","v":0},{"$f":"Import!S457","v":0},{"$f":"Import!T457","v":0},{"$f":"Import!U457","v":0},{"$f":"Import!V457","v":0},{"$f":"Import!W457","v":0},{"$f":"Import!X457","v":0},{"$f":"Import!Y457","v":0},{"$f":"Import!Z457","v":0},{"$f":"Import!AA457","v":0},{"$f":"Import!AB457","v":0},{"$f":"Import!AC457","v":0},{"$f":"Import!AD457","v":0},{"$f":"Import!AE457","v":0},{"$f":"Import!AF457","v":0},{"$f":"Import!AG457","v":0},{"$f":"Import!AH457","v":0},{"$f":"Import!AI457","v":0},{"$f":"Import!AJ457","v":0},{"$f":"Import!AK457","v":0},{"$f":"Import!AL457","v":0}]
[null,{"$f":"Import!A458","v":0},{"$f":"Import!B458","v":0},{"$f":"Import!H458","v":0},{"$f":"Import!I458","v":0},{"$f":"Import!J458","v":0},{"$f":"Import!K458","v":0},{"$f":"Import!L458","v":0},{"$f":"Import!M458","v":0},{"$f":"Import!N458","v":0},{"$f":"Import!O458","v":0},{"$f":"Import!P458","v":0},{"$f":"Import!Q458","v":0},{"$f":"Import!R458","v":0},{"$f":"Import!S458","v":0},{"$f":"Import!T458","v":0},{"$f":"Import!U458","v":0},{"$f":"Import!V458","v":0},{"$f":"Import!W458","v":0},{"$f":"Import!X458","v":0},{"$f":"Import!Y458","v":0},{"$f":"Import!Z458","v":0},{"$f":"Import!AA458","v":0},{"$f":"Import!AB458","v":0},{"$f":"Import!AC458","v":0},{"$f":"Import!AD458","v":0},{"$f":"Import!AE458","v":0},{"$f":"Import!AF458","v":0},{"$f":"Import!AG458","v":0},{"$f":"Import!AH458","v":0},{"$f":"Import!AI458","v":0},{"$f":"Import!AJ458","v":0},{"$f":"Import!AK458","v":0},{"$f":"Import!AL458","v":0}]
[null,{"$f":"Import!A459","v":0},{"$f":"Import!B459","v":0},{"$f":"Import!H459","v":0},{"$f":"Import!I459","v":0},{"$f":"Import!J459","v":0},{"$f":"Import!K459","v":0},{"$f":"Import!L459","v":0},{"$f":"Import!M459","v":0},{"$f":"Import!N459","v":0},{"$f":"Import!O459","v":0},{"$f":"Import!P459","v":0},{"$f":"Import!Q459","v":0},{"$f":"Import!R459","v":0},{"$f":"Import!S459","v":0},{"$f":"Import!T459","v":0},{"$f":"Import!U459","v":0},{"$f":"Import!V459","v":0},{"$f":"Import!W459","v":0},{"$f":"Import!X459","v":0},{"$f":"Import!Y459","v":0},{"$f":"Import!Z459","v":0},{"$f":"Import!AA459","v":0},{"$f":"Import!AB459","v":0},{"$f":"Import!AC459","v":0},{"$f":"Import!AD459","v":0},{"$f":"Import!AE459","v":0},{"$f":"Import!AF459","v":0},{"$f":"Import!AG459","v":0},{"$f":"Import!AH459","v":0},{"$f":"Import!AI459","v":0},{"$f":"Import!AJ459","v":0},{"$f":"Import!AK459","v":0},{"$f":"Import!AL459","v":0}]
[null,{"$f":"Import!A460","v":0},{"$f":"Import!B460","v":0},{"$f":"Import!H460","v":0},{"$f":"Import!I460","v":0},{"$f":"Import!J460","v":0},{"$f":"Import!K460","v":0},{"$f":"Import!L460","v":0},{"$f":"Import!M460","v":0},{"$f":"Import!N460","v":0},{"$f":"Import!O460","v":0},{"$f":"Import!P460","v":0},{"$f":"Import!Q460","v":0},{"$f":"Import!R460","v":0},{"$f":"Import!S460","v":0},{"$f":"Import!T460","v":0},{"$f":"Import!U460","v":0},{"$f":"Import!V460","v":0},{"$f":"Import!W460","v":0},{"$f":"Import!X460","v":0},{"$f":"Import!Y460","v":0},{"$f":"Import!Z460","v":0},{"$f":"Import!AA460","v":0},{"$f":"Import!AB460","v":0},{"$f":"Import!AC460","v":0},{"$f":"Import!AD460","v":0},{"$f":"Import!AE460","v":0},{"$f":"Import!AF460","v":0},{"$f":"Import!AG460","v":0},{"$f":"Import!AH460","v":0},{"$f":"Import!AI460","v":0},{"$f":"Import!AJ460","v":0},{"$f":"Import!AK460","v":0},{"$f":"Import!AL460","v":0}]
[null,{"$f":"Import!A461","v":0},{"$f":"Import!B461","v":0},{"$f":"Import!H461","v":0},{"$f":"Import!I461","v":0},{"$f":"Import!J461","v":0},{"$f":"Import!K461","v":0},{"$f":"Import!L461","v":0},{"$f":"Import!M461","v":0},{"$f":"Import!N461","v":0},{"$f":"Import!O461","v":0},{"$f":"Import!P461","v":0},{"$f":"Import!Q461","v":0},{"$f":"Import!R461","v":0},{"$f":"Import!S461","v":0},{"$f":"Import!T461","v":0},{"$f":"Import!U461","v":0},{"$f":"Import!V461","v":0},{"$f":"Import!W461","v":0},{"$f":"Import!X461","v":0},{"$f":"Import!Y461","v":0},{"$f":"Import!Z461","v":0},{"$f":"Import!AA461","v":0},{"$f":"Import!AB461","v":0},{"$f":"Import!AC461","v":0},{"$f":"Import!AD461","v":0},{"$f":"Import!AE461","v":0},{"$f":"Import!AF461","v":0},{"$f":"Import!AG461","v":0},{"$f":"Import!AH461","v":0},{"$f":"Import!AI461","v":0},{"$f":"Import!AJ461","v":0},{"$f":"Import!AK461","v":0},{"$f":"Import!AL461","v":0}]
[null,{"$f":"Import!A462","v":0},{"$f":"Import!B462","v":0},{"$f":"Import!H462","v":0},{"$f":"Import!I462","v":0},{"$f":"Import!J462","v":0},{"$f":"Import!K462","v":0},{"$f":"Import!L462","v":0},{"$f":"Import!M462","v":0},{"$f":"Import!N462","v":0},{"$f":"Import!O462","v":0},{"$f":"Import!P462","v":0},{"$f":"Import!Q462","v":0},{"$f":"Import!R462","v":0},{"$f":"Import!S462","v":0},{"$f":"Import!T462","v":0},{"$f":"Import!U462","v":0},{"$f":"Import!V462","v":0},{"$f":"Import!W462","v":0},{"$f":"Import!X462","v":0},{"$f":"Import!Y462","v":0},{"$f":"Import!Z462","v":0},{"$f":"Import!AA462","v":0},{"$f":"Import!AB462","v":0},{"$f":"Import!AC462","v":0},{"$f":"Import!AD462","v":0},{"$f":"Import!AE462","v":0},{"$f":"Import!AF462","v":0},{"$f":"Import!AG462","v":0},{"$f":"Import!AH462","v":0},{"$f":"Import!AI462","v":0},{"$f":"Import!AJ462","v":0},{"$f":"Import!AK462","v":0},{"$f":"Import!AL462","v":0}]
[null,{"$f":"Import!A463","v":0},{"$f":"Import!B463","v":0},{"$f":"Import!H463","v":0},{"$f":"Import!I463","v":0},{"$f":"Import!J463","v":0},{"$f":"Import!K463","v":0},{"$f":"Import!L463","v":0},{"$f":"Import!M463","v":0},{"$f":"Import!N463","v":0},{"$f":"Import!O463","v":0},{"$f":"Import!P463","v":0},{"$f":"Import!Q463","v":0},{"$f":"Import!R463","v":0},{"$f":"Import!S463","v":0},{"$f":"Import!T463","v":0},{"$f":"Import!U463","v":0},{"$f":"Import!V463","v":0},{"$f":"Import!W463","v":0},{"$f":"Import!X463","v":0},{"$f":"Import!Y463","v":0},{"$f":"Import!Z463","v":0},{"$f":"Import!AA463","v":0},{"$f":"Import!AB463","v":0},{"$f":"Import!AC463","v":0},{"$f":"Import!AD463","v":0},{"$f":"Import!AE463","v":0},{"$f":"Import!AF463","v":0},{"$f":"Import!AG463","v":0},{"$f":"Import!AH463","v":0},{"$f":"Import!AI463","v":0},{"$f":"Import!AJ463","v":0},{"$f":"Import!AK463","v":0},{"$f":"Import!AL463","v":0}]
[null,{"$f":"Import!A464","v":0},{"$f":"Import!B464","v":0},{"$f":"Import!H464","v":0},{"$f":"Import!I464","v":0},{"$f":"Import!J464","v":0},{"$f":"Import!K464","v":0},{"$f":"Import!L464","v":0},{"$f":"Import!M464","v":0},{"$f":"Import!N464","v":0},{"$f":"Import!O464","v":0},{"$f":"Import!P464","v":0},{"$f":"Import!Q464","v":0},{"$f":"Import!R464","v":0},{"$f":"Import!S464","v":0},{"$f":"Import!T464","v":0},{"$f":"Import!U464","v":0},{"$f":"Import!V464","v":0},{"$f":"Import!W464","v":0},{"$f":"Import!X464","v":0},{"$f":"Import!Y464","v":0},{"$f":"Import!Z464","v":0},{"$f":"Import!AA464","v":0},{"$f":"Import!AB464","v":0},{"$f":"Import!AC464","v":0},{"$f":"Import!AD464","v":0},{"$f":"Import!AE464","v":0},{"$f":"Import!AF464","v":0},{"$f":"Import!AG464","v":0},{"$f":"Import!AH464","v":0},{"$f":"Import!AI464","v":0},{"$f":"Import!AJ464","v":0},{"$f":"Import!AK464","v":0},{"$f":"Import!AL464","v":0}]
[null,{"$f":"Import!A465","v":0},{"$f":"Import!B465","v":0},{"$f":"Import!H465","v":0},{"$f":"Import!I465","v":0},{"$f":"Import!J465","v":0},{"$f":"Import!K465","v":0},{"$f":"Import!L465","v":0},{"$f":"Import!M465","v":0},{"$f":"Import!N465","v":0},{"$f":"Import!O465","v":0},{"$f":"Import!P465","v":0},{"$f":"Import!Q465","v":0},{"$f":"Import!R465","v":0},{"$f":"Import!S465","v":0},{"$f":"Import!T465","v":0},{"$f":"Import!U465","v":0},{"$f":"Import!V465","v":0},{"$f":"Import!W465","v":0},{"$f":"Import!X465","v":0},{"$f":"Import!Y465","v":0},{"$f":"Import!Z465","v":0},{"$f":"Import!AA465","v":0},{"$f":"Import!AB465","v":0},{"$f":"Import!AC465","v":0},{"$f":"Import!AD465","v":0},{"$f":"Import!AE465","v":0},{"$f":"Import!AF465","v":0},{"$f":"Import!AG465","v":0},{"$f":"Import!AH465","v":0},{"$f":"Import!AI465","v":0},{"$f":"Import!AJ465","v":0},{"$f":"Import!AK465","v":0},{"$f":"Import!AL465","v":0}]
[null,{"$f":"Import!A466","v":0},{"$f":"Import!B466","v":0},{"$f":"Import!H466","v":0},{"$f":"Import!I466","v":0},{"$f":"Import!J466","v":0},{"$f":"Import!K466","v":0},{"$f":"Import!L466","v":0},{"$f":"Import!M466","v":0},{"$f":"Import!N466","v":0},{"$f":"Import!O466","v":0},{"$f":"Import!P466","v":0},{"$f":"Import!Q466","v":0},{"$f":"Import!R466","v":0},{"$f":"Import!S466","v":0},{"$f":"Import!T466","v":0},{"$f":"Import!U466","v":0},{"$f":"Import!V466","v":0},{"$f":"Import!W466","v":0},{"$f":"Import!X466","v":0},{"$f":"Import!Y466","v":0},{"$f":"Import!Z466","v":0},{"$f":"Import!AA466","v":0},{"$f":"Import!AB466","v":0},{"$f":"Import!AC466","v":0},{"$f":"Import!AD466","v":0},{"$f":"Import!AE466","v":0},{"$f":"Import!AF466","v":0},{"$f":"Import!AG466","v":0},{"$f":"Import!AH466","v":0},{"$f":"Import!AI466","v":0},{"$f":"Import!AJ466","v":0},{"$f":"Import!AK466","v":0},{"$f":"Import!AL466","v":0}]
[null,{"$f":"Import!A467","v":0},{"$f":"Import!B467","v":0},{"$f":"Import!H467","v":0},{"$f":"Import!I467","v":0},{"$f":"Import!J467","v":0},{"$f":"Import!K467","v":0},{"$f":"Import!L467","v":0},{"$f":"Import!M467","v":0},{"$f":"Import!N467","v":0},{"$f":"Import!O467","v":0},{"$f":"Import!P467","v":0},{"$f":"Import!Q467","v":0},{"$f":"Import!R467","v":0},{"$f":"Import!S467","v":0},{"$f":"Import!T467","v":0},{"$f":"Import!U467","v":0},{"$f":"Import!V467","v":0},{"$f":"Import!W467","v":0},{"$f":"Import!X467","v":0},{"$f":"Import!Y467","v":0},{"$f":"Import!Z467","v":0},{"$f":"Import!AA467","v":0},{"$f":"Import!AB467","v":0},{"$f":"Import!AC467","v":0},{"$f":"Import!AD467","v":0},{"$f":"Import!AE467","v":0},{"$f":"Import!AF467","v":0},{"$f":"Import!AG467","v":0},{"$f":"Import!AH467","v":0},{"$f":"Import!AI467","v":0},{"$f":"Import!AJ467","v":0},{"$f":"Import!AK467","v":0},{"$f":"Import!AL467","v":0}]
[null,{"$f":"Import!A468","v":0},{"$f":"Import!B468","v":0},{"$f":"Import!H468","v":0},{"$f":"Import!I468","v":0},{"$f":"Import!J468","v":0},{"$f":"Import!K468","v":0},{"$f":"Import!L468","v":0},{"$f":"Import!M468","v":0},{"$f":"Import!N468","v":0},{"$f":"Import!O468","v":0},{"$f":"Import!P468","v":0},{"$f":"Import!Q468","v":0},{"$f":"Import!R468","v":0},{"$f":"Import!S468","v":0},{"$f":"Import!T468","v":0},{"$f":"Import!U468","v":0},{"$f":"Import!V468","v":0},{"$f":"Import!W468","v":0},{"$f":"Import!X468","v":0},{"$f":"Import!Y468","v":0},{"$f":"Import!Z468","v":0},{"$f":"Import!AA468","v":0},{"$f":"Import!AB468","v":0},{"$f":"Import!AC468","v":0},{"$f":"Import!AD468","v":0},{"$f":"Import!AE468","v":0},{"$f":"Import!AF468","v":0},{"$f":"Import!AG468","v":0},{"$f":"Import!AH468","v":0},{"$f":"Import!AI468","v":0},{"$f":"Import!AJ468","v":0},{"$f":"Import!AK468","v":0},{"$f":"Import!AL468","v":0}]
[null,{"$f":"Import!A469","v":0},{"$f":"Import!B469","v":0},{"$f":"Import!H469","v":0},{"$f":"Import!I469","v":0},{"$f":"Import!J469","v":0},{"$f":"Import!K469","v":0},{"$f":"Import!L469","v":0},{"$f":"Import!M469","v":0},{"$f":"Import!N469","v":0},{"$f":"Import!O469","v":0},{"$f":"Import!P469","v":0},{"$f":"Import!Q469","v":0},{"$f":"Import!R469","v":0},{"$f":"Import!S469","v":0},{"$f":"Import!T469","v":0},{"$f":"Import!U469","v":0},{"$f":"Import!V469","v":0},{"$f":"Import!W469","v":0},{"$f":"Import!X469","v":0},{"$f":"Import!Y469","v":0},{"$f":"Import!Z469","v":0},{"$f":"Import!AA469","v":0},{"$f":"Import!AB469","v":0},{"$f":"Import!AC469","v":0},{"$f":"Import!AD469","v":0},{"$f":"Import!AE469","v":0},{"$f":"Import!AF469","v":0},{"$f":"Import!AG469","v":0},{"$f":"Import!AH469","v":0},{"$f":"Import!AI469","v":0},{"$f":"Import!AJ469","v":0},{"$f":"Import!AK469","v":0},{"$f":"Import!AL469","v":0}]
[null,{"$f":"Import!A470","v":0},{"$f":"Import!B470","v":0},{"$f":"Import!H470","v":0},{"$f":"Import!I470","v":0},{"$f":"Import!J470","v":0},{"$f":"Import!K470","v":0},{"$f":"Import!L470","v":0},{"$f":"Import!M470","v":0},{"$f":"Import!N470","v":0},{"$f":"Import!O470","v":0},{"$f":"Import!P470","v":0},{"$f":"Import!Q470","v":0},{"$f":"Import!R470","v":0},{"$f":"Import!S470","v":0},{"$f":"Import!T470","v":0},{"$f":"Import!U470","v":0},{"$f":"Import!V470","v":0},{"$f":"Import!W470","v":0},{"$f":"Import!X470","v":0},{"$f":"Import!Y470","v":0},{"$f":"Import!Z470","v":0},{"$f":"Import!AA470","v":0},{"$f":"Import!AB470","v":0},{"$f":"Import!AC470","v":0},{"$f":"Import!AD470","v":0},{"$f":"Import!AE470","v":0},{"$f":"Import!AF470","v":0},{"$f":"Import!AG470","v":0},{"$f":"Import!AH470","v":0},{"$f":"Import!AI470","v":0},{"$f":"Import!AJ470","v":0},{"$f":"Import!AK470","v":0},{"$f":"Import!AL470","v":0}]
[null,{"$f":"Import!A471","v":0},{"$f":"Import!B471","v":0},{"$f":"Import!H471","v":0},{"$f":"Import!I471","v":0},{"$f":"Import!J471","v":0},{"$f":"Import!K471","v":0},{"$f":"Import!L471","v":0},{"$f":"Import!M471","v":0},{"$f":"Import!N471","v":0},{"$f":"Import!O471","v":0},{"$f":"Import!P471","v":0},{"$f":"Import!Q471","v":0},{"$f":"Import!R471","v":0},{"$f":"Import!S471","v":0},{"$f":"Import!T471","v":0},{"$f":"Import!U471","v":0},{"$f":"Import!V471","v":0},{"$f":"Import!W471","v":0},{"$f":"Import!X471","v":0},{"$f":"Import!Y471","v":0},{"$f":"Import!Z471","v":0},{"$f":"Import!AA471","v":0},{"$f":"Import!AB471","v":0},{"$f":"Import!AC471","v":0},{"$f":"Import!AD471","v":0},{"$f":"Import!AE471","v":0},{"$f":"Import!AF471","v":0},{"$f":"Import!AG471","v":0},{"$f":"Import!AH471","v":0},{"$f":"Import!AI471","v":0},{"$f":"Import!AJ471","v":0},{"$f":"Import!AK471","v":0},{"$f":"Import!AL471","v":0}]
[null,{"$f":"Import!A472","v":0},{"$f":"Import!B472","v":0},{"$f":"Import!H472","v":0},{"$f":"Import!I472","v":0},{"$f":"Import!J472","v":0},{"$f":"Import!K472","v":0},{"$f":"Import!L472","v":0},{"$f":"Import!M472","v":0},{"$f":"Import!N472","v":0},{"$f":"Import!O472","v":0},{"$f":"Import!P472","v":0},{"$f":"Import!Q472","v":0},{"$f":"Import!R472","v":0},{"$f":"Import!S472","v":0},{"$f":"Import!T472","v":0},{"$f":"Import!U472","v":0},{"$f":"Import!V472","v":0},{"$f":"Import!W472","v":0},{"$f":"Import!X472","v":0},{"$f":"Import!Y472","v":0},{"$f":"Import!Z472","v":0},{"$f":"Import!AA472","v":0},{"$f":"Import!AB472","v":0},{"$f":"Import!AC472","v":0},{"$f":"Import!AD472","v":0},{"$f":"Import!AE472","v":0},{"$f":"Import!AF472","v":0},{"$f":"Import!AG472","v":0},{"$f":"Import!AH472","v":0},{"$f":"Import!AI472","v":0},{"$f":"Import!AJ472","v":0},{"$f":"Import!AK472","v":0},{"$f":"Import!AL472","v":0}]
[null,{"$f":"Import!A473","v":0},{"$f":"Import!B473","v":0},{"$f":"Import!H473","v":0},{"$f":"Import!I473","v":0},{"$f":"Import!J473","v":0},{"$f":"Import!K473","v":0},{"$f":"Import!L473","v":0},{"$f":"Import!M473","v":0},{"$f":"Import!N473","v":0},{"$f":"Import!O473","v":0},{"$f":"Import!P473","v":0},{"$f":"Import!Q473","v":0},{"$f":"Import!R473","v":0},{"$f":"Import!S473","v":0},{"$f":"Import!T473","v":0},{"$f":"Import!U473","v":0},{"$f":"Import!V473","v":0},{"$f":"Import!W473","v":0},{"$f":"Import!X473","v":0},{"$f":"Import!Y473","v":0},{"$f":"Import!Z473","v":0},{"$f":"Import!AA473","v":0},{"$f":"Import!AB473","v":0},{"$f":"Import!AC473","v":0},{"$f":"Import!AD473","v":0},{"$f":"Import!AE473","v":0},{"$f":"Import!AF473","v":0},{"$f":"Import!AG473","v":0},{"$f":"Import!AH473","v":0},{"$f":"Import!AI473","v":0},{"$f":"Import!AJ473","v":0},{"$f":"Import!AK473","v":0},{"$f":"Import!AL473","v":0}]
[null,{"$f":"Import!A474","v":0},{"$f":"Import!B474","v":0},{"$f":"Import!H474","v":0},{"$f":"Import!I474","v":0},{"$f":"Import!J474","v":0},{"$f":"Import!K474","v":0},{"$f":"Import!L474","v":0},{"$f":"Import!M474","v":0},{"$f":"Import!N474","v":0},{"$f":"Import!O474","v":0},{"$f":"Import!P474","v":0},{"$f":"Import!Q474","v":0},{"$f":"Import!R474","v":0},{"$f":"Import!S474","v":0},{"$f":"Import!T474","v":0},{"$f":"Import!U474","v":0},{"$f":"Import!V474","v":0},{"$f":"Import!W474","v":0},{"$f":"Import!X474","v":0},{"$f":"Import!Y474","v":0},{"$f":"Import!Z474","v":0},{"$f":"Import!AA474","v":0},{"$f":"Import!AB474","v":0},{"$f":"Import!AC474","v":0},{"$f":"Import!AD474","v":0},{"$f":"Import!AE474","v":0},{"$f":"Import!AF474","v":0},{"$f":"Import!AG474","v":0},{"$f":"Import!AH474","v":0},{"$f":"Import!AI474","v":0},{"$f":"Import!AJ474","v":0},{"$f":"Import!AK474","v":0},{"$f":"Import!AL474","v":0}]
[null,{"$f":"Import!A475","v":0},{"$f":"Import!B475","v":0},{"$f":"Import!H475","v":0},{"$f":"Import!I475","v":0},{"$f":"Import!J475","v":0},{"$f":"Import!K475","v":0},{"$f":"Import!L475","v":0},{"$f":"Import!M475","v":0},{"$f":"Import!N475","v":0},{"$f":"Import!O475","v":0},{"$f":"Import!P475","v":0},{"$f":"Import!Q475","v":0},{"$f":"Import!R475","v":0},{"$f":"Import!S475","v":0},{"$f":"Import!T475","v":0},{"$f":"Import!U475","v":0},{"$f":"Import!V475","v":0},{"$f":"Import!W475","v":0},{"$f":"Import!X475","v":0},{"$f":"Import!Y475","v":0},{"$f":"Import!Z475","v":0},{"$f":"Import!AA475","v":0},{"$f":"Import!AB475","v":0},{"$f":"Import!AC475","v":0},{"$f":"Import!AD475","v":0},{"$f":"Import!AE475","v":0},{"$f":"Import!AF475","v":0},{"$f":"Import!AG475","v":0},{"$f":"Import!AH475","v":0},{"$f":"Import!AI475","v":0},{"$f":"Import!AJ475","v":0},{"$f":"Import!AK475","v":0},{"$f":"Import!AL475","v":0}]
[null,{"$f":"Import!A476","v":0},{"$f":"Import!B476","v":0},{"$f":"Import!H476","v":0},{"$f":"Import!I476","v":0},{"$f":"Import!J476","v":0},{"$f":"Import!K476","v":0},{"$f":"Import!L476","v":0},{"$f":"Import!M476","v":0},{"$f":"Import!N476","v":0},{"$f":"Import!O476","v":0},{"$f":"Import!P476","v":0},{"$f":"Import!Q476","v":0},{"$f":"Import!R476","v":0},{"$f":"Import!S476","v":0},{"$f":"Import!T476","v":0},{"$f":"Import!U476","v":0},{"$f":"Import!V476","v":0},{"$f":"Import!W476","v":0},{"$f":"Import!X476","v":0},{"$f":"Import!Y476","v":0},{"$f":"Import!Z476","v":0},{"$f":"Import!AA476","v":0},{"$f":"Import!AB476","v":0},{"$f":"Import!AC476","v":0},{"$f":"Import!AD476","v":0},{"$f":"Import!AE476","v":0},{"$f":"Import!AF476","v":0},{"$f":"Import!AG476","v":0},{"$f":"Import!AH476","v":0},{"$f":"Import!AI476","v":0},{"$f":"Import!AJ476","v":0},{"$f":"Import!AK476","v":0},{"$f":"Import!AL476","v":0}]
[null,{"$f":"Import!A477","v":0},{"$f":"Import!B477","v":0},{"$f":"Import!H477","v":0},{"$f":"Import!I477","v":0},{"$f":"Import!J477","v":0},{"$f":"Import!K477","v":0},{"$f":"Import!L477","v":0},{"$f":"Import!M477","v":0},{"$f":"Import!N477","v":0},{"$f":"Import!O477","v":0},{"$f":"Import!P477","v":0},{"$f":"Import!Q477","v":0},{"$f":"Import!R477","v":0},{"$f":"Import!S477","v":0},{"$f":"Import!T477","v":0},{"$f":"Import!U477","v":0},{"$f":"Import!V477","v":0},{"$f":"Import!W477","v":0},{"$f":"Import!X477","v":0},{"$f":"Import!Y477","v":0},{"$f":"Import!Z477","v":0},{"$f":"Import!AA477","v":0},{"$f":"Import!AB477","v":0},{"$f":"Import!AC477","v":0},{"$f":"Import!AD477","v":0},{"$f":"Import!AE477","v":0},{"$f":"Import!AF477","v":0},{"$f":"Import!AG477","v":0},{"$f":"Import!AH477","v":0},{"$f":"Import!AI477","v":0},{"$f":"Import!AJ477","v":0},{"$f":"Import!AK477","v":0},{"$f":"Import!AL477","v":0}]
[null,{"$f":"Import!A478","v":0},{"$f":"Import!B478","v":0},{"$f":"Import!H478","v":0},{"$f":"Import!I478","v":0},{"$f":"Import!J478","v":0},{"$f":"Import!K478","v":0},{"$f":"Import!L478","v":0},{"$f":"Import!M478","v":0},{"$f":"Import!N478","v":0},{"$f":"Import!O478","v":0},{"$f":"Import!P478","v":0},{"$f":"Import!Q478","v":0},{"$f":"Import!R478","v":0},{"$f":"Import!S478","v":0},{"$f":"Import!T478","v":0},{"$f":"Import!U478","v":0},{"$f":"Import!V478","v":0},{"$f":"Import!W478","v":0},{"$f":"Import!X478","v":0},{"$f":"Import!Y478","v":0},{"$f":"Import!Z478","v":0},{"$f":"Import!AA478","v":0},{"$f":"Import!AB478","v":0},{"$f":"Import!AC478","v":0},{"$f":"Import!AD478","v":0},{"$f":"Import!AE478","v":0},{"$f":"Import!AF478","v":0},{"$f":"Import!AG478","v":0},{"$f":"Import!AH478","v":0},{"$f":"Import!AI478","v":0},{"$f":"Import!AJ478","v":0},{"$f":"Import!AK478","v":0},{"$f":"Import!AL478","v":0}]
[null,{"$f":"Import!A479","v":0},{"$f":"Import!B479","v":0},{"$f":"Import!H479","v":0},{"$f":"Import!I479","v":0},{"$f":"Import!J479","v":0},{"$f":"Import!K479","v":0},{"$f":"Import!L479","v":0},{"$f":"Import!M479","v":0},{"$f":"Import!N479","v":0},{"$f":"Import!O479","v":0},{"$f":"Import!P479","v":0},{"$f":"Import!Q479","v":0},{"$f":"Import!R479","v":0},{"$f":"Import!S479","v":0},{"$f":"Import!T479","v":0},{"$f":"Import!U479","v":0},{"$f":"Import!V479","v":0},{"$f":"Import!W479","v":0},{"$f":"Import!X479","v":0},{"$f":"Import!Y479","v":0},{"$f":"Import!Z479","v":0},{"$f":"Import!AA479","v":0},{"$f":"Import!AB479","v":0},{"$f":"Import!AC479","v":0},{"$f":"Import!AD479","v":0},{"$f":"Import!AE479","v":0},{"$f":"Import!AF479","v":0},{"$f":"Import!AG479","v":0},{"$f":"Import!AH479","v":0},{"$f":"Import!AI479","v":0},{"$f":"Import!AJ479","v":0},{"$f":"Import!AK479","v":0},{"$f":"Import!AL479","v":0}]
[null,{"$f":"Import!A480","v":0},{"$f":"Import!B480","v":0},{"$f":"Import!H480","v":0},{"$f":"Import!I480","v":0},{"$f":"Import!J480","v":0},{"$f":"Import!K480","v":0},{"$f":"Import!L480","v":0},{"$f":"Import!M480","v":0},{"$f":"Import!N480","v":0},{"$f":"Import!O480","v":0},{"$f":"Import!P480","v":0},{"$f":"Import!Q480","v":0},{"$f":"Import!R480","v":0},{"$f":"Import!S480","v":0},{"$f":"Import!T480","v":0},{"$f":"Import!U480","v":0},{"$f":"Import!V480","v":0},{"$f":"Import!W480","v":0},{"$f":"Import!X480","v":0},{"$f":"Import!Y480","v":0},{"$f":"Import!Z480","v":0},{"$f":"Import!AA480","v":0},{"$f":"Import!AB480","v":0},{"$f":"Import!AC480","v":0},{"$f":"Import!AD480","v":0},{"$f":"Import!AE480","v":0},{"$f":"Import!AF480","v":0},{"$f":"Import!AG480","v":0},{"$f":"Import!AH480","v":0},{"$f":"Import!AI480","v":0},{"$f":"Import!AJ480","v":0},{"$f":"Import!AK480","v":0},{"$f":"Import!AL480","v":0}]
[null,{"$f":"Import!A481","v":0},{"$f":"Import!B481","v":0},{"$f":"Import!H481","v":0},{"$f":"Import!I481","v":0},{"$f":"Import!J481","v":0},{"$f":"Import!K481","v":0},{"$f":"Import!L481","v":0},{"$f":"Import!M481","v":0},{"$f":"Import!N481","v":0},{"$f":"Import!O481","v":0},{"$f":"Import!P481","v":0},{"$f":"Import!Q481","v":0},{"$f":"Import!R481","v":0},{"$f":"Import!S481","v":0},{"$f":"Import!T481","v":0},{"$f":"Import!U481","v":0},{"$f":"Import!V481","v":0},{"$f":"Import!W481","v":0},{"$f":"Import!X481","v":0},{"$f":"Import!Y481","v":0},{"$f":"Import!Z481","v":0},{"$f":"Import!AA481","v":0},{"$f":"Import!AB481","v":0},{"$f":"Import!AC481","v":0},{"$f":"Import!AD481","v":0},{"$f":"Import!AE481","v":0},{"$f":"Import!AF481","v":0},{"$f":"Import!AG481","v":0},{"$f":"Import!AH481","v":0},{"$f":"Import!AI481","v":0},{"$f":"Import!AJ481","v":0},{"$f":"Import!AK481","v":0},{"$f":"Import!AL481","v":0}]
[null,{"$f":"Import!A482","v":0},{"$f":"Import!B482","v":0},{"$f":"Import!H482","v":0},{"$f":"Import!I482","v":0},{"$f":"Import!J482","v":0},{"$f":"Import!K482","v":0},{"$f":"Import!L482","v":0},{"$f":"Import!M482","v":0},{"$f":"Import!N482","v":0},{"$f":"Import!O482","v":0},{"$f":"Import!P482","v":0},{"$f":"Import!Q482","v":0},{"$f":"Import!R482","v":0},{"$f":"Import!S482","v":0},{"$f":"Import!T482","v":0},{"$f":"Import!U482","v":0},{"$f":"Import!V482","v":0},{"$f":"Import!W482","v":0},{"$f":"Import!X482","v":0},{"$f":"Import!Y482","v":0},{"$f":"Import!Z482","v":0},{"$f":"Import!AA482","v":0},{"$f":"Import!AB482","v":0},{"$f":"Import!AC482","v":0},{"$f":"Import!AD482","v":0},{"$f":"Import!AE482","v":0},{"$f":"Import!AF482","v":0},{"$f":"Import!AG482","v":0},{"$f":"Import!AH482","v":0},{"$f":"Import!AI482","v":0},{"$f":"Import!AJ482","v":0},{"$f":"Import!AK482","v":0},{"$f":"Import!AL482","v":0}]
[null,{"$f":"Import!A483","v":0},{"$f":"Import!B483","v":0},{"$f":"Import!H483","v":0},{"$f":"Import!I483","v":0},{"$f":"Import!J483","v":0},{"$f":"Import!K483","v":0},{"$f":"Import!L483","v":0},{"$f":"Import!M483","v":0},{"$f":"Import!N483","v":0},{"$f":"Import!O483","v":0},{"$f":"Import!P483","v":0},{"$f":"Import!Q483","v":0},{"$f":"Import!R483","v":0},{"$f":"Import!S483","v":0},{"$f":"Import!T483","v":0},{"$f":"Import!U483","v":0},{"$f":"Import!V483","v":0},{"$f":"Import!W483","v":0},{"$f":"Import!X483","v":0},{"$f":"Import!Y483","v":0},{"$f":"Import!Z483","v":0},{"$f":"Import!AA483","v":0},{"$f":"Import!AB483","v":0},{"$f":"Import!AC483","v":0},{"$f":"Import!AD483","v":0},{"$f":"Import!AE483","v":0},{"$f":"Import!AF483","v":0},{"$f":"Import!AG483","v":0},{"$f":"Import!AH483","v":0},{"$f":"Import!AI483","v":0},{"$f":"Import!AJ483","v":0},{"$f":"Import!AK483","v":0},{"$f":"Import!AL483","v":0}]
[null,{"$f":"Import!A484","v":0},{"$f":"Import!B484","v":0},{"$f":"Import!H484","v":0},{"$f":"Import!I484","v":0},{"$f":"Import!J484","v":0},{"$f":"Import!K484","v":0},{"$f":"Import!L484","v":0},{"$f":"Import!M484","v":0},{"$f":"Import!N484","v":0},{"$f":"Import!O484","v":0},{"$f":"Import!P484","v":0},{"$f":"Import!Q484","v":0},{"$f":"Import!R484","v":0},{"$f":"Import!S484","v":0},{"$f":"Import!T484","v":0},{"$f":"Import!U484","v":0},{"$f":"Import!V484","v":0},{"$f":"Import!W484","v":0},{"$f":"Import!X484","v":0},{"$f":"Import!Y484","v":0},{"$f":"Import!Z484","v":0},{"$f":"Import!AA484","v":0},{"$f":"Import!AB484","v":0},{"$f":"Import!AC484","v":0},{"$f":"Import!AD484","v":0},{"$f":"Import!AE484","v":0},{"$f":"Import!AF484","v":0},{"$f":"Import!AG484","v":0},{"$f":"Import!AH484","v":0},{"$f":"Import!AI484","v":0},{"$f":"Import!AJ484","v":0},{"$f":"Import!AK484","v":0},{"$f":"Import!AL484","v":0}]
[null,{"$f":"Import!A485","v":0},{"$f":"Import!B485","v":0},{"$f":"Import!H485","v":0},{"$f":"Import!I485","v":0},{"$f":"Import!J485","v":0},{"$f":"Import!K485","v":0},{"$f":"Import!L485","v":0},{"$f":"Import!M485","v":0},{"$f":"Import!N485","v":0},{"$f":"Import!O485","v":0},{"$f":"Import!P485","v":0},{"$f":"Import!Q485","v":0},{"$f":"Import!R485","v":0},{"$f":"Import!S485","v":0},{"$f":"Import!T485","v":0},{"$f":"Import!U485","v":0},{"$f":"Import!V485","v":0},{"$f":"Import!W485","v":0},{"$f":"Import!X485","v":0},{"$f":"Import!Y485","v":0},{"$f":"Import!Z485","v":0},{"$f":"Import!AA485","v":0},{"$f":"Import!AB485","v":0},{"$f":"Import!AC485","v":0},{"$f":"Import!AD485","v":0},{"$f":"Import!AE485","v":0},{"$f":"Import!AF485","v":0},{"$f":"Import!AG485","v":0},{"$f":"Import!AH485","v":0},{"$f":"Import!AI485","v":0},{"$f":"Import!AJ485","v":0},{"$f":"Import!AK485","v":0},{"$f":"Import!AL485","v":0}]
[null,{"$f":"Import!A486","v":0},{"$f":"Import!B486","v":0},{"$f":"Import!H486","v":0},{"$f":"Import!I486","v":0},{"$f":"Import!J486","v":0},{"$f":"Import!K486","v":0},{"$f":"Import!L486","v":0},{"$f":"Import!M486","v":0},{"$f":"Import!N486","v":0},{"$f":"Import!O486","v":0},{"$f":"Import!P486","v":0},{"$f":"Import!Q486","v":0},{"$f":"Import!R486","v":0},{"$f":"Import!S486","v":0},{"$f":"Import!T486","v":0},{"$f":"Import!U486","v":0},{"$f":"Import!V486","v":0},{"$f":"Import!W486","v":0},{"$f":"Import!X486","v":0},{"$f":"Import!Y486","v":0},{"$f":"Import!Z486","v":0},{"$f":"Import!AA486","v":0},{"$f":"Import!AB486","v":0},{"$f":"Import!AC486","v":0},{"$f":"Import!AD486","v":0},{"$f":"Import!AE486","v":0},{"$f":"Import!AF486","v":0},{"$f":"Import!AG486","v":0},{"$f":"Import!AH486","v":0},{"$f":"Import!AI486","v":0},{"$f":"Import!AJ486","v":0},{"$f":"Import!AK486","v":0},{"$f":"Import!AL486","v":0}]
[null,{"$f":"Import!A487","v":0},{"$f":"Import!B487","v":0},{"$f":"Import!H487","v":0},{"$f":"Import!I487","v":0},{"$f":"Import!J487","v":0},{"$f":"Import!K487","v":0},{"$f":"Import!L487","v":0},{"$f":"Import!M487","v":0},{"$f":"Import!N487","v":0},{"$f":"Import!O487","v":0},{"$f":"Import!P487","v":0},{"$f":"Import!Q487","v":0},{"$f":"Import!R487","v":0},{"$f":"Import!S487","v":0},{"$f":"Import!T487","v":0},{"$f":"Import!U487","v":0},{"$f":"Import!V487","v":0},{"$f":"Import!W487","v":0},{"$f":"Import!X487","v":0},{"$f":"Import!Y487","v":0},{"$f":"Import!Z487","v":0},{"$f":"Import!AA487","v":0},{"$f":"Import!AB487","v":0},{"$f":"Import!AC487","v":0},{"$f":"Import!AD487","v":0},{"$f":"Import!AE487","v":0},{"$f":"Import!AF487","v":0},{"$f":"Import!AG487","v":0},{"$f":"Import!AH487","v":0},{"$f":"Import!AI487","v":0},{"$f":"Import!AJ487","v":0},{"$f":"Import!AK487","v":0},{"$f":"Import!AL487","v":0}]
[null,{"$f":"Import!A488","v":0},{"$f":"Import!B488","v":0},{"$f":"Import!H488","v":0},{"$f":"Import!I488","v":0},{"$f":"Import!J488","v":0},{"$f":"Import!K488","v":0},{"$f":"Import!L488","v":0},{"$f":"Import!M488","v":0},{"$f":"Import!N488","v":0},{"$f":"Import!O488","v":0},{"$f":"Import!P488","v":0},{"$f":"Import!Q488","v":0},{"$f":"Import!R488","v":0},{"$f":"Import!S488","v":0},{"$f":"Import!T488","v":0},{"$f":"Import!U488","v":0},{"$f":"Import!V488","v":0},{"$f":"Import!W488","v":0},{"$f":"Import!X488","v":0},{"$f":"Import!Y488","v":0},{"$f":"Import!Z488","v":0},{"$f":"Import!AA488","v":0},{"$f":"Import!AB488","v":0},{"$f":"Import!AC488","v":0},{"$f":"Import!AD488","v":0},{"$f":"Import!AE488","v":0},{"$f":"Import!AF488","v":0},{"$f":"Import!AG488","v":0},{"$f":"Import!AH488","v":0},{"$f":"Import!AI488","v":0},{"$f":"Import!AJ488","v":0},{"$f":"Import!AK488","v":0},{"$f":"Import!AL488","v":0}]
[null,{"$f":"Import!A489","v":0},{"$f":"Import!B489","v":0},{"$f":"Import!H489","v":0},{"$f":"Import!I489","v":0},{"$f":"Import!J489","v":0},{"$f":"Import!K489","v":0},{"$f":"Import!L489","v":0},{"$f":"Import!M489","v":0},{"$f":"Import!N489","v":0},{"$f":"Import!O489","v":0},{"$f":"Import!P489","v":0},{"$f":"Import!Q489","v":0},{"$f":"Import!R489","v":0},{"$f":"Import!S489","v":0},{"$f":"Import!T489","v":0},{"$f":"Import!U489","v":0},{"$f":"Import!V489","v":0},{"$f":"Import!W489","v":0},{"$f":"Import!X489","v":0},{"$f":"Import!Y489","v":0},{"$f":"Import!Z489","v":0},{"$f":"Import!AA489","v":0},{"$f":"Import!AB489","v":0},{"$f":"Import!AC489","v":0},{"$f":"Import!AD489","v":0},{"$f":"Import!AE489","v":0},{"$f":"Import!AF489","v":0},{"$f":"Import!AG489","v":0},{"$f":"Import!AH489","v":0},{"$f":"Import!AI489","v":0},{"$f":"Import!AJ489","v":0},{"$f":"Import!AK489","v":0},{"$f":"Import!AL489","v":0}]
[null,{"$f":"Import!A490","v":0},{"$f":"Import!B490","v":0},{"$f":"Import!H490","v":0},{"$f":"Import!I490","v":0},{"$f":"Import!J490","v":0},{"$f":"Import!K490","v":0},{"$f":"Import!L490","v":0},{"$f":"Import!M490","v":0},{"$f":"Import!N490","v":0},{"$f":"Import!O490","v":0},{"$f":"Import!P490","v":0},{"$f":"Import!Q490","v":0},{"$f":"Import!R490","v":0},{"$f":"Import!S490","v":0},{"$f":"Import!T490","v":0},{"$f":"Import!U490","v":0},{"$f":"Import!V490","v":0},{"$f":"Import!W490","v":0},{"$f":"Import!X490","v":0},{"$f":"Import!Y490","v":0},{"$f":"Import!Z490","v":0},{"$f":"Import!AA490","v":0},{"$f":"Import!AB490","v":0},{"$f":"Import!AC490","v":0},{"$f":"Import!AD490","v":0},{"$f":"Import!AE490","v":0},{"$f":"Import!AF490","v":0},{"$f":"Import!AG490","v":0},{"$f":"Import!AH490","v":0},{"$f":"Import!AI490","v":0},{"$f":"Import!AJ490","v":0},{"$f":"Import!AK490","v":0},{"$f":"Import!AL490","v":0}]
[null,{"$f":"Import!A491","v":0},{"$f":"Import!B491","v":0},{"$f":"Import!H491","v":0},{"$f":"Import!I491","v":0},{"$f":"Import!J491","v":0},{"$f":"Import!K491","v":0},{"$f":"Import!L491","v":0},{"$f":"Import!M491","v":0},{"$f":"Import!N491","v":0},{"$f":"Import!O491","v":0},{"$f":"Import!P491","v":0},{"$f":"Import!Q491","v":0},{"$f":"Import!R491","v":0},{"$f":"Import!S491","v":0},{"$f":"Import!T491","v":0},{"$f":"Import!U491","v":0},{"$f":"Import!V491","v":0},{"$f":"Import!W491","v":0},{"$f":"Import!X491","v":0},{"$f":"Import!Y491","v":0},{"$f":"Import!Z491","v":0},{"$f":"Import!AA491","v":0},{"$f":"Import!AB491","v":0},{"$f":"Import!AC491","v":0},{"$f":"Import!AD491","v":0},{"$f":"Import!AE491","v":0},{"$f":"Import!AF491","v":0},{"$f":"Import!AG491","v":0},{"$f":"Import!AH491","v":0},{"$f":"Import!AI491","v":0},{"$f":"Import!AJ491","v":0},{"$f":"Import!AK491","v":0},{"$f":"Import!AL491","v":0}]
[null,{"$f":"Import!A492","v":0},{"$f":"Import!B492","v":0},{"$f":"Import!H492","v":0},{"$f":"Import!I492","v":0},{"$f":"Import!J492","v":0},{"$f":"Import!K492","v":0},{"$f":"Import!L492","v":0},{"$f":"Import!M492","v":0},{"$f":"Import!N492","v":0},{"$f":"Import!O492","v":0},{"$f":"Import!P492","v":0},{"$f":"Import!Q492","v":0},{"$f":"Import!R492","v":0},{"$f":"Import!S492","v":0},{"$f":"Import!T492","v":0},{"$f":"Import!U492","v":0},{"$f":"Import!V492","v":0},{"$f":"Import!W492","v":0},{"$f":"Import!X492","v":0},{"$f":"Import!Y492","v":0},{"$f":"Import!Z492","v":0},{"$f":"Import!AA492","v":0},{"$f":"Import!AB492","v":0},{"$f":"Import!AC492","v":0},{"$f":"Import!AD492","v":0},{"$f":"Import!AE492","v":0},{"$f":"Import!AF492","v":0},{"$f":"Import!AG492","v":0},{"$f":"Import!AH492","v":0},{"$f":"Import!AI492","v":0},{"$f":"Import!AJ492","v":0},{"$f":"Import!AK492","v":0},{"$f":"Import!AL492","v":0}]
[null,{"$f":"Import!A493","v":0},{"$f":"Import!B493","v":0},{"$f":"Import!H493","v":0},{"$f":"Import!I493","v":0},{"$f":"Import!J493","v":0},{"$f":"Import!K493","v":0},{"$f":"Import!L493","v":0},{"$f":"Import!M493","v":0},{"$f":"Import!N493","v":0},{"$f":"Import!O493","v":0},{"$f":"Import!P493","v":0},{"$f":"Import!Q493","v":0},{"$f":"Import!R493","v":0},{"$f":"Import!S493","v":0},{"$f":"Import!T493","v":0},{"$f":"Import!U493","v":0},{"$f":"Import!V493","v":0},{"$f":"Import!W493","v":0},{"$f":"Import!X493","v":0},{"$f":"Import!Y493","v":0},{"$f":"Import!Z493","v":0},{"$f":"Import!AA493","v":0},{"$f":"Import!AB493","v":0},{"$f":"Import!AC493","v":0},{"$f":"Import!AD493","v":0},{"$f":"Import!AE493","v":0},{"$f":"Import!AF493","v":0},{"$f":"Import!AG493","v":0},{"$f":"Import!AH493","v":0},{"$f":"Import!AI493","v":0},{"$f":"Import!AJ493","v":0},{"$f":"Import!AK493","v":0},{"$f":"Import!AL493","v":0}]
[null,{"$f":"Import!A494","v":0},{"$f":"Import!B494","v":0},{"$f":"Import!H494","v":0},{"$f":"Import!I494","v":0},{"$f":"Import!J494","v":0},{"$f":"Import!K494","v":0},{"$f":"Import!L494","v":0},{"$f":"Import!M494","v":0},{"$f":"Import!N494","v":0},{"$f":"Import!O494","v":0},{"$f":"Import!P494","v":0},{"$f":"Import!Q494","v":0},{"$f":"Import!R494","v":0},{"$f":"Import!S494","v":0},{"$f":"Import!T494","v":0},{"$f":"Import!U494","v":0},{"$f":"Import!V494","v":0},{"$f":"Import!W494","v":0},{"$f":"Import!X494","v":0},{"$f":"Import!Y494","v":0},{"$f":"Import!Z494","v":0},{"$f":"Import!AA494","v":0},{"$f":"Import!AB494","v":0},{"$f":"Import!AC494","v":0},{"$f":"Import!AD494","v":0},{"$f":"Import!AE494","v":0},{"$f":"Import!AF494","v":0},{"$f":"Import!AG494","v":0},{"$f":"Import!AH494","v":0},{"$f":"Import!AI494","v":0},{"$f":"Import!AJ494","v":0},{"$f":"Import!AK494","v":0},{"$f":"Import!AL494","v":0}]
[null,{"$f":"Import!A495","v":0},{"$f":"Import!B495","v":0},{"$f":"Import!H495","v":0},{"$f":"Import!I495","v":0},{"$f":"Import!J495","v":0},{"$f":"Import!K495","v":0},{"$f":"Import!L495","v":0},{"$f":"Import!M495","v":0},{"$f":"Import!N495","v":0},{"$f":"Import!O495","v":0},{"$f":"Import!P495","v":0},{"$f":"Import!Q495","v":0},{"$f":"Import!R495","v":0},{"$f":"Import!S495","v":0},{"$f":"Import!T495","v":0},{"$f":"Import!U495","v":0},{"$f":"Import!V495","v":0},{"$f":"Import!W495","v":0},{"$f":"Import!X495","v":0},{"$f":"Import!Y495","v":0},{"$f":"Import!Z495","v":0},{"$f":"Import!AA495","v":0},{"$f":"Import!AB495","v":0},{"$f":"Import!AC495","v":0},{"$f":"Import!AD495","v":0},{"$f":"Import!AE495","v":0},{"$f":"Import!AF495","v":0},{"$f":"Import!AG495","v":0},{"$f":"Import!AH495","v":0},{"$f":"Import!AI495","v":0},{"$f":"Import!AJ495","v":0},{"$f":"Import!AK495","v":0},{"$f":"Import!AL495","v":0}]
[null,{"$f":"Import!A496","v":0},{"$f":"Import!B496","v":0},{"$f":"Import!H496","v":0},{"$f":"Import!I496","v":0},{"$f":"Import!J496","v":0},{"$f":"Import!K496","v":0},{"$f":"Import!L496","v":0},{"$f":"Import!M496","v":0},{"$f":"Import!N496","v":0},{"$f":"Import!O496","v":0},{"$f":"Import!P496","v":0},{"$f":"Import!Q496","v":0},{"$f":"Import!R496","v":0},{"$f":"Import!S496","v":0},{"$f":"Import!T496","v":0},{"$f":"Import!U496","v":0},{"$f":"Import!V496","v":0},{"$f":"Import!W496","v":0},{"$f":"Import!X496","v":0},{"$f":"Import!Y496","v":0},{"$f":"Import!Z496","v":0},{"$f":"Import!AA496","v":0},{"$f":"Import!AB496","v":0},{"$f":"Import!AC496","v":0},{"$f":"Import!AD496","v":0},{"$f":"Import!AE496","v":0},{"$f":"Import!AF496","v":0},{"$f":"Import!AG496","v":0},{"$f":"Import!AH496","v":0},{"$f":"Import!AI496","v":0},{"$f":"Import!AJ496","v":0},{"$f":"Import!AK496","v":0},{"$f":"Import!AL496","v":0}]
[null,{"$f":"Import!A497","v":0},{"$f":"Import!B497","v":0},{"$f":"Import!H497","v":0},{"$f":"Import!I497","v":0},{"$f":"Import!J497","v":0},{"$f":"Import!K497","v":0},{"$f":"Import!L497","v":0},{"$f":"Import!M497","v":0},{"$f":"Import!N497","v":0},{"$f":"Import!O497","v":0},{"$f":"Import!P497","v":0},{"$f":"Import!Q497","v":0},{"$f":"Import!R497","v":0},{"$f":"Import!S497","v":0},{"$f":"Import!T497","v":0},{"$f":"Import!U497","v":0},{"$f":"Import!V497","v":0},{"$f":"Import!W497","v":0},{"$f":"Import!X497","v":0},{"$f":"Import!Y497","v":0},{"$f":"Import!Z497","v":0},{"$f":"Import!AA497","v":0},{"$f":"Import!AB497","v":0},{"$f":"Import!AC497","v":0},{"$f":"Import!AD497","v":0},{"$f":"Import!AE497","v":0},{"$f":"Import!AF497","v":0},{"$f":"Import!AG497","v":0},{"$f":"Import!AH497","v":0},{"$f":"Import!AI497","v":0},{"$f":"Import!AJ497","v":0},{"$f":"Import!AK497","v":0},{"$f":"Import!AL497","v":0}]
[null,{"$f":"Import!A498","v":0},{"$f":"Import!B498","v":0},{"$f":"Import!H498","v":0},{"$f":"Import!I498","v":0},{"$f":"Import!J498","v":0},{"$f":"Import!K498","v":0},{"$f":"Import!L498","v":0},{"$f":"Import!M498","v":0},{"$f":"Import!N498","v":0},{"$f":"Import!O498","v":0},{"$f":"Import!P498","v":0},{"$f":"Import!Q498","v":0},{"$f":"Import!R498","v":0},{"$f":"Import!S498","v":0},{"$f":"Import!T498","v":0},{"$f":"Import!U498","v":0},{"$f":"Import!V498","v":0},{"$f":"Import!W498","v":0},{"$f":"Import!X498","v":0},{"$f":"Import!Y498","v":0},{"$f":"Import!Z498","v":0},{"$f":"Import!AA498","v":0},{"$f":"Import!AB498","v":0},{"$f":"Import!AC498","v":0},{"$f":"Import!AD498","v":0},{"$f":"Import!AE498","v":0},{"$f":"Import!AF498","v":0},{"$f":"Import!AG498","v":0},{"$f":"Import!AH498","v":0},{"$f":"Import!AI498","v":0},{"$f":"Import!AJ498","v":0},{"$f":"Import!AK498","v":0},{"$f":"Import!AL498","v":0}]
[null,{"$f":"Import!A499","v":0},{"$f":"Import!B499","v":0},{"$f":"Import!H499","v":0},{"$f":"Import!I499","v":0},{"$f":"Import!J499","v":0},{"$f":"Import!K499","v":0},{"$f":"Import!L499","v":0},{"$f":"Import!M499","v":0},{"$f":"Import!N499","v":0},{"$f":"Import!O499","v":0},{"$f":"Import!P499","v":0},{"$f":"Import!Q499","v":0},{"$f":"Import!R499","v":0},{"$f":"Import!S499","v":0},{"$f":"Import!T499","v":0},{"$f":"Import!U499","v":0},{"$f":"Import!V499","v":0},{"$f":"Import!W499","v":0},{"$f":"Import!X499","v":0},{"$f":"Import!Y499","v":0},{"$f":"Import!Z499","v":0},{"$f":"Import!AA499","v":0},{"$f":"Import!AB499","v":0},{"$f":"Import!AC499","v":0},{"$f":"Import!AD499","v":0},{"$f":"Import!AE499","v":0},{"$f":"Import!AF499","v":0},{"$f":"Import!AG499","v":0},{"$f":"Import!AH499","v":0},{"$f":"Import!AI499","v":0},{"$f":"Import!AJ499","v":0},{"$f":"Import!AK499","v":0},{"$f":"Import!AL499","v":0}]
[null,{"$f":"Import!A500","v":0},{"$f":"Import!B500","v":0},{"$f":"Import!H500","v":0},{"$f":"Import!I500","v":0},{"$f":"Import!J500","v":0},{"$f":"Import!K500","v":0},{"$f":"Import!L500","v":0},{"$f":"Import!M500","v":0},{"$f":"Import!N500","v":0},{"$f":"Import!O500","v":0},{"$f":"Import!P500","v":0},{"$f":"Import!Q500","v":0},{"$f":"Import!R500","v":0},{"$f":"Import!S500","v":0},{"$f":"Import!T500","v":0},{"$f":"Import!U500","v":0},{"$f":"Import!V500","v":0},{"$f":"Import!W500","v":0},{"$f":"Import!X500","v":0},{"$f":"Import!Y500","v":0},{"$f":"Import!Z500","v":0},{"$f":"Import!AA500","v":0},{"$f":"Import!AB500","v":0},{"$f":"Import!AC500","v":0},{"$f":"Import!AD500","v":0},{"$f":"Import!AE500","v":0},{"$f":"Import!AF500","v":0},{"$f":"Import!AG500","v":0},{"$f":"Import!AH500","v":0},{"$f":"Import!AI500","v":0},{"$f":"Import!AJ500","v":0},{"$f":"Import!AK500","v":0},{"$f":"Import!AL500","v":0}]
[null,{"$f":"Import!A501","v":0},{"$f":"Import!B501","v":0},{"$f":"Import!H501","v":0},{"$f":"Import!I501","v":0},{"$f":"Import!J501","v":0},{"$f":"Import!K501","v":0},{"$f":"Import!L501","v":0},{"$f":"Import!M501","v":0},{"$f":"Import!N501","v":0},{"$f":"Import!O501","v":0},{"$f":"Import!P501","v":0},{"$f":"Import!Q501","v":0},{"$f":"Import!R501","v":0},{"$f":"Import!S501","v":0},{"$f":"Import!T501","v":0},{"$f":"Import!U501","v":0},{"$f":"Import!V501","v":0},{"$f":"Import!W501","v":0},{"$f":"Import!X501","v":0},{"$f":"Import!Y501","v":0},{"$f":"Import!Z501","v":0},{"$f":"Import!AA501","v":0},{"$f":"Import!AB501","v":0},{"$f":"Import!AC501","v":0},{"$f":"Import!AD501","v":0},{"$f":"Import!AE501","v":0},{"$f":"Import!AF501","v":0},{"$f":"Import!AG501","v":0},{"$f":"Import!AH501","v":0},{"$f":"Import!AI501","v":0},{"$f":"Import!AJ501","v":0},{"$f":"Import!AK501","v":0},{"$f":"Import!AL501","v":0}]
[null,{"$f":"Import!A502","v":0},{"$f":"Import!B502","v":0},{"$f":"Import!H502","v":0},{"$f":"Import!I502","v":0},{"$f":"Import!J502","v":0},{"$f":"Import!K502","v":0},{"$f":"Import!L502","v":0},{"$f":"Import!M502","v":0},{"$f":"Import!N502","v":0},{"$f":"Import!O502","v":0},{"$f":"Import!P502","v":0},{"$f":"Import!Q502","v":0},{"$f":"Import!R502","v":0},{"$f":"Import!S502","v":0},{"$f":"Import!T502","v":0},{"$f":"Import!U502","v":0},{"$f":"Import!V502","v":0},{"$f":"Import!W502","v":0},{"$f":"Import!X502","v":0},{"$f":"Import!Y502","v":0},{"$f":"Import!Z502","v":0},{"$f":"Import!AA502","v":0},{"$f":"Import!AB502","v":0},{"$f":"Import!AC502","v":0},{"$f":"Import!AD502","v":0},{"$f":"Import!AE502","v":0},{"$f":"Import!AF502","v":0},{"$f":"Import!AG502","v":0},{"$f":"Import!AH502","v":0},{"$f":"Import!AI502","v":0},{"$f":"Import!AJ502","v":0},{"$f":"Import!AK502","v":0},{"$f":"Import!AL502","v":0}]
[null,{"$f":"Import!A503","v":0},{"$f":"Import!B503","v":0},{"$f":"Import!H503","v":0},{"$f":"Import!I503","v":0},{"$f":"Import!J503","v":0},{"$f":"Import!K503","v":0},{"$f":"Import!L503","v":0},{"$f":"Import!M503","v":0},{"$f":"Import!N503","v":0},{"$f":"Import!O503","v":0},{"$f":"Import!P503","v":0},{"$f":"Import!Q503","v":0},{"$f":"Import!R503","v":0},{"$f":"Import!S503","v":0},{"$f":"Import!T503","v":0},{"$f":"Import!U503","v":0},{"$f":"Import!V503","v":0},{"$f":"Import!W503","v":0},{"$f":"Import!X503","v":0},{"$f":"Import!Y503","v":0},{"$f":"Import!Z503","v":0},{"$f":"Import!AA503","v":0},{"$f":"Import!AB503","v":0},{"$f":"Import!AC503","v":0},{"$f":"Import!AD503","v":0},{"$f":"Import!AE503","v":0},{"$f":"Import!AF503","v":0},{"$f":"Import!AG503","v":0},{"$f":"Import!AH503","v":0},{"$f":"Import!AI503","v":0},{"$f":"Import!AJ503","v":0},{"$f":"Import!AK503","v":0},{"$f":"Import!AL503","v":0}]
[null,{"$f":"Import!A504","v":0},{"$f":"Import!B504","v":0},{"$f":"Import!H504","v":0},{"$f":"Import!I504","v":0},{"$f":"Import!J504","v":0},{"$f":"Import!K504","v":0},{"$f":"Import!L504","v":0},{"$f":"Import!M504","v":0},{"$f":"Import!N504","v":0},{"$f":"Import!O504","v":0},{"$f":"Import!P504","v":0},{"$f":"Import!Q504","v":0},{"$f":"Import!R504","v":0},{"$f":"Import!S504","v":0},{"$f":"Import!T504","v":0},{"$f":"Import!U504","v":0},{"$f":"Import!V504","v":0},{"$f":"Import!W504","v":0},{"$f":"Import!X504","v":0},{"$f":"Import!Y504","v":0},{"$f":"Import!Z504","v":0},{"$f":"Import!AA504","v":0},{"$f":"Import!AB504","v":0},{"$f":"Import!AC504","v":0},{"$f":"Import!AD504","v":0},{"$f":"Import!AE504","v":0},{"$f":"Import!AF504","v":0},{"$f":"Import!AG504","v":0},{"$f":"Import!AH504","v":0},{"$f":"Import!AI504","v":0},{"$f":"Import!AJ504","v":0},{"$f":"Import!AK504","v":0},{"$f":"Import!AL504","v":0}]
[null,{"$f":"Import!A505","v":0},{"$f":"Import!B505","v":0},{"$f":"Import!H505","v":0},{"$f":"Import!I505","v":0},{"$f":"Import!J505","v":0},{"$f":"Import!K505","v":0},{"$f":"Import!L505","v":0},{"$f":"Import!M505","v":0},{"$f":"Import!N505","v":0},{"$f":"Import!O505","v":0},{"$f":"Import!P505","v":0},{"$f":"Import!Q505","v":0},{"$f":"Import!R505","v":0},{"$f":"Import!S505","v":0},{"$f":"Import!T505","v":0},{"$f":"Import!U505","v":0},{"$f":"Import!V505","v":0},{"$f":"Import!W505","v":0},{"$f":"Import!X505","v":0},{"$f":"Import!Y505","v":0},{"$f":"Import!Z505","v":0},{"$f":"Import!AA505","v":0},{"$f":"Import!AB505","v":0},{"$f":"Import!AC505","v":0},{"$f":"Import!AD505","v":0},{"$f":"Import!AE505","v":0},{"$f":"Import!AF505","v":0},{"$f":"Import!AG505","v":0},{"$f":"Import!AH505","v":0},{"$f":"Import!AI505","v":0},{"$f":"Import!AJ505","v":0},{"$f":"Import!AK505","v":0},{"$f":"Import!AL505","v":0}]
[null,{"$f":"Import!A506","v":0},{"$f":"Import!B506","v":0},{"$f":"Import!H506","v":0},{"$f":"Import!I506","v":0},{"$f":"Import!J506","v":0},{"$f":"Import!K506","v":0},{"$f":"Import!L506","v":0},{"$f":"Import!M506","v":0},{"$f":"Import!N506","v":0},{"$f":"Import!O506","v":0},{"$f":"Import!P506","v":0},{"$f":"Import!Q506","v":0},{"$f":"Import!R506","v":0},{"$f":"Import!S506","v":0},{"$f":"Import!T506","v":0},{"$f":"Import!U506","v":0},{"$f":"Import!V506","v":0},{"$f":"Import!W506","v":0},{"$f":"Import!X506","v":0},{"$f":"Import!Y506","v":0},{"$f":"Import!Z506","v":0},{"$f":"Import!AA506","v":0},{"$f":"Import!AB506","v":0},{"$f":"Import!AC506","v":0},{"$f":"Import!AD506","v":0},{"$f":"Import!AE506","v":0},{"$f":"Import!AF506","v":0},{"$f":"Import!AG506","v":0},{"$f":"Import!AH506","v":0},{"$f":"Import!AI506","v":0},{"$f":"Import!AJ506","v":0},{"$f":"Import!AK506","v":0},{"$f":"Import!AL506","v":0}]
[null,{"$f":"Import!A507","v":0},{"$f":"Import!B507","v":0},{"$f":"Import!H507","v":0},{"$f":"Import!I507","v":0},{"$f":"Import!J507","v":0},{"$f":"Import!K507","v":0},{"$f":"Import!L507","v":0},{"$f":"Import!M507","v":0},{"$f":"Import!N507","v":0},{"$f":"Import!O507","v":0},{"$f":"Import!P507","v":0},{"$f":"Import!Q507","v":0},{"$f":"Import!R507","v":0},{"$f":"Import!S507","v":0},{"$f":"Import!T507","v":0},{"$f":"Import!U507","v":0},{"$f":"Import!V507","v":0},{"$f":"Import!W507","v":0},{"$f":"Import!X507","v":0},{"$f":"Import!Y507","v":0},{"$f":"Import!Z507","v":0},{"$f":"Import!AA507","v":0},{"$f":"Import!AB507","v":0},{"$f":"Import!AC507","v":0},{"$f":"Import!AD507","v":0},{"$f":"Import!AE507","v":0},{"$f":"Import!AF507","v":0},{"$f":"Import!AG507","v":0},{"$f":"Import!AH507","v":0},{"$f":"Import!AI507","v":0},{"$f":"Import!AJ507","v":0},{"$f":"Import!AK507","v":0},{"$f":"Import!AL507","v":0}]
[null,{"$f":"Import!A508","v":0},{"$f":"Import!B508","v":0},{"$f":"Import!H508","v":0},{"$f":"Import!I508","v":0},{"$f":"Import!J508","v":0},{"$f":"Import!K508","v":0},{"$f":"Import!L508","v":0},{"$f":"Import!M508","v":0},{"$f":"Import!N508","v":0},{"$f":"Import!O508","v":0},{"$f":"Import!P508","v":0},{"$f":"Import!Q508","v":0},{"$f":"Import!R508","v":0},{"$f":"Import!S508","v":0},{"$f":"Import!T508","v":0},{"$f":"Import!U508","v":0},{"$f":"Import!V508","v":0},{"$f":"Import!W508","v":0},{"$f":"Import!X508","v":0},{"$f":"Import!Y508","v":0},{"$f":"Import!Z508","v":0},{"$f":"Import!AA508","v":0},{"$f":"Import!AB508","v":0},{"$f":"Import!AC508","v":0},{"$f":"Import!AD508","v":0},{"$f":"Import!AE508","v":0},{"$f":"Import!AF508","v":0},{"$f":"Import!AG508","v":0},{"$f":"Import!AH508","v":0},{"$f":"Import!AI508","v":0},{"$f":"Import!AJ508","v":0},{"$f":"Import!AK508","v":0},{"$f":"Import!AL508","v":0}]
[null,{"$f":"Import!A509","v":0},{"$f":"Import!B509","v":0},{"$f":"Import!H509","v":0},{"$f":"Import!I509","v":0},{"$f":"Import!J509","v":0},{"$f":"Import!K509","v":0},{"$f":"Import!L509","v":0},{"$f":"Import!M509","v":0},{"$f":"Import!N509","v":0},{"$f":"Import!O509","v":0},{"$f":"Import!P509","v":0},{"$f":"Import!Q509","v":0},{"$f":"Import!R509","v":0},{"$f":"Import!S509","v":0},{"$f":"Import!T509","v":0},{"$f":"Import!U509","v":0},{"$f":"Import!V509","v":0},{"$f":"Import!W509","v":0},{"$f":"Import!X509","v":0},{"$f":"Import!Y509","v":0},{"$f":"Import!Z509","v":0},{"$f":"Import!AA509","v":0},{"$f":"Import!AB509","v":0},{"$f":"Import!AC509","v":0},{"$f":"Import!AD509","v":0},{"$f":"Import!AE509","v":0},{"$f":"Import!AF509","v":0},{"$f":"Import!AG509","v":0},{"$f":"Import!AH509","v":0},{"$f":"Import!AI509","v":0},{"$f":"Import!AJ509","v":0},{"$f":"Import!AK509","v":0},{"$f":"Import!AL509","v":0}]
[null,{"$f":"Import!A510","v":0},{"$f":"Import!B510","v":0},{"$f":"Import!H510","v":0},{"$f":"Import!I510","v":0},{"$f":"Import!J510","v":0},{"$f":"Import!K510","v":0},{"$f":"Import!L510","v":0},{"$f":"Import!M510","v":0},{"$f":"Import!N510","v":0},{"$f":"Import!O510","v":0},{"$f":"Import!P510","v":0},{"$f":"Import!Q510","v":0},{"$f":"Import!R510","v":0},{"$f":"Import!S510","v":0},{"$f":"Import!T510","v":0},{"$f":"Import!U510","v":0},{"$f":"Import!V510","v":0},{"$f":"Import!W510","v":0},{"$f":"Import!X510","v":0},{"$f":"Import!Y510","v":0},{"$f":"Import!Z510","v":0},{"$f":"Import!AA510","v":0},{"$f":"Import!AB510","v":0},{"$f":"Import!AC510","v":0},{"$f":"Import!AD510","v":0},{"$f":"Import!AE510","v":0},{"$f":"Import!AF510","v":0},{"$f":"Import!AG510","v":0},{"$f":"Import!AH510","v":0},{"$f":"Import!AI510","v":0},{"$f":"Import!AJ510","v":0},{"$f":"Import!AK510","v":0},{"$f":"Import!AL510","v":0}]
[null,{"$f":"Import!A511","v":0},{"$f":"Import!B511","v":0},{"$f":"Import!H511","v":0},{"$f":"Import!I511","v":0},{"$f":"Import!J511","v":0},{"$f":"Import!K511","v":0},{"$f":"Import!L511","v":0},{"$f":"Import!M511","v":0},{"$f":"Import!N511","v":0},{"$f":"Import!O511","v":0},{"$f":"Import!P511","v":0},{"$f":"Import!Q511","v":0},{"$f":"Import!R511","v":0},{"$f":"Import!S511","v":0},{"$f":"Import!T511","v":0},{"$f":"Import!U511","v":0},{"$f":"Import!V511","v":0},{"$f":"Import!W511","v":0},{"$f":"Import!X511","v":0},{"$f":"Import!Y511","v":0},{"$f":"Import!Z511","v":0},{"$f":"Import!AA511","v":0},{"$f":"Import!AB511","v":0},{"$f":"Import!AC511","v":0},{"$f":"Import!AD511","v":0},{"$f":"Import!AE511","v":0},{"$f":"Import!AF511","v":0},{"$f":"Import!AG511","v":0},{"$f":"Import!AH511","v":0},{"$f":"Import!AI511","v":0},{"$f":"Import!AJ511","v":0},{"$f":"Import!AK511","v":0},{"$f":"Import!AL511","v":0}]
[null,{"$f":"Import!A512","v":0},{"$f":"Import!B512","v":0},{"$f":"Import!H512","v":0},{"$f":"Import!I512","v":0},{"$f":"Import!J512","v":0},{"$f":"Import!K512","v":0},{"$f":"Import!L512","v":0},{"$f":"Import!M512","v":0},{"$f":"Import!N512","v":0},{"$f":"Import!O512","v":0},{"$f":"Import!P512","v":0},{"$f":"Import!Q512","v":0},{"$f":"Import!R512","v":0},{"$f":"Import!S512","v":0},{"$f":"Import!T512","v":0},{"$f":"Import!U512","v":0},{"$f":"Import!V512","v":0},{"$f":"Import!W512","v":0},{"$f":"Import!X512","v":0},{"$f":"Import!Y512","v":0},{"$f":"Import!Z512","v":0},{"$f":"Import!AA512","v":0},{"$f":"Import!AB512","v":0},{"$f":"Import!AC512","v":0},{"$f":"Import!AD512","v":0},{"$f":"Import!AE512","v":0},{"$f":"Import!AF512","v":0},{"$f":"Import!AG512","v":0},{"$f":"Import!AH512","v":0},{"$f":"Import!AI512","v":0},{"$f":"Import!AJ512","v":0},{"$f":"Import!AK512","v":0},{"$f":"Import!AL512","v":0}]
[null,{"$f":"Import!A513","v":0},{"$f":"Import!B513","v":0},{"$f":"Import!H513","v":0},{"$f":"Import!I513","v":0},{"$f":"Import!J513","v":0},{"$f":"Import!K513","v":0},{"$f":"Import!L513","v":0},{"$f":"Import!M513","v":0},{"$f":"Import!N513","v":0},{"$f":"Import!O513","v":0},{"$f":"Import!P513","v":0},{"$f":"Import!Q513","v":0},{"$f":"Import!R513","v":0},{"$f":"Import!S513","v":0},{"$f":"Import!T513","v":0},{"$f":"Import!U513","v":0},{"$f":"Import!V513","v":0},{"$f":"Import!W513","v":0},{"$f":"Import!X513","v":0},{"$f":"Import!Y513","v":0},{"$f":"Import!Z513","v":0},{"$f":"Import!AA513","v":0},{"$f":"Import!AB513","v":0},{"$f":"Import!AC513","v":0},{"$f":"Import!AD513","v":0},{"$f":"Import!AE513","v":0},{"$f":"Import!AF513","v":0},{"$f":"Import!AG513","v":0},{"$f":"Import!AH513","v":0},{"$f":"Import!AI513","v":0},{"$f":"Import!AJ513","v":0},{"$f":"Import!AK513","v":0},{"$f":"Import!AL513","v":0}]
[null,{"$f":"Import!A514","v":0},{"$f":"Import!B514","v":0},{"$f":"Import!H514","v":0},{"$f":"Import!I514","v":0},{"$f":"Import!J514","v":0},{"$f":"Import!K514","v":0},{"$f":"Import!L514","v":0},{"$f":"Import!M514","v":0},{"$f":"Import!N514","v":0},{"$f":"Import!O514","v":0},{"$f":"Import!P514","v":0},{"$f":"Import!Q514","v":0},{"$f":"Import!R514","v":0},{"$f":"Import!S514","v":0},{"$f":"Import!T514","v":0},{"$f":"Import!U514","v":0},{"$f":"Import!V514","v":0},{"$f":"Import!W514","v":0},{"$f":"Import!X514","v":0},{"$f":"Import!Y514","v":0},{"$f":"Import!Z514","v":0},{"$f":"Import!AA514","v":0},{"$f":"Import!AB514","v":0},{"$f":"Import!AC514","v":0},{"$f":"Import!AD514","v":0},{"$f":"Import!AE514","v":0},{"$f":"Import!AF514","v":0},{"$f":"Import!AG514","v":0},{"$f":"Import!AH514","v":0},{"$f":"Import!AI514","v":0},{"$f":"Import!AJ514","v":0},{"$f":"Import!AK514","v":0},{"$f":"Import!AL514","v":0}]
[null,{"$f":"Import!A515","v":0},{"$f":"Import!B515","v":0},{"$f":"Import!H515","v":0},{"$f":"Import!I515","v":0},{"$f":"Import!J515","v":0},{"$f":"Import!K515","v":0},{"$f":"Import!L515","v":0},{"$f":"Import!M515","v":0},{"$f":"Import!N515","v":0},{"$f":"Import!O515","v":0},{"$f":"Import!P515","v":0},{"$f":"Import!Q515","v":0},{"$f":"Import!R515","v":0},{"$f":"Import!S515","v":0},{"$f":"Import!T515","v":0},{"$f":"Import!U515","v":0},{"$f":"Import!V515","v":0},{"$f":"Import!W515","v":0},{"$f":"Import!X515","v":0},{"$f":"Import!Y515","v":0},{"$f":"Import!Z515","v":0},{"$f":"Import!AA515","v":0},{"$f":"Import!AB515","v":0},{"$f":"Import!AC515","v":0},{"$f":"Import!AD515","v":0},{"$f":"Import!AE515","v":0},{"$f":"Import!AF515","v":0},{"$f":"Import!AG515","v":0},{"$f":"Import!AH515","v":0},{"$f":"Import!AI515","v":0},{"$f":"Import!AJ515","v":0},{"$f":"Import!AK515","v":0},{"$f":"Import!AL515","v":0}]
[null,{"$f":"Import!A516","v":0},{"$f":"Import!B516","v":0},{"$f":"Import!H516","v":0},{"$f":"Import!I516","v":0},{"$f":"Import!J516","v":0},{"$f":"Import!K516","v":0},{"$f":"Import!L516","v":0},{"$f":"Import!M516","v":0},{"$f":"Import!N516","v":0},{"$f":"Import!O516","v":0},{"$f":"Import!P516","v":0},{"$f":"Import!Q516","v":0},{"$f":"Import!R516","v":0},{"$f":"Import!S516","v":0},{"$f":"Import!T516","v":0},{"$f":"Import!U516","v":0},{"$f":"Import!V516","v":0},{"$f":"Import!W516","v":0},{"$f":"Import!X516","v":0},{"$f":"Import!Y516","v":0},{"$f":"Import!Z516","v":0},{"$f":"Import!AA516","v":0},{"$f":"Import!AB516","v":0},{"$f":"Import!AC516","v":0},{"$f":"Import!AD516","v":0},{"$f":"Import!AE516","v":0},{"$f":"Import!AF516","v":0},{"$f":"Import!AG516","v":0},{"$f":"Import!AH516","v":0},{"$f":"Import!AI516","v":0},{"$f":"Import!AJ516","v":0},{"$f":"Import!AK516","v":0},{"$f":"Import!AL516","v":0}]
[null,{"$f":"Import!A517","v":0},{"$f":"Import!B517","v":0},{"$f":"Import!H517","v":0},{"$f":"Import!I517","v":0},{"$f":"Import!J517","v":0},{"$f":"Import!K517","v":0},{"$f":"Import!L517","v":0},{"$f":"Import!M517","v":0},{"$f":"Import!N517","v":0},{"$f":"Import!O517","v":0},{"$f":"Import!P517","v":0},{"$f":"Import!Q517","v":0},{"$f":"Import!R517","v":0},{"$f":"Import!S517","v":0},{"$f":"Import!T517","v":0},{"$f":"Import!U517","v":0},{"$f":"Import!V517","v":0},{"$f":"Import!W517","v":0},{"$f":"Import!X517","v":0},{"$f":"Import!Y517","v":0},{"$f":"Import!Z517","v":0},{"$f":"Import!AA517","v":0},{"$f":"Import!AB517","v":0},{"$f":"Import!AC517","v":0},{"$f":"Import!AD517","v":0},{"$f":"Import!AE517","v":0},{"$f":"Import!AF517","v":0},{"$f":"Import!AG517","v":0},{"$f":"Import!AH517","v":0},{"$f":"Import!AI517","v":0},{"$f":"Import!AJ517","v":0},{"$f":"Import!AK517","v":0},{"$f":"Import!AL517","v":0}]
[null,{"$f":"Import!A518","v":0},{"$f":"Import!B518","v":0},{"$f":"Import!H518","v":0},{"$f":"Import!I518","v":0},{"$f":"Import!J518","v":0},{"$f":"Import!K518","v":0},{"$f":"Import!L518","v":0},{"$f":"Import!M518","v":0},{"$f":"Import!N518","v":0},{"$f":"Import!O518","v":0},{"$f":"Import!P518","v":0},{"$f":"Import!Q518","v":0},{"$f":"Import!R518","v":0},{"$f":"Import!S518","v":0},{"$f":"Import!T518","v":0},{"$f":"Import!U518","v":0},{"$f":"Import!V518","v":0},{"$f":"Import!W518","v":0},{"$f":"Import!X518","v":0},{"$f":"Import!Y518","v":0},{"$f":"Import!Z518","v":0},{"$f":"Import!AA518","v":0},{"$f":"Import!AB518","v":0},{"$f":"Import!AC518","v":0},{"$f":"Import!AD518","v":0},{"$f":"Import!AE518","v":0},{"$f":"Import!AF518","v":0},{"$f":"Import!AG518","v":0},{"$f":"Import!AH518","v":0},{"$f":"Import!AI518","v":0},{"$f":"Import!AJ518","v":0},{"$f":"Import!AK518","v":0},{"$f":"Import!AL518","v":0}]
[null,{"$f":"Import!A519","v":0},{"$f":"Import!B519","v":0},{"$f":"Import!H519","v":0},{"$f":"Import!I519","v":0},{"$f":"Import!J519","v":0},{"$f":"Import!K519","v":0},{"$f":"Import!L519","v":0},{"$f":"Import!M519","v":0},{"$f":"Import!N519","v":0},{"$f":"Import!O519","v":0},{"$f":"Import!P519","v":0},{"$f":"Import!Q519","v":0},{"$f":"Import!R519","v":0},{"$f":"Import!S519","v":0},{"$f":"Import!T519","v":0},{"$f":"Import!U519","v":0},{"$f":"Import!V519","v":0},{"$f":"Import!W519","v":0},{"$f":"Import!X519","v":0},{"$f":"Import!Y519","v":0},{"$f":"Import!Z519","v":0},{"$f":"Import!AA519","v":0},{"$f":"Import!AB519","v":0},{"$f":"Import!AC519","v":0},{"$f":"Import!AD519","v":0},{"$f":"Import!AE519","v":0},{"$f":"Import!AF519","v":0},{"$f":"Import!AG519","v":0},{"$f":"Import!AH519","v":0},{"$f":"Import!AI519","v":0},{"$f":"Import!AJ519","v":0},{"$f":"Import!AK519","v":0},{"$f":"Import!AL519","v":0}]
[null,{"$f":"Import!A520","v":0},{"$f":"Import!B520","v":0},{"$f":"Import!H520","v":0},{"$f":"Import!I520","v":0},{"$f":"Import!J520","v":0},{"$f":"Import!K520","v":0},{"$f":"Import!L520","v":0},{"$f":"Import!M520","v":0},{"$f":"Import!N520","v":0},{"$f":"Import!O520","v":0},{"$f":"Import!P520","v":0},{"$f":"Import!Q520","v":0},{"$f":"Import!R520","v":0},{"$f":"Import!S520","v":0},{"$f":"Import!T520","v":0},{"$f":"Import!U520","v":0},{"$f":"Import!V520","v":0},{"$f":"Import!W520","v":0},{"$f":"Import!X520","v":0},{"$f":"Import!Y520","v":0},{"$f":"Import!Z520","v":0},{"$f":"Import!AA520","v":0},{"$f":"Import!AB520","v":0},{"$f":"Import!AC520","v":0},{"$f":"Import!AD520","v":0},{"$f":"Import!AE520","v":0},{"$f":"Import!AF520","v":0},{"$f":"Import!AG520","v":0},{"$f":"Import!AH520","v":0},{"$f":"Import!AI520","v":0},{"$f":"Import!AJ520","v":0},{"$f":"Import!AK520","v":0},{"$f":"Import!AL520","v":0}]
[null,{"$f":"Import!A521","v":0},{"$f":"Import!B521","v":0},{"$f":"Import!H521","v":0},{"$f":"Import!I521","v":0},{"$f":"Import!J521","v":0},{"$f":"Import!K521","v":0},{"$f":"Import!L521","v":0},{"$f":"Import!M521","v":0},{"$f":"Import!N521","v":0},{"$f":"Import!O521","v":0},{"$f":"Import!P521","v":0},{"$f":"Import!Q521","v":0},{"$f":"Import!R521","v":0},{"$f":"Import!S521","v":0},{"$f":"Import!T521","v":0},{"$f":"Import!U521","v":0},{"$f":"Import!V521","v":0},{"$f":"Import!W521","v":0},{"$f":"Import!X521","v":0},{"$f":"Import!Y521","v":0},{"$f":"Import!Z521","v":0},{"$f":"Import!AA521","v":0},{"$f":"Import!AB521","v":0},{"$f":"Import!AC521","v":0},{"$f":"Import!AD521","v":0},{"$f":"Import!AE521","v":0},{"$f":"Import!AF521","v":0},{"$f":"Import!AG521","v":0},{"$f":"Import!AH521","v":0},{"$f":"Import!AI521","v":0},{"$f":"Import!AJ521","v":0},{"$f":"Import!AK521","v":0},{"$f":"Import!AL521","v":0}]
[null,{"$f":"Import!A522","v":0},{"$f":"Import!B522","v":0},{"$f":"Import!H522","v":0},{"$f":"Import!I522","v":0},{"$f":"Import!J522","v":0},{"$f":"Import!K522","v":0},{"$f":"Import!L522","v":0},{"$f":"Import!M522","v":0},{"$f":"Import!N522","v":0},{"$f":"Import!O522","v":0},{"$f":"Import!P522","v":0},{"$f":"Import!Q522","v":0},{"$f":"Import!R522","v":0},{"$f":"Import!S522","v":0},{"$f":"Import!T522","v":0},{"$f":"Import!U522","v":0},{"$f":"Import!V522","v":0},{"$f":"Import!W522","v":0},{"$f":"Import!X522","v":0},{"$f":"Import!Y522","v":0},{"$f":"Import!Z522","v":0},{"$f":"Import!AA522","v":0},{"$f":"Import!AB522","v":0},{"$f":"Import!AC522","v":0},{"$f":"Import!AD522","v":0},{"$f":"Import!AE522","v":0},{"$f":"Import!AF522","v":0},{"$f":"Import!AG522","v":0},{"$f":"Import!AH522","v":0},{"$f":"Import!AI522","v":0},{"$f":"Import!AJ522","v":0},{"$f":"Import!AK522","v":0},{"$f":"Import!AL522","v":0}]
[null,{"$f":"Import!A523","v":0},{"$f":"Import!B523","v":0},{"$f":"Import!H523","v":0},{"$f":"Import!I523","v":0},{"$f":"Import!J523","v":0},{"$f":"Import!K523","v":0},{"$f":"Import!L523","v":0},{"$f":"Import!M523","v":0},{"$f":"Import!N523","v":0},{"$f":"Import!O523","v":0},{"$f":"Import!P523","v":0},{"$f":"Import!Q523","v":0},{"$f":"Import!R523","v":0},{"$f":"Import!S523","v":0},{"$f":"Import!T523","v":0},{"$f":"Import!U523","v":0},{"$f":"Import!V523","v":0},{"$f":"Import!W523","v":0},{"$f":"Import!X523","v":0},{"$f":"Import!Y523","v":0},{"$f":"Import!Z523","v":0},{"$f":"Import!AA523","v":0},{"$f":"Import!AB523","v":0},{"$f":"Import!AC523","v":0},{"$f":"Import!AD523","v":0},{"$f":"Import!AE523","v":0},{"$f":"Import!AF523","v":0},{"$f":"Import!AG523","v":0},{"$f":"Import!AH523","v":0},{"$f":"Import!AI523","v":0},{"$f":"Import!AJ523","v":0},{"$f":"Import!AK523","v":0},{"$f":"Import!AL523","v":0}]
[null,{"$f":"Import!A524","v":0},{"$f":"Import!B524","v":0},{"$f":"Import!H524","v":0},{"$f":"Import!I524","v":0},{"$f":"Import!J524","v":0},{"$f":"Import!K524","v":0},{"$f":"Import!L524","v":0},{"$f":"Import!M524","v":0},{"$f":"Import!N524","v":0},{"$f":"Import!O524","v":0},{"$f":"Import!P524","v":0},{"$f":"Import!Q524","v":0},{"$f":"Import!R524","v":0},{"$f":"Import!S524","v":0},{"$f":"Import!T524","v":0},{"$f":"Import!U524","v":0},{"$f":"Import!V524","v":0},{"$f":"Import!W524","v":0},{"$f":"Import!X524","v":0},{"$f":"Import!Y524","v":0},{"$f":"Import!Z524","v":0},{"$f":"Import!AA524","v":0},{"$f":"Import!AB524","v":0},{"$f":"Import!AC524","v":0},{"$f":"Import!AD524","v":0},{"$f":"Import!AE524","v":0},{"$f":"Import!AF524","v":0},{"$f":"Import!AG524","v":0},{"$f":"Import!AH524","v":0},{"$f":"Import!AI524","v":0},{"$f":"Import!AJ524","v":0},{"$f":"Import!AK524","v":0},{"$f":"Import!AL524","v":0}]
[null,{"$f":"Import!A525","v":0},{"$f":"Import!B525","v":0},{"$f":"Import!H525","v":0},{"$f":"Import!I525","v":0},{"$f":"Import!J525","v":0},{"$f":"Import!K525","v":0},{"$f":"Import!L525","v":0},{"$f":"Import!M525","v":0},{"$f":"Import!N525","v":0},{"$f":"Import!O525","v":0},{"$f":"Import!P525","v":0},{"$f":"Import!Q525","v":0},{"$f":"Import!R525","v":0},{"$f":"Import!S525","v":0},{"$f":"Import!T525","v":0},{"$f":"Import!U525","v":0},{"$f":"Import!V525","v":0},{"$f":"Import!W525","v":0},{"$f":"Import!X525","v":0},{"$f":"Import!Y525","v":0},{"$f":"Import!Z525","v":0},{"$f":"Import!AA525","v":0},{"$f":"Import!AB525","v":0},{"$f":"Import!AC525","v":0},{"$f":"Import!AD525","v":0},{"$f":"Import!AE525","v":0},{"$f":"Import!AF525","v":0},{"$f":"Import!AG525","v":0},{"$f":"Import!AH525","v":0},{"$f":"Import!AI525","v":0},{"$f":"Import!AJ525","v":0},{"$f":"Import!AK525","v":0},{"$f":"Import!AL525","v":0}]
[null,{"$f":"Import!A526","v":0},{"$f":"Import!B526","v":0},{"$f":"Import!H526","v":0},{"$f":"Import!I526","v":0},{"$f":"Import!J526","v":0},{"$f":"Import!K526","v":0},{"$f":"Import!L526","v":0},{"$f":"Import!M526","v":0},{"$f":"Import!N526","v":0},{"$f":"Import!O526","v":0},{"$f":"Import!P526","v":0},{"$f":"Import!Q526","v":0},{"$f":"Import!R526","v":0},{"$f":"Import!S526","v":0},{"$f":"Import!T526","v":0},{"$f":"Import!U526","v":0},{"$f":"Import!V526","v":0},{"$f":"Import!W526","v":0},{"$f":"Import!X526","v":0},{"$f":"Import!Y526","v":0},{"$f":"Import!Z526","v":0},{"$f":"Import!AA526","v":0},{"$f":"Import!AB526","v":0},{"$f":"Import!AC526","v":0},{"$f":"Import!AD526","v":0},{"$f":"Import!AE526","v":0},{"$f":"Import!AF526","v":0},{"$f":"Import!AG526","v":0},{"$f":"Import!AH526","v":0},{"$f":"Import!AI526","v":0},{"$f":"Import!AJ526","v":0},{"$f":"Import!AK526","v":0},{"$f":"Import!AL526","v":0}]
[null,{"$f":"Import!A527","v":0},{"$f":"Import!B527","v":0},{"$f":"Import!H527","v":0},{"$f":"Import!I527","v":0},{"$f":"Import!J527","v":0},{"$f":"Import!K527","v":0},{"$f":"Import!L527","v":0},{"$f":"Import!M527","v":0},{"$f":"Import!N527","v":0},{"$f":"Import!O527","v":0},{"$f":"Import!P527","v":0},{"$f":"Import!Q527","v":0},{"$f":"Import!R527","v":0},{"$f":"Import!S527","v":0},{"$f":"Import!T527","v":0},{"$f":"Import!U527","v":0},{"$f":"Import!V527","v":0},{"$f":"Import!W527","v":0},{"$f":"Import!X527","v":0},{"$f":"Import!Y527","v":0},{"$f":"Import!Z527","v":0},{"$f":"Import!AA527","v":0},{"$f":"Import!AB527","v":0},{"$f":"Import!AC527","v":0},{"$f":"Import!AD527","v":0},{"$f":"Import!AE527","v":0},{"$f":"Import!AF527","v":0},{"$f":"Import!AG527","v":0},{"$f":"Import!AH527","v":0},{"$f":"Import!AI527","v":0},{"$f":"Import!AJ527","v":0},{"$f":"Import!AK527","v":0},{"$f":"Import!AL527","v":0}]
[null,{"$f":"Import!A528","v":0},{"$f":"Import!B528","v":0},{"$f":"Import!H528","v":0},{"$f":"Import!I528","v":0},{"$f":"Import!J528","v":0},{"$f":"Import!K528","v":0},{"$f":"Import!L528","v":0},{"$f":"Import!M528","v":0},{"$f":"Import!N528","v":0},{"$f":"Import!O528","v":0},{"$f":"Import!P528","v":0},{"$f":"Import!Q528","v":0},{"$f":"Import!R528","v":0},{"$f":"Import!S528","v":0},{"$f":"Import!T528","v":0},{"$f":"Import!U528","v":0},{"$f":"Import!V528","v":0},{"$f":"Import!W528","v":0},{"$f":"Import!X528","v":0},{"$f":"Import!Y528","v":0},{"$f":"Import!Z528","v":0},{"$f":"Import!AA528","v":0},{"$f":"Import!AB528","v":0},{"$f":"Import!AC528","v":0},{"$f":"Import!AD528","v":0},{"$f":"Import!AE528","v":0},{"$f":"Import!AF528","v":0},{"$f":"Import!AG528","v":0},{"$f":"Import!AH528","v":0},{"$f":"Import!AI528","v":0},{"$f":"Import!AJ528","v":0},{"$f":"Import!AK528","v":0},{"$f":"Import!AL528","v":0}]
[null,{"$f":"Import!A529","v":0},{"$f":"Import!B529","v":0},{"$f":"Import!H529","v":0},{"$f":"Import!I529","v":0},{"$f":"Import!J529","v":0},{"$f":"Import!K529","v":0},{"$f":"Import!L529","v":0},{"$f":"Import!M529","v":0},{"$f":"Import!N529","v":0},{"$f":"Import!O529","v":0},{"$f":"Import!P529","v":0},{"$f":"Import!Q529","v":0},{"$f":"Import!R529","v":0},{"$f":"Import!S529","v":0},{"$f":"Import!T529","v":0},{"$f":"Import!U529","v":0},{"$f":"Import!V529","v":0},{"$f":"Import!W529","v":0},{"$f":"Import!X529","v":0},{"$f":"Import!Y529","v":0},{"$f":"Import!Z529","v":0},{"$f":"Import!AA529","v":0},{"$f":"Import!AB529","v":0},{"$f":"Import!AC529","v":0},{"$f":"Import!AD529","v":0},{"$f":"Import!AE529","v":0},{"$f":"Import!AF529","v":0},{"$f":"Import!AG529","v":0},{"$f":"Import!AH529","v":0},{"$f":"Import!AI529","v":0},{"$f":"Import!AJ529","v":0},{"$f":"Import!AK529","v":0},{"$f":"Import!AL529","v":0}]
[null,{"$f":"Import!A530","v":0},{"$f":"Import!B530","v":0},{"$f":"Import!H530","v":0},{"$f":"Import!I530","v":0},{"$f":"Import!J530","v":0},{"$f":"Import!K530","v":0},{"$f":"Import!L530","v":0},{"$f":"Import!M530","v":0},{"$f":"Import!N530","v":0},{"$f":"Import!O530","v":0},{"$f":"Import!P530","v":0},{"$f":"Import!Q530","v":0},{"$f":"Import!R530","v":0},{"$f":"Import!S530","v":0},{"$f":"Import!T530","v":0},{"$f":"Import!U530","v":0},{"$f":"Import!V530","v":0},{"$f":"Import!W530","v":0},{"$f":"Import!X530","v":0},{"$f":"Import!Y530","v":0},{"$f":"Import!Z530","v":0},{"$f":"Import!AA530","v":0},{"$f":"Import!AB530","v":0},{"$f":"Import!AC530","v":0},{"$f":"Import!AD530","v":0},{"$f":"Import!AE530","v":0},{"$f":"Import!AF530","v":0},{"$f":"Import!AG530","v":0},{"$f":"Import!AH530","v":0},{"$f":"Import!AI530","v":0},{"$f":"Import!AJ530","v":0},{"$f":"Import!AK530","v":0},{"$f":"Import!AL530","v":0}]
[null,{"$f":"Import!A531","v":0},{"$f":"Import!B531","v":0},{"$f":"Import!H531","v":0},{"$f":"Import!I531","v":0},{"$f":"Import!J531","v":0},{"$f":"Import!K531","v":0},{"$f":"Import!L531","v":0},{"$f":"Import!M531","v":0},{"$f":"Import!N531","v":0},{"$f":"Import!O531","v":0},{"$f":"Import!P531","v":0},{"$f":"Import!Q531","v":0},{"$f":"Import!R531","v":0},{"$f":"Import!S531","v":0},{"$f":"Import!T531","v":0},{"$f":"Import!U531","v":0},{"$f":"Import!V531","v":0},{"$f":"Import!W531","v":0},{"$f":"Import!X531","v":0},{"$f":"Import!Y531","v":0},{"$f":"Import!Z531","v":0},{"$f":"Import!AA531","v":0},{"$f":"Import!AB531","v":0},{"$f":"Import!AC531","v":0},{"$f":"Import!AD531","v":0},{"$f":"Import!AE531","v":0},{"$f":"Import!AF531","v":0},{"$f":"Import!AG531","v":0},{"$f":"Import!AH531","v":0},{"$f":"Import!AI531","v":0},{"$f":"Import!AJ531","v":0},{"$f":"Import!AK531","v":0},{"$f":"Import!AL531","v":0}]
[null,{"$f":"Import!A532","v":0},{"$f":"Import!B532","v":0},{"$f":"Import!H532","v":0},{"$f":"Import!I532","v":0},{"$f":"Import!J532","v":0},{"$f":"Import!K532","v":0},{"$f":"Import!L532","v":0},{"$f":"Import!M532","v":0},{"$f":"Import!N532","v":0},{"$f":"Import!O532","v":0},{"$f":"Import!P532","v":0},{"$f":"Import!Q532","v":0},{"$f":"Import!R532","v":0},{"$f":"Import!S532","v":0},{"$f":"Import!T532","v":0},{"$f":"Import!U532","v":0},{"$f":"Import!V532","v":0},{"$f":"Import!W532","v":0},{"$f":"Import!X532","v":0},{"$f":"Import!Y532","v":0},{"$f":"Import!Z532","v":0},{"$f":"Import!AA532","v":0},{"$f":"Import!AB532","v":0},{"$f":"Import!AC532","v":0},{"$f":"Import!AD532","v":0},{"$f":"Import!AE532","v":0},{"$f":"Import!AF532","v":0},{"$f":"Import!AG532","v":0},{"$f":"Import!AH532","v":0},{"$f":"Import!AI532","v":0},{"$f":"Import!AJ532","v":0},{"$f":"Import!AK532","v":0},{"$f":"Import!AL532","v":0}]
[null,{"$f":"Import!A533","v":0},{"$f":"Import!B533","v":0},{"$f":"Import!H533","v":0},{"$f":"Import!I533","v":0},{"$f":"Import!J533","v":0},{"$f":"Import!K533","v":0},{"$f":"Import!L533","v":0},{"$f":"Import!M533","v":0},{"$f":"Import!N533","v":0},{"$f":"Import!O533","v":0},{"$f":"Import!P533","v":0},{"$f":"Import!Q533","v":0},{"$f":"Import!R533","v":0},{"$f":"Import!S533","v":0},{"$f":"Import!T533","v":0},{"$f":"Import!U533","v":0},{"$f":"Import!V533","v":0},{"$f":"Import!W533","v":0},{"$f":"Import!X533","v":0},{"$f":"Import!Y533","v":0},{"$f":"Import!Z533","v":0},{"$f":"Import!AA533","v":0},{"$f":"Import!AB533","v":0},{"$f":"Import!AC533","v":0},{"$f":"Import!AD533","v":0},{"$f":"Import!AE533","v":0},{"$f":"Import!AF533","v":0},{"$f":"Import!AG533","v":0},{"$f":"Import!AH533","v":0},{"$f":"Import!AI533","v":0},{"$f":"Import!AJ533","v":0},{"$f":"Import!AK533","v":0},{"$f":"Import!AL533","v":0}]
[null,{"$f":"Import!A534","v":0},{"$f":"Import!B534","v":0},{"$f":"Import!H534","v":0},{"$f":"Import!I534","v":0},{"$f":"Import!J534","v":0},{"$f":"Import!K534","v":0},{"$f":"Import!L534","v":0},{"$f":"Import!M534","v":0},{"$f":"Import!N534","v":0},{"$f":"Import!O534","v":0},{"$f":"Import!P534","v":0},{"$f":"Import!Q534","v":0},{"$f":"Import!R534","v":0},{"$f":"Import!S534","v":0},{"$f":"Import!T534","v":0},{"$f":"Import!U534","v":0},{"$f":"Import!V534","v":0},{"$f":"Import!W534","v":0},{"$f":"Import!X534","v":0},{"$f":"Import!Y534","v":0},{"$f":"Import!Z534","v":0},{"$f":"Import!AA534","v":0},{"$f":"Import!AB534","v":0},{"$f":"Import!AC534","v":0},{"$f":"Import!AD534","v":0},{"$f":"Import!AE534","v":0},{"$f":"Import!AF534","v":0},{"$f":"Import!AG534","v":0},{"$f":"Import!AH534","v":0},{"$f":"Import!AI534","v":0},{"$f":"Import!AJ534","v":0},{"$f":"Import!AK534","v":0},{"$f":"Import!AL534","v":0}]
[null,{"$f":"Import!A535","v":0},{"$f":"Import!B535","v":0},{"$f":"Import!H535","v":0},{"$f":"Import!I535","v":0},{"$f":"Import!J535","v":0},{"$f":"Import!K535","v":0},{"$f":"Import!L535","v":0},{"$f":"Import!M535","v":0},{"$f":"Import!N535","v":0},{"$f":"Import!O535","v":0},{"$f":"Import!P535","v":0},{"$f":"Import!Q535","v":0},{"$f":"Import!R535","v":0},{"$f":"Import!S535","v":0},{"$f":"Import!T535","v":0},{"$f":"Import!U535","v":0},{"$f":"Import!V535","v":0},{"$f":"Import!W535","v":0},{"$f":"Import!X535","v":0},{"$f":"Import!Y535","v":0},{"$f":"Import!Z535","v":0},{"$f":"Import!AA535","v":0},{"$f":"Import!AB535","v":0},{"$f":"Import!AC535","v":0},{"$f":"Import!AD535","v":0},{"$f":"Import!AE535","v":0},{"$f":"Import!AF535","v":0},{"$f":"Import!AG535","v":0},{"$f":"Import!AH535","v":0},{"$f":"Import!AI535","v":0},{"$f":"Import!AJ535","v":0},{"$f":"Import!AK535","v":0},{"$f":"Import!AL535","v":0}]
[null,{"$f":"Import!A536","v":0},{"$f":"Import!B536","v":0},{"$f":"Import!H536","v":0},{"$f":"Import!I536","v":0},{"$f":"Import!J536","v":0},{"$f":"Import!K536","v":0},{"$f":"Import!L536","v":0},{"$f":"Import!M536","v":0},{"$f":"Import!N536","v":0},{"$f":"Import!O536","v":0},{"$f":"Import!P536","v":0},{"$f":"Import!Q536","v":0},{"$f":"Import!R536","v":0},{"$f":"Import!S536","v":0},{"$f":"Import!T536","v":0},{"$f":"Import!U536","v":0},{"$f":"Import!V536","v":0},{"$f":"Import!W536","v":0},{"$f":"Import!X536","v":0},{"$f":"Import!Y536","v":0},{"$f":"Import!Z536","v":0},{"$f":"Import!AA536","v":0},{"$f":"Import!AB536","v":0},{"$f":"Import!AC536","v":0},{"$f":"Import!AD536","v":0},{"$f":"Import!AE536","v":0},{"$f":"Import!AF536","v":0},{"$f":"Import!AG536","v":0},{"$f":"Import!AH536","v":0},{"$f":"Import!AI536","v":0},{"$f":"Import!AJ536","v":0},{"$f":"Import!AK536","v":0},{"$f":"Import!AL536","v":0}]
[null,{"$f":"Import!A537","v":0},{"$f":"Import!B537","v":0},{"$f":"Import!H537","v":0},{"$f":"Import!I537","v":0},{"$f":"Import!J537","v":0},{"$f":"Import!K537","v":0},{"$f":"Import!L537","v":0},{"$f":"Import!M537","v":0},{"$f":"Import!N537","v":0},{"$f":"Import!O537","v":0},{"$f":"Import!P537","v":0},{"$f":"Import!Q537","v":0},{"$f":"Import!R537","v":0},{"$f":"Import!S537","v":0},{"$f":"Import!T537","v":0},{"$f":"Import!U537","v":0},{"$f":"Import!V537","v":0},{"$f":"Import!W537","v":0},{"$f":"Import!X537","v":0},{"$f":"Import!Y537","v":0},{"$f":"Import!Z537","v":0},{"$f":"Import!AA537","v":0},{"$f":"Import!AB537","v":0},{"$f":"Import!AC537","v":0},{"$f":"Import!AD537","v":0},{"$f":"Import!AE537","v":0},{"$f":"Import!AF537","v":0},{"$f":"Import!AG537","v":0},{"$f":"Import!AH537","v":0},{"$f":"Import!AI537","v":0},{"$f":"Import!AJ537","v":0},{"$f":"Import!AK537","v":0},{"$f":"Import!AL537","v":0}]
[null,{"$f":"Import!A538","v":0},{"$f":"Import!B538","v":0},{"$f":"Import!H538","v":0},{"$f":"Import!I538","v":0},{"$f":"Import!J538","v":0},{"$f":"Import!K538","v":0},{"$f":"Import!L538","v":0},{"$f":"Import!M538","v":0},{"$f":"Import!N538","v":0},{"$f":"Import!O538","v":0},{"$f":"Import!P538","v":0},{"$f":"Import!Q538","v":0},{"$f":"Import!R538","v":0},{"$f":"Import!S538","v":0},{"$f":"Import!T538","v":0},{"$f":"Import!U538","v":0},{"$f":"Import!V538","v":0},{"$f":"Import!W538","v":0},{"$f":"Import!X538","v":0},{"$f":"Import!Y538","v":0},{"$f":"Import!Z538","v":0},{"$f":"Import!AA538","v":0},{"$f":"Import!AB538","v":0},{"$f":"Import!AC538","v":0},{"$f":"Import!AD538","v":0},{"$f":"Import!AE538","v":0},{"$f":"Import!AF538","v":0},{"$f":"Import!AG538","v":0},{"$f":"Import!AH538","v":0},{"$f":"Import!AI538","v":0},{"$f":"Import!AJ538","v":0},{"$f":"Import!AK538","v":0},{"$f":"Import!AL538","v":0}]
[null,{"$f":"Import!A539","v":0},{"$f":"Import!B539","v":0},{"$f":"Import!H539","v":0},{"$f":"Import!I539","v":0},{"$f":"Import!J539","v":0},{"$f":"Import!K539","v":0},{"$f":"Import!L539","v":0},{"$f":"Import!M539","v":0},{"$f":"Import!N539","v":0},{"$f":"Import!O539","v":0},{"$f":"Import!P539","v":0},{"$f":"Import!Q539","v":0},{"$f":"Import!R539","v":0},{"$f":"Import!S539","v":0},{"$f":"Import!T539","v":0},{"$f":"Import!U539","v":0},{"$f":"Import!V539","v":0},{"$f":"Import!W539","v":0},{"$f":"Import!X539","v":0},{"$f":"Import!Y539","v":0},{"$f":"Import!Z539","v":0},{"$f":"Import!AA539","v":0},{"$f":"Import!AB539","v":0},{"$f":"Import!AC539","v":0},{"$f":"Import!AD539","v":0},{"$f":"Import!AE539","v":0},{"$f":"Import!AF539","v":0},{"$f":"Import!AG539","v":0},{"$f":"Import!AH539","v":0},{"$f":"Import!AI539","v":0},{"$f":"Import!AJ539","v":0},{"$f":"Import!AK539","v":0},{"$f":"Import!AL539","v":0}]
[null,{"$f":"Import!A540","v":0},{"$f":"Import!B540","v":0},{"$f":"Import!H540","v":0},{"$f":"Import!I540","v":0},{"$f":"Import!J540","v":0},{"$f":"Import!K540","v":0},{"$f":"Import!L540","v":0},{"$f":"Import!M540","v":0},{"$f":"Import!N540","v":0},{"$f":"Import!O540","v":0},{"$f":"Import!P540","v":0},{"$f":"Import!Q540","v":0},{"$f":"Import!R540","v":0},{"$f":"Import!S540","v":0},{"$f":"Import!T540","v":0},{"$f":"Import!U540","v":0},{"$f":"Import!V540","v":0},{"$f":"Import!W540","v":0},{"$f":"Import!X540","v":0},{"$f":"Import!Y540","v":0},{"$f":"Import!Z540","v":0},{"$f":"Import!AA540","v":0},{"$f":"Import!AB540","v":0},{"$f":"Import!AC540","v":0},{"$f":"Import!AD540","v":0},{"$f":"Import!AE540","v":0},{"$f":"Import!AF540","v":0},{"$f":"Import!AG540","v":0},{"$f":"Import!AH540","v":0},{"$f":"Import!AI540","v":0},{"$f":"Import!AJ540","v":0},{"$f":"Import!AK540","v":0},{"$f":"Import!AL540","v":0}]
[null,{"$f":"Import!A541","v":0},{"$f":"Import!B541","v":0},{"$f":"Import!H541","v":0},{"$f":"Import!I541","v":0},{"$f":"Import!J541","v":0},{"$f":"Import!K541","v":0},{"$f":"Import!L541","v":0},{"$f":"Import!M541","v":0},{"$f":"Import!N541","v":0},{"$f":"Import!O541","v":0},{"$f":"Import!P541","v":0},{"$f":"Import!Q541","v":0},{"$f":"Import!R541","v":0},{"$f":"Import!S541","v":0},{"$f":"Import!T541","v":0},{"$f":"Import!U541","v":0},{"$f":"Import!V541","v":0},{"$f":"Import!W541","v":0},{"$f":"Import!X541","v":0},{"$f":"Import!Y541","v":0},{"$f":"Import!Z541","v":0},{"$f":"Import!AA541","v":0},{"$f":"Import!AB541","v":0},{"$f":"Import!AC541","v":0},{"$f":"Import!AD541","v":0},{"$f":"Import!AE541","v":0},{"$f":"Import!AF541","v":0},{"$f":"Import!AG541","v":0},{"$f":"Import!AH541","v":0},{"$f":"Import!AI541","v":0},{"$f":"Import!AJ541","v":0},{"$f":"Import!AK541","v":0},{"$f":"Import!AL541","v":0}]
[null,{"$f":"Import!A542","v":0},{"$f":"Import!B542","v":0},{"$f":"Import!H542","v":0},{"$f":"Import!I542","v":0},{"$f":"Import!J542","v":0},{"$f":"Import!K542","v":0},{"$f":"Import!L542","v":0},{"$f":"Import!M542","v":0},{"$f":"Import!N542","v":0},{"$f":"Import!O542","v":0},{"$f":"Import!P542","v":0},{"$f":"Import!Q542","v":0},{"$f":"Import!R542","v":0},{"$f":"Import!S542","v":0},{"$f":"Import!T542","v":0},{"$f":"Import!U542","v":0},{"$f":"Import!V542","v":0},{"$f":"Import!W542","v":0},{"$f":"Import!X542","v":0},{"$f":"Import!Y542","v":0},{"$f":"Import!Z542","v":0},{"$f":"Import!AA542","v":0},{"$f":"Import!AB542","v":0},{"$f":"Import!AC542","v":0},{"$f":"Import!AD542","v":0},{"$f":"Import!AE542","v":0},{"$f":"Import!AF542","v":0},{"$f":"Import!AG542","v":0},{"$f":"Import!AH542","v":0},{"$f":"Import!AI542","v":0},{"$f":"Import!AJ542","v":0},{"$f":"Import!AK542","v":0},{"$f":"Import!AL542","v":0}]
[null,{"$f":"Import!A543","v":0},{"$f":"Import!B543","v":0},{"$f":"Import!H543","v":0},{"$f":"Import!I543","v":0},{"$f":"Import!J543","v":0},{"$f":"Import!K543","v":0},{"$f":"Import!L543","v":0},{"$f":"Import!M543","v":0},{"$f":"Import!N543","v":0},{"$f":"Import!O543","v":0},{"$f":"Import!P543","v":0},{"$f":"Import!Q543","v":0},{"$f":"Import!R543","v":0},{"$f":"Import!S543","v":0},{"$f":"Import!T543","v":0},{"$f":"Import!U543","v":0},{"$f":"Import!V543","v":0},{"$f":"Import!W543","v":0},{"$f":"Import!X543","v":0},{"$f":"Import!Y543","v":0},{"$f":"Import!Z543","v":0},{"$f":"Import!AA543","v":0},{"$f":"Import!AB543","v":0},{"$f":"Import!AC543","v":0},{"$f":"Import!AD543","v":0},{"$f":"Import!AE543","v":0},{"$f":"Import!AF543","v":0},{"$f":"Import!AG543","v":0},{"$f":"Import!AH543","v":0},{"$f":"Import!AI543","v":0},{"$f":"Import!AJ543","v":0},{"$f":"Import!AK543","v":0},{"$f":"Import!AL543","v":0}]
[null,{"$f":"Import!A544","v":0},{"$f":"Import!B544","v":0},{"$f":"Import!H544","v":0},{"$f":"Import!I544","v":0},{"$f":"Import!J544","v":0},{"$f":"Import!K544","v":0},{"$f":"Import!L544","v":0},{"$f":"Import!M544","v":0},{"$f":"Import!N544","v":0},{"$f":"Import!O544","v":0},{"$f":"Import!P544","v":0},{"$f":"Import!Q544","v":0},{"$f":"Import!R544","v":0},{"$f":"Import!S544","v":0},{"$f":"Import!T544","v":0},{"$f":"Import!U544","v":0},{"$f":"Import!V544","v":0},{"$f":"Import!W544","v":0},{"$f":"Import!X544","v":0},{"$f":"Import!Y544","v":0},{"$f":"Import!Z544","v":0},{"$f":"Import!AA544","v":0},{"$f":"Import!AB544","v":0},{"$f":"Import!AC544","v":0},{"$f":"Import!AD544","v":0},{"$f":"Import!AE544","v":0},{"$f":"Import!AF544","v":0},{"$f":"Import!AG544","v":0},{"$f":"Import!AH544","v":0},{"$f":"Import!AI544","v":0},{"$f":"Import!AJ544","v":0},{"$f":"Import!AK544","v":0},{"$f":"Import!AL544","v":0}]
[null,{"$f":"Import!A545","v":0},{"$f":"Import!B545","v":0},{"$f":"Import!H545","v":0},{"$f":"Import!I545","v":0},{"$f":"Import!J545","v":0},{"$f":"Import!K545","v":0},{"$f":"Import!L545","v":0},{"$f":"Import!M545","v":0},{"$f":"Import!N545","v":0},{"$f":"Import!O545","v":0},{"$f":"Import!P545","v":0},{"$f":"Import!Q545","v":0},{"$f":"Import!R545","v":0},{"$f":"Import!S545","v":0},{"$f":"Import!T545","v":0},{"$f":"Import!U545","v":0},{"$f":"Import!V545","v":0},{"$f":"Import!W545","v":0},{"$f":"Import!X545","v":0},{"$f":"Import!Y545","v":0},{"$f":"Import!Z545","v":0},{"$f":"Import!AA545","v":0},{"$f":"Import!AB545","v":0},{"$f":"Import!AC545","v":0},{"$f":"Import!AD545","v":0},{"$f":"Import!AE545","v":0},{"$f":"Import!AF545","v":0},{"$f":"Import!AG545","v":0},{"$f":"Import!AH545","v":0},{"$f":"Import!AI545","v":0},{"$f":"Import!AJ545","v":0},{"$f":"Import!AK545","v":0},{"$f":"Import!AL545","v":0}]
[null,{"$f":"Import!A546","v":0},{"$f":"Import!B546","v":0},{"$f":"Import!H546","v":0},{"$f":"Import!I546","v":0},{"$f":"Import!J546","v":0},{"$f":"Import!K546","v":0},{"$f":"Import!L546","v":0},{"$f":"Import!M546","v":0},{"$f":"Import!N546","v":0},{"$f":"Import!O546","v":0},{"$f":"Import!P546","v":0},{"$f":"Import!Q546","v":0},{"$f":"Import!R546","v":0},{"$f":"Import!S546","v":0},{"$f":"Import!T546","v":0},{"$f":"Import!U546","v":0},{"$f":"Import!V546","v":0},{"$f":"Import!W546","v":0},{"$f":"Import!X546","v":0},{"$f":"Import!Y546","v":0},{"$f":"Import!Z546","v":0},{"$f":"Import!AA546","v":0},{"$f":"Import!AB546","v":0},{"$f":"Import!AC546","v":0},{"$f":"Import!AD546","v":0},{"$f":"Import!AE546","v":0},{"$f":"Import!AF546","v":0},{"$f":"Import!AG546","v":0},{"$f":"Import!AH546","v":0},{"$f":"Import!AI546","v":0},{"$f":"Import!AJ546","v":0},{"$f":"Import!AK546","v":0},{"$f":"Import!AL546","v":0}]
[null,{"$f":"Import!A547","v":0},{"$f":"Import!B547","v":0},{"$f":"Import!H547","v":0},{"$f":"Import!I547","v":0},{"$f":"Import!J547","v":0},{"$f":"Import!K547","v":0},{"$f":"Import!L547","v":0},{"$f":"Import!M547","v":0},{"$f":"Import!N547","v":0},{"$f":"Import!O547","v":0},{"$f":"Import!P547","v":0},{"$f":"Import!Q547","v":0},{"$f":"Import!R547","v":0},{"$f":"Import!S547","v":0},{"$f":"Import!T547","v":0},{"$f":"Import!U547","v":0},{"$f":"Import!V547","v":0},{"$f":"Import!W547","v":0},{"$f":"Import!X547","v":0},{"$f":"Import!Y547","v":0},{"$f":"Import!Z547","v":0},{"$f":"Import!AA547","v":0},{"$f":"Import!AB547","v":0},{"$f":"Import!AC547","v":0},{"$f":"Import!AD547","v":0},{"$f":"Import!AE547","v":0},{"$f":"Import!AF547","v":0},{"$f":"Import!AG547","v":0},{"$f":"Import!AH547","v":0},{"$f":"Import!AI547","v":0},{"$f":"Import!AJ547","v":0},{"$f":"Import!AK547","v":0},{"$f":"Import!AL547","v":0}]
[null,{"$f":"Import!A548","v":0},{"$f":"Import!B548","v":0},{"$f":"Import!H548","v":0},{"$f":"Import!I548","v":0},{"$f":"Import!J548","v":0},{"$f":"Import!K548","v":0},{"$f":"Import!L548","v":0},{"$f":"Import!M548","v":0},{"$f":"Import!N548","v":0},{"$f":"Import!O548","v":0},{"$f":"Import!P548","v":0},{"$f":"Import!Q548","v":0},{"$f":"Import!R548","v":0},{"$f":"Import!S548","v":0},{"$f":"Import!T548","v":0},{"$f":"Import!U548","v":0},{"$f":"Import!V548","v":0},{"$f":"Import!W548","v":0},{"$f":"Import!X548","v":0},{"$f":"Import!Y548","v":0},{"$f":"Import!Z548","v":0},{"$f":"Import!AA548","v":0},{"$f":"Import!AB548","v":0},{"$f":"Import!AC548","v":0},{"$f":"Import!AD548","v":0},{"$f":"Import!AE548","v":0},{"$f":"Import!AF548","v":0},{"$f":"Import!AG548","v":0},{"$f":"Import!AH548","v":0},{"$f":"Import!AI548","v":0},{"$f":"Import!AJ548","v":0},{"$f":"Import!AK548","v":0},{"$f":"Import!AL548","v":0}]
[null,{"$f":"Import!A549","v":0},{"$f":"Import!B549","v":0},{"$f":"Import!H549","v":0},{"$f":"Import!I549","v":0},{"$f":"Import!J549","v":0},{"$f":"Import!K549","v":0},{"$f":"Import!L549","v":0},{"$f":"Import!M549","v":0},{"$f":"Import!N549","v":0},{"$f":"Import!O549","v":0},{"$f":"Import!P549","v":0},{"$f":"Import!Q549","v":0},{"$f":"Import!R549","v":0},{"$f":"Import!S549","v":0},{"$f":"Import!T549","v":0},{"$f":"Import!U549","v":0},{"$f":"Import!V549","v":0},{"$f":"Import!W549","v":0},{"$f":"Import!X549","v":0},{"$f":"Import!Y549","v":0},{"$f":"Import!Z549","v":0},{"$f":"Import!AA549","v":0},{"$f":"Import!AB549","v":0},{"$f":"Import!AC549","v":0},{"$f":"Import!AD549","v":0},{"$f":"Import!AE549","v":0},{"$f":"Import!AF549","v":0},{"$f":"Import!AG549","v":0},{"$f":"Import!AH549","v":0},{"$f":"Import!AI549","v":0},{"$f":"Import!AJ549","v":0},{"$f":"Import!AK549","v":0},{"$f":"Import!AL549","v":0}]
[null,{"$f":"Import!A550","v":0},{"$f":"Import!B550","v":0},{"$f":"Import!H550","v":0},{"$f":"Import!I550","v":0},{"$f":"Import!J550","v":0},{"$f":"Import!K550","v":0},{"$f":"Import!L550","v":0},{"$f":"Import!M550","v":0},{"$f":"Import!N550","v":0},{"$f":"Import!O550","v":0},{"$f":"Import!P550","v":0},{"$f":"Import!Q550","v":0},{"$f":"Import!R550","v":0},{"$f":"Import!S550","v":0},{"$f":"Import!T550","v":0},{"$f":"Import!U550","v":0},{"$f":"Import!V550","v":0},{"$f":"Import!W550","v":0},{"$f":"Import!X550","v":0},{"$f":"Import!Y550","v":0},{"$f":"Import!Z550","v":0},{"$f":"Import!AA550","v":0},{"$f":"Import!AB550","v":0},{"$f":"Import!AC550","v":0},{"$f":"Import!AD550","v":0},{"$f":"Import!AE550","v":0},{"$f":"Import!AF550","v":0},{"$f":"Import!AG550","v":0},{"$f":"Import!AH550","v":0},{"$f":"Import!AI550","v":0},{"$f":"Import!AJ550","v":0},{"$f":"Import!AK550","v":0},{"$f":"Import!AL550","v":0}]
[null,{"$f":"Import!A551","v":0},{"$f":"Import!B551","v":0},{"$f":"Import!H551","v":0},{"$f":"Import!I551","v":0},{"$f":"Import!J551","v":0},{"$f":"Import!K551","v":0},{"$f":"Import!L551","v":0},{"$f":"Import!M551","v":0},{"$f":"Import!N551","v":0},{"$f":"Import!O551","v":0},{"$f":"Import!P551","v":0},{"$f":"Import!Q551","v":0},{"$f":"Import!R551","v":0},{"$f":"Import!S551","v":0},{"$f":"Import!T551","v":0},{"$f":"Import!U551","v":0},{"$f":"Import!V551","v":0},{"$f":"Import!W551","v":0},{"$f":"Import!X551","v":0},{"$f":"Import!Y551","v":0},{"$f":"Import!Z551","v":0},{"$f":"Import!AA551","v":0},{"$f":"Import!AB551","v":0},{"$f":"Import!AC551","v":0},{"$f":"Import!AD551","v":0},{"$f":"Import!AE551","v":0},{"$f":"Import!AF551","v":0},{"$f":"Import!AG551","v":0},{"$f":"Import!AH551","v":0},{"$f":"Import!AI551","v":0},{"$f":"Import!AJ551","v":0},{"$f":"Import!AK551","v":0},{"$f":"Import!AL551","v":0}]
[null,{"$f":"Import!A552","v":0},{"$f":"Import!B552","v":0},{"$f":"Import!H552","v":0},{"$f":"Import!I552","v":0},{"$f":"Import!J552","v":0},{"$f":"Import!K552","v":0},{"$f":"Import!L552","v":0},{"$f":"Import!M552","v":0},{"$f":"Import!N552","v":0},{"$f":"Import!O552","v":0},{"$f":"Import!P552","v":0},{"$f":"Import!Q552","v":0},{"$f":"Import!R552","v":0},{"$f":"Import!S552","v":0},{"$f":"Import!T552","v":0},{"$f":"Import!U552","v":0},{"$f":"Import!V552","v":0},{"$f":"Import!W552","v":0},{"$f":"Import!X552","v":0},{"$f":"Import!Y552","v":0},{"$f":"Import!Z552","v":0},{"$f":"Import!AA552","v":0},{"$f":"Import!AB552","v":0},{"$f":"Import!AC552","v":0},{"$f":"Import!AD552","v":0},{"$f":"Import!AE552","v":0},{"$f":"Import!AF552","v":0},{"$f":"Import!AG552","v":0},{"$f":"Import!AH552","v":0},{"$f":"Import!AI552","v":0},{"$f":"Import!AJ552","v":0},{"$f":"Import!AK552","v":0},{"$f":"Import!AL552","v":0}]
[null,{"$f":"Import!A553","v":0},{"$f":"Import!B553","v":0},{"$f":"Import!H553","v":0},{"$f":"Import!I553","v":0},{"$f":"Import!J553","v":0},{"$f":"Import!K553","v":0},{"$f":"Import!L553","v":0},{"$f":"Import!M553","v":0},{"$f":"Import!N553","v":0},{"$f":"Import!O553","v":0},{"$f":"Import!P553","v":0},{"$f":"Import!Q553","v":0},{"$f":"Import!R553","v":0},{"$f":"Import!S553","v":0},{"$f":"Import!T553","v":0},{"$f":"Import!U553","v":0},{"$f":"Import!V553","v":0},{"$f":"Import!W553","v":0},{"$f":"Import!X553","v":0},{"$f":"Import!Y553","v":0},{"$f":"Import!Z553","v":0},{"$f":"Import!AA553","v":0},{"$f":"Import!AB553","v":0},{"$f":"Import!AC553","v":0},{"$f":"Import!AD553","v":0},{"$f":"Import!AE553","v":0},{"$f":"Import!AF553","v":0},{"$f":"Import!AG553","v":0},{"$f":"Import!AH553","v":0},{"$f":"Import!AI553","v":0},{"$f":"Import!AJ553","v":0},{"$f":"Import!AK553","v":0},{"$f":"Import!AL553","v":0}]
[null,{"$f":"Import!A554","v":0},{"$f":"Import!B554","v":0},{"$f":"Import!H554","v":0},{"$f":"Import!I554","v":0},{"$f":"Import!J554","v":0},{"$f":"Import!K554","v":0},{"$f":"Import!L554","v":0},{"$f":"Import!M554","v":0},{"$f":"Import!N554","v":0},{"$f":"Import!O554","v":0},{"$f":"Import!P554","v":0},{"$f":"Import!Q554","v":0},{"$f":"Import!R554","v":0},{"$f":"Import!S554","v":0},{"$f":"Import!T554","v":0},{"$f":"Import!U554","v":0},{"$f":"Import!V554","v":0},{"$f":"Import!W554","v":0},{"$f":"Import!X554","v":0},{"$f":"Import!Y554","v":0},{"$f":"Import!Z554","v":0},{"$f":"Import!AA554","v":0},{"$f":"Import!AB554","v":0},{"$f":"Import!AC554","v":0},{"$f":"Import!AD554","v":0},{"$f":"Import!AE554","v":0},{"$f":"Import!AF554","v":0},{"$f":"Import!AG554","v":0},{"$f":"Import!AH554","v":0},{"$f":"Import!AI554","v":0},{"$f":"Import!AJ554","v":0},{"$f":"Import!AK554","v":0},{"$f":"Import!AL554","v":0}]
[null,{"$f":"Import!A555","v":0},{"$f":"Import!B555","v":0},{"$f":"Import!H555","v":0},{"$f":"Import!I555","v":0},{"$f":"Import!J555","v":0},{"$f":"Import!K555","v":0},{"$f":"Import!L555","v":0},{"$f":"Import!M555","v":0},{"$f":"Import!N555","v":0},{"$f":"Import!O555","v":0},{"$f":"Import!P555","v":0},{"$f":"Import!Q555","v":0},{"$f":"Import!R555","v":0},{"$f":"Import!S555","v":0},{"$f":"Import!T555","v":0},{"$f":"Import!U555","v":0},{"$f":"Import!V555","v":0},{"$f":"Import!W555","v":0},{"$f":"Import!X555","v":0},{"$f":"Import!Y555","v":0},{"$f":"Import!Z555","v":0},{"$f":"Import!AA555","v":0},{"$f":"Import!AB555","v":0},{"$f":"Import!AC555","v":0},{"$f":"Import!AD555","v":0},{"$f":"Import!AE555","v":0},{"$f":"Import!AF555","v":0},{"$f":"Import!AG555","v":0},{"$f":"Import!AH555","v":0},{"$f":"Import!AI555","v":0},{"$f":"Import!AJ555","v":0},{"$f":"Import!AK555","v":0},{"$f":"Import!AL555","v":0}]
[null,{"$f":"Import!A556","v":0},{"$f":"Import!B556","v":0},{"$f":"Import!H556","v":0},{"$f":"Import!I556","v":0},{"$f":"Import!J556","v":0},{"$f":"Import!K556","v":0},{"$f":"Import!L556","v":0},{"$f":"Import!M556","v":0},{"$f":"Import!N556","v":0},{"$f":"Import!O556","v":0},{"$f":"Import!P556","v":0},{"$f":"Import!Q556","v":0},{"$f":"Import!R556","v":0},{"$f":"Import!S556","v":0},{"$f":"Import!T556","v":0},{"$f":"Import!U556","v":0},{"$f":"Import!V556","v":0},{"$f":"Import!W556","v":0},{"$f":"Import!X556","v":0},{"$f":"Import!Y556","v":0},{"$f":"Import!Z556","v":0},{"$f":"Import!AA556","v":0},{"$f":"Import!AB556","v":0},{"$f":"Import!AC556","v":0},{"$f":"Import!AD556","v":0},{"$f":"Import!AE556","v":0},{"$f":"Import!AF556","v":0},{"$f":"Import!AG556","v":0},{"$f":"Import!AH556","v":0},{"$f":"Import!AI556","v":0},{"$f":"Import!AJ556","v":0},{"$f":"Import!AK556","v":0},{"$f":"Import!AL556","v":0}]
[null,{"$f":"Import!A557","v":0},{"$f":"Import!B557","v":0},{"$f":"Import!H557","v":0},{"$f":"Import!I557","v":0},{"$f":"Import!J557","v":0},{"$f":"Import!K557","v":0},{"$f":"Import!L557","v":0},{"$f":"Import!M557","v":0},{"$f":"Import!N557","v":0},{"$f":"Import!O557","v":0},{"$f":"Import!P557","v":0},{"$f":"Import!Q557","v":0},{"$f":"Import!R557","v":0},{"$f":"Import!S557","v":0},{"$f":"Import!T557","v":0},{"$f":"Import!U557","v":0},{"$f":"Import!V557","v":0},{"$f":"Import!W557","v":0},{"$f":"Import!X557","v":0},{"$f":"Import!Y557","v":0},{"$f":"Import!Z557","v":0},{"$f":"Import!AA557","v":0},{"$f":"Import!AB557","v":0},{"$f":"Import!AC557","v":0},{"$f":"Import!AD557","v":0},{"$f":"Import!AE557","v":0},{"$f":"Import!AF557","v":0},{"$f":"Import!AG557","v":0},{"$f":"Import!AH557","v":0},{"$f":"Import!AI557","v":0},{"$f":"Import!AJ557","v":0},{"$f":"Import!AK557","v":0},{"$f":"Import!AL557","v":0}]
[null,{"$f":"Import!A558","v":0},{"$f":"Import!B558","v":0},{"$f":"Import!H558","v":0},{"$f":"Import!I558","v":0},{"$f":"Import!J558","v":0},{"$f":"Import!K558","v":0},{"$f":"Import!L558","v":0},{"$f":"Import!M558","v":0},{"$f":"Import!N558","v":0},{"$f":"Import!O558","v":0},{"$f":"Import!P558","v":0},{"$f":"Import!Q558","v":0},{"$f":"Import!R558","v":0},{"$f":"Import!S558","v":0},{"$f":"Import!T558","v":0},{"$f":"Import!U558","v":0},{"$f":"Import!V558","v":0},{"$f":"Import!W558","v":0},{"$f":"Import!X558","v":0},{"$f":"Import!Y558","v":0},{"$f":"Import!Z558","v":0},{"$f":"Import!AA558","v":0},{"$f":"Import!AB558","v":0},{"$f":"Import!AC558","v":0},{"$f":"Import!AD558","v":0},{"$f":"Import!AE558","v":0},{"$f":"Import!AF558","v":0},{"$f":"Import!AG558","v":0},{"$f":"Import!AH558","v":0},{"$f":"Import!AI558","v":0},{"$f":"Import!AJ558","v":0},{"$f":"Import!AK558","v":0},{"$f":"Import!AL558","v":0}]
[null,{"$f":"Import!A559","v":0},{"$f":"Import!B559","v":0},{"$f":"Import!H559","v":0},{"$f":"Import!I559","v":0},{"$f":"Import!J559","v":0},{"$f":"Import!K559","v":0},{"$f":"Import!L559","v":0},{"$f":"Import!M559","v":0},{"$f":"Import!N559","v":0},{"$f":"Import!O559","v":0},{"$f":"Import!P559","v":0},{"$f":"Import!Q559","v":0},{"$f":"Import!R559","v":0},{"$f":"Import!S559","v":0},{"$f":"Import!T559","v":0},{"$f":"Import!U559","v":0},{"$f":"Import!V559","v":0},{"$f":"Import!W559","v":0},{"$f":"Import!X559","v":0},{"$f":"Import!Y559","v":0},{"$f":"Import!Z559","v":0},{"$f":"Import!AA559","v":0},{"$f":"Import!AB559","v":0},{"$f":"Import!AC559","v":0},{"$f":"Import!AD559","v":0},{"$f":"Import!AE559","v":0},{"$f":"Import!AF559","v":0},{"$f":"Import!AG559","v":0},{"$f":"Import!AH559","v":0},{"$f":"Import!AI559","v":0},{"$f":"Import!AJ559","v":0},{"$f":"Import!AK559","v":0},{"$f":"Import!AL559","v":0}]
[null,{"$f":"Import!A560","v":0},{"$f":"Import!B560","v":0},{"$f":"Import!H560","v":0},{"$f":"Import!I560","v":0},{"$f":"Import!J560","v":0},{"$f":"Import!K560","v":0},{"$f":"Import!L560","v":0},{"$f":"Import!M560","v":0},{"$f":"Import!N560","v":0},{"$f":"Import!O560","v":0},{"$f":"Import!P560","v":0},{"$f":"Import!Q560","v":0},{"$f":"Import!R560","v":0},{"$f":"Import!S560","v":0},{"$f":"Import!T560","v":0},{"$f":"Import!U560","v":0},{"$f":"Import!V560","v":0},{"$f":"Import!W560","v":0},{"$f":"Import!X560","v":0},{"$f":"Import!Y560","v":0},{"$f":"Import!Z560","v":0},{"$f":"Import!AA560","v":0},{"$f":"Import!AB560","v":0},{"$f":"Import!AC560","v":0},{"$f":"Import!AD560","v":0},{"$f":"Import!AE560","v":0},{"$f":"Import!AF560","v":0},{"$f":"Import!AG560","v":0},{"$f":"Import!AH560","v":0},{"$f":"Import!AI560","v":0},{"$f":"Import!AJ560","v":0},{"$f":"Import!AK560","v":0},{"$f":"Import!AL560","v":0}]
[null,{"$f":"Import!A561","v":0},{"$f":"Import!B561","v":0},{"$f":"Import!H561","v":0},{"$f":"Import!I561","v":0},{"$f":"Import!J561","v":0},{"$f":"Import!K561","v":0},{"$f":"Import!L561","v":0},{"$f":"Import!M561","v":0},{"$f":"Import!N561","v":0},{"$f":"Import!O561","v":0},{"$f":"Import!P561","v":0},{"$f":"Import!Q561","v":0},{"$f":"Import!R561","v":0},{"$f":"Import!S561","v":0},{"$f":"Import!T561","v":0},{"$f":"Import!U561","v":0},{"$f":"Import!V561","v":0},{"$f":"Import!W561","v":0},{"$f":"Import!X561","v":0},{"$f":"Import!Y561","v":0},{"$f":"Import!Z561","v":0},{"$f":"Import!AA561","v":0},{"$f":"Import!AB561","v":0},{"$f":"Import!AC561","v":0},{"$f":"Import!AD561","v":0},{"$f":"Import!AE561","v":0},{"$f":"Import!AF561","v":0},{"$f":"Import!AG561","v":0},{"$f":"Import!AH561","v":0},{"$f":"Import!AI561","v":0},{"$f":"Import!AJ561","v":0},{"$f":"Import!AK561","v":0},{"$f":"Import!AL561","v":0}]
[null,{"$f":"Import!A562","v":0},{"$f":"Import!B562","v":0},{"$f":"Import!H562","v":0},{"$f":"Import!I562","v":0},{"$f":"Import!J562","v":0},{"$f":"Import!K562","v":0},{"$f":"Import!L562","v":0},{"$f":"Import!M562","v":0},{"$f":"Import!N562","v":0},{"$f":"Import!O562","v":0},{"$f":"Import!P562","v":0},{"$f":"Import!Q562","v":0},{"$f":"Import!R562","v":0},{"$f":"Import!S562","v":0},{"$f":"Import!T562","v":0},{"$f":"Import!U562","v":0},{"$f":"Import!V562","v":0},{"$f":"Import!W562","v":0},{"$f":"Import!X562","v":0},{"$f":"Import!Y562","v":0},{"$f":"Import!Z562","v":0},{"$f":"Import!AA562","v":0},{"$f":"Import!AB562","v":0},{"$f":"Import!AC562","v":0},{"$f":"Import!AD562","v":0},{"$f":"Import!AE562","v":0},{"$f":"Import!AF562","v":0},{"$f":"Import!AG562","v":0},{"$f":"Import!AH562","v":0},{"$f":"Import!AI562","v":0},{"$f":"Import!AJ562","v":0},{"$f":"Import!AK562","v":0},{"$f":"Import!AL562","v":0}]
[null,{"$f":"Import!A563","v":0},{"$f":"Import!B563","v":0},{"$f":"Import!H563","v":0},{"$f":"Import!I563","v":0},{"$f":"Import!J563","v":0},{"$f":"Import!K563","v":0},{"$f":"Import!L563","v":0},{"$f":"Import!M563","v":0},{"$f":"Import!N563","v":0},{"$f":"Import!O563","v":0},{"$f":"Import!P563","v":0},{"$f":"Import!Q563","v":0},{"$f":"Import!R563","v":0},{"$f":"Import!S563","v":0},{"$f":"Import!T563","v":0},{"$f":"Import!U563","v":0},{"$f":"Import!V563","v":0},{"$f":"Import!W563","v":0},{"$f":"Import!X563","v":0},{"$f":"Import!Y563","v":0},{"$f":"Import!Z563","v":0},{"$f":"Import!AA563","v":0},{"$f":"Import!AB563","v":0},{"$f":"Import!AC563","v":0},{"$f":"Import!AD563","v":0},{"$f":"Import!AE563","v":0},{"$f":"Import!AF563","v":0},{"$f":"Import!AG563","v":0},{"$f":"Import!AH563","v":0},{"$f":"Import!AI563","v":0},{"$f":"Import!AJ563","v":0},{"$f":"Import!AK563","v":0},{"$f":"Import!AL563","v":0}]
[null,{"$f":"Import!A564","v":0},{"$f":"Import!B564","v":0},{"$f":"Import!H564","v":0},{"$f":"Import!I564","v":0},{"$f":"Import!J564","v":0},{"$f":"Import!K564","v":0},{"$f":"Import!L564","v":0},{"$f":"Import!M564","v":0},{"$f":"Import!N564","v":0},{"$f":"Import!O564","v":0},{"$f":"Import!P564","v":0},{"$f":"Import!Q564","v":0},{"$f":"Import!R564","v":0},{"$f":"Import!S564","v":0},{"$f":"Import!T564","v":0},{"$f":"Import!U564","v":0},{"$f":"Import!V564","v":0},{"$f":"Import!W564","v":0},{"$f":"Import!X564","v":0},{"$f":"Import!Y564","v":0},{"$f":"Import!Z564","v":0},{"$f":"Import!AA564","v":0},{"$f":"Import!AB564","v":0},{"$f":"Import!AC564","v":0},{"$f":"Import!AD564","v":0},{"$f":"Import!AE564","v":0},{"$f":"Import!AF564","v":0},{"$f":"Import!AG564","v":0},{"$f":"Import!AH564","v":0},{"$f":"Import!AI564","v":0},{"$f":"Import!AJ564","v":0},{"$f":"Import!AK564","v":0},{"$f":"Import!AL564","v":0}]
[null,{"$f":"Import!A565","v":0},{"$f":"Import!B565","v":0},{"$f":"Import!H565","v":0},{"$f":"Import!I565","v":0},{"$f":"Import!J565","v":0},{"$f":"Import!K565","v":0},{"$f":"Import!L565","v":0},{"$f":"Import!M565","v":0},{"$f":"Import!N565","v":0},{"$f":"Import!O565","v":0},{"$f":"Import!P565","v":0},{"$f":"Import!Q565","v":0},{"$f":"Import!R565","v":0},{"$f":"Import!S565","v":0},{"$f":"Import!T565","v":0},{"$f":"Import!U565","v":0},{"$f":"Import!V565","v":0},{"$f":"Import!W565","v":0},{"$f":"Import!X565","v":0},{"$f":"Import!Y565","v":0},{"$f":"Import!Z565","v":0},{"$f":"Import!AA565","v":0},{"$f":"Import!AB565","v":0},{"$f":"Import!AC565","v":0},{"$f":"Import!AD565","v":0},{"$f":"Import!AE565","v":0},{"$f":"Import!AF565","v":0},{"$f":"Import!AG565","v":0},{"$f":"Import!AH565","v":0},{"$f":"Import!AI565","v":0},{"$f":"Import!AJ565","v":0},{"$f":"Import!AK565","v":0},{"$f":"Import!AL565","v":0}]
[null,{"$f":"Import!A566","v":0},{"$f":"Import!B566","v":0},{"$f":"Import!H566","v":0},{"$f":"Import!I566","v":0},{"$f":"Import!J566","v":0},{"$f":"Import!K566","v":0},{"$f":"Import!L566","v":0},{"$f":"Import!M566","v":0},{"$f":"Import!N566","v":0},{"$f":"Import!O566","v":0},{"$f":"Import!P566","v":0},{"$f":"Import!Q566","v":0},{"$f":"Import!R566","v":0},{"$f":"Import!S566","v":0},{"$f":"Import!T566","v":0},{"$f":"Import!U566","v":0},{"$f":"Import!V566","v":0},{"$f":"Import!W566","v":0},{"$f":"Import!X566","v":0},{"$f":"Import!Y566","v":0},{"$f":"Import!Z566","v":0},{"$f":"Import!AA566","v":0},{"$f":"Import!AB566","v":0},{"$f":"Import!AC566","v":0},{"$f":"Import!AD566","v":0},{"$f":"Import!AE566","v":0},{"$f":"Import!AF566","v":0},{"$f":"Import!AG566","v":0},{"$f":"Import!AH566","v":0},{"$f":"Import!AI566","v":0},{"$f":"Import!AJ566","v":0},{"$f":"Import!AK566","v":0},{"$f":"Import!AL566","v":0}]
[null,{"$f":"Import!A567","v":0},{"$f":"Import!B567","v":0},{"$f":"Import!H567","v":0},{"$f":"Import!I567","v":0},{"$f":"Import!J567","v":0},{"$f":"Import!K567","v":0},{"$f":"Import!L567","v":0},{"$f":"Import!M567","v":0},{"$f":"Import!N567","v":0},{"$f":"Import!O567","v":0},{"$f":"Import!P567","v":0},{"$f":"Import!Q567","v":0},{"$f":"Import!R567","v":0},{"$f":"Import!S567","v":0},{"$f":"Import!T567","v":0},{"$f":"Import!U567","v":0},{"$f":"Import!V567","v":0},{"$f":"Import!W567","v":0},{"$f":"Import!X567","v":0},{"$f":"Import!Y567","v":0},{"$f":"Import!Z567","v":0},{"$f":"Import!AA567","v":0},{"$f":"Import!AB567","v":0},{"$f":"Import!AC567","v":0},{"$f":"Import!AD567","v":0},{"$f":"Import!AE567","v":0},{"$f":"Import!AF567","v":0},{"$f":"Import!AG567","v":0},{"$f":"Import!AH567","v":0},{"$f":"Import!AI567","v":0},{"$f":"Import!AJ567","v":0},{"$f":"Import!AK567","v":0},{"$f":"Import!AL567","v":0}]
[null,{"$f":"Import!A568","v":0},{"$f":"Import!B568","v":0},{"$f":"Import!H568","v":0},{"$f":"Import!I568","v":0},{"$f":"Import!J568","v":0},{"$f":"Import!K568","v":0},{"$f":"Import!L568","v":0},{"$f":"Import!M568","v":0},{"$f":"Import!N568","v":0},{"$f":"Import!O568","v":0},{"$f":"Import!P568","v":0},{"$f":"Import!Q568","v":0},{"$f":"Import!R568","v":0},{"$f":"Import!S568","v":0},{"$f":"Import!T568","v":0},{"$f":"Import!U568","v":0},{"$f":"Import!V568","v":0},{"$f":"Import!W568","v":0},{"$f":"Import!X568","v":0},{"$f":"Import!Y568","v":0},{"$f":"Import!Z568","v":0},{"$f":"Import!AA568","v":0},{"$f":"Import!AB568","v":0},{"$f":"Import!AC568","v":0},{"$f":"Import!AD568","v":0},{"$f":"Import!AE568","v":0},{"$f":"Import!AF568","v":0},{"$f":"Import!AG568","v":0},{"$f":"Import!AH568","v":0},{"$f":"Import!AI568","v":0},{"$f":"Import!AJ568","v":0},{"$f":"Import!AK568","v":0},{"$f":"Import!AL568","v":0}]
[null,{"$f":"Import!A569","v":0},{"$f":"Import!B569","v":0},{"$f":"Import!H569","v":0},{"$f":"Import!I569","v":0},{"$f":"Import!J569","v":0},{"$f":"Import!K569","v":0},{"$f":"Import!L569","v":0},{"$f":"Import!M569","v":0},{"$f":"Import!N569","v":0},{"$f":"Import!O569","v":0},{"$f":"Import!P569","v":0},{"$f":"Import!Q569","v":0},{"$f":"Import!R569","v":0},{"$f":"Import!S569","v":0},{"$f":"Import!T569","v":0},{"$f":"Import!U569","v":0},{"$f":"Import!V569","v":0},{"$f":"Import!W569","v":0},{"$f":"Import!X569","v":0},{"$f":"Import!Y569","v":0},{"$f":"Import!Z569","v":0},{"$f":"Import!AA569","v":0},{"$f":"Import!AB569","v":0},{"$f":"Import!AC569","v":0},{"$f":"Import!AD569","v":0},{"$f":"Import!AE569","v":0},{"$f":"Import!AF569","v":0},{"$f":"Import!AG569","v":0},{"$f":"Import!AH569","v":0},{"$f":"Import!AI569","v":0},{"$f":"Import!AJ569","v":0},{"$f":"Import!AK569","v":0},{"$f":"Import!AL569","v":0}]
[null,{"$f":"Import!A570","v":0},{"$f":"Import!B570","v":0},{"$f":"Import!H570","v":0},{"$f":"Import!I570","v":0},{"$f":"Import!J570","v":0},{"$f":"Import!K570","v":0},{"$f":"Import!L570","v":0},{"$f":"Import!M570","v":0},{"$f":"Import!N570","v":0},{"$f":"Import!O570","v":0},{"$f":"Import!P570","v":0},{"$f":"Import!Q570","v":0},{"$f":"Import!R570","v":0},{"$f":"Import!S570","v":0},{"$f":"Import!T570","v":0},{"$f":"Import!U570","v":0},{"$f":"Import!V570","v":0},{"$f":"Import!W570","v":0},{"$f":"Import!X570","v":0},{"$f":"Import!Y570","v":0},{"$f":"Import!Z570","v":0},{"$f":"Import!AA570","v":0},{"$f":"Import!AB570","v":0},{"$f":"Import!AC570","v":0},{"$f":"Import!AD570","v":0},{"$f":"Import!AE570","v":0},{"$f":"Import!AF570","v":0},{"$f":"Import!AG570","v":0},{"$f":"Import!AH570","v":0},{"$f":"Import!AI570","v":0},{"$f":"Import!AJ570","v":0},{"$f":"Import!AK570","v":0},{"$f":"Import!AL570","v":0}]
[null,{"$f":"Import!A571","v":0},{"$f":"Import!B571","v":0},{"$f":"Import!H571","v":0},{"$f":"Import!I571","v":0},{"$f":"Import!J571","v":0},{"$f":"Import!K571","v":0},{"$f":"Import!L571","v":0},{"$f":"Import!M571","v":0},{"$f":"Import!N571","v":0},{"$f":"Import!O571","v":0},{"$f":"Import!P571","v":0},{"$f":"Import!Q571","v":0},{"$f":"Import!R571","v":0},{"$f":"Import!S571","v":0},{"$f":"Import!T571","v":0},{"$f":"Import!U571","v":0},{"$f":"Import!V571","v":0},{"$f":"Import!W571","v":0},{"$f":"Import!X571","v":0},{"$f":"Import!Y571","v":0},{"$f":"Import!Z571","v":0},{"$f":"Import!AA571","v":0},{"$f":"Import!AB571","v":0},{"$f":"Import!AC571","v":0},{"$f":"Import!AD571","v":0},{"$f":"Import!AE571","v":0},{"$f":"Import!AF571","v":0},{"$f":"Import!AG571","v":0},{"$f":"Import!AH571","v":0},{"$f":"Import!AI571","v":0},{"$f":"Import!AJ571","v":0},{"$f":"Import!AK571","v":0},{"$f":"Import!AL571","v":0}]
[null,{"$f":"Import!A572","v":0},{"$f":"Import!B572","v":0},{"$f":"Import!H572","v":0},{"$f":"Import!I572","v":0},{"$f":"Import!J572","v":0},{"$f":"Import!K572","v":0},{"$f":"Import!L572","v":0},{"$f":"Import!M572","v":0},{"$f":"Import!N572","v":0},{"$f":"Import!O572","v":0},{"$f":"Import!P572","v":0},{"$f":"Import!Q572","v":0},{"$f":"Import!R572","v":0},{"$f":"Import!S572","v":0},{"$f":"Import!T572","v":0},{"$f":"Import!U572","v":0},{"$f":"Import!V572","v":0},{"$f":"Import!W572","v":0},{"$f":"Import!X572","v":0},{"$f":"Import!Y572","v":0},{"$f":"Import!Z572","v":0},{"$f":"Import!AA572","v":0},{"$f":"Import!AB572","v":0},{"$f":"Import!AC572","v":0},{"$f":"Import!AD572","v":0},{"$f":"Import!AE572","v":0},{"$f":"Import!AF572","v":0},{"$f":"Import!AG572","v":0},{"$f":"Import!AH572","v":0},{"$f":"Import!AI572","v":0},{"$f":"Import!AJ572","v":0},{"$f":"Import!AK572","v":0},{"$f":"Import!AL572","v":0}]
[null,{"$f":"Import!A573","v":0},{"$f":"Import!B573","v":0},{"$f":"Import!H573","v":0},{"$f":"Import!I573","v":0},{"$f":"Import!J573","v":0},{"$f":"Import!K573","v":0},{"$f":"Import!L573","v":0},{"$f":"Import!M573","v":0},{"$f":"Import!N573","v":0},{"$f":"Import!O573","v":0},{"$f":"Import!P573","v":0},{"$f":"Import!Q573","v":0},{"$f":"Import!R573","v":0},{"$f":"Import!S573","v":0},{"$f":"Import!T573","v":0},{"$f":"Import!U573","v":0},{"$f":"Import!V573","v":0},{"$f":"Import!W573","v":0},{"$f":"Import!X573","v":0},{"$f":"Import!Y573","v":0},{"$f":"Import!Z573","v":0},{"$f":"Import!AA573","v":0},{"$f":"Import!AB573","v":0},{"$f":"Import!AC573","v":0},{"$f":"Import!AD573","v":0},{"$f":"Import!AE573","v":0},{"$f":"Import!AF573","v":0},{"$f":"Import!AG573","v":0},{"$f":"Import!AH573","v":0},{"$f":"Import!AI573","v":0},{"$f":"Import!AJ573","v":0},{"$f":"Import!AK573","v":0},{"$f":"Import!AL573","v":0}]
[null,{"$f":"Import!A574","v":0},{"$f":"Import!B574","v":0},{"$f":"Import!H574","v":0},{"$f":"Import!I574","v":0},{"$f":"Import!J574","v":0},{"$f":"Import!K574","v":0},{"$f":"Import!L574","v":0},{"$f":"Import!M574","v":0},{"$f":"Import!N574","v":0},{"$f":"Import!O574","v":0},{"$f":"Import!P574","v":0},{"$f":"Import!Q574","v":0},{"$f":"Import!R574","v":0},{"$f":"Import!S574","v":0},{"$f":"Import!T574","v":0},{"$f":"Import!U574","v":0},{"$f":"Import!V574","v":0},{"$f":"Import!W574","v":0},{"$f":"Import!X574","v":0},{"$f":"Import!Y574","v":0},{"$f":"Import!Z574","v":0},{"$f":"Import!AA574","v":0},{"$f":"Import!AB574","v":0},{"$f":"Import!AC574","v":0},{"$f":"Import!AD574","v":0},{"$f":"Import!AE574","v":0},{"$f":"Import!AF574","v":0},{"$f":"Import!AG574","v":0},{"$f":"Import!AH574","v":0},{"$f":"Import!AI574","v":0},{"$f":"Import!AJ574","v":0},{"$f":"Import!AK574","v":0},{"$f":"Import!AL574","v":0}]
[null,{"$f":"Import!A575","v":0},{"$f":"Import!B575","v":0},{"$f":"Import!H575","v":0},{"$f":"Import!I575","v":0},{"$f":"Import!J575","v":0},{"$f":"Import!K575","v":0},{"$f":"Import!L575","v":0},{"$f":"Import!M575","v":0},{"$f":"Import!N575","v":0},{"$f":"Import!O575","v":0},{"$f":"Import!P575","v":0},{"$f":"Import!Q575","v":0},{"$f":"Import!R575","v":0},{"$f":"Import!S575","v":0},{"$f":"Import!T575","v":0},{"$f":"Import!U575","v":0},{"$f":"Import!V575","v":0},{"$f":"Import!W575","v":0},{"$f":"Import!X575","v":0},{"$f":"Import!Y575","v":0},{"$f":"Import!Z575","v":0},{"$f":"Import!AA575","v":0},{"$f":"Import!AB575","v":0},{"$f":"Import!AC575","v":0},{"$f":"Import!AD575","v":0},{"$f":"Import!AE575","v":0},{"$f":"Import!AF575","v":0},{"$f":"Import!AG575","v":0},{"$f":"Import!AH575","v":0},{"$f":"Import!AI575","v":0},{"$f":"Import!AJ575","v":0},{"$f":"Import!AK575","v":0},{"$f":"Import!AL575","v":0}]
[null,{"$f":"Import!A576","v":0},{"$f":"Import!B576","v":0},{"$f":"Import!H576","v":0},{"$f":"Import!I576","v":0},{"$f":"Import!J576","v":0},{"$f":"Import!K576","v":0},{"$f":"Import!L576","v":0},{"$f":"Import!M576","v":0},{"$f":"Import!N576","v":0},{"$f":"Import!O576","v":0},{"$f":"Import!P576","v":0},{"$f":"Import!Q576","v":0},{"$f":"Import!R576","v":0},{"$f":"Import!S576","v":0},{"$f":"Import!T576","v":0},{"$f":"Import!U576","v":0},{"$f":"Import!V576","v":0},{"$f":"Import!W576","v":0},{"$f":"Import!X576","v":0},{"$f":"Import!Y576","v":0},{"$f":"Import!Z576","v":0},{"$f":"Import!AA576","v":0},{"$f":"Import!AB576","v":0},{"$f":"Import!AC576","v":0},{"$f":"Import!AD576","v":0},{"$f":"Import!AE576","v":0},{"$f":"Import!AF576","v":0},{"$f":"Import!AG576","v":0},{"$f":"Import!AH576","v":0},{"$f":"Import!AI576","v":0},{"$f":"Import!AJ576","v":0},{"$f":"Import!AK576","v":0},{"$f":"Import!AL576","v":0}]
[null,{"$f":"Import!A577","v":0},{"$f":"Import!B577","v":0},{"$f":"Import!H577","v":0},{"$f":"Import!I577","v":0},{"$f":"Import!J577","v":0},{"$f":"Import!K577","v":0},{"$f":"Import!L577","v":0},{"$f":"Import!M577","v":0},{"$f":"Import!N577","v":0},{"$f":"Import!O577","v":0},{"$f":"Import!P577","v":0},{"$f":"Import!Q577","v":0},{"$f":"Import!R577","v":0},{"$f":"Import!S577","v":0},{"$f":"Import!T577","v":0},{"$f":"Import!U577","v":0},{"$f":"Import!V577","v":0},{"$f":"Import!W577","v":0},{"$f":"Import!X577","v":0},{"$f":"Import!Y577","v":0},{"$f":"Import!Z577","v":0},{"$f":"Import!AA577","v":0},{"$f":"Import!AB577","v":0},{"$f":"Import!AC577","v":0},{"$f":"Import!AD577","v":0},{"$f":"Import!AE577","v":0},{"$f":"Import!AF577","v":0},{"$f":"Import!AG577","v":0},{"$f":"Import!AH577","v":0},{"$f":"Import!AI577","v":0},{"$f":"Import!AJ577","v":0},{"$f":"Import!AK577","v":0},{"$f":"Import!AL577","v":0}]
[null,{"$f":"Import!A578","v":0},{"$f":"Import!B578","v":0},{"$f":"Import!H578","v":0},{"$f":"Import!I578","v":0},{"$f":"Import!J578","v":0},{"$f":"Import!K578","v":0},{"$f":"Import!L578","v":0},{"$f":"Import!M578","v":0},{"$f":"Import!N578","v":0},{"$f":"Import!O578","v":0},{"$f":"Import!P578","v":0},{"$f":"Import!Q578","v":0},{"$f":"Import!R578","v":0},{"$f":"Import!S578","v":0},{"$f":"Import!T578","v":0},{"$f":"Import!U578","v":0},{"$f":"Import!V578","v":0},{"$f":"Import!W578","v":0},{"$f":"Import!X578","v":0},{"$f":"Import!Y578","v":0},{"$f":"Import!Z578","v":0},{"$f":"Import!AA578","v":0},{"$f":"Import!AB578","v":0},{"$f":"Import!AC578","v":0},{"$f":"Import!AD578","v":0},{"$f":"Import!AE578","v":0},{"$f":"Import!AF578","v":0},{"$f":"Import!AG578","v":0},{"$f":"Import!AH578","v":0},{"$f":"Import!AI578","v":0},{"$f":"Import!AJ578","v":0},{"$f":"Import!AK578","v":0},{"$f":"Import!AL578","v":0}]
[null,{"$f":"Import!A579","v":0},{"$f":"Import!B579","v":0},{"$f":"Import!H579","v":0},{"$f":"Import!I579","v":0},{"$f":"Import!J579","v":0},{"$f":"Import!K579","v":0},{"$f":"Import!L579","v":0},{"$f":"Import!M579","v":0},{"$f":"Import!N579","v":0},{"$f":"Import!O579","v":0},{"$f":"Import!P579","v":0},{"$f":"Import!Q579","v":0},{"$f":"Import!R579","v":0},{"$f":"Import!S579","v":0},{"$f":"Import!T579","v":0},{"$f":"Import!U579","v":0},{"$f":"Import!V579","v":0},{"$f":"Import!W579","v":0},{"$f":"Import!X579","v":0},{"$f":"Import!Y579","v":0},{"$f":"Import!Z579","v":0},{"$f":"Import!AA579","v":0},{"$f":"Import!AB579","v":0},{"$f":"Import!AC579","v":0},{"$f":"Import!AD579","v":0},{"$f":"Import!AE579","v":0},{"$f":"Import!AF579","v":0},{"$f":"Import!AG579","v":0},{"$f":"Import!AH579","v":0},{"$f":"Import!AI579","v":0},{"$f":"Import!AJ579","v":0},{"$f":"Import!AK579","v":0},{"$f":"Import!AL579","v":0}]
[null,{"$f":"Import!A580","v":0},{"$f":"Import!B580","v":0},{"$f":"Import!H580","v":0},{"$f":"Import!I580","v":0},{"$f":"Import!J580","v":0},{"$f":"Import!K580","v":0},{"$f":"Import!L580","v":0},{"$f":"Import!M580","v":0},{"$f":"Import!N580","v":0},{"$f":"Import!O580","v":0},{"$f":"Import!P580","v":0},{"$f":"Import!Q580","v":0},{"$f":"Import!R580","v":0},{"$f":"Import!S580","v":0},{"$f":"Import!T580","v":0},{"$f":"Import!U580","v":0},{"$f":"Import!V580","v":0},{"$f":"Import!W580","v":0},{"$f":"Import!X580","v":0},{"$f":"Import!Y580","v":0},{"$f":"Import!Z580","v":0},{"$f":"Import!AA580","v":0},{"$f":"Import!AB580","v":0},{"$f":"Import!AC580","v":0},{"$f":"Import!AD580","v":0},{"$f":"Import!AE580","v":0},{"$f":"Import!AF580","v":0},{"$f":"Import!AG580","v":0},{"$f":"Import!AH580","v":0},{"$f":"Import!AI580","v":0},{"$f":"Import!AJ580","v":0},{"$f":"Import!AK580","v":0},{"$f":"Import!AL580","v":0}]
[null,{"$f":"Import!A581","v":0},{"$f":"Import!B581","v":0},{"$f":"Import!H581","v":0},{"$f":"Import!I581","v":0},{"$f":"Import!J581","v":0},{"$f":"Import!K581","v":0},{"$f":"Import!L581","v":0},{"$f":"Import!M581","v":0},{"$f":"Import!N581","v":0},{"$f":"Import!O581","v":0},{"$f":"Import!P581","v":0},{"$f":"Import!Q581","v":0},{"$f":"Import!R581","v":0},{"$f":"Import!S581","v":0},{"$f":"Import!T581","v":0},{"$f":"Import!U581","v":0},{"$f":"Import!V581","v":0},{"$f":"Import!W581","v":0},{"$f":"Import!X581","v":0},{"$f":"Import!Y581","v":0},{"$f":"Import!Z581","v":0},{"$f":"Import!AA581","v":0},{"$f":"Import!AB581","v":0},{"$f":"Import!AC581","v":0},{"$f":"Import!AD581","v":0},{"$f":"Import!AE581","v":0},{"$f":"Import!AF581","v":0},{"$f":"Import!AG581","v":0},{"$f":"Import!AH581","v":0},{"$f":"Import!AI581","v":0},{"$f":"Import!AJ581","v":0},{"$f":"Import!AK581","v":0},{"$f":"Import!AL581","v":0}]
[null,{"$f":"Import!A582","v":0},{"$f":"Import!B582","v":0},{"$f":"Import!H582","v":0},{"$f":"Import!I582","v":0},{"$f":"Import!J582","v":0},{"$f":"Import!K582","v":0},{"$f":"Import!L582","v":0},{"$f":"Import!M582","v":0},{"$f":"Import!N582","v":0},{"$f":"Import!O582","v":0},{"$f":"Import!P582","v":0},{"$f":"Import!Q582","v":0},{"$f":"Import!R582","v":0},{"$f":"Import!S582","v":0},{"$f":"Import!T582","v":0},{"$f":"Import!U582","v":0},{"$f":"Import!V582","v":0},{"$f":"Import!W582","v":0},{"$f":"Import!X582","v":0},{"$f":"Import!Y582","v":0},{"$f":"Import!Z582","v":0},{"$f":"Import!AA582","v":0},{"$f":"Import!AB582","v":0},{"$f":"Import!AC582","v":0},{"$f":"Import!AD582","v":0},{"$f":"Import!AE582","v":0},{"$f":"Import!AF582","v":0},{"$f":"Import!AG582","v":0},{"$f":"Import!AH582","v":0},{"$f":"Import!AI582","v":0},{"$f":"Import!AJ582","v":0},{"$f":"Import!AK582","v":0},{"$f":"Import!AL582","v":0}]
[null,{"$f":"Import!A583","v":0},{"$f":"Import!B583","v":0},{"$f":"Import!H583","v":0},{"$f":"Import!I583","v":0},{"$f":"Import!J583","v":0},{"$f":"Import!K583","v":0},{"$f":"Import!L583","v":0},{"$f":"Import!M583","v":0},{"$f":"Import!N583","v":0},{"$f":"Import!O583","v":0},{"$f":"Import!P583","v":0},{"$f":"Import!Q583","v":0},{"$f":"Import!R583","v":0},{"$f":"Import!S583","v":0},{"$f":"Import!T583","v":0},{"$f":"Import!U583","v":0},{"$f":"Import!V583","v":0},{"$f":"Import!W583","v":0},{"$f":"Import!X583","v":0},{"$f":"Import!Y583","v":0},{"$f":"Import!Z583","v":0},{"$f":"Import!AA583","v":0},{"$f":"Import!AB583","v":0},{"$f":"Import!AC583","v":0},{"$f":"Import!AD583","v":0},{"$f":"Import!AE583","v":0},{"$f":"Import!AF583","v":0},{"$f":"Import!AG583","v":0},{"$f":"Import!AH583","v":0},{"$f":"Import!AI583","v":0},{"$f":"Import!AJ583","v":0},{"$f":"Import!AK583","v":0},{"$f":"Import!AL583","v":0}]
[null,{"$f":"Import!A584","v":0},{"$f":"Import!B584","v":0},{"$f":"Import!H584","v":0},{"$f":"Import!I584","v":0},{"$f":"Import!J584","v":0},{"$f":"Import!K584","v":0},{"$f":"Import!L584","v":0},{"$f":"Import!M584","v":0},{"$f":"Import!N584","v":0},{"$f":"Import!O584","v":0},{"$f":"Import!P584","v":0},{"$f":"Import!Q584","v":0},{"$f":"Import!R584","v":0},{"$f":"Import!S584","v":0},{"$f":"Import!T584","v":0},{"$f":"Import!U584","v":0},{"$f":"Import!V584","v":0},{"$f":"Import!W584","v":0},{"$f":"Import!X584","v":0},{"$f":"Import!Y584","v":0},{"$f":"Import!Z584","v":0},{"$f":"Import!AA584","v":0},{"$f":"Import!AB584","v":0},{"$f":"Import!AC584","v":0},{"$f":"Import!AD584","v":0},{"$f":"Import!AE584","v":0},{"$f":"Import!AF584","v":0},{"$f":"Import!AG584","v":0},{"$f":"Import!AH584","v":0},{"$f":"Import!AI584","v":0},{"$f":"Import!AJ584","v":0},{"$f":"Import!AK584","v":0},{"$f":"Import!AL584","v":0}]
[null,{"$f":"Import!A585","v":0},{"$f":"Import!B585","v":0},{"$f":"Import!H585","v":0},{"$f":"Import!I585","v":0},{"$f":"Import!J585","v":0},{"$f":"Import!K585","v":0},{"$f":"Import!L585","v":0},{"$f":"Import!M585","v":0},{"$f":"Import!N585","v":0},{"$f":"Import!O585","v":0},{"$f":"Import!P585","v":0},{"$f":"Import!Q585","v":0},{"$f":"Import!R585","v":0},{"$f":"Import!S585","v":0},{"$f":"Import!T585","v":0},{"$f":"Import!U585","v":0},{"$f":"Import!V585","v":0},{"$f":"Import!W585","v":0},{"$f":"Import!X585","v":0},{"$f":"Import!Y585","v":0},{"$f":"Import!Z585","v":0},{"$f":"Import!AA585","v":0},{"$f":"Import!AB585","v":0},{"$f":"Import!AC585","v":0},{"$f":"Import!AD585","v":0},{"$f":"Import!AE585","v":0},{"$f":"Import!AF585","v":0},{"$f":"Import!AG585","v":0},{"$f":"Import!AH585","v":0},{"$f":"Import!AI585","v":0},{"$f":"Import!AJ585","v":0},{"$f":"Import!AK585","v":0},{"$f":"Import!AL585","v":0}]
[null,{"$f":"Import!A586","v":0},{"$f":"Import!B586","v":0},{"$f":"Import!H586","v":0},{"$f":"Import!I586","v":0},{"$f":"Import!J586","v":0},{"$f":"Import!K586","v":0},{"$f":"Import!L586","v":0},{"$f":"Import!M586","v":0},{"$f":"Import!N586","v":0},{"$f":"Import!O586","v":0},{"$f":"Import!P586","v":0},{"$f":"Import!Q586","v":0},{"$f":"Import!R586","v":0},{"$f":"Import!S586","v":0},{"$f":"Import!T586","v":0},{"$f":"Import!U586","v":0},{"$f":"Import!V586","v":0},{"$f":"Import!W586","v":0},{"$f":"Import!X586","v":0},{"$f":"Import!Y586","v":0},{"$f":"Import!Z586","v":0},{"$f":"Import!AA586","v":0},{"$f":"Import!AB586","v":0},{"$f":"Import!AC586","v":0},{"$f":"Import!AD586","v":0},{"$f":"Import!AE586","v":0},{"$f":"Import!AF586","v":0},{"$f":"Import!AG586","v":0},{"$f":"Import!AH586","v":0},{"$f":"Import!AI586","v":0},{"$f":"Import!AJ586","v":0},{"$f":"Import!AK586","v":0},{"$f":"Import!AL586","v":0}]
[null,{"$f":"Import!A587","v":0},{"$f":"Import!B587","v":0},{"$f":"Import!H587","v":0},{"$f":"Import!I587","v":0},{"$f":"Import!J587","v":0},{"$f":"Import!K587","v":0},{"$f":"Import!L587","v":0},{"$f":"Import!M587","v":0},{"$f":"Import!N587","v":0},{"$f":"Import!O587","v":0},{"$f":"Import!P587","v":0},{"$f":"Import!Q587","v":0},{"$f":"Import!R587","v":0},{"$f":"Import!S587","v":0},{"$f":"Import!T587","v":0},{"$f":"Import!U587","v":0},{"$f":"Import!V587","v":0},{"$f":"Import!W587","v":0},{"$f":"Import!X587","v":0},{"$f":"Import!Y587","v":0},{"$f":"Import!Z587","v":0},{"$f":"Import!AA587","v":0},{"$f":"Import!AB587","v":0},{"$f":"Import!AC587","v":0},{"$f":"Import!AD587","v":0},{"$f":"Import!AE587","v":0},{"$f":"Import!AF587","v":0},{"$f":"Import!AG587","v":0},{"$f":"Import!AH587","v":0},{"$f":"Import!AI587","v":0},{"$f":"Import!AJ587","v":0},{"$f":"Import!AK587","v":0},{"$f":"Import!AL587","v":0}]
[null,{"$f":"Import!A588","v":0},{"$f":"Import!B588","v":0},{"$f":"Import!H588","v":0},{"$f":"Import!I588","v":0},{"$f":"Import!J588","v":0},{"$f":"Import!K588","v":0},{"$f":"Import!L588","v":0},{"$f":"Import!M588","v":0},{"$f":"Import!N588","v":0},{"$f":"Import!O588","v":0},{"$f":"Import!P588","v":0},{"$f":"Import!Q588","v":0},{"$f":"Import!R588","v":0},{"$f":"Import!S588","v":0},{"$f":"Import!T588","v":0},{"$f":"Import!U588","v":0},{"$f":"Import!V588","v":0},{"$f":"Import!W588","v":0},{"$f":"Import!X588","v":0},{"$f":"Import!Y588","v":0},{"$f":"Import!Z588","v":0},{"$f":"Import!AA588","v":0},{"$f":"Import!AB588","v":0},{"$f":"Import!AC588","v":0},{"$f":"Import!AD588","v":0},{"$f":"Import!AE588","v":0},{"$f":"Import!AF588","v":0},{"$f":"Import!AG588","v":0},{"$f":"Import!AH588","v":0},{"$f":"Import!AI588","v":0},{"$f":"Import!AJ588","v":0},{"$f":"Import!AK588","v":0},{"$f":"Import!AL588","v":0}]
[null,{"$f":"Import!A589","v":0},{"$f":"Import!B589","v":0},{"$f":"Import!H589","v":0},{"$f":"Import!I589","v":0},{"$f":"Import!J589","v":0},{"$f":"Import!K589","v":0},{"$f":"Import!L589","v":0},{"$f":"Import!M589","v":0},{"$f":"Import!N589","v":0},{"$f":"Import!O589","v":0},{"$f":"Import!P589","v":0},{"$f":"Import!Q589","v":0},{"$f":"Import!R589","v":0},{"$f":"Import!S589","v":0},{"$f":"Import!T589","v":0},{"$f":"Import!U589","v":0},{"$f":"Import!V589","v":0},{"$f":"Import!W589","v":0},{"$f":"Import!X589","v":0},{"$f":"Import!Y589","v":0},{"$f":"Import!Z589","v":0},{"$f":"Import!AA589","v":0},{"$f":"Import!AB589","v":0},{"$f":"Import!AC589","v":0},{"$f":"Import!AD589","v":0},{"$f":"Import!AE589","v":0},{"$f":"Import!AF589","v":0},{"$f":"Import!AG589","v":0},{"$f":"Import!AH589","v":0},{"$f":"Import!AI589","v":0},{"$f":"Import!AJ589","v":0},{"$f":"Import!AK589","v":0},{"$f":"Import!AL589","v":0}]
[null,{"$f":"Import!A590","v":0},{"$f":"Import!B590","v":0},{"$f":"Import!H590","v":0},{"$f":"Import!I590","v":0},{"$f":"Import!J590","v":0},{"$f":"Import!K590","v":0},{"$f":"Import!L590","v":0},{"$f":"Import!M590","v":0},{"$f":"Import!N590","v":0},{"$f":"Import!O590","v":0},{"$f":"Import!P590","v":0},{"$f":"Import!Q590","v":0},{"$f":"Import!R590","v":0},{"$f":"Import!S590","v":0},{"$f":"Import!T590","v":0},{"$f":"Import!U590","v":0},{"$f":"Import!V590","v":0},{"$f":"Import!W590","v":0},{"$f":"Import!X590","v":0},{"$f":"Import!Y590","v":0},{"$f":"Import!Z590","v":0},{"$f":"Import!AA590","v":0},{"$f":"Import!AB590","v":0},{"$f":"Import!AC590","v":0},{"$f":"Import!AD590","v":0},{"$f":"Import!AE590","v":0},{"$f":"Import!AF590","v":0},{"$f":"Import!AG590","v":0},{"$f":"Import!AH590","v":0},{"$f":"Import!AI590","v":0},{"$f":"Import!AJ590","v":0},{"$f":"Import!AK590","v":0},{"$f":"Import!AL590","v":0}]
[null,{"$f":"Import!A591","v":0},{"$f":"Import!B591","v":0},{"$f":"Import!H591","v":0},{"$f":"Import!I591","v":0},{"$f":"Import!J591","v":0},{"$f":"Import!K591","v":0},{"$f":"Import!L591","v":0},{"$f":"Import!M591","v":0},{"$f":"Import!N591","v":0},{"$f":"Import!O591","v":0},{"$f":"Import!P591","v":0},{"$f":"Import!Q591","v":0},{"$f":"Import!R591","v":0},{"$f":"Import!S591","v":0},{"$f":"Import!T591","v":0},{"$f":"Import!U591","v":0},{"$f":"Import!V591","v":0},{"$f":"Import!W591","v":0},{"$f":"Import!X591","v":0},{"$f":"Import!Y591","v":0},{"$f":"Import!Z591","v":0},{"$f":"Import!AA591","v":0},{"$f":"Import!AB591","v":0},{"$f":"Import!AC591","v":0},{"$f":"Import!AD591","v":0},{"$f":"Import!AE591","v":0},{"$f":"Import!AF591","v":0},{"$f":"Import!AG591","v":0},{"$f":"Import!AH591","v":0},{"$f":"Import!AI591","v":0},{"$f":"Import!AJ591","v":0},{"$f":"Import!AK591","v":0},{"$f":"Import!AL591","v":0}]
[null,{"$f":"Import!A592","v":0},{"$f":"Import!B592","v":0},{"$f":"Import!H592","v":0},{"$f":"Import!I592","v":0},{"$f":"Import!J592","v":0},{"$f":"Import!K592","v":0},{"$f":"Import!L592","v":0},{"$f":"Import!M592","v":0},{"$f":"Import!N592","v":0},{"$f":"Import!O592","v":0},{"$f":"Import!P592","v":0},{"$f":"Import!Q592","v":0},{"$f":"Import!R592","v":0},{"$f":"Import!S592","v":0},{"$f":"Import!T592","v":0},{"$f":"Import!U592","v":0},{"$f":"Import!V592","v":0},{"$f":"Import!W592","v":0},{"$f":"Import!X592","v":0},{"$f":"Import!Y592","v":0},{"$f":"Import!Z592","v":0},{"$f":"Import!AA592","v":0},{"$f":"Import!AB592","v":0},{"$f":"Import!AC592","v":0},{"$f":"Import!AD592","v":0},{"$f":"Import!AE592","v":0},{"$f":"Import!AF592","v":0},{"$f":"Import!AG592","v":0},{"$f":"Import!AH592","v":0},{"$f":"Import!AI592","v":0},{"$f":"Import!AJ592","v":0},{"$f":"Import!AK592","v":0},{"$f":"Import!AL592","v":0}]
[null,{"$f":"Import!A593","v":0},{"$f":"Import!B593","v":0},{"$f":"Import!H593","v":0},{"$f":"Import!I593","v":0},{"$f":"Import!J593","v":0},{"$f":"Import!K593","v":0},{"$f":"Import!L593","v":0},{"$f":"Import!M593","v":0},{"$f":"Import!N593","v":0},{"$f":"Import!O593","v":0},{"$f":"Import!P593","v":0},{"$f":"Import!Q593","v":0},{"$f":"Import!R593","v":0},{"$f":"Import!S593","v":0},{"$f":"Import!T593","v":0},{"$f":"Import!U593","v":0},{"$f":"Import!V593","v":0},{"$f":"Import!W593","v":0},{"$f":"Import!X593","v":0},{"$f":"Import!Y593","v":0},{"$f":"Import!Z593","v":0},{"$f":"Import!AA593","v":0},{"$f":"Import!AB593","v":0},{"$f":"Import!AC593","v":0},{"$f":"Import!AD593","v":0},{"$f":"Import!AE593","v":0},{"$f":"Import!AF593","v":0},{"$f":"Import!AG593","v":0},{"$f":"Import!AH593","v":0},{"$f":"Import!AI593","v":0},{"$f":"Import!AJ593","v":0},{"$f":"Import!AK593","v":0},{"$f":"Import!AL593","v":0}]
[null,{"$f":"Import!A594","v":0},{"$f":"Import!B594","v":0},{"$f":"Import!H594","v":0},{"$f":"Import!I594","v":0},{"$f":"Import!J594","v":0},{"$f":"Import!K594","v":0},{"$f":"Import!L594","v":0},{"$f":"Import!M594","v":0},{"$f":"Import!N594","v":0},{"$f":"Import!O594","v":0},{"$f":"Import!P594","v":0},{"$f":"Import!Q594","v":0},{"$f":"Import!R594","v":0},{"$f":"Import!S594","v":0},{"$f":"Import!T594","v":0},{"$f":"Import!U594","v":0},{"$f":"Import!V594","v":0},{"$f":"Import!W594","v":0},{"$f":"Import!X594","v":0},{"$f":"Import!Y594","v":0},{"$f":"Import!Z594","v":0},{"$f":"Import!AA594","v":0},{"$f":"Import!AB594","v":0},{"$f":"Import!AC594","v":0},{"$f":"Import!AD594","v":0},{"$f":"Import!AE594","v":0},{"$f":"Import!AF594","v":0},{"$f":"Import!AG594","v":0},{"$f":"Import!AH594","v":0},{"$f":"Import!AI594","v":0},{"$f":"Import!AJ594","v":0},{"$f":"Import!AK594","v":0},{"$f":"Import!AL594","v":0}]
[null,{"$f":"Import!A595","v":0},{"$f":"Import!B595","v":0},{"$f":"Import!H595","v":0},{"$f":"Import!I595","v":0},{"$f":"Import!J595","v":0},{"$f":"Import!K595","v":0},{"$f":"Import!L595","v":0},{"$f":"Import!M595","v":0},{"$f":"Import!N595","v":0},{"$f":"Import!O595","v":0},{"$f":"Import!P595","v":0},{"$f":"Import!Q595","v":0},{"$f":"Import!R595","v":0},{"$f":"Import!S595","v":0},{"$f":"Import!T595","v":0},{"$f":"Import!U595","v":0},{"$f":"Import!V595","v":0},{"$f":"Import!W595","v":0},{"$f":"Import!X595","v":0},{"$f":"Import!Y595","v":0},{"$f":"Import!Z595","v":0},{"$f":"Import!AA595","v":0},{"$f":"Import!AB595","v":0},{"$f":"Import!AC595","v":0},{"$f":"Import!AD595","v":0},{"$f":"Import!AE595","v":0},{"$f":"Import!AF595","v":0},{"$f":"Import!AG595","v":0},{"$f":"Import!AH595","v":0},{"$f":"Import!AI595","v":0},{"$f":"Import!AJ595","v":0},{"$f":"Import!AK595","v":0},{"$f":"Import!AL595","v":0}]
[null,{"$f":"Import!A596","v":0},{"$f":"Import!B596","v":0},{"$f":"Import!H596","v":0},{"$f":"Import!I596","v":0},{"$f":"Import!J596","v":0},{"$f":"Import!K596","v":0},{"$f":"Import!L596","v":0},{"$f":"Import!M596","v":0},{"$f":"Import!N596","v":0},{"$f":"Import!O596","v":0},{"$f":"Import!P596","v":0},{"$f":"Import!Q596","v":0},{"$f":"Import!R596","v":0},{"$f":"Import!S596","v":0},{"$f":"Import!T596","v":0},{"$f":"Import!U596","v":0},{"$f":"Import!V596","v":0},{"$f":"Import!W596","v":0},{"$f":"Import!X596","v":0},{"$f":"Import!Y596","v":0},{"$f":"Import!Z596","v":0},{"$f":"Import!AA596","v":0},{"$f":"Import!AB596","v":0},{"$f":"Import!AC596","v":0},{"$f":"Import!AD596","v":0},{"$f":"Import!AE596","v":0},{"$f":"Import!AF596","v":0},{"$f":"Import!AG596","v":0},{"$f":"Import!AH596","v":0},{"$f":"Import!AI596","v":0},{"$f":"Import!AJ596","v":0},{"$f":"Import!AK596","v":0},{"$f":"Import!AL596","v":0}]
[null,{"$f":"Import!A597","v":0},{"$f":"Import!B597","v":0},{"$f":"Import!H597","v":0},{"$f":"Import!I597","v":0},{"$f":"Import!J597","v":0},{"$f":"Import!K597","v":0},{"$f":"Import!L597","v":0},{"$f":"Import!M597","v":0},{"$f":"Import!N597","v":0},{"$f":"Import!O597","v":0},{"$f":"Import!P597","v":0},{"$f":"Import!Q597","v":0},{"$f":"Import!R597","v":0},{"$f":"Import!S597","v":0},{"$f":"Import!T597","v":0},{"$f":"Import!U597","v":0},{"$f":"Import!V597","v":0},{"$f":"Import!W597","v":0},{"$f":"Import!X597","v":0},{"$f":"Import!Y597","v":0},{"$f":"Import!Z597","v":0},{"$f":"Import!AA597","v":0},{"$f":"Import!AB597","v":0},{"$f":"Import!AC597","v":0},{"$f":"Import!AD597","v":0},{"$f":"Import!AE597","v":0},{"$f":"Import!AF597","v":0},{"$f":"Import!AG597","v":0},{"$f":"Import!AH597","v":0},{"$f":"Import!AI597","v":0},{"$f":"Import!AJ597","v":0},{"$f":"Import!AK597","v":0},{"$f":"Import!AL597","v":0}]
[null,{"$f":"Import!A598","v":0},{"$f":"Import!B598","v":0},{"$f":"Import!H598","v":0},{"$f":"Import!I598","v":0},{"$f":"Import!J598","v":0},{"$f":"Import!K598","v":0},{"$f":"Import!L598","v":0},{"$f":"Import!M598","v":0},{"$f":"Import!N598","v":0},{"$f":"Import!O598","v":0},{"$f":"Import!P598","v":0},{"$f":"Import!Q598","v":0},{"$f":"Import!R598","v":0},{"$f":"Import!S598","v":0},{"$f":"Import!T598","v":0},{"$f":"Import!U598","v":0},{"$f":"Import!V598","v":0},{"$f":"Import!W598","v":0},{"$f":"Import!X598","v":0},{"$f":"Import!Y598","v":0},{"$f":"Import!Z598","v":0},{"$f":"Import!AA598","v":0},{"$f":"Import!AB598","v":0},{"$f":"Import!AC598","v":0},{"$f":"Import!AD598","v":0},{"$f":"Import!AE598","v":0},{"$f":"Import!AF598","v":0},{"$f":"Import!AG598","v":0},{"$f":"Import!AH598","v":0},{"$f":"Import!AI598","v":0},{"$f":"Import!AJ598","v":0},{"$f":"Import!AK598","v":0},{"$f":"Import!AL598","v":0}]
[null,{"$f":"Import!A599","v":0},{"$f":"Import!B599","v":0},{"$f":"Import!H599","v":0},{"$f":"Import!I599","v":0},{"$f":"Import!J599","v":0},{"$f":"Import!K599","v":0},{"$f":"Import!L599","v":0},{"$f":"Import!M599","v":0},{"$f":"Import!N599","v":0},{"$f":"Import!O599","v":0},{"$f":"Import!P599","v":0},{"$f":"Import!Q599","v":0},{"$f":"Import!R599","v":0},{"$f":"Import!S599","v":0},{"$f":"Import!T599","v":0},{"$f":"Import!U599","v":0},{"$f":"Import!V599","v":0},{"$f":"Import!W599","v":0},{"$f":"Import!X599","v":0},{"$f":"Import!Y599","v":0},{"$f":"Import!Z599","v":0},{"$f":"Import!AA599","v":0},{"$f":"Import!AB599","v":0},{"$f":"Import!AC599","v":0},{"$f":"Import!AD599","v":0},{"$f":"Import!AE599","v":0},{"$f":"Import!AF599","v":0},{"$f":"Import!AG599","v":0},{"$f":"Import!AH599","v":0},{"$f":"Import!AI599","v":0},{"$f":"Import!AJ599","v":0},{"$f":"Import!AK599","v":0},{"$f":"Import!AL599","v":0}]
[null,{"$f":"Import!A600","v":0},{"$f":"Import!B600","v":0},{"$f":"Import!H600","v":0},{"$f":"Import!I600","v":0},{"$f":"Import!J600","v":0},{"$f":"Import!K600","v":0},{"$f":"Import!L600","v":0},{"$f":"Import!M600","v":0},{"$f":"Import!N600","v":0},{"$f":"Import!O600","v":0},{"$f":"Import!P600","v":0},{"$f":"Import!Q600","v":0},{"$f":"Import!R600","v":0},{"$f":"Import!S600","v":0},{"$f":"Import!T600","v":0},{"$f":"Import!U600","v":0},{"$f":"Import!V600","v":0},{"$f":"Import!W600","v":0},{"$f":"Import!X600","v":0},{"$f":"Import!Y600","v":0},{"$f":"Import!Z600","v":0},{"$f":"Import!AA600","v":0},{"$f":"Import!AB600","v":0},{"$f":"Import!AC600","v":0},{"$f":"Import!AD600","v":0},{"$f":"Import!AE600","v":0},{"$f":"Import!AF600","v":0},{"$f":"Import!AG600","v":0},{"$f":"Import!AH600","v":0},{"$f":"Import!AI600","v":0},{"$f":"Import!AJ600","v":0},{"$f":"Import!AK600","v":0},{"$f":"Import!AL600","v":0}]
[null,{"$f":"Import!A601","v":0},{"$f":"Import!B601","v":0},{"$f":"Import!H601","v":0},{"$f":"Import!I601","v":0},{"$f":"Import!J601","v":0},{"$f":"Import!K601","v":0},{"$f":"Import!L601","v":0},{"$f":"Import!M601","v":0},{"$f":"Import!N601","v":0},{"$f":"Import!O601","v":0},{"$f":"Import!P601","v":0},{"$f":"Import!Q601","v":0},{"$f":"Import!R601","v":0},{"$f":"Import!S601","v":0},{"$f":"Import!T601","v":0},{"$f":"Import!U601","v":0},{"$f":"Import!V601","v":0},{"$f":"Import!W601","v":0},{"$f":"Import!X601","v":0},{"$f":"Import!Y601","v":0},{"$f":"Import!Z601","v":0},{"$f":"Import!AA601","v":0},{"$f":"Import!AB601","v":0},{"$f":"Import!AC601","v":0},{"$f":"Import!AD601","v":0},{"$f":"Import!AE601","v":0},{"$f":"Import!AF601","v":0},{"$f":"Import!AG601","v":0},{"$f":"Import!AH601","v":0},{"$f":"Import!AI601","v":0},{"$f":"Import!AJ601","v":0},{"$f":"Import!AK601","v":0},{"$f":"Import!AL601","v":0}]
[null,{"$f":"Import!A602","v":0},{"$f":"Import!B602","v":0},{"$f":"Import!H602","v":0},{"$f":"Import!I602","v":0},{"$f":"Import!J602","v":0},{"$f":"Import!K602","v":0},{"$f":"Import!L602","v":0},{"$f":"Import!M602","v":0},{"$f":"Import!N602","v":0},{"$f":"Import!O602","v":0},{"$f":"Import!P602","v":0},{"$f":"Import!Q602","v":0},{"$f":"Import!R602","v":0},{"$f":"Import!S602","v":0},{"$f":"Import!T602","v":0},{"$f":"Import!U602","v":0},{"$f":"Import!V602","v":0},{"$f":"Import!W602","v":0},{"$f":"Import!X602","v":0},{"$f":"Import!Y602","v":0},{"$f":"Import!Z602","v":0},{"$f":"Import!AA602","v":0},{"$f":"Import!AB602","v":0},{"$f":"Import!AC602","v":0},{"$f":"Import!AD602","v":0},{"$f":"Import!AE602","v":0},{"$f":"Import!AF602","v":0},{"$f":"Import!AG602","v":0},{"$f":"Import!AH602","v":0},{"$f":"Import!AI602","v":0},{"$f":"Import!AJ602","v":0},{"$f":"Import!AK602","v":0},{"$f":"Import!AL602","v":0}]
[null,{"$f":"Import!A603","v":0},{"$f":"Import!B603","v":0},{"$f":"Import!H603","v":0},{"$f":"Import!I603","v":0},{"$f":"Import!J603","v":0},{"$f":"Import!K603","v":0},{"$f":"Import!L603","v":0},{"$f":"Import!M603","v":0},{"$f":"Import!N603","v":0},{"$f":"Import!O603","v":0},{"$f":"Import!P603","v":0},{"$f":"Import!Q603","v":0},{"$f":"Import!R603","v":0},{"$f":"Import!S603","v":0},{"$f":"Import!T603","v":0},{"$f":"Import!U603","v":0},{"$f":"Import!V603","v":0},{"$f":"Import!W603","v":0},{"$f":"Import!X603","v":0},{"$f":"Import!Y603","v":0},{"$f":"Import!Z603","v":0},{"$f":"Import!AA603","v":0},{"$f":"Import!AB603","v":0},{"$f":"Import!AC603","v":0},{"$f":"Import!AD603","v":0},{"$f":"Import!AE603","v":0},{"$f":"Import!AF603","v":0},{"$f":"Import!AG603","v":0},{"$f":"Import!AH603","v":0},{"$f":"Import!AI603","v":0},{"$f":"Import!AJ603","v":0},{"$f":"Import!AK603","v":0},{"$f":"Import!AL603","v":0}]
[null,{"$f":"Import!A604","v":0},{"$f":"Import!B604","v":0},{"$f":"Import!H604","v":0},{"$f":"Import!I604","v":0},{"$f":"Import!J604","v":0},{"$f":"Import!K604","v":0},{"$f":"Import!L604","v":0},{"$f":"Import!M604","v":0},{"$f":"Import!N604","v":0},{"$f":"Import!O604","v":0},{"$f":"Import!P604","v":0},{"$f":"Import!Q604","v":0},{"$f":"Import!R604","v":0},{"$f":"Import!S604","v":0},{"$f":"Import!T604","v":0},{"$f":"Import!U604","v":0},{"$f":"Import!V604","v":0},{"$f":"Import!W604","v":0},{"$f":"Import!X604","v":0},{"$f":"Import!Y604","v":0},{"$f":"Import!Z604","v":0},{"$f":"Import!AA604","v":0},{"$f":"Import!AB604","v":0},{"$f":"Import!AC604","v":0},{"$f":"Import!AD604","v":0},{"$f":"Import!AE604","v":0},{"$f":"Import!AF604","v":0},{"$f":"Import!AG604","v":0},{"$f":"Import!AH604","v":0},{"$f":"Import!AI604","v":0},{"$f":"Import!AJ604","v":0},{"$f":"Import!AK604","v":0},{"$f":"Import!AL604","v":0}]
[null,{"$f":"Import!A605","v":0},{"$f":"Import!B605","v":0},{"$f":"Import!H605","v":0},{"$f":"Import!I605","v":0},{"$f":"Import!J605","v":0},{"$f":"Import!K605","v":0},{"$f":"Import!L605","v":0},{"$f":"Import!M605","v":0},{"$f":"Import!N605","v":0},{"$f":"Import!O605","v":0},{"$f":"Import!P605","v":0},{"$f":"Import!Q605","v":0},{"$f":"Import!R605","v":0},{"$f":"Import!S605","v":0},{"$f":"Import!T605","v":0},{"$f":"Import!U605","v":0},{"$f":"Import!V605","v":0},{"$f":"Import!W605","v":0},{"$f":"Import!X605","v":0},{"$f":"Import!Y605","v":0},{"$f":"Import!Z605","v":0},{"$f":"Import!AA605","v":0},{"$f":"Import!AB605","v":0},{"$f":"Import!AC605","v":0},{"$f":"Import!AD605","v":0},{"$f":"Import!AE605","v":0},{"$f":"Import!AF605","v":0},{"$f":"Import!AG605","v":0},{"$f":"Import!AH605","v":0},{"$f":"Import!AI605","v":0},{"$f":"Import!AJ605","v":0},{"$f":"Import!AK605","v":0},{"$f":"Import!AL605","v":0}]
[null,{"$f":"Import!A606","v":0},{"$f":"Import!B606","v":0},{"$f":"Import!H606","v":0},{"$f":"Import!I606","v":0},{"$f":"Import!J606","v":0},{"$f":"Import!K606","v":0},{"$f":"Import!L606","v":0},{"$f":"Import!M606","v":0},{"$f":"Import!N606","v":0},{"$f":"Import!O606","v":0},{"$f":"Import!P606","v":0},{"$f":"Import!Q606","v":0},{"$f":"Import!R606","v":0},{"$f":"Import!S606","v":0},{"$f":"Import!T606","v":0},{"$f":"Import!U606","v":0},{"$f":"Import!V606","v":0},{"$f":"Import!W606","v":0},{"$f":"Import!X606","v":0},{"$f":"Import!Y606","v":0},{"$f":"Import!Z606","v":0},{"$f":"Import!AA606","v":0},{"$f":"Import!AB606","v":0},{"$f":"Import!AC606","v":0},{"$f":"Import!AD606","v":0},{"$f":"Import!AE606","v":0},{"$f":"Import!AF606","v":0},{"$f":"Import!AG606","v":0},{"$f":"Import!AH606","v":0},{"$f":"Import!AI606","v":0},{"$f":"Import!AJ606","v":0},{"$f":"Import!AK606","v":0},{"$f":"Import!AL606","v":0}]
[null,{"$f":"Import!A607","v":0},{"$f":"Import!B607","v":0},{"$f":"Import!H607","v":0},{"$f":"Import!I607","v":0},{"$f":"Import!J607","v":0},{"$f":"Import!K607","v":0},{"$f":"Import!L607","v":0},{"$f":"Import!M607","v":0},{"$f":"Import!N607","v":0},{"$f":"Import!O607","v":0},{"$f":"Import!P607","v":0},{"$f":"Import!Q607","v":0},{"$f":"Import!R607","v":0},{"$f":"Import!S607","v":0},{"$f":"Import!T607","v":0},{"$f":"Import!U607","v":0},{"$f":"Import!V607","v":0},{"$f":"Import!W607","v":0},{"$f":"Import!X607","v":0},{"$f":"Import!Y607","v":0},{"$f":"Import!Z607","v":0},{"$f":"Import!AA607","v":0},{"$f":"Import!AB607","v":0},{"$f":"Import!AC607","v":0},{"$f":"Import!AD607","v":0},{"$f":"Import!AE607","v":0},{"$f":"Import!AF607","v":0},{"$f":"Import!AG607","v":0},{"$f":"Import!AH607","v":0},{"$f":"Import!AI607","v":0},{"$f":"Import!AJ607","v":0},{"$f":"Import!AK607","v":0},{"$f":"Import!AL607","v":0}]
[null,{"$f":"Import!A608","v":0},{"$f":"Import!B608","v":0},{"$f":"Import!H608","v":0},{"$f":"Import!I608","v":0},{"$f":"Import!J608","v":0},{"$f":"Import!K608","v":0},{"$f":"Import!L608","v":0},{"$f":"Import!M608","v":0},{"$f":"Import!N608","v":0},{"$f":"Import!O608","v":0},{"$f":"Import!P608","v":0},{"$f":"Import!Q608","v":0},{"$f":"Import!R608","v":0},{"$f":"Import!S608","v":0},{"$f":"Import!T608","v":0},{"$f":"Import!U608","v":0},{"$f":"Import!V608","v":0},{"$f":"Import!W608","v":0},{"$f":"Import!X608","v":0},{"$f":"Import!Y608","v":0},{"$f":"Import!Z608","v":0},{"$f":"Import!AA608","v":0},{"$f":"Import!AB608","v":0},{"$f":"Import!AC608","v":0},{"$f":"Import!AD608","v":0},{"$f":"Import!AE608","v":0},{"$f":"Import!AF608","v":0},{"$f":"Import!AG608","v":0},{"$f":"Import!AH608","v":0},{"$f":"Import!AI608","v":0},{"$f":"Import!AJ608","v":0},{"$f":"Import!AK608","v":0},{"$f":"Import!AL608","v":0}]
[null,{"$f":"Import!A609","v":0},{"$f":"Import!B609","v":0},{"$f":"Import!H609","v":0},{"$f":"Import!I609","v":0},{"$f":"Import!J609","v":0},{"$f":"Import!K609","v":0},{"$f":"Import!L609","v":0},{"$f":"Import!M609","v":0},{"$f":"Import!N609","v":0},{"$f":"Import!O609","v":0},{"$f":"Import!P609","v":0},{"$f":"Import!Q609","v":0},{"$f":"Import!R609","v":0},{"$f":"Import!S609","v":0},{"$f":"Import!T609","v":0},{"$f":"Import!U609","v":0},{"$f":"Import!V609","v":0},{"$f":"Import!W609","v":0},{"$f":"Import!X609","v":0},{"$f":"Import!Y609","v":0},{"$f":"Import!Z609","v":0},{"$f":"Import!AA609","v":0},{"$f":"Import!AB609","v":0},{"$f":"Import!AC609","v":0},{"$f":"Import!AD609","v":0},{"$f":"Import!AE609","v":0},{"$f":"Import!AF609","v":0},{"$f":"Import!AG609","v":0},{"$f":"Import!AH609","v":0},{"$f":"Import!AI609","v":0},{"$f":"Import!AJ609","v":0},{"$f":"Import!AK609","v":0},{"$f":"Import!AL609","v":0}]
[null,{"$f":"Import!A610","v":0},{"$f":"Import!B610","v":0},{"$f":"Import!H610","v":0},{"$f":"Import!I610","v":0},{"$f":"Import!J610","v":0},{"$f":"Import!K610","v":0},{"$f":"Import!L610","v":0},{"$f":"Import!M610","v":0},{"$f":"Import!N610","v":0},{"$f":"Import!O610","v":0},{"$f":"Import!P610","v":0},{"$f":"Import!Q610","v":0},{"$f":"Import!R610","v":0},{"$f":"Import!S610","v":0},{"$f":"Import!T610","v":0},{"$f":"Import!U610","v":0},{"$f":"Import!V610","v":0},{"$f":"Import!W610","v":0},{"$f":"Import!X610","v":0},{"$f":"Import!Y610","v":0},{"$f":"Import!Z610","v":0},{"$f":"Import!AA610","v":0},{"$f":"Import!AB610","v":0},{"$f":"Import!AC610","v":0},{"$f":"Import!AD610","v":0},{"$f":"Import!AE610","v":0},{"$f":"Import!AF610","v":0},{"$f":"Import!AG610","v":0},{"$f":"Import!AH610","v":0},{"$f":"Import!AI610","v":0},{"$f":"Import!AJ610","v":0},{"$f":"Import!AK610","v":0},{"$f":"Import!AL610","v":0}]
[null,{"$f":"Import!A611","v":0},{"$f":"Import!B611","v":0},{"$f":"Import!H611","v":0},{"$f":"Import!I611","v":0},{"$f":"Import!J611","v":0},{"$f":"Import!K611","v":0},{"$f":"Import!L611","v":0},{"$f":"Import!M611","v":0},{"$f":"Import!N611","v":0},{"$f":"Import!O611","v":0},{"$f":"Import!P611","v":0},{"$f":"Import!Q611","v":0},{"$f":"Import!R611","v":0},{"$f":"Import!S611","v":0},{"$f":"Import!T611","v":0},{"$f":"Import!U611","v":0},{"$f":"Import!V611","v":0},{"$f":"Import!W611","v":0},{"$f":"Import!X611","v":0},{"$f":"Import!Y611","v":0},{"$f":"Import!Z611","v":0},{"$f":"Import!AA611","v":0},{"$f":"Import!AB611","v":0},{"$f":"Import!AC611","v":0},{"$f":"Import!AD611","v":0},{"$f":"Import!AE611","v":0},{"$f":"Import!AF611","v":0},{"$f":"Import!AG611","v":0},{"$f":"Import!AH611","v":0},{"$f":"Import!AI611","v":0},{"$f":"Import!AJ611","v":0},{"$f":"Import!AK611","v":0},{"$f":"Import!AL611","v":0}]
[null,{"$f":"Import!A612","v":0},{"$f":"Import!B612","v":0},{"$f":"Import!H612","v":0},{"$f":"Import!I612","v":0},{"$f":"Import!J612","v":0},{"$f":"Import!K612","v":0},{"$f":"Import!L612","v":0},{"$f":"Import!M612","v":0},{"$f":"Import!N612","v":0},{"$f":"Import!O612","v":0},{"$f":"Import!P612","v":0},{"$f":"Import!Q612","v":0},{"$f":"Import!R612","v":0},{"$f":"Import!S612","v":0},{"$f":"Import!T612","v":0},{"$f":"Import!U612","v":0},{"$f":"Import!V612","v":0},{"$f":"Import!W612","v":0},{"$f":"Import!X612","v":0},{"$f":"Import!Y612","v":0},{"$f":"Import!Z612","v":0},{"$f":"Import!AA612","v":0},{"$f":"Import!AB612","v":0},{"$f":"Import!AC612","v":0},{"$f":"Import!AD612","v":0},{"$f":"Import!AE612","v":0},{"$f":"Import!AF612","v":0},{"$f":"Import!AG612","v":0},{"$f":"Import!AH612","v":0},{"$f":"Import!AI612","v":0},{"$f":"Import!AJ612","v":0},{"$f":"Import!AK612","v":0},{"$f":"Import!AL612","v":0}]
[null,{"$f":"Import!A613","v":0},{"$f":"Import!B613","v":0},{"$f":"Import!H613","v":0},{"$f":"Import!I613","v":0},{"$f":"Import!J613","v":0},{"$f":"Import!K613","v":0},{"$f":"Import!L613","v":0},{"$f":"Import!M613","v":0},{"$f":"Import!N613","v":0},{"$f":"Import!O613","v":0},{"$f":"Import!P613","v":0},{"$f":"Import!Q613","v":0},{"$f":"Import!R613","v":0},{"$f":"Import!S613","v":0},{"$f":"Import!T613","v":0},{"$f":"Import!U613","v":0},{"$f":"Import!V613","v":0},{"$f":"Import!W613","v":0},{"$f":"Import!X613","v":0},{"$f":"Import!Y613","v":0},{"$f":"Import!Z613","v":0},{"$f":"Import!AA613","v":0},{"$f":"Import!AB613","v":0},{"$f":"Import!AC613","v":0},{"$f":"Import!AD613","v":0},{"$f":"Import!AE613","v":0},{"$f":"Import!AF613","v":0},{"$f":"Import!AG613","v":0},{"$f":"Import!AH613","v":0},{"$f":"Import!AI613","v":0},{"$f":"Import!AJ613","v":0},{"$f":"Import!AK613","v":0},{"$f":"Import!AL613","v":0}]
[null,{"$f":"Import!A614","v":0},{"$f":"Import!B614","v":0},{"$f":"Import!H614","v":0},{"$f":"Import!I614","v":0},{"$f":"Import!J614","v":0},{"$f":"Import!K614","v":0},{"$f":"Import!L614","v":0},{"$f":"Import!M614","v":0},{"$f":"Import!N614","v":0},{"$f":"Import!O614","v":0},{"$f":"Import!P614","v":0},{"$f":"Import!Q614","v":0},{"$f":"Import!R614","v":0},{"$f":"Import!S614","v":0},{"$f":"Import!T614","v":0},{"$f":"Import!U614","v":0},{"$f":"Import!V614","v":0},{"$f":"Import!W614","v":0},{"$f":"Import!X614","v":0},{"$f":"Import!Y614","v":0},{"$f":"Import!Z614","v":0},{"$f":"Import!AA614","v":0},{"$f":"Import!AB614","v":0},{"$f":"Import!AC614","v":0},{"$f":"Import!AD614","v":0},{"$f":"Import!AE614","v":0},{"$f":"Import!AF614","v":0},{"$f":"Import!AG614","v":0},{"$f":"Import!AH614","v":0},{"$f":"Import!AI614","v":0},{"$f":"Import!AJ614","v":0},{"$f":"Import!AK614","v":0},{"$f":"Import!AL614","v":0}]
[null,{"$f":"Import!A615","v":0},{"$f":"Import!B615","v":0},{"$f":"Import!H615","v":0},{"$f":"Import!I615","v":0},{"$f":"Import!J615","v":0},{"$f":"Import!K615","v":0},{"$f":"Import!L615","v":0},{"$f":"Import!M615","v":0},{"$f":"Import!N615","v":0},{"$f":"Import!O615","v":0},{"$f":"Import!P615","v":0},{"$f":"Import!Q615","v":0},{"$f":"Import!R615","v":0},{"$f":"Import!S615","v":0},{"$f":"Import!T615","v":0},{"$f":"Import!U615","v":0},{"$f":"Import!V615","v":0},{"$f":"Import!W615","v":0},{"$f":"Import!X615","v":0},{"$f":"Import!Y615","v":0},{"$f":"Import!Z615","v":0},{"$f":"Import!AA615","v":0},{"$f":"Import!AB615","v":0},{"$f":"Import!AC615","v":0},{"$f":"Import!AD615","v":0},{"$f":"Import!AE615","v":0},{"$f":"Import!AF615","v":0},{"$f":"Import!AG615","v":0},{"$f":"Import!AH615","v":0},{"$f":"Import!AI615","v":0},{"$f":"Import!AJ615","v":0},{"$f":"Import!AK615","v":0},{"$f":"Import!AL615","v":0}]
[null,{"$f":"Import!A616","v":0},{"$f":"Import!B616","v":0},{"$f":"Import!H616","v":0},{"$f":"Import!I616","v":0},{"$f":"Import!J616","v":0},{"$f":"Import!K616","v":0},{"$f":"Import!L616","v":0},{"$f":"Import!M616","v":0},{"$f":"Import!N616","v":0},{"$f":"Import!O616","v":0},{"$f":"Import!P616","v":0},{"$f":"Import!Q616","v":0},{"$f":"Import!R616","v":0},{"$f":"Import!S616","v":0},{"$f":"Import!T616","v":0},{"$f":"Import!U616","v":0},{"$f":"Import!V616","v":0},{"$f":"Import!W616","v":0},{"$f":"Import!X616","v":0},{"$f":"Import!Y616","v":0},{"$f":"Import!Z616","v":0},{"$f":"Import!AA616","v":0},{"$f":"Import!AB616","v":0},{"$f":"Import!AC616","v":0},{"$f":"Import!AD616","v":0},{"$f":"Import!AE616","v":0},{"$f":"Import!AF616","v":0},{"$f":"Import!AG616","v":0},{"$f":"Import!AH616","v":0},{"$f":"Import!AI616","v":0},{"$f":"Import!AJ616","v":0},{"$f":"Import!AK616","v":0},{"$f":"Import!AL616","v":0}]
[null,{"$f":"Import!A617","v":0},{"$f":"Import!B617","v":0},{"$f":"Import!H617","v":0},{"$f":"Import!I617","v":0},{"$f":"Import!J617","v":0},{"$f":"Import!K617","v":0},{"$f":"Import!L617","v":0},{"$f":"Import!M617","v":0},{"$f":"Import!N617","v":0},{"$f":"Import!O617","v":0},{"$f":"Import!P617","v":0},{"$f":"Import!Q617","v":0},{"$f":"Import!R617","v":0},{"$f":"Import!S617","v":0},{"$f":"Import!T617","v":0},{"$f":"Import!U617","v":0},{"$f":"Import!V617","v":0},{"$f":"Import!W617","v":0},{"$f":"Import!X617","v":0},{"$f":"Import!Y617","v":0},{"$f":"Import!Z617","v":0},{"$f":"Import!AA617","v":0},{"$f":"Import!AB617","v":0},{"$f":"Import!AC617","v":0},{"$f":"Import!AD617","v":0},{"$f":"Import!AE617","v":0},{"$f":"Import!AF617","v":0},{"$f":"Import!AG617","v":0},{"$f":"Import!AH617","v":0},{"$f":"Import!AI617","v":0},{"$f":"Import!AJ617","v":0},{"$f":"Import!AK617","v":0},{"$f":"Import!AL617","v":0}]
[null,{"$f":"Import!A618","v":0},{"$f":"Import!B618","v":0},{"$f":"Import!H618","v":0},{"$f":"Import!I618","v":0},{"$f":"Import!J618","v":0},{"$f":"Import!K618","v":0},{"$f":"Import!L618","v":0},{"$f":"Import!M618","v":0},{"$f":"Import!N618","v":0},{"$f":"Import!O618","v":0},{"$f":"Import!P618","v":0},{"$f":"Import!Q618","v":0},{"$f":"Import!R618","v":0},{"$f":"Import!S618","v":0},{"$f":"Import!T618","v":0},{"$f":"Import!U618","v":0},{"$f":"Import!V618","v":0},{"$f":"Import!W618","v":0},{"$f":"Import!X618","v":0},{"$f":"Import!Y618","v":0},{"$f":"Import!Z618","v":0},{"$f":"Import!AA618","v":0},{"$f":"Import!AB618","v":0},{"$f":"Import!AC618","v":0},{"$f":"Import!AD618","v":0},{"$f":"Import!AE618","v":0},{"$f":"Import!AF618","v":0},{"$f":"Import!AG618","v":0},{"$f":"Import!AH618","v":0},{"$f":"Import!AI618","v":0},{"$f":"Import!AJ618","v":0},{"$f":"Import!AK618","v":0},{"$f":"Import!AL618","v":0}]
[null,{"$f":"Import!A619","v":0},{"$f":"Import!B619","v":0},{"$f":"Import!H619","v":0},{"$f":"Import!I619","v":0},{"$f":"Import!J619","v":0},{"$f":"Import!K619","v":0},{"$f":"Import!L619","v":0},{"$f":"Import!M619","v":0},{"$f":"Import!N619","v":0},{"$f":"Import!O619","v":0},{"$f":"Import!P619","v":0},{"$f":"Import!Q619","v":0},{"$f":"Import!R619","v":0},{"$f":"Import!S619","v":0},{"$f":"Import!T619","v":0},{"$f":"Import!U619","v":0},{"$f":"Import!V619","v":0},{"$f":"Import!W619","v":0},{"$f":"Import!X619","v":0},{"$f":"Import!Y619","v":0},{"$f":"Import!Z619","v":0},{"$f":"Import!AA619","v":0},{"$f":"Import!AB619","v":0},{"$f":"Import!AC619","v":0},{"$f":"Import!AD619","v":0},{"$f":"Import!AE619","v":0},{"$f":"Import!AF619","v":0},{"$f":"Import!AG619","v":0},{"$f":"Import!AH619","v":0},{"$f":"Import!AI619","v":0},{"$f":"Import!AJ619","v":0},{"$f":"Import!AK619","v":0},{"$f":"Import!AL619","v":0}]
[null,{"$f":"Import!A620","v":0},{"$f":"Import!B620","v":0},{"$f":"Import!H620","v":0},{"$f":"Import!I620","v":0},{"$f":"Import!J620","v":0},{"$f":"Import!K620","v":0},{"$f":"Import!L620","v":0},{"$f":"Import!M620","v":0},{"$f":"Import!N620","v":0},{"$f":"Import!O620","v":0},{"$f":"Import!P620","v":0},{"$f":"Import!Q620","v":0},{"$f":"Import!R620","v":0},{"$f":"Import!S620","v":0},{"$f":"Import!T620","v":0},{"$f":"Import!U620","v":0},{"$f":"Import!V620","v":0},{"$f":"Import!W620","v":0},{"$f":"Import!X620","v":0},{"$f":"Import!Y620","v":0},{"$f":"Import!Z620","v":0},{"$f":"Import!AA620","v":0},{"$f":"Import!AB620","v":0},{"$f":"Import!AC620","v":0},{"$f":"Import!AD620","v":0},{"$f":"Import!AE620","v":0},{"$f":"Import!AF620","v":0},{"$f":"Import!AG620","v":0},{"$f":"Import!AH620","v":0},{"$f":"Import!AI620","v":0},{"$f":"Import!AJ620","v":0},{"$f":"Import!AK620","v":0},{"$f":"Import!AL620","v":0}]
[null,{"$f":"Import!A621","v":0},{"$f":"Import!B621","v":0},{"$f":"Import!H621","v":0},{"$f":"Import!I621","v":0},{"$f":"Import!J621","v":0},{"$f":"Import!K621","v":0},{"$f":"Import!L621","v":0},{"$f":"Import!M621","v":0},{"$f":"Import!N621","v":0},{"$f":"Import!O621","v":0},{"$f":"Import!P621","v":0},{"$f":"Import!Q621","v":0},{"$f":"Import!R621","v":0},{"$f":"Import!S621","v":0},{"$f":"Import!T621","v":0},{"$f":"Import!U621","v":0},{"$f":"Import!V621","v":0},{"$f":"Import!W621","v":0},{"$f":"Import!X621","v":0},{"$f":"Import!Y621","v":0},{"$f":"Import!Z621","v":0},{"$f":"Import!AA621","v":0},{"$f":"Import!AB621","v":0},{"$f":"Import!AC621","v":0},{"$f":"Import!AD621","v":0},{"$f":"Import!AE621","v":0},{"$f":"Import!AF621","v":0},{"$f":"Import!AG621","v":0},{"$f":"Import!AH621","v":0},{"$f":"Import!AI621","v":0},{"$f":"Import!AJ621","v":0},{"$f":"Import!AK621","v":0},{"$f":"Import!AL621","v":0}]
[null,{"$f":"Import!A622","v":0},{"$f":"Import!B622","v":0},{"$f":"Import!H622","v":0},{"$f":"Import!I622","v":0},{"$f":"Import!J622","v":0},{"$f":"Import!K622","v":0},{"$f":"Import!L622","v":0},{"$f":"Import!M622","v":0},{"$f":"Import!N622","v":0},{"$f":"Import!O622","v":0},{"$f":"Import!P622","v":0},{"$f":"Import!Q622","v":0},{"$f":"Import!R622","v":0},{"$f":"Import!S622","v":0},{"$f":"Import!T622","v":0},{"$f":"Import!U622","v":0},{"$f":"Import!V622","v":0},{"$f":"Import!W622","v":0},{"$f":"Import!X622","v":0},{"$f":"Import!Y622","v":0},{"$f":"Import!Z622","v":0},{"$f":"Import!AA622","v":0},{"$f":"Import!AB622","v":0},{"$f":"Import!AC622","v":0},{"$f":"Import!AD622","v":0},{"$f":"Import!AE622","v":0},{"$f":"Import!AF622","v":0},{"$f":"Import!AG622","v":0},{"$f":"Import!AH622","v":0},{"$f":"Import!AI622","v":0},{"$f":"Import!AJ622","v":0},{"$f":"Import!AK622","v":0},{"$f":"Import!AL622","v":0}]
[null,{"$f":"Import!A623","v":0},{"$f":"Import!B623","v":0},{"$f":"Import!H623","v":0},{"$f":"Import!I623","v":0},{"$f":"Import!J623","v":0},{"$f":"Import!K623","v":0},{"$f":"Import!L623","v":0},{"$f":"Import!M623","v":0},{"$f":"Import!N623","v":0},{"$f":"Import!O623","v":0},{"$f":"Import!P623","v":0},{"$f":"Import!Q623","v":0},{"$f":"Import!R623","v":0},{"$f":"Import!S623","v":0},{"$f":"Import!T623","v":0},{"$f":"Import!U623","v":0},{"$f":"Import!V623","v":0},{"$f":"Import!W623","v":0},{"$f":"Import!X623","v":0},{"$f":"Import!Y623","v":0},{"$f":"Import!Z623","v":0},{"$f":"Import!AA623","v":0},{"$f":"Import!AB623","v":0},{"$f":"Import!AC623","v":0},{"$f":"Import!AD623","v":0},{"$f":"Import!AE623","v":0},{"$f":"Import!AF623","v":0},{"$f":"Import!AG623","v":0},{"$f":"Import!AH623","v":0},{"$f":"Import!AI623","v":0},{"$f":"Import!AJ623","v":0},{"$f":"Import!AK623","v":0},{"$f":"Import!AL623","v":0}]
[null,{"$f":"Import!A624","v":0},{"$f":"Import!B624","v":0},{"$f":"Import!H624","v":0},{"$f":"Import!I624","v":0},{"$f":"Import!J624","v":0},{"$f":"Import!K624","v":0},{"$f":"Import!L624","v":0},{"$f":"Import!M624","v":0},{"$f":"Import!N624","v":0},{"$f":"Import!O624","v":0},{"$f":"Import!P624","v":0},{"$f":"Import!Q624","v":0},{"$f":"Import!R624","v":0},{"$f":"Import!S624","v":0},{"$f":"Import!T624","v":0},{"$f":"Import!U624","v":0},{"$f":"Import!V624","v":0},{"$f":"Import!W624","v":0},{"$f":"Import!X624","v":0},{"$f":"Import!Y624","v":0},{"$f":"Import!Z624","v":0},{"$f":"Import!AA624","v":0},{"$f":"Import!AB624","v":0},{"$f":"Import!AC624","v":0},{"$f":"Import!AD624","v":0},{"$f":"Import!AE624","v":0},{"$f":"Import!AF624","v":0},{"$f":"Import!AG624","v":0},{"$f":"Import!AH624","v":0},{"$f":"Import!AI624","v":0},{"$f":"Import!AJ624","v":0},{"$f":"Import!AK624","v":0},{"$f":"Import!AL624","v":0}]
[null,{"$f":"Import!A625","v":0},{"$f":"Import!B625","v":0},{"$f":"Import!H625","v":0},{"$f":"Import!I625","v":0},{"$f":"Import!J625","v":0},{"$f":"Import!K625","v":0},{"$f":"Import!L625","v":0},{"$f":"Import!M625","v":0},{"$f":"Import!N625","v":0},{"$f":"Import!O625","v":0},{"$f":"Import!P625","v":0},{"$f":"Import!Q625","v":0},{"$f":"Import!R625","v":0},{"$f":"Import!S625","v":0},{"$f":"Import!T625","v":0},{"$f":"Import!U625","v":0},{"$f":"Import!V625","v":0},{"$f":"Import!W625","v":0},{"$f":"Import!X625","v":0},{"$f":"Import!Y625","v":0},{"$f":"Import!Z625","v":0},{"$f":"Import!AA625","v":0},{"$f":"Import!AB625","v":0},{"$f":"Import!AC625","v":0},{"$f":"Import!AD625","v":0},{"$f":"Import!AE625","v":0},{"$f":"Import!AF625","v":0},{"$f":"Import!AG625","v":0},{"$f":"Import!AH625","v":0},{"$f":"Import!AI625","v":0},{"$f":"Import!AJ625","v":0},{"$f":"Import!AK625","v":0},{"$f":"Import!AL625","v":0}]
[null,{"$f":"Import!A626","v":0},{"$f":"Import!B626","v":0},{"$f":"Import!H626","v":0},{"$f":"Import!I626","v":0},{"$f":"Import!J626","v":0},{"$f":"Import!K626","v":0},{"$f":"Import!L626","v":0},{"$f":"Import!M626","v":0},{"$f":"Import!N626","v":0},{"$f":"Import!O626","v":0},{"$f":"Import!P626","v":0},{"$f":"Import!Q626","v":0},{"$f":"Import!R626","v":0},{"$f":"Import!S626","v":0},{"$f":"Import!T626","v":0},{"$f":"Import!U626","v":0},{"$f":"Import!V626","v":0},{"$f":"Import!W626","v":0},{"$f":"Import!X626","v":0},{"$f":"Import!Y626","v":0},{"$f":"Import!Z626","v":0},{"$f":"Import!AA626","v":0},{"$f":"Import!AB626","v":0},{"$f":"Import!AC626","v":0},{"$f":"Import!AD626","v":0},{"$f":"Import!AE626","v":0},{"$f":"Import!AF626","v":0},{"$f":"Import!AG626","v":0},{"$f":"Import!AH626","v":0},{"$f":"Import!AI626","v":0},{"$f":"Import!AJ626","v":0},{"$f":"Import!AK626","v":0},{"$f":"Import!AL626","v":0}]
[null,{"$f":"Import!A627","v":0},{"$f":"Import!B627","v":0},{"$f":"Import!H627","v":0},{"$f":"Import!I627","v":0},{"$f":"Import!J627","v":0},{"$f":"Import!K627","v":0},{"$f":"Import!L627","v":0},{"$f":"Import!M627","v":0},{"$f":"Import!N627","v":0},{"$f":"Import!O627","v":0},{"$f":"Import!P627","v":0},{"$f":"Import!Q627","v":0},{"$f":"Import!R627","v":0},{"$f":"Import!S627","v":0},{"$f":"Import!T627","v":0},{"$f":"Import!U627","v":0},{"$f":"Import!V627","v":0},{"$f":"Import!W627","v":0},{"$f":"Import!X627","v":0},{"$f":"Import!Y627","v":0},{"$f":"Import!Z627","v":0},{"$f":"Import!AA627","v":0},{"$f":"Import!AB627","v":0},{"$f":"Import!AC627","v":0},{"$f":"Import!AD627","v":0},{"$f":"Import!AE627","v":0},{"$f":"Import!AF627","v":0},{"$f":"Import!AG627","v":0},{"$f":"Import!AH627","v":0},{"$f":"Import!AI627","v":0},{"$f":"Import!AJ627","v":0},{"$f":"Import!AK627","v":0},{"$f":"Import!AL627","v":0}]
[null,{"$f":"Import!A628","v":0},{"$f":"Import!B628","v":0},{"$f":"Import!H628","v":0},{"$f":"Import!I628","v":0},{"$f":"Import!J628","v":0},{"$f":"Import!K628","v":0},{"$f":"Import!L628","v":0},{"$f":"Import!M628","v":0},{"$f":"Import!N628","v":0},{"$f":"Import!O628","v":0},{"$f":"Import!P628","v":0},{"$f":"Import!Q628","v":0},{"$f":"Import!R628","v":0},{"$f":"Import!S628","v":0},{"$f":"Import!T628","v":0},{"$f":"Import!U628","v":0},{"$f":"Import!V628","v":0},{"$f":"Import!W628","v":0},{"$f":"Import!X628","v":0},{"$f":"Import!Y628","v":0},{"$f":"Import!Z628","v":0},{"$f":"Import!AA628","v":0},{"$f":"Import!AB628","v":0},{"$f":"Import!AC628","v":0},{"$f":"Import!AD628","v":0},{"$f":"Import!AE628","v":0},{"$f":"Import!AF628","v":0},{"$f":"Import!AG628","v":0},{"$f":"Import!AH628","v":0},{"$f":"Import!AI628","v":0},{"$f":"Import!AJ628","v":0},{"$f":"Import!AK628","v":0},{"$f":"Import!AL628","v":0}]
[null,{"$f":"Import!A629","v":0},{"$f":"Import!B629","v":0},{"$f":"Import!H629","v":0},{"$f":"Import!I629","v":0},{"$f":"Import!J629","v":0},{"$f":"Import!K629","v":0},{"$f":"Import!L629","v":0},{"$f":"Import!M629","v":0},{"$f":"Import!N629","v":0},{"$f":"Import!O629","v":0},{"$f":"Import!P629","v":0},{"$f":"Import!Q629","v":0},{"$f":"Import!R629","v":0},{"$f":"Import!S629","v":0},{"$f":"Import!T629","v":0},{"$f":"Import!U629","v":0},{"$f":"Import!V629","v":0},{"$f":"Import!W629","v":0},{"$f":"Import!X629","v":0},{"$f":"Import!Y629","v":0},{"$f":"Import!Z629","v":0},{"$f":"Import!AA629","v":0},{"$f":"Import!AB629","v":0},{"$f":"Import!AC629","v":0},{"$f":"Import!AD629","v":0},{"$f":"Import!AE629","v":0},{"$f":"Import!AF629","v":0},{"$f":"Import!AG629","v":0},{"$f":"Import!AH629","v":0},{"$f":"Import!AI629","v":0},{"$f":"Import!AJ629","v":0},{"$f":"Import!AK629","v":0},{"$f":"Import!AL629","v":0}]
[null,{"$f":"Import!A630","v":0},{"$f":"Import!B630","v":0},{"$f":"Import!H630","v":0},{"$f":"Import!I630","v":0},{"$f":"Import!J630","v":0},{"$f":"Import!K630","v":0},{"$f":"Import!L630","v":0},{"$f":"Import!M630","v":0},{"$f":"Import!N630","v":0},{"$f":"Import!O630","v":0},{"$f":"Import!P630","v":0},{"$f":"Import!Q630","v":0},{"$f":"Import!R630","v":0},{"$f":"Import!S630","v":0},{"$f":"Import!T630","v":0},{"$f":"Import!U630","v":0},{"$f":"Import!V630","v":0},{"$f":"Import!W630","v":0},{"$f":"Import!X630","v":0},{"$f":"Import!Y630","v":0},{"$f":"Import!Z630","v":0},{"$f":"Import!AA630","v":0},{"$f":"Import!AB630","v":0},{"$f":"Import!AC630","v":0},{"$f":"Import!AD630","v":0},{"$f":"Import!AE630","v":0},{"$f":"Import!AF630","v":0},{"$f":"Import!AG630","v":0},{"$f":"Import!AH630","v":0},{"$f":"Import!AI630","v":0},{"$f":"Import!AJ630","v":0},{"$f":"Import!AK630","v":0},{"$f":"Import!AL630","v":0}]
[null,{"$f":"Import!A631","v":0},{"$f":"Import!B631","v":0},{"$f":"Import!H631","v":0},{"$f":"Import!I631","v":0},{"$f":"Import!J631","v":0},{"$f":"Import!K631","v":0},{"$f":"Import!L631","v":0},{"$f":"Import!M631","v":0},{"$f":"Import!N631","v":0},{"$f":"Import!O631","v":0},{"$f":"Import!P631","v":0},{"$f":"Import!Q631","v":0},{"$f":"Import!R631","v":0},{"$f":"Import!S631","v":0},{"$f":"Import!T631","v":0},{"$f":"Import!U631","v":0},{"$f":"Import!V631","v":0},{"$f":"Import!W631","v":0},{"$f":"Import!X631","v":0},{"$f":"Import!Y631","v":0},{"$f":"Import!Z631","v":0},{"$f":"Import!AA631","v":0},{"$f":"Import!AB631","v":0},{"$f":"Import!AC631","v":0},{"$f":"Import!AD631","v":0},{"$f":"Import!AE631","v":0},{"$f":"Import!AF631","v":0},{"$f":"Import!AG631","v":0},{"$f":"Import!AH631","v":0},{"$f":"Import!AI631","v":0},{"$f":"Import!AJ631","v":0},{"$f":"Import!AK631","v":0},{"$f":"Import!AL631","v":0}]
[null,{"$f":"Import!A632","v":0},{"$f":"Import!B632","v":0},{"$f":"Import!H632","v":0},{"$f":"Import!I632","v":0},{"$f":"Import!J632","v":0},{"$f":"Import!K632","v":0},{"$f":"Import!L632","v":0},{"$f":"Import!M632","v":0},{"$f":"Import!N632","v":0},{"$f":"Import!O632","v":0},{"$f":"Import!P632","v":0},{"$f":"Import!Q632","v":0},{"$f":"Import!R632","v":0},{"$f":"Import!S632","v":0},{"$f":"Import!T632","v":0},{"$f":"Import!U632","v":0},{"$f":"Import!V632","v":0},{"$f":"Import!W632","v":0},{"$f":"Import!X632","v":0},{"$f":"Import!Y632","v":0},{"$f":"Import!Z632","v":0},{"$f":"Import!AA632","v":0},{"$f":"Import!AB632","v":0},{"$f":"Import!AC632","v":0},{"$f":"Import!AD632","v":0},{"$f":"Import!AE632","v":0},{"$f":"Import!AF632","v":0},{"$f":"Import!AG632","v":0},{"$f":"Import!AH632","v":0},{"$f":"Import!AI632","v":0},{"$f":"Import!AJ632","v":0},{"$f":"Import!AK632","v":0},{"$f":"Import!AL632","v":0}]
[null,{"$f":"Import!A633","v":0},{"$f":"Import!B633","v":0},{"$f":"Import!H633","v":0},{"$f":"Import!I633","v":0},{"$f":"Import!J633","v":0},{"$f":"Import!K633","v":0},{"$f":"Import!L633","v":0},{"$f":"Import!M633","v":0},{"$f":"Import!N633","v":0},{"$f":"Import!O633","v":0},{"$f":"Import!P633","v":0},{"$f":"Import!Q633","v":0},{"$f":"Import!R633","v":0},{"$f":"Import!S633","v":0},{"$f":"Import!T633","v":0},{"$f":"Import!U633","v":0},{"$f":"Import!V633","v":0},{"$f":"Import!W633","v":0},{"$f":"Import!X633","v":0},{"$f":"Import!Y633","v":0},{"$f":"Import!Z633","v":0},{"$f":"Import!AA633","v":0},{"$f":"Import!AB633","v":0},{"$f":"Import!AC633","v":0},{"$f":"Import!AD633","v":0},{"$f":"Import!AE633","v":0},{"$f":"Import!AF633","v":0},{"$f":"Import!AG633","v":0},{"$f":"Import!AH633","v":0},{"$f":"Import!AI633","v":0},{"$f":"Import!AJ633","v":0},{"$f":"Import!AK633","v":0},{"$f":"Import!AL633","v":0}]
[null,{"$f":"Import!A634","v":0},{"$f":"Import!B634","v":0},{"$f":"Import!H634","v":0},{"$f":"Import!I634","v":0},{"$f":"Import!J634","v":0},{"$f":"Import!K634","v":0},{"$f":"Import!L634","v":0},{"$f":"Import!M634","v":0},{"$f":"Import!N634","v":0},{"$f":"Import!O634","v":0},{"$f":"Import!P634","v":0},{"$f":"Import!Q634","v":0},{"$f":"Import!R634","v":0},{"$f":"Import!S634","v":0},{"$f":"Import!T634","v":0},{"$f":"Import!U634","v":0},{"$f":"Import!V634","v":0},{"$f":"Import!W634","v":0},{"$f":"Import!X634","v":0},{"$f":"Import!Y634","v":0},{"$f":"Import!Z634","v":0},{"$f":"Import!AA634","v":0},{"$f":"Import!AB634","v":0},{"$f":"Import!AC634","v":0},{"$f":"Import!AD634","v":0},{"$f":"Import!AE634","v":0},{"$f":"Import!AF634","v":0},{"$f":"Import!AG634","v":0},{"$f":"Import!AH634","v":0},{"$f":"Import!AI634","v":0},{"$f":"Import!AJ634","v":0},{"$f":"Import!AK634","v":0},{"$f":"Import!AL634","v":0}]
[null,{"$f":"Import!A635","v":0},{"$f":"Import!B635","v":0},{"$f":"Import!H635","v":0},{"$f":"Import!I635","v":0},{"$f":"Import!J635","v":0},{"$f":"Import!K635","v":0},{"$f":"Import!L635","v":0},{"$f":"Import!M635","v":0},{"$f":"Import!N635","v":0},{"$f":"Import!O635","v":0},{"$f":"Import!P635","v":0},{"$f":"Import!Q635","v":0},{"$f":"Import!R635","v":0},{"$f":"Import!S635","v":0},{"$f":"Import!T635","v":0},{"$f":"Import!U635","v":0},{"$f":"Import!V635","v":0},{"$f":"Import!W635","v":0},{"$f":"Import!X635","v":0},{"$f":"Import!Y635","v":0},{"$f":"Import!Z635","v":0},{"$f":"Import!AA635","v":0},{"$f":"Import!AB635","v":0},{"$f":"Import!AC635","v":0},{"$f":"Import!AD635","v":0},{"$f":"Import!AE635","v":0},{"$f":"Import!AF635","v":0},{"$f":"Import!AG635","v":0},{"$f":"Import!AH635","v":0},{"$f":"Import!AI635","v":0},{"$f":"Import!AJ635","v":0},{"$f":"Import!AK635","v":0},{"$f":"Import!AL635","v":0}]
[null,{"$f":"Import!A636","v":0},{"$f":"Import!B636","v":0},{"$f":"Import!H636","v":0},{"$f":"Import!I636","v":0},{"$f":"Import!J636","v":0},{"$f":"Import!K636","v":0},{"$f":"Import!L636","v":0},{"$f":"Import!M636","v":0},{"$f":"Import!N636","v":0},{"$f":"Import!O636","v":0},{"$f":"Import!P636","v":0},{"$f":"Import!Q636","v":0},{"$f":"Import!R636","v":0},{"$f":"Import!S636","v":0},{"$f":"Import!T636","v":0},{"$f":"Import!U636","v":0},{"$f":"Import!V636","v":0},{"$f":"Import!W636","v":0},{"$f":"Import!X636","v":0},{"$f":"Import!Y636","v":0},{"$f":"Import!Z636","v":0},{"$f":"Import!AA636","v":0},{"$f":"Import!AB636","v":0},{"$f":"Import!AC636","v":0},{"$f":"Import!AD636","v":0},{"$f":"Import!AE636","v":0},{"$f":"Import!AF636","v":0},{"$f":"Import!AG636","v":0},{"$f":"Import!AH636","v":0},{"$f":"Import!AI636","v":0},{"$f":"Import!AJ636","v":0},{"$f":"Import!AK636","v":0},{"$f":"Import!AL636","v":0}]
[null,{"$f":"Import!A637","v":0},{"$f":"Import!B637","v":0},{"$f":"Import!H637","v":0},{"$f":"Import!I637","v":0},{"$f":"Import!J637","v":0},{"$f":"Import!K637","v":0},{"$f":"Import!L637","v":0},{"$f":"Import!M637","v":0},{"$f":"Import!N637","v":0},{"$f":"Import!O637","v":0},{"$f":"Import!P637","v":0},{"$f":"Import!Q637","v":0},{"$f":"Import!R637","v":0},{"$f":"Import!S637","v":0},{"$f":"Import!T637","v":0},{"$f":"Import!U637","v":0},{"$f":"Import!V637","v":0},{"$f":"Import!W637","v":0},{"$f":"Import!X637","v":0},{"$f":"Import!Y637","v":0},{"$f":"Import!Z637","v":0},{"$f":"Import!AA637","v":0},{"$f":"Import!AB637","v":0},{"$f":"Import!AC637","v":0},{"$f":"Import!AD637","v":0},{"$f":"Import!AE637","v":0},{"$f":"Import!AF637","v":0},{"$f":"Import!AG637","v":0},{"$f":"Import!AH637","v":0},{"$f":"Import!AI637","v":0},{"$f":"Import!AJ637","v":0},{"$f":"Import!AK637","v":0},{"$f":"Import!AL637","v":0}]
[null,{"$f":"Import!A638","v":0},{"$f":"Import!B638","v":0},{"$f":"Import!H638","v":0},{"$f":"Import!I638","v":0},{"$f":"Import!J638","v":0},{"$f":"Import!K638","v":0},{"$f":"Import!L638","v":0},{"$f":"Import!M638","v":0},{"$f":"Import!N638","v":0},{"$f":"Import!O638","v":0},{"$f":"Import!P638","v":0},{"$f":"Import!Q638","v":0},{"$f":"Import!R638","v":0},{"$f":"Import!S638","v":0},{"$f":"Import!T638","v":0},{"$f":"Import!U638","v":0},{"$f":"Import!V638","v":0},{"$f":"Import!W638","v":0},{"$f":"Import!X638","v":0},{"$f":"Import!Y638","v":0},{"$f":"Import!Z638","v":0},{"$f":"Import!AA638","v":0},{"$f":"Import!AB638","v":0},{"$f":"Import!AC638","v":0},{"$f":"Import!AD638","v":0},{"$f":"Import!AE638","v":0},{"$f":"Import!AF638","v":0},{"$f":"Import!AG638","v":0},{"$f":"Import!AH638","v":0},{"$f":"Import!AI638","v":0},{"$f":"Import!AJ638","v":0},{"$f":"Import!AK638","v":0},{"$f":"Import!AL638","v":0}]
[null,{"$f":"Import!A639","v":0},{"$f":"Import!B639","v":0},{"$f":"Import!H639","v":0},{"$f":"Import!I639","v":0},{"$f":"Import!J639","v":0},{"$f":"Import!K639","v":0},{"$f":"Import!L639","v":0},{"$f":"Import!M639","v":0},{"$f":"Import!N639","v":0},{"$f":"Import!O639","v":0},{"$f":"Import!P639","v":0},{"$f":"Import!Q639","v":0},{"$f":"Import!R639","v":0},{"$f":"Import!S639","v":0},{"$f":"Import!T639","v":0},{"$f":"Import!U639","v":0},{"$f":"Import!V639","v":0},{"$f":"Import!W639","v":0},{"$f":"Import!X639","v":0},{"$f":"Import!Y639","v":0},{"$f":"Import!Z639","v":0},{"$f":"Import!AA639","v":0},{"$f":"Import!AB639","v":0},{"$f":"Import!AC639","v":0},{"$f":"Import!AD639","v":0},{"$f":"Import!AE639","v":0},{"$f":"Import!AF639","v":0},{"$f":"Import!AG639","v":0},{"$f":"Import!AH639","v":0},{"$f":"Import!AI639","v":0},{"$f":"Import!AJ639","v":0},{"$f":"Import!AK639","v":0},{"$f":"Import!AL639","v":0}]
[null,{"$f":"Import!A640","v":0},{"$f":"Import!B640","v":0},{"$f":"Import!H640","v":0},{"$f":"Import!I640","v":0},{"$f":"Import!J640","v":0},{"$f":"Import!K640","v":0},{"$f":"Import!L640","v":0},{"$f":"Import!M640","v":0},{"$f":"Import!N640","v":0},{"$f":"Import!O640","v":0},{"$f":"Import!P640","v":0},{"$f":"Import!Q640","v":0},{"$f":"Import!R640","v":0},{"$f":"Import!S640","v":0},{"$f":"Import!T640","v":0},{"$f":"Import!U640","v":0},{"$f":"Import!V640","v":0},{"$f":"Import!W640","v":0},{"$f":"Import!X640","v":0},{"$f":"Import!Y640","v":0},{"$f":"Import!Z640","v":0},{"$f":"Import!AA640","v":0},{"$f":"Import!AB640","v":0},{"$f":"Import!AC640","v":0},{"$f":"Import!AD640","v":0},{"$f":"Import!AE640","v":0},{"$f":"Import!AF640","v":0},{"$f":"Import!AG640","v":0},{"$f":"Import!AH640","v":0},{"$f":"Import!AI640","v":0},{"$f":"Import!AJ640","v":0},{"$f":"Import!AK640","v":0},{"$f":"Import!AL640","v":0}]
[null,{"$f":"Import!A641","v":0},{"$f":"Import!B641","v":0},{"$f":"Import!H641","v":0},{"$f":"Import!I641","v":0},{"$f":"Import!J641","v":0},{"$f":"Import!K641","v":0},{"$f":"Import!L641","v":0},{"$f":"Import!M641","v":0},{"$f":"Import!N641","v":0},{"$f":"Import!O641","v":0},{"$f":"Import!P641","v":0},{"$f":"Import!Q641","v":0},{"$f":"Import!R641","v":0},{"$f":"Import!S641","v":0},{"$f":"Import!T641","v":0},{"$f":"Import!U641","v":0},{"$f":"Import!V641","v":0},{"$f":"Import!W641","v":0},{"$f":"Import!X641","v":0},{"$f":"Import!Y641","v":0},{"$f":"Import!Z641","v":0},{"$f":"Import!AA641","v":0},{"$f":"Import!AB641","v":0},{"$f":"Import!AC641","v":0},{"$f":"Import!AD641","v":0},{"$f":"Import!AE641","v":0},{"$f":"Import!AF641","v":0},{"$f":"Import!AG641","v":0},{"$f":"Import!AH641","v":0},{"$f":"Import!AI641","v":0},{"$f":"Import!AJ641","v":0},{"$f":"Import!AK641","v":0},{"$f":"Import!AL641","v":0}]
[null,{"$f":"Import!A642","v":0},{"$f":"Import!B642","v":0},{"$f":"Import!H642","v":0},{"$f":"Import!I642","v":0},{"$f":"Import!J642","v":0},{"$f":"Import!K642","v":0},{"$f":"Import!L642","v":0},{"$f":"Import!M642","v":0},{"$f":"Import!N642","v":0},{"$f":"Import!O642","v":0},{"$f":"Import!P642","v":0},{"$f":"Import!Q642","v":0},{"$f":"Import!R642","v":0},{"$f":"Import!S642","v":0},{"$f":"Import!T642","v":0},{"$f":"Import!U642","v":0},{"$f":"Import!V642","v":0},{"$f":"Import!W642","v":0},{"$f":"Import!X642","v":0},{"$f":"Import!Y642","v":0},{"$f":"Import!Z642","v":0},{"$f":"Import!AA642","v":0},{"$f":"Import!AB642","v":0},{"$f":"Import!AC642","v":0},{"$f":"Import!AD642","v":0},{"$f":"Import!AE642","v":0},{"$f":"Import!AF642","v":0},{"$f":"Import!AG642","v":0},{"$f":"Import!AH642","v":0},{"$f":"Import!AI642","v":0},{"$f":"Import!AJ642","v":0},{"$f":"Import!AK642","v":0},{"$f":"Import!AL642","v":0}]
[null,{"$f":"Import!A643","v":0},{"$f":"Import!B643","v":0},{"$f":"Import!H643","v":0},{"$f":"Import!I643","v":0},{"$f":"Import!J643","v":0},{"$f":"Import!K643","v":0},{"$f":"Import!L643","v":0},{"$f":"Import!M643","v":0},{"$f":"Import!N643","v":0},{"$f":"Import!O643","v":0},{"$f":"Import!P643","v":0},{"$f":"Import!Q643","v":0},{"$f":"Import!R643","v":0},{"$f":"Import!S643","v":0},{"$f":"Import!T643","v":0},{"$f":"Import!U643","v":0},{"$f":"Import!V643","v":0},{"$f":"Import!W643","v":0},{"$f":"Import!X643","v":0},{"$f":"Import!Y643","v":0},{"$f":"Import!Z643","v":0},{"$f":"Import!AA643","v":0},{"$f":"Import!AB643","v":0},{"$f":"Import!AC643","v":0},{"$f":"Import!AD643","v":0},{"$f":"Import!AE643","v":0},{"$f":"Import!AF643","v":0},{"$f":"Import!AG643","v":0},{"$f":"Import!AH643","v":0},{"$f":"Import!AI643","v":0},{"$f":"Import!AJ643","v":0},{"$f":"Import!AK643","v":0},{"$f":"Import!AL643","v":0}]
[null,{"$f":"Import!A644","v":0},{"$f":"Import!B644","v":0},{"$f":"Import!H644","v":0},{"$f":"Import!I644","v":0},{"$f":"Import!J644","v":0},{"$f":"Import!K644","v":0},{"$f":"Import!L644","v":0},{"$f":"Import!M644","v":0},{"$f":"Import!N644","v":0},{"$f":"Import!O644","v":0},{"$f":"Import!P644","v":0},{"$f":"Import!Q644","v":0},{"$f":"Import!R644","v":0},{"$f":"Import!S644","v":0},{"$f":"Import!T644","v":0},{"$f":"Import!U644","v":0},{"$f":"Import!V644","v":0},{"$f":"Import!W644","v":0},{"$f":"Import!X644","v":0},{"$f":"Import!Y644","v":0},{"$f":"Import!Z644","v":0},{"$f":"Import!AA644","v":0},{"$f":"Import!AB644","v":0},{"$f":"Import!AC644","v":0},{"$f":"Import!AD644","v":0},{"$f":"Import!AE644","v":0},{"$f":"Import!AF644","v":0},{"$f":"Import!AG644","v":0},{"$f":"Import!AH644","v":0},{"$f":"Import!AI644","v":0},{"$f":"Import!AJ644","v":0},{"$f":"Import!AK644","v":0},{"$f":"Import!AL644","v":0}]
[null,{"$f":"Import!A645","v":0},{"$f":"Import!B645","v":0},{"$f":"Import!H645","v":0},{"$f":"Import!I645","v":0},{"$f":"Import!J645","v":0},{"$f":"Import!K645","v":0},{"$f":"Import!L645","v":0},{"$f":"Import!M645","v":0},{"$f":"Import!N645","v":0},{"$f":"Import!O645","v":0},{"$f":"Import!P645","v":0},{"$f":"Import!Q645","v":0},{"$f":"Import!R645","v":0},{"$f":"Import!S645","v":0},{"$f":"Import!T645","v":0},{"$f":"Import!U645","v":0},{"$f":"Import!V645","v":0},{"$f":"Import!W645","v":0},{"$f":"Import!X645","v":0},{"$f":"Import!Y645","v":0},{"$f":"Import!Z645","v":0},{"$f":"Import!AA645","v":0},{"$f":"Import!AB645","v":0},{"$f":"Import!AC645","v":0},{"$f":"Import!AD645","v":0},{"$f":"Import!AE645","v":0},{"$f":"Import!AF645","v":0},{"$f":"Import!AG645","v":0},{"$f":"Import!AH645","v":0},{"$f":"Import!AI645","v":0},{"$f":"Import!AJ645","v":0},{"$f":"Import!AK645","v":0},{"$f":"Import!AL645","v":0}]
[null,{"$f":"Import!A646","v":0},{"$f":"Import!B646","v":0},{"$f":"Import!H646","v":0},{"$f":"Import!I646","v":0},{"$f":"Import!J646","v":0},{"$f":"Import!K646","v":0},{"$f":"Import!L646","v":0},{"$f":"Import!M646","v":0},{"$f":"Import!N646","v":0},{"$f":"Import!O646","v":0},{"$f":"Import!P646","v":0},{"$f":"Import!Q646","v":0},{"$f":"Import!R646","v":0},{"$f":"Import!S646","v":0},{"$f":"Import!T646","v":0},{"$f":"Import!U646","v":0},{"$f":"Import!V646","v":0},{"$f":"Import!W646","v":0},{"$f":"Import!X646","v":0},{"$f":"Import!Y646","v":0},{"$f":"Import!Z646","v":0},{"$f":"Import!AA646","v":0},{"$f":"Import!AB646","v":0},{"$f":"Import!AC646","v":0},{"$f":"Import!AD646","v":0},{"$f":"Import!AE646","v":0},{"$f":"Import!AF646","v":0},{"$f":"Import!AG646","v":0},{"$f":"Import!AH646","v":0},{"$f":"Import!AI646","v":0},{"$f":"Import!AJ646","v":0},{"$f":"Import!AK646","v":0},{"$f":"Import!AL646","v":0}]
[null,{"$f":"Import!A647","v":0},{"$f":"Import!B647","v":0},{"$f":"Import!H647","v":0},{"$f":"Import!I647","v":0},{"$f":"Import!J647","v":0},{"$f":"Import!K647","v":0},{"$f":"Import!L647","v":0},{"$f":"Import!M647","v":0},{"$f":"Import!N647","v":0},{"$f":"Import!O647","v":0},{"$f":"Import!P647","v":0},{"$f":"Import!Q647","v":0},{"$f":"Import!R647","v":0},{"$f":"Import!S647","v":0},{"$f":"Import!T647","v":0},{"$f":"Import!U647","v":0},{"$f":"Import!V647","v":0},{"$f":"Import!W647","v":0},{"$f":"Import!X647","v":0},{"$f":"Import!Y647","v":0},{"$f":"Import!Z647","v":0},{"$f":"Import!AA647","v":0},{"$f":"Import!AB647","v":0},{"$f":"Import!AC647","v":0},{"$f":"Import!AD647","v":0},{"$f":"Import!AE647","v":0},{"$f":"Import!AF647","v":0},{"$f":"Import!AG647","v":0},{"$f":"Import!AH647","v":0},{"$f":"Import!AI647","v":0},{"$f":"Import!AJ647","v":0},{"$f":"Import!AK647","v":0},{"$f":"Import!AL647","v":0}]
[null,{"$f":"Import!A648","v":0},{"$f":"Import!B648","v":0},{"$f":"Import!H648","v":0},{"$f":"Import!I648","v":0},{"$f":"Import!J648","v":0},{"$f":"Import!K648","v":0},{"$f":"Import!L648","v":0},{"$f":"Import!M648","v":0},{"$f":"Import!N648","v":0},{"$f":"Import!O648","v":0},{"$f":"Import!P648","v":0},{"$f":"Import!Q648","v":0},{"$f":"Import!R648","v":0},{"$f":"Import!S648","v":0},{"$f":"Import!T648","v":0},{"$f":"Import!U648","v":0},{"$f":"Import!V648","v":0},{"$f":"Import!W648","v":0},{"$f":"Import!X648","v":0},{"$f":"Import!Y648","v":0},{"$f":"Import!Z648","v":0},{"$f":"Import!AA648","v":0},{"$f":"Import!AB648","v":0},{"$f":"Import!AC648","v":0},{"$f":"Import!AD648","v":0},{"$f":"Import!AE648","v":0},{"$f":"Import!AF648","v":0},{"$f":"Import!AG648","v":0},{"$f":"Import!AH648","v":0},{"$f":"Import!AI648","v":0},{"$f":"Import!AJ648","v":0},{"$f":"Import!AK648","v":0},{"$f":"Import!AL648","v":0}]
[null,{"$f":"Import!A649","v":0},{"$f":"Import!B649","v":0},{"$f":"Import!H649","v":0},{"$f":"Import!I649","v":0},{"$f":"Import!J649","v":0},{"$f":"Import!K649","v":0},{"$f":"Import!L649","v":0},{"$f":"Import!M649","v":0},{"$f":"Import!N649","v":0},{"$f":"Import!O649","v":0},{"$f":"Import!P649","v":0},{"$f":"Import!Q649","v":0},{"$f":"Import!R649","v":0},{"$f":"Import!S649","v":0},{"$f":"Import!T649","v":0},{"$f":"Import!U649","v":0},{"$f":"Import!V649","v":0},{"$f":"Import!W649","v":0},{"$f":"Import!X649","v":0},{"$f":"Import!Y649","v":0},{"$f":"Import!Z649","v":0},{"$f":"Import!AA649","v":0},{"$f":"Import!AB649","v":0},{"$f":"Import!AC649","v":0},{"$f":"Import!AD649","v":0},{"$f":"Import!AE649","v":0},{"$f":"Import!AF649","v":0},{"$f":"Import!AG649","v":0},{"$f":"Import!AH649","v":0},{"$f":"Import!AI649","v":0},{"$f":"Import!AJ649","v":0},{"$f":"Import!AK649","v":0},{"$f":"Import!AL649","v":0}]
[null,{"$f":"Import!A650","v":0},{"$f":"Import!B650","v":0},{"$f":"Import!H650","v":0},{"$f":"Import!I650","v":0},{"$f":"Import!J650","v":0},{"$f":"Import!K650","v":0},{"$f":"Import!L650","v":0},{"$f":"Import!M650","v":0},{"$f":"Import!N650","v":0},{"$f":"Import!O650","v":0},{"$f":"Import!P650","v":0},{"$f":"Import!Q650","v":0},{"$f":"Import!R650","v":0},{"$f":"Import!S650","v":0},{"$f":"Import!T650","v":0},{"$f":"Import!U650","v":0},{"$f":"Import!V650","v":0},{"$f":"Import!W650","v":0},{"$f":"Import!X650","v":0},{"$f":"Import!Y650","v":0},{"$f":"Import!Z650","v":0},{"$f":"Import!AA650","v":0},{"$f":"Import!AB650","v":0},{"$f":"Import!AC650","v":0},{"$f":"Import!AD650","v":0},{"$f":"Import!AE650","v":0},{"$f":"Import!AF650","v":0},{"$f":"Import!AG650","v":0},{"$f":"Import!AH650","v":0},{"$f":"Import!AI650","v":0},{"$f":"Import!AJ650","v":0},{"$f":"Import!AK650","v":0},{"$f":"Import!AL650","v":0}]
[null,{"$f":"Import!A651","v":0},{"$f":"Import!B651","v":0},{"$f":"Import!H651","v":0},{"$f":"Import!I651","v":0},{"$f":"Import!J651","v":0},{"$f":"Import!K651","v":0},{"$f":"Import!L651","v":0},{"$f":"Import!M651","v":0},{"$f":"Import!N651","v":0},{"$f":"Import!O651","v":0},{"$f":"Import!P651","v":0},{"$f":"Import!Q651","v":0},{"$f":"Import!R651","v":0},{"$f":"Import!S651","v":0},{"$f":"Import!T651","v":0},{"$f":"Import!U651","v":0},{"$f":"Import!V651","v":0},{"$f":"Import!W651","v":0},{"$f":"Import!X651","v":0},{"$f":"Import!Y651","v":0},{"$f":"Import!Z651","v":0},{"$f":"Import!AA651","v":0},{"$f":"Import!AB651","v":0},{"$f":"Import!AC651","v":0},{"$f":"Import!AD651","v":0},{"$f":"Import!AE651","v":0},{"$f":"Import!AF651","v":0},{"$f":"Import!AG651","v":0},{"$f":"Import!AH651","v":0},{"$f":"Import!AI651","v":0},{"$f":"Import!AJ651","v":0},{"$f":"Import!AK651","v":0},{"$f":"Import!AL651","v":0}]
[null,{"$f":"Import!A652","v":0},{"$f":"Import!B652","v":0},{"$f":"Import!H652","v":0},{"$f":"Import!I652","v":0},{"$f":"Import!J652","v":0},{"$f":"Import!K652","v":0},{"$f":"Import!L652","v":0},{"$f":"Import!M652","v":0},{"$f":"Import!N652","v":0},{"$f":"Import!O652","v":0},{"$f":"Import!P652","v":0},{"$f":"Import!Q652","v":0},{"$f":"Import!R652","v":0},{"$f":"Import!S652","v":0},{"$f":"Import!T652","v":0},{"$f":"Import!U652","v":0},{"$f":"Import!V652","v":0},{"$f":"Import!W652","v":0},{"$f":"Import!X652","v":0},{"$f":"Import!Y652","v":0},{"$f":"Import!Z652","v":0},{"$f":"Import!AA652","v":0},{"$f":"Import!AB652","v":0},{"$f":"Import!AC652","v":0},{"$f":"Import!AD652","v":0},{"$f":"Import!AE652","v":0},{"$f":"Import!AF652","v":0},{"$f":"Import!AG652","v":0},{"$f":"Import!AH652","v":0},{"$f":"Import!AI652","v":0},{"$f":"Import!AJ652","v":0},{"$f":"Import!AK652","v":0},{"$f":"Import!AL652","v":0}]
[null,{"$f":"Import!A653","v":0},{"$f":"Import!B653","v":0},{"$f":"Import!H653","v":0},{"$f":"Import!I653","v":0},{"$f":"Import!J653","v":0},{"$f":"Import!K653","v":0},{"$f":"Import!L653","v":0},{"$f":"Import!M653","v":0},{"$f":"Import!N653","v":0},{"$f":"Import!O653","v":0},{"$f":"Import!P653","v":0},{"$f":"Import!Q653","v":0},{"$f":"Import!R653","v":0},{"$f":"Import!S653","v":0},{"$f":"Import!T653","v":0},{"$f":"Import!U653","v":0},{"$f":"Import!V653","v":0},{"$f":"Import!W653","v":0},{"$f":"Import!X653","v":0},{"$f":"Import!Y653","v":0},{"$f":"Import!Z653","v":0},{"$f":"Import!AA653","v":0},{"$f":"Import!AB653","v":0},{"$f":"Import!AC653","v":0},{"$f":"Import!AD653","v":0},{"$f":"Import!AE653","v":0},{"$f":"Import!AF653","v":0},{"$f":"Import!AG653","v":0},{"$f":"Import!AH653","v":0},{"$f":"Import!AI653","v":0},{"$f":"Import!AJ653","v":0},{"$f":"Import!AK653","v":0},{"$f":"Import!AL653","v":0}]
[null,{"$f":"Import!A654","v":0},{"$f":"Import!B654","v":0},{"$f":"Import!H654","v":0},{"$f":"Import!I654","v":0},{"$f":"Import!J654","v":0},{"$f":"Import!K654","v":0},{"$f":"Import!L654","v":0},{"$f":"Import!M654","v":0},{"$f":"Import!N654","v":0},{"$f":"Import!O654","v":0},{"$f":"Import!P654","v":0},{"$f":"Import!Q654","v":0},{"$f":"Import!R654","v":0},{"$f":"Import!S654","v":0},{"$f":"Import!T654","v":0},{"$f":"Import!U654","v":0},{"$f":"Import!V654","v":0},{"$f":"Import!W654","v":0},{"$f":"Import!X654","v":0},{"$f":"Import!Y654","v":0},{"$f":"Import!Z654","v":0},{"$f":"Import!AA654","v":0},{"$f":"Import!AB654","v":0},{"$f":"Import!AC654","v":0},{"$f":"Import!AD654","v":0},{"$f":"Import!AE654","v":0},{"$f":"Import!AF654","v":0},{"$f":"Import!AG654","v":0},{"$f":"Import!AH654","v":0},{"$f":"Import!AI654","v":0},{"$f":"Import!AJ654","v":0},{"$f":"Import!AK654","v":0},{"$f":"Import!AL654","v":0}]
[null,{"$f":"Import!A655","v":0},{"$f":"Import!B655","v":0},{"$f":"Import!H655","v":0},{"$f":"Import!I655","v":0},{"$f":"Import!J655","v":0},{"$f":"Import!K655","v":0},{"$f":"Import!L655","v":0},{"$f":"Import!M655","v":0},{"$f":"Import!N655","v":0},{"$f":"Import!O655","v":0},{"$f":"Import!P655","v":0},{"$f":"Import!Q655","v":0},{"$f":"Import!R655","v":0},{"$f":"Import!S655","v":0},{"$f":"Import!T655","v":0},{"$f":"Import!U655","v":0},{"$f":"Import!V655","v":0},{"$f":"Import!W655","v":0},{"$f":"Import!X655","v":0},{"$f":"Import!Y655","v":0},{"$f":"Import!Z655","v":0},{"$f":"Import!AA655","v":0},{"$f":"Import!AB655","v":0},{"$f":"Import!AC655","v":0},{"$f":"Import!AD655","v":0},{"$f":"Import!AE655","v":0},{"$f":"Import!AF655","v":0},{"$f":"Import!AG655","v":0},{"$f":"Import!AH655","v":0},{"$f":"Import!AI655","v":0},{"$f":"Import!AJ655","v":0},{"$f":"Import!AK655","v":0},{"$f":"Import!AL655","v":0}]
[null,{"$f":"Import!A656","v":0},{"$f":"Import!B656","v":0},{"$f":"Import!H656","v":0},{"$f":"Import!I656","v":0},{"$f":"Import!J656","v":0},{"$f":"Import!K656","v":0},{"$f":"Import!L656","v":0},{"$f":"Import!M656","v":0},{"$f":"Import!N656","v":0},{"$f":"Import!O656","v":0},{"$f":"Import!P656","v":0},{"$f":"Import!Q656","v":0},{"$f":"Import!R656","v":0},{"$f":"Import!S656","v":0},{"$f":"Import!T656","v":0},{"$f":"Import!U656","v":0},{"$f":"Import!V656","v":0},{"$f":"Import!W656","v":0},{"$f":"Import!X656","v":0},{"$f":"Import!Y656","v":0},{"$f":"Import!Z656","v":0},{"$f":"Import!AA656","v":0},{"$f":"Import!AB656","v":0},{"$f":"Import!AC656","v":0},{"$f":"Import!AD656","v":0},{"$f":"Import!AE656","v":0},{"$f":"Import!AF656","v":0},{"$f":"Import!AG656","v":0},{"$f":"Import!AH656","v":0},{"$f":"Import!AI656","v":0},{"$f":"Import!AJ656","v":0},{"$f":"Import!AK656","v":0},{"$f":"Import!AL656","v":0}]
[null,{"$f":"Import!A657","v":0},{"$f":"Import!B657","v":0},{"$f":"Import!H657","v":0},{"$f":"Import!I657","v":0},{"$f":"Import!J657","v":0},{"$f":"Import!K657","v":0},{"$f":"Import!L657","v":0},{"$f":"Import!M657","v":0},{"$f":"Import!N657","v":0},{"$f":"Import!O657","v":0},{"$f":"Import!P657","v":0},{"$f":"Import!Q657","v":0},{"$f":"Import!R657","v":0},{"$f":"Import!S657","v":0},{"$f":"Import!T657","v":0},{"$f":"Import!U657","v":0},{"$f":"Import!V657","v":0},{"$f":"Import!W657","v":0},{"$f":"Import!X657","v":0},{"$f":"Import!Y657","v":0},{"$f":"Import!Z657","v":0},{"$f":"Import!AA657","v":0},{"$f":"Import!AB657","v":0},{"$f":"Import!AC657","v":0},{"$f":"Import!AD657","v":0},{"$f":"Import!AE657","v":0},{"$f":"Import!AF657","v":0},{"$f":"Import!AG657","v":0},{"$f":"Import!AH657","v":0},{"$f":"Import!AI657","v":0},{"$f":"Import!AJ657","v":0},{"$f":"Import!AK657","v":0},{"$f":"Import!AL657","v":0}]
[null,{"$f":"Import!A658","v":0},{"$f":"Import!B658","v":0},{"$f":"Import!H658","v":0},{"$f":"Import!I658","v":0},{"$f":"Import!J658","v":0},{"$f":"Import!K658","v":0},{"$f":"Import!L658","v":0},{"$f":"Import!M658","v":0},{"$f":"Import!N658","v":0},{"$f":"Import!O658","v":0},{"$f":"Import!P658","v":0},{"$f":"Import!Q658","v":0},{"$f":"Import!R658","v":0},{"$f":"Import!S658","v":0},{"$f":"Import!T658","v":0},{"$f":"Import!U658","v":0},{"$f":"Import!V658","v":0},{"$f":"Import!W658","v":0},{"$f":"Import!X658","v":0},{"$f":"Import!Y658","v":0},{"$f":"Import!Z658","v":0},{"$f":"Import!AA658","v":0},{"$f":"Import!AB658","v":0},{"$f":"Import!AC658","v":0},{"$f":"Import!AD658","v":0},{"$f":"Import!AE658","v":0},{"$f":"Import!AF658","v":0},{"$f":"Import!AG658","v":0},{"$f":"Import!AH658","v":0},{"$f":"Import!AI658","v":0},{"$f":"Import!AJ658","v":0},{"$f":"Import!AK658","v":0},{"$f":"Import!AL658","v":0}]
[null,{"$f":"Import!A659","v":0},{"$f":"Import!B659","v":0},{"$f":"Import!H659","v":0},{"$f":"Import!I659","v":0},{"$f":"Import!J659","v":0},{"$f":"Import!K659","v":0},{"$f":"Import!L659","v":0},{"$f":"Import!M659","v":0},{"$f":"Import!N659","v":0},{"$f":"Import!O659","v":0},{"$f":"Import!P659","v":0},{"$f":"Import!Q659","v":0},{"$f":"Import!R659","v":0},{"$f":"Import!S659","v":0},{"$f":"Import!T659","v":0},{"$f":"Import!U659","v":0},{"$f":"Import!V659","v":0},{"$f":"Import!W659","v":0},{"$f":"Import!X659","v":0},{"$f":"Import!Y659","v":0},{"$f":"Import!Z659","v":0},{"$f":"Import!AA659","v":0},{"$f":"Import!AB659","v":0},{"$f":"Import!AC659","v":0},{"$f":"Import!AD659","v":0},{"$f":"Import!AE659","v":0},{"$f":"Import!AF659","v":0},{"$f":"Import!AG659","v":0},{"$f":"Import!AH659","v":0},{"$f":"Import!AI659","v":0},{"$f":"Import!AJ659","v":0},{"$f":"Import!AK659","v":0},{"$f":"Import!AL659","v":0}]
[null,{"$f":"Import!A660","v":0},{"$f":"Import!B660","v":0},{"$f":"Import!H660","v":0},{"$f":"Import!I660","v":0},{"$f":"Import!J660","v":0},{"$f":"Import!K660","v":0},{"$f":"Import!L660","v":0},{"$f":"Import!M660","v":0},{"$f":"Import!N660","v":0},{"$f":"Import!O660","v":0},{"$f":"Import!P660","v":0},{"$f":"Import!Q660","v":0},{"$f":"Import!R660","v":0},{"$f":"Import!S660","v":0},{"$f":"Import!T660","v":0},{"$f":"Import!U660","v":0},{"$f":"Import!V660","v":0},{"$f":"Import!W660","v":0},{"$f":"Import!X660","v":0},{"$f":"Import!Y660","v":0},{"$f":"Import!Z660","v":0},{"$f":"Import!AA660","v":0},{"$f":"Import!AB660","v":0},{"$f":"Import!AC660","v":0},{"$f":"Import!AD660","v":0},{"$f":"Import!AE660","v":0},{"$f":"Import!AF660","v":0},{"$f":"Import!AG660","v":0},{"$f":"Import!AH660","v":0},{"$f":"Import!AI660","v":0},{"$f":"Import!AJ660","v":0},{"$f":"Import!AK660","v":0},{"$f":"Import!AL660","v":0}]
[null,{"$f":"Import!A661","v":0},{"$f":"Import!B661","v":0},{"$f":"Import!H661","v":0},{"$f":"Import!I661","v":0},{"$f":"Import!J661","v":0},{"$f":"Import!K661","v":0},{"$f":"Import!L661","v":0},{"$f":"Import!M661","v":0},{"$f":"Import!N661","v":0},{"$f":"Import!O661","v":0},{"$f":"Import!P661","v":0},{"$f":"Import!Q661","v":0},{"$f":"Import!R661","v":0},{"$f":"Import!S661","v":0},{"$f":"Import!T661","v":0},{"$f":"Import!U661","v":0},{"$f":"Import!V661","v":0},{"$f":"Import!W661","v":0},{"$f":"Import!X661","v":0},{"$f":"Import!Y661","v":0},{"$f":"Import!Z661","v":0},{"$f":"Import!AA661","v":0},{"$f":"Import!AB661","v":0},{"$f":"Import!AC661","v":0},{"$f":"Import!AD661","v":0},{"$f":"Import!AE661","v":0},{"$f":"Import!AF661","v":0},{"$f":"Import!AG661","v":0},{"$f":"Import!AH661","v":0},{"$f":"Import!AI661","v":0},{"$f":"Import!AJ661","v":0},{"$f":"Import!AK661","v":0},{"$f":"Import!AL661","v":0}]
[null,{"$f":"Import!A662","v":0},{"$f":"Import!B662","v":0},{"$f":"Import!H662","v":0},{"$f":"Import!I662","v":0},{"$f":"Import!J662","v":0},{"$f":"Import!K662","v":0},{"$f":"Import!L662","v":0},{"$f":"Import!M662","v":0},{"$f":"Import!N662","v":0},{"$f":"Import!O662","v":0},{"$f":"Import!P662","v":0},{"$f":"Import!Q662","v":0},{"$f":"Import!R662","v":0},{"$f":"Import!S662","v":0},{"$f":"Import!T662","v":0},{"$f":"Import!U662","v":0},{"$f":"Import!V662","v":0},{"$f":"Import!W662","v":0},{"$f":"Import!X662","v":0},{"$f":"Import!Y662","v":0},{"$f":"Import!Z662","v":0},{"$f":"Import!AA662","v":0},{"$f":"Import!AB662","v":0},{"$f":"Import!AC662","v":0},{"$f":"Import!AD662","v":0},{"$f":"Import!AE662","v":0},{"$f":"Import!AF662","v":0},{"$f":"Import!AG662","v":0},{"$f":"Import!AH662","v":0},{"$f":"Import!AI662","v":0},{"$f":"Import!AJ662","v":0},{"$f":"Import!AK662","v":0},{"$f":"Import!AL662","v":0}]
[null,{"$f":"Import!A663","v":0},{"$f":"Import!B663","v":0},{"$f":"Import!H663","v":0},{"$f":"Import!I663","v":0},{"$f":"Import!J663","v":0},{"$f":"Import!K663","v":0},{"$f":"Import!L663","v":0},{"$f":"Import!M663","v":0},{"$f":"Import!N663","v":0},{"$f":"Import!O663","v":0},{"$f":"Import!P663","v":0},{"$f":"Import!Q663","v":0},{"$f":"Import!R663","v":0},{"$f":"Import!S663","v":0},{"$f":"Import!T663","v":0},{"$f":"Import!U663","v":0},{"$f":"Import!V663","v":0},{"$f":"Import!W663","v":0},{"$f":"Import!X663","v":0},{"$f":"Import!Y663","v":0},{"$f":"Import!Z663","v":0},{"$f":"Import!AA663","v":0},{"$f":"Import!AB663","v":0},{"$f":"Import!AC663","v":0},{"$f":"Import!AD663","v":0},{"$f":"Import!AE663","v":0},{"$f":"Import!AF663","v":0},{"$f":"Import!AG663","v":0},{"$f":"Import!AH663","v":0},{"$f":"Import!AI663","v":0},{"$f":"Import!AJ663","v":0},{"$f":"Import!AK663","v":0},{"$f":"Import!AL663","v":0}]
[null,{"$f":"Import!A664","v":0},{"$f":"Import!B664","v":0},{"$f":"Import!H664","v":0},{"$f":"Import!I664","v":0},{"$f":"Import!J664","v":0},{"$f":"Import!K664","v":0},{"$f":"Import!L664","v":0},{"$f":"Import!M664","v":0},{"$f":"Import!N664","v":0},{"$f":"Import!O664","v":0},{"$f":"Import!P664","v":0},{"$f":"Import!Q664","v":0},{"$f":"Import!R664","v":0},{"$f":"Import!S664","v":0},{"$f":"Import!T664","v":0},{"$f":"Import!U664","v":0},{"$f":"Import!V664","v":0},{"$f":"Import!W664","v":0},{"$f":"Import!X664","v":0},{"$f":"Import!Y664","v":0},{"$f":"Import!Z664","v":0},{"$f":"Import!AA664","v":0},{"$f":"Import!AB664","v":0},{"$f":"Import!AC664","v":0},{"$f":"Import!AD664","v":0},{"$f":"Import!AE664","v":0},{"$f":"Import!AF664","v":0},{"$f":"Import!AG664","v":0},{"$f":"Import!AH664","v":0},{"$f":"Import!AI664","v":0},{"$f":"Import!AJ664","v":0},{"$f":"Import!AK664","v":0},{"$f":"Import!AL664","v":0}]
[null,{"$f":"Import!A665","v":0},{"$f":"Import!B665","v":0},{"$f":"Import!H665","v":0},{"$f":"Import!I665","v":0},{"$f":"Import!J665","v":0},{"$f":"Import!K665","v":0},{"$f":"Import!L665","v":0},{"$f":"Import!M665","v":0},{"$f":"Import!N665","v":0},{"$f":"Import!O665","v":0},{"$f":"Import!P665","v":0},{"$f":"Import!Q665","v":0},{"$f":"Import!R665","v":0},{"$f":"Import!S665","v":0},{"$f":"Import!T665","v":0},{"$f":"Import!U665","v":0},{"$f":"Import!V665","v":0},{"$f":"Import!W665","v":0},{"$f":"Import!X665","v":0},{"$f":"Import!Y665","v":0},{"$f":"Import!Z665","v":0},{"$f":"Import!AA665","v":0},{"$f":"Import!AB665","v":0},{"$f":"Import!AC665","v":0},{"$f":"Import!AD665","v":0},{"$f":"Import!AE665","v":0},{"$f":"Import!AF665","v":0},{"$f":"Import!AG665","v":0},{"$f":"Import!AH665","v":0},{"$f":"Import!AI665","v":0},{"$f":"Import!AJ665","v":0},{"$f":"Import!AK665","v":0},{"$f":"Import!AL665","v":0}]
[null,{"$f":"Import!A666","v":0},{"$f":"Import!B666","v":0},{"$f":"Import!H666","v":0},{"$f":"Import!I666","v":0},{"$f":"Import!J666","v":0},{"$f":"Import!K666","v":0},{"$f":"Import!L666","v":0},{"$f":"Import!M666","v":0},{"$f":"Import!N666","v":0},{"$f":"Import!O666","v":0},{"$f":"Import!P666","v":0},{"$f":"Import!Q666","v":0},{"$f":"Import!R666","v":0},{"$f":"Import!S666","v":0},{"$f":"Import!T666","v":0},{"$f":"Import!U666","v":0},{"$f":"Import!V666","v":0},{"$f":"Import!W666","v":0},{"$f":"Import!X666","v":0},{"$f":"Import!Y666","v":0},{"$f":"Import!Z666","v":0},{"$f":"Import!AA666","v":0},{"$f":"Import!AB666","v":0},{"$f":"Import!AC666","v":0},{"$f":"Import!AD666","v":0},{"$f":"Import!AE666","v":0},{"$f":"Import!AF666","v":0},{"$f":"Import!AG666","v":0},{"$f":"Import!AH666","v":0},{"$f":"Import!AI666","v":0},{"$f":"Import!AJ666","v":0},{"$f":"Import!AK666","v":0},{"$f":"Import!AL666","v":0}]
[null,{"$f":"Import!A667","v":0},{"$f":"Import!B667","v":0},{"$f":"Import!H667","v":0},{"$f":"Import!I667","v":0},{"$f":"Import!J667","v":0},{"$f":"Import!K667","v":0},{"$f":"Import!L667","v":0},{"$f":"Import!M667","v":0},{"$f":"Import!N667","v":0},{"$f":"Import!O667","v":0},{"$f":"Import!P667","v":0},{"$f":"Import!Q667","v":0},{"$f":"Import!R667","v":0},{"$f":"Import!S667","v":0},{"$f":"Import!T667","v":0},{"$f":"Import!U667","v":0},{"$f":"Import!V667","v":0},{"$f":"Import!W667","v":0},{"$f":"Import!X667","v":0},{"$f":"Import!Y667","v":0},{"$f":"Import!Z667","v":0},{"$f":"Import!AA667","v":0},{"$f":"Import!AB667","v":0},{"$f":"Import!AC667","v":0},{"$f":"Import!AD667","v":0},{"$f":"Import!AE667","v":0},{"$f":"Import!AF667","v":0},{"$f":"Import!AG667","v":0},{"$f":"Import!AH667","v":0},{"$f":"Import!AI667","v":0},{"$f":"Import!AJ667","v":0},{"$f":"Import!AK667","v":0},{"$f":"Import!AL667","v":0}]
[null,{"$f":"Import!A668","v":0},{"$f":"Import!B668","v":0},{"$f":"Import!H668","v":0},{"$f":"Import!I668","v":0},{"$f":"Import!J668","v":0},{"$f":"Import!K668","v":0},{"$f":"Import!L668","v":0},{"$f":"Import!M668","v":0},{"$f":"Import!N668","v":0},{"$f":"Import!O668","v":0},{"$f":"Import!P668","v":0},{"$f":"Import!Q668","v":0},{"$f":"Import!R668","v":0},{"$f":"Import!S668","v":0},{"$f":"Import!T668","v":0},{"$f":"Import!U668","v":0},{"$f":"Import!V668","v":0},{"$f":"Import!W668","v":0},{"$f":"Import!X668","v":0},{"$f":"Import!Y668","v":0},{"$f":"Import!Z668","v":0},{"$f":"Import!AA668","v":0},{"$f":"Import!AB668","v":0},{"$f":"Import!AC668","v":0},{"$f":"Import!AD668","v":0},{"$f":"Import!AE668","v":0},{"$f":"Import!AF668","v":0},{"$f":"Import!AG668","v":0},{"$f":"Import!AH668","v":0},{"$f":"Import!AI668","v":0},{"$f":"Import!AJ668","v":0},{"$f":"Import!AK668","v":0},{"$f":"Import!AL668","v":0}]
[null,{"$f":"Import!A669","v":0},{"$f":"Import!B669","v":0},{"$f":"Import!H669","v":0},{"$f":"Import!I669","v":0},{"$f":"Import!J669","v":0},{"$f":"Import!K669","v":0},{"$f":"Import!L669","v":0},{"$f":"Import!M669","v":0},{"$f":"Import!N669","v":0},{"$f":"Import!O669","v":0},{"$f":"Import!P669","v":0},{"$f":"Import!Q669","v":0},{"$f":"Import!R669","v":0},{"$f":"Import!S669","v":0},{"$f":"Import!T669","v":0},{"$f":"Import!U669","v":0},{"$f":"Import!V669","v":0},{"$f":"Import!W669","v":0},{"$f":"Import!X669","v":0},{"$f":"Import!Y669","v":0},{"$f":"Import!Z669","v":0},{"$f":"Import!AA669","v":0},{"$f":"Import!AB669","v":0},{"$f":"Import!AC669","v":0},{"$f":"Import!AD669","v":0},{"$f":"Import!AE669","v":0},{"$f":"Import!AF669","v":0},{"$f":"Import!AG669","v":0},{"$f":"Import!AH669","v":0},{"$f":"Import!AI669","v":0},{"$f":"Import!AJ669","v":0},{"$f":"Import!AK669","v":0},{"$f":"Import!AL669","v":0}]
[null,{"$f":"Import!A670","v":0},{"$f":"Import!B670","v":0},{"$f":"Import!H670","v":0},{"$f":"Import!I670","v":0},{"$f":"Import!J670","v":0},{"$f":"Import!K670","v":0},{"$f":"Import!L670","v":0},{"$f":"Import!M670","v":0},{"$f":"Import!N670","v":0},{"$f":"Import!O670","v":0},{"$f":"Import!P670","v":0},{"$f":"Import!Q670","v":0},{"$f":"Import!R670","v":0},{"$f":"Import!S670","v":0},{"$f":"Import!T670","v":0},{"$f":"Import!U670","v":0},{"$f":"Import!V670","v":0},{"$f":"Import!W670","v":0},{"$f":"Import!X670","v":0},{"$f":"Import!Y670","v":0},{"$f":"Import!Z670","v":0},{"$f":"Import!AA670","v":0},{"$f":"Import!AB670","v":0},{"$f":"Import!AC670","v":0},{"$f":"Import!AD670","v":0},{"$f":"Import!AE670","v":0},{"$f":"Import!AF670","v":0},{"$f":"Import!AG670","v":0},{"$f":"Import!AH670","v":0},{"$f":"Import!AI670","v":0},{"$f":"Import!AJ670","v":0},{"$f":"Import!AK670","v":0},{"$f":"Import!AL670","v":0}]
[null,{"$f":"Import!A671","v":0},{"$f":"Import!B671","v":0},{"$f":"Import!H671","v":0},{"$f":"Import!I671","v":0},{"$f":"Import!J671","v":0},{"$f":"Import!K671","v":0},{"$f":"Import!L671","v":0},{"$f":"Import!M671","v":0},{"$f":"Import!N671","v":0},{"$f":"Import!O671","v":0},{"$f":"Import!P671","v":0},{"$f":"Import!Q671","v":0},{"$f":"Import!R671","v":0},{"$f":"Import!S671","v":0},{"$f":"Import!T671","v":0},{"$f":"Import!U671","v":0},{"$f":"Import!V671","v":0},{"$f":"Import!W671","v":0},{"$f":"Import!X671","v":0},{"$f":"Import!Y671","v":0},{"$f":"Import!Z671","v":0},{"$f":"Import!AA671","v":0},{"$f":"Import!AB671","v":0},{"$f":"Import!AC671","v":0},{"$f":"Import!AD671","v":0},{"$f":"Import!AE671","v":0},{"$f":"Import!AF671","v":0},{"$f":"Import!AG671","v":0},{"$f":"Import!AH671","v":0},{"$f":"Import!AI671","v":0},{"$f":"Import!AJ671","v":0},{"$f":"Import!AK671","v":0},{"$f":"Import!AL671","v":0}]
[null,{"$f":"Import!A672","v":0},{"$f":"Import!B672","v":0},{"$f":"Import!H672","v":0},{"$f":"Import!I672","v":0},{"$f":"Import!J672","v":0},{"$f":"Import!K672","v":0},{"$f":"Import!L672","v":0},{"$f":"Import!M672","v":0},{"$f":"Import!N672","v":0},{"$f":"Import!O672","v":0},{"$f":"Import!P672","v":0},{"$f":"Import!Q672","v":0},{"$f":"Import!R672","v":0},{"$f":"Import!S672","v":0},{"$f":"Import!T672","v":0},{"$f":"Import!U672","v":0},{"$f":"Import!V672","v":0},{"$f":"Import!W672","v":0},{"$f":"Import!X672","v":0},{"$f":"Import!Y672","v":0},{"$f":"Import!Z672","v":0},{"$f":"Import!AA672","v":0},{"$f":"Import!AB672","v":0},{"$f":"Import!AC672","v":0},{"$f":"Import!AD672","v":0},{"$f":"Import!AE672","v":0},{"$f":"Import!AF672","v":0},{"$f":"Import!AG672","v":0},{"$f":"Import!AH672","v":0},{"$f":"Import!AI672","v":0},{"$f":"Import!AJ672","v":0},{"$f":"Import!AK672","v":0},{"$f":"Import!AL672","v":0}]
[null,{"$f":"Import!A673","v":0},{"$f":"Import!B673","v":0},{"$f":"Import!H673","v":0},{"$f":"Import!I673","v":0},{"$f":"Import!J673","v":0},{"$f":"Import!K673","v":0},{"$f":"Import!L673","v":0},{"$f":"Import!M673","v":0},{"$f":"Import!N673","v":0},{"$f":"Import!O673","v":0},{"$f":"Import!P673","v":0},{"$f":"Import!Q673","v":0},{"$f":"Import!R673","v":0},{"$f":"Import!S673","v":0},{"$f":"Import!T673","v":0},{"$f":"Import!U673","v":0},{"$f":"Import!V673","v":0},{"$f":"Import!W673","v":0},{"$f":"Import!X673","v":0},{"$f":"Import!Y673","v":0},{"$f":"Import!Z673","v":0},{"$f":"Import!AA673","v":0},{"$f":"Import!AB673","v":0},{"$f":"Import!AC673","v":0},{"$f":"Import!AD673","v":0},{"$f":"Import!AE673","v":0},{"$f":"Import!AF673","v":0},{"$f":"Import!AG673","v":0},{"$f":"Import!AH673","v":0},{"$f":"Import!AI673","v":0},{"$f":"Import!AJ673","v":0},{"$f":"Import!AK673","v":0},{"$f":"Import!AL673","v":0}]
[null,{"$f":"Import!A674","v":0},{"$f":"Import!B674","v":0},{"$f":"Import!H674","v":0},{"$f":"Import!I674","v":0},{"$f":"Import!J674","v":0},{"$f":"Import!K674","v":0},{"$f":"Import!L674","v":0},{"$f":"Import!M674","v":0},{"$f":"Import!N674","v":0},{"$f":"Import!O674","v":0},{"$f":"Import!P674","v":0},{"$f":"Import!Q674","v":0},{"$f":"Import!R674","v":0},{"$f":"Import!S674","v":0},{"$f":"Import!T674","v":0},{"$f":"Import!U674","v":0},{"$f":"Import!V674","v":0},{"$f":"Import!W674","v":0},{"$f":"Import!X674","v":0},{"$f":"Import!Y674","v":0},{"$f":"Import!Z674","v":0},{"$f":"Import!AA674","v":0},{"$f":"Import!AB674","v":0},{"$f":"Import!AC674","v":0},{"$f":"Import!AD674","v":0},{"$f":"Import!AE674","v":0},{"$f":"Import!AF674","v":0},{"$f":"Import!AG674","v":0},{"$f":"Import!AH674","v":0},{"$f":"Import!AI674","v":0},{"$f":"Import!AJ674","v":0},{"$f":"Import!AK674","v":0},{"$f":"Import!AL674","v":0}]
[null,{"$f":"Import!A675","v":0},{"$f":"Import!B675","v":0},{"$f":"Import!H675","v":0},{"$f":"Import!I675","v":0},{"$f":"Import!J675","v":0},{"$f":"Import!K675","v":0},{"$f":"Import!L675","v":0},{"$f":"Import!M675","v":0},{"$f":"Import!N675","v":0},{"$f":"Import!O675","v":0},{"$f":"Import!P675","v":0},{"$f":"Import!Q675","v":0},{"$f":"Import!R675","v":0},{"$f":"Import!S675","v":0},{"$f":"Import!T675","v":0},{"$f":"Import!U675","v":0},{"$f":"Import!V675","v":0},{"$f":"Import!W675","v":0},{"$f":"Import!X675","v":0},{"$f":"Import!Y675","v":0},{"$f":"Import!Z675","v":0},{"$f":"Import!AA675","v":0},{"$f":"Import!AB675","v":0},{"$f":"Import!AC675","v":0},{"$f":"Import!AD675","v":0},{"$f":"Import!AE675","v":0},{"$f":"Import!AF675","v":0},{"$f":"Import!AG675","v":0},{"$f":"Import!AH675","v":0},{"$f":"Import!AI675","v":0},{"$f":"Import!AJ675","v":0},{"$f":"Import!AK675","v":0},{"$f":"Import!AL675","v":0}]
[null,{"$f":"Import!A676","v":0},{"$f":"Import!B676","v":0},{"$f":"Import!H676","v":0},{"$f":"Import!I676","v":0},{"$f":"Import!J676","v":0},{"$f":"Import!K676","v":0},{"$f":"Import!L676","v":0},{"$f":"Import!M676","v":0},{"$f":"Import!N676","v":0},{"$f":"Import!O676","v":0},{"$f":"Import!P676","v":0},{"$f":"Import!Q676","v":0},{"$f":"Import!R676","v":0},{"$f":"Import!S676","v":0},{"$f":"Import!T676","v":0},{"$f":"Import!U676","v":0},{"$f":"Import!V676","v":0},{"$f":"Import!W676","v":0},{"$f":"Import!X676","v":0},{"$f":"Import!Y676","v":0},{"$f":"Import!Z676","v":0},{"$f":"Import!AA676","v":0},{"$f":"Import!AB676","v":0},{"$f":"Import!AC676","v":0},{"$f":"Import!AD676","v":0},{"$f":"Import!AE676","v":0},{"$f":"Import!AF676","v":0},{"$f":"Import!AG676","v":0},{"$f":"Import!AH676","v":0},{"$f":"Import!AI676","v":0},{"$f":"Import!AJ676","v":0},{"$f":"Import!AK676","v":0},{"$f":"Import!AL676","v":0}]
[null,{"$f":"Import!A677","v":0},{"$f":"Import!B677","v":0},{"$f":"Import!H677","v":0},{"$f":"Import!I677","v":0},{"$f":"Import!J677","v":0},{"$f":"Import!K677","v":0},{"$f":"Import!L677","v":0},{"$f":"Import!M677","v":0},{"$f":"Import!N677","v":0},{"$f":"Import!O677","v":0},{"$f":"Import!P677","v":0},{"$f":"Import!Q677","v":0},{"$f":"Import!R677","v":0},{"$f":"Import!S677","v":0},{"$f":"Import!T677","v":0},{"$f":"Import!U677","v":0},{"$f":"Import!V677","v":0},{"$f":"Import!W677","v":0},{"$f":"Import!X677","v":0},{"$f":"Import!Y677","v":0},{"$f":"Import!Z677","v":0},{"$f":"Import!AA677","v":0},{"$f":"Import!AB677","v":0},{"$f":"Import!AC677","v":0},{"$f":"Import!AD677","v":0},{"$f":"Import!AE677","v":0},{"$f":"Import!AF677","v":0},{"$f":"Import!AG677","v":0},{"$f":"Import!AH677","v":0},{"$f":"Import!AI677","v":0},{"$f":"Import!AJ677","v":0},{"$f":"Import!AK677","v":0},{"$f":"Import!AL677","v":0}]
[null,{"$f":"Import!A678","v":0},{"$f":"Import!B678","v":0},{"$f":"Import!H678","v":0},{"$f":"Import!I678","v":0},{"$f":"Import!J678","v":0},{"$f":"Import!K678","v":0},{"$f":"Import!L678","v":0},{"$f":"Import!M678","v":0},{"$f":"Import!N678","v":0},{"$f":"Import!O678","v":0},{"$f":"Import!P678","v":0},{"$f":"Import!Q678","v":0},{"$f":"Import!R678","v":0},{"$f":"Import!S678","v":0},{"$f":"Import!T678","v":0},{"$f":"Import!U678","v":0},{"$f":"Import!V678","v":0},{"$f":"Import!W678","v":0},{"$f":"Import!X678","v":0},{"$f":"Import!Y678","v":0},{"$f":"Import!Z678","v":0},{"$f":"Import!AA678","v":0},{"$f":"Import!AB678","v":0},{"$f":"Import!AC678","v":0},{"$f":"Import!AD678","v":0},{"$f":"Import!AE678","v":0},{"$f":"Import!AF678","v":0},{"$f":"Import!AG678","v":0},{"$f":"Import!AH678","v":0},{"$f":"Import!AI678","v":0},{"$f":"Import!AJ678","v":0},{"$f":"Import!AK678","v":0},{"$f":"Import!AL678","v":0}]
[null,{"$f":"Import!A679","v":0},{"$f":"Import!B679","v":0},{"$f":"Import!H679","v":0},{"$f":"Import!I679","v":0},{"$f":"Import!J679","v":0},{"$f":"Import!K679","v":0},{"$f":"Import!L679","v":0},{"$f":"Import!M679","v":0},{"$f":"Import!N679","v":0},{"$f":"Import!O679","v":0},{"$f":"Import!P679","v":0},{"$f":"Import!Q679","v":0},{"$f":"Import!R679","v":0},{"$f":"Import!S679","v":0},{"$f":"Import!T679","v":0},{"$f":"Import!U679","v":0},{"$f":"Import!V679","v":0},{"$f":"Import!W679","v":0},{"$f":"Import!X679","v":0},{"$f":"Import!Y679","v":0},{"$f":"Import!Z679","v":0},{"$f":"Import!AA679","v":0},{"$f":"Import!AB679","v":0},{"$f":"Import!AC679","v":0},{"$f":"Import!AD679","v":0},{"$f":"Import!AE679","v":0},{"$f":"Import!AF679","v":0},{"$f":"Import!AG679","v":0},{"$f":"Import!AH679","v":0},{"$f":"Import!AI679","v":0},{"$f":"Import!AJ679","v":0},{"$f":"Import!AK679","v":0},{"$f":"Import!AL679","v":0}]
[null,{"$f":"Import!A680","v":0},{"$f":"Import!B680","v":0},{"$f":"Import!H680","v":0},{"$f":"Import!I680","v":0},{"$f":"Import!J680","v":0},{"$f":"Import!K680","v":0},{"$f":"Import!L680","v":0},{"$f":"Import!M680","v":0},{"$f":"Import!N680","v":0},{"$f":"Import!O680","v":0},{"$f":"Import!P680","v":0},{"$f":"Import!Q680","v":0},{"$f":"Import!R680","v":0},{"$f":"Import!S680","v":0},{"$f":"Import!T680","v":0},{"$f":"Import!U680","v":0},{"$f":"Import!V680","v":0},{"$f":"Import!W680","v":0},{"$f":"Import!X680","v":0},{"$f":"Import!Y680","v":0},{"$f":"Import!Z680","v":0},{"$f":"Import!AA680","v":0},{"$f":"Import!AB680","v":0},{"$f":"Import!AC680","v":0},{"$f":"Import!AD680","v":0},{"$f":"Import!AE680","v":0},{"$f":"Import!AF680","v":0},{"$f":"Import!AG680","v":0},{"$f":"Import!AH680","v":0},{"$f":"Import!AI680","v":0},{"$f":"Import!AJ680","v":0},{"$f":"Import!AK680","v":0},{"$f":"Import!AL680","v":0}]
[null,{"$f":"Import!A681","v":0},{"$f":"Import!B681","v":0},{"$f":"Import!H681","v":0},{"$f":"Import!I681","v":0},{"$f":"Import!J681","v":0},{"$f":"Import!K681","v":0},{"$f":"Import!L681","v":0},{"$f":"Import!M681","v":0},{"$f":"Import!N681","v":0},{"$f":"Import!O681","v":0},{"$f":"Import!P681","v":0},{"$f":"Import!Q681","v":0},{"$f":"Import!R681","v":0},{"$f":"Import!S681","v":0},{"$f":"Import!T681","v":0},{"$f":"Import!U681","v":0},{"$f":"Import!V681","v":0},{"$f":"Import!W681","v":0},{"$f":"Import!X681","v":0},{"$f":"Import!Y681","v":0},{"$f":"Import!Z681","v":0},{"$f":"Import!AA681","v":0},{"$f":"Import!AB681","v":0},{"$f":"Import!AC681","v":0},{"$f":"Import!AD681","v":0},{"$f":"Import!AE681","v":0},{"$f":"Import!AF681","v":0},{"$f":"Import!AG681","v":0},{"$f":"Import!AH681","v":0},{"$f":"Import!AI681","v":0},{"$f":"Import!AJ681","v":0},{"$f":"Import!AK681","v":0},{"$f":"Import!AL681","v":0}]
[null,{"$f":"Import!A682","v":0},{"$f":"Import!B682","v":0},{"$f":"Import!H682","v":0},{"$f":"Import!I682","v":0},{"$f":"Import!J682","v":0},{"$f":"Import!K682","v":0},{"$f":"Import!L682","v":0},{"$f":"Import!M682","v":0},{"$f":"Import!N682","v":0},{"$f":"Import!O682","v":0},{"$f":"Import!P682","v":0},{"$f":"Import!Q682","v":0},{"$f":"Import!R682","v":0},{"$f":"Import!S682","v":0},{"$f":"Import!T682","v":0},{"$f":"Import!U682","v":0},{"$f":"Import!V682","v":0},{"$f":"Import!W682","v":0},{"$f":"Import!X682","v":0},{"$f":"Import!Y682","v":0},{"$f":"Import!Z682","v":0},{"$f":"Import!AA682","v":0},{"$f":"Import!AB682","v":0},{"$f":"Import!AC682","v":0},{"$f":"Import!AD682","v":0},{"$f":"Import!AE682","v":0},{"$f":"Import!AF682","v":0},{"$f":"Import!AG682","v":0},{"$f":"Import!AH682","v":0},{"$f":"Import!AI682","v":0},{"$f":"Import!AJ682","v":0},{"$f":"Import!AK682","v":0},{"$f":"Import!AL682","v":0}]
[null,{"$f":"Import!A683","v":0},{"$f":"Import!B683","v":0},{"$f":"Import!H683","v":0},{"$f":"Import!I683","v":0},{"$f":"Import!J683","v":0},{"$f":"Import!K683","v":0},{"$f":"Import!L683","v":0},{"$f":"Import!M683","v":0},{"$f":"Import!N683","v":0},{"$f":"Import!O683","v":0},{"$f":"Import!P683","v":0},{"$f":"Import!Q683","v":0},{"$f":"Import!R683","v":0},{"$f":"Import!S683","v":0},{"$f":"Import!T683","v":0},{"$f":"Import!U683","v":0},{"$f":"Import!V683","v":0},{"$f":"Import!W683","v":0},{"$f":"Import!X683","v":0},{"$f":"Import!Y683","v":0},{"$f":"Import!Z683","v":0},{"$f":"Import!AA683","v":0},{"$f":"Import!AB683","v":0},{"$f":"Import!AC683","v":0},{"$f":"Import!AD683","v":0},{"$f":"Import!AE683","v":0},{"$f":"Import!AF683","v":0},{"$f":"Import!AG683","v":0},{"$f":"Import!AH683","v":0},{"$f":"Import!AI683","v":0},{"$f":"Import!AJ683","v":0},{"$f":"Import!AK683","v":0},{"$f":"Import!AL683","v":0}]
[null,{"$f":"Import!A684","v":0},{"$f":"Import!B684","v":0},{"$f":"Import!H684","v":0},{"$f":"Import!I684","v":0},{"$f":"Import!J684","v":0},{"$f":"Import!K684","v":0},{"$f":"Import!L684","v":0},{"$f":"Import!M684","v":0},{"$f":"Import!N684","v":0},{"$f":"Import!O684","v":0},{"$f":"Import!P684","v":0},{"$f":"Import!Q684","v":0},{"$f":"Import!R684","v":0},{"$f":"Import!S684","v":0},{"$f":"Import!T684","v":0},{"$f":"Import!U684","v":0},{"$f":"Import!V684","v":0},{"$f":"Import!W684","v":0},{"$f":"Import!X684","v":0},{"$f":"Import!Y684","v":0},{"$f":"Import!Z684","v":0},{"$f":"Import!AA684","v":0},{"$f":"Import!AB684","v":0},{"$f":"Import!AC684","v":0},{"$f":"Import!AD684","v":0},{"$f":"Import!AE684","v":0},{"$f":"Import!AF684","v":0},{"$f":"Import!AG684","v":0},{"$f":"Import!AH684","v":0},{"$f":"Import!AI684","v":0},{"$f":"Import!AJ684","v":0},{"$f":"Import!AK684","v":0},{"$f":"Import!AL684","v":0}]
[null,{"$f":"Import!A685","v":0},{"$f":"Import!B685","v":0},{"$f":"Import!H685","v":0},{"$f":"Import!I685","v":0},{"$f":"Import!J685","v":0},{"$f":"Import!K685","v":0},{"$f":"Import!L685","v":0},{"$f":"Import!M685","v":0},{"$f":"Import!N685","v":0},{"$f":"Import!O685","v":0},{"$f":"Import!P685","v":0},{"$f":"Import!Q685","v":0},{"$f":"Import!R685","v":0},{"$f":"Import!S685","v":0},{"$f":"Import!T685","v":0},{"$f":"Import!U685","v":0},{"$f":"Import!V685","v":0},{"$f":"Import!W685","v":0},{"$f":"Import!X685","v":0},{"$f":"Import!Y685","v":0},{"$f":"Import!Z685","v":0},{"$f":"Import!AA685","v":0},{"$f":"Import!AB685","v":0},{"$f":"Import!AC685","v":0},{"$f":"Import!AD685","v":0},{"$f":"Import!AE685","v":0},{"$f":"Import!AF685","v":0},{"$f":"Import!AG685","v":0},{"$f":"Import!AH685","v":0},{"$f":"Import!AI685","v":0},{"$f":"Import!AJ685","v":0},{"$f":"Import!AK685","v":0},{"$f":"Import!AL685","v":0}]
[null,{"$f":"Import!A686","v":0},{"$f":"Import!B686","v":0},{"$f":"Import!H686","v":0},{"$f":"Import!I686","v":0},{"$f":"Import!J686","v":0},{"$f":"Import!K686","v":0},{"$f":"Import!L686","v":0},{"$f":"Import!M686","v":0},{"$f":"Import!N686","v":0},{"$f":"Import!O686","v":0},{"$f":"Import!P686","v":0},{"$f":"Import!Q686","v":0},{"$f":"Import!R686","v":0},{"$f":"Import!S686","v":0},{"$f":"Import!T686","v":0},{"$f":"Import!U686","v":0},{"$f":"Import!V686","v":0},{"$f":"Import!W686","v":0},{"$f":"Import!X686","v":0},{"$f":"Import!Y686","v":0},{"$f":"Import!Z686","v":0},{"$f":"Import!AA686","v":0},{"$f":"Import!AB686","v":0},{"$f":"Import!AC686","v":0},{"$f":"Import!AD686","v":0},{"$f":"Import!AE686","v":0},{"$f":"Import!AF686","v":0},{"$f":"Import!AG686","v":0},{"$f":"Import!AH686","v":0},{"$f":"Import!AI686","v":0},{"$f":"Import!AJ686","v":0},{"$f":"Import!AK686","v":0},{"$f":"Import!AL686","v":0}]
[null,{"$f":"Import!A687","v":0},{"$f":"Import!B687","v":0},{"$f":"Import!H687","v":0},{"$f":"Import!I687","v":0},{"$f":"Import!J687","v":0},{"$f":"Import!K687","v":0},{"$f":"Import!L687","v":0},{"$f":"Import!M687","v":0},{"$f":"Import!N687","v":0},{"$f":"Import!O687","v":0},{"$f":"Import!P687","v":0},{"$f":"Import!Q687","v":0},{"$f":"Import!R687","v":0},{"$f":"Import!S687","v":0},{"$f":"Import!T687","v":0},{"$f":"Import!U687","v":0},{"$f":"Import!V687","v":0},{"$f":"Import!W687","v":0},{"$f":"Import!X687","v":0},{"$f":"Import!Y687","v":0},{"$f":"Import!Z687","v":0},{"$f":"Import!AA687","v":0},{"$f":"Import!AB687","v":0},{"$f":"Import!AC687","v":0},{"$f":"Import!AD687","v":0},{"$f":"Import!AE687","v":0},{"$f":"Import!AF687","v":0},{"$f":"Import!AG687","v":0},{"$f":"Import!AH687","v":0},{"$f":"Import!AI687","v":0},{"$f":"Import!AJ687","v":0},{"$f":"Import!AK687","v":0},{"$f":"Import!AL687","v":0}]
[null,{"$f":"Import!A688","v":0},{"$f":"Import!B688","v":0},{"$f":"Import!H688","v":0},{"$f":"Import!I688","v":0},{"$f":"Import!J688","v":0},{"$f":"Import!K688","v":0},{"$f":"Import!L688","v":0},{"$f":"Import!M688","v":0},{"$f":"Import!N688","v":0},{"$f":"Import!O688","v":0},{"$f":"Import!P688","v":0},{"$f":"Import!Q688","v":0},{"$f":"Import!R688","v":0},{"$f":"Import!S688","v":0},{"$f":"Import!T688","v":0},{"$f":"Import!U688","v":0},{"$f":"Import!V688","v":0},{"$f":"Import!W688","v":0},{"$f":"Import!X688","v":0},{"$f":"Import!Y688","v":0},{"$f":"Import!Z688","v":0},{"$f":"Import!AA688","v":0},{"$f":"Import!AB688","v":0},{"$f":"Import!AC688","v":0},{"$f":"Import!AD688","v":0},{"$f":"Import!AE688","v":0},{"$f":"Import!AF688","v":0},{"$f":"Import!AG688","v":0},{"$f":"Import!AH688","v":0},{"$f":"Import!AI688","v":0},{"$f":"Import!AJ688","v":0},{"$f":"Import!AK688","v":0},{"$f":"Import!AL688","v":0}]
[null,{"$f":"Import!A689","v":0},{"$f":"Import!B689","v":0},{"$f":"Import!H689","v":0},{"$f":"Import!I689","v":0},{"$f":"Import!J689","v":0},{"$f":"Import!K689","v":0},{"$f":"Import!L689","v":0},{"$f":"Import!M689","v":0},{"$f":"Import!N689","v":0},{"$f":"Import!O689","v":0},{"$f":"Import!P689","v":0},{"$f":"Import!Q689","v":0},{"$f":"Import!R689","v":0},{"$f":"Import!S689","v":0},{"$f":"Import!T689","v":0},{"$f":"Import!U689","v":0},{"$f":"Import!V689","v":0},{"$f":"Import!W689","v":0},{"$f":"Import!X689","v":0},{"$f":"Import!Y689","v":0},{"$f":"Import!Z689","v":0},{"$f":"Import!AA689","v":0},{"$f":"Import!AB689","v":0},{"$f":"Import!AC689","v":0},{"$f":"Import!AD689","v":0},{"$f":"Import!AE689","v":0},{"$f":"Import!AF689","v":0},{"$f":"Import!AG689","v":0},{"$f":"Import!AH689","v":0},{"$f":"Import!AI689","v":0},{"$f":"Import!AJ689","v":0},{"$f":"Import!AK689","v":0},{"$f":"Import!AL689","v":0}]
[null,{"$f":"Import!A690","v":0},{"$f":"Import!B690","v":0},{"$f":"Import!H690","v":0},{"$f":"Import!I690","v":0},{"$f":"Import!J690","v":0},{"$f":"Import!K690","v":0},{"$f":"Import!L690","v":0},{"$f":"Import!M690","v":0},{"$f":"Import!N690","v":0},{"$f":"Import!O690","v":0},{"$f":"Import!P690","v":0},{"$f":"Import!Q690","v":0},{"$f":"Import!R690","v":0},{"$f":"Import!S690","v":0},{"$f":"Import!T690","v":0},{"$f":"Import!U690","v":0},{"$f":"Import!V690","v":0},{"$f":"Import!W690","v":0},{"$f":"Import!X690","v":0},{"$f":"Import!Y690","v":0},{"$f":"Import!Z690","v":0},{"$f":"Import!AA690","v":0},{"$f":"Import!AB690","v":0},{"$f":"Import!AC690","v":0},{"$f":"Import!AD690","v":0},{"$f":"Import!AE690","v":0},{"$f":"Import!AF690","v":0},{"$f":"Import!AG690","v":0},{"$f":"Import!AH690","v":0},{"$f":"Import!AI690","v":0},{"$f":"Import!AJ690","v":0},{"$f":"Import!AK690","v":0},{"$f":"Import!AL690","v":0}]
[null,{"$f":"Import!A691","v":0},{"$f":"Import!B691","v":0},{"$f":"Import!H691","v":0},{"$f":"Import!I691","v":0},{"$f":"Import!J691","v":0},{"$f":"Import!K691","v":0},{"$f":"Import!L691","v":0},{"$f":"Import!M691","v":0},{"$f":"Import!N691","v":0},{"$f":"Import!O691","v":0},{"$f":"Import!P691","v":0},{"$f":"Import!Q691","v":0},{"$f":"Import!R691","v":0},{"$f":"Import!S691","v":0},{"$f":"Import!T691","v":0},{"$f":"Import!U691","v":0},{"$f":"Import!V691","v":0},{"$f":"Import!W691","v":0},{"$f":"Import!X691","v":0},{"$f":"Import!Y691","v":0},{"$f":"Import!Z691","v":0},{"$f":"Import!AA691","v":0},{"$f":"Import!AB691","v":0},{"$f":"Import!AC691","v":0},{"$f":"Import!AD691","v":0},{"$f":"Import!AE691","v":0},{"$f":"Import!AF691","v":0},{"$f":"Import!AG691","v":0},{"$f":"Import!AH691","v":0},{"$f":"Import!AI691","v":0},{"$f":"Import!AJ691","v":0},{"$f":"Import!AK691","v":0},{"$f":"Import!AL691","v":0}]
[null,{"$f":"Import!A692","v":0},{"$f":"Import!B692","v":0},{"$f":"Import!H692","v":0},{"$f":"Import!I692","v":0},{"$f":"Import!J692","v":0},{"$f":"Import!K692","v":0},{"$f":"Import!L692","v":0},{"$f":"Import!M692","v":0},{"$f":"Import!N692","v":0},{"$f":"Import!O692","v":0},{"$f":"Import!P692","v":0},{"$f":"Import!Q692","v":0},{"$f":"Import!R692","v":0},{"$f":"Import!S692","v":0},{"$f":"Import!T692","v":0},{"$f":"Import!U692","v":0},{"$f":"Import!V692","v":0},{"$f":"Import!W692","v":0},{"$f":"Import!X692","v":0},{"$f":"Import!Y692","v":0},{"$f":"Import!Z692","v":0},{"$f":"Import!AA692","v":0},{"$f":"Import!AB692","v":0},{"$f":"Import!AC692","v":0},{"$f":"Import!AD692","v":0},{"$f":"Import!AE692","v":0},{"$f":"Import!AF692","v":0},{"$f":"Import!AG692","v":0},{"$f":"Import!AH692","v":0},{"$f":"Import!AI692","v":0},{"$f":"Import!AJ692","v":0},{"$f":"Import!AK692","v":0},{"$f":"Import!AL692","v":0}]
[null,{"$f":"Import!A693","v":0},{"$f":"Import!B693","v":0},{"$f":"Import!H693","v":0},{"$f":"Import!I693","v":0},{"$f":"Import!J693","v":0},{"$f":"Import!K693","v":0},{"$f":"Import!L693","v":0},{"$f":"Import!M693","v":0},{"$f":"Import!N693","v":0},{"$f":"Import!O693","v":0},{"$f":"Import!P693","v":0},{"$f":"Import!Q693","v":0},{"$f":"Import!R693","v":0},{"$f":"Import!S693","v":0},{"$f":"Import!T693","v":0},{"$f":"Import!U693","v":0},{"$f":"Import!V693","v":0},{"$f":"Import!W693","v":0},{"$f":"Import!X693","v":0},{"$f":"Import!Y693","v":0},{"$f":"Import!Z693","v":0},{"$f":"Import!AA693","v":0},{"$f":"Import!AB693","v":0},{"$f":"Import!AC693","v":0},{"$f":"Import!AD693","v":0},{"$f":"Import!AE693","v":0},{"$f":"Import!AF693","v":0},{"$f":"Import!AG693","v":0},{"$f":"Import!AH693","v":0},{"$f":"Import!AI693","v":0},{"$f":"Import!AJ693","v":0},{"$f":"Import!AK693","v":0},{"$f":"Import!AL693","v":0}]
[null,{"$f":"Import!A694","v":0},{"$f":"Import!B694","v":0},{"$f":"Import!H694","v":0},{"$f":"Import!I694","v":0},{"$f":"Import!J694","v":0},{"$f":"Import!K694","v":0},{"$f":"Import!L694","v":0},{"$f":"Import!M694","v":0},{"$f":"Import!N694","v":0},{"$f":"Import!O694","v":0},{"$f":"Import!P694","v":0},{"$f":"Import!Q694","v":0},{"$f":"Import!R694","v":0},{"$f":"Import!S694","v":0},{"$f":"Import!T694","v":0},{"$f":"Import!U694","v":0},{"$f":"Import!V694","v":0},{"$f":"Import!W694","v":0},{"$f":"Import!X694","v":0},{"$f":"Import!Y694","v":0},{"$f":"Import!Z694","v":0},{"$f":"Import!AA694","v":0},{"$f":"Import!AB694","v":0},{"$f":"Import!AC694","v":0},{"$f":"Import!AD694","v":0},{"$f":"Import!AE694","v":0},{"$f":"Import!AF694","v":0},{"$f":"Import!AG694","v":0},{"$f":"Import!AH694","v":0},{"$f":"Import!AI694","v":0},{"$f":"Import!AJ694","v":0},{"$f":"Import!AK694","v":0},{"$f":"Import!AL694","v":0}]
[null,{"$f":"Import!A695","v":0},{"$f":"Import!B695","v":0},{"$f":"Import!H695","v":0},{"$f":"Import!I695","v":0},{"$f":"Import!J695","v":0},{"$f":"Import!K695","v":0},{"$f":"Import!L695","v":0},{"$f":"Import!M695","v":0},{"$f":"Import!N695","v":0},{"$f":"Import!O695","v":0},{"$f":"Import!P695","v":0},{"$f":"Import!Q695","v":0},{"$f":"Import!R695","v":0},{"$f":"Import!S695","v":0},{"$f":"Import!T695","v":0},{"$f":"Import!U695","v":0},{"$f":"Import!V695","v":0},{"$f":"Import!W695","v":0},{"$f":"Import!X695","v":0},{"$f":"Import!Y695","v":0},{"$f":"Import!Z695","v":0},{"$f":"Import!AA695","v":0},{"$f":"Import!AB695","v":0},{"$f":"Import!AC695","v":0},{"$f":"Import!AD695","v":0},{"$f":"Import!AE695","v":0},{"$f":"Import!AF695","v":0},{"$f":"Import!AG695","v":0},{"$f":"Import!AH695","v":0},{"$f":"Import!AI695","v":0},{"$f":"Import!AJ695","v":0},{"$f":"Import!AK695","v":0},{"$f":"Import!AL695","v":0}]
[null,{"$f":"Import!A696","v":0},{"$f":"Import!B696","v":0},{"$f":"Import!H696","v":0},{"$f":"Import!I696","v":0},{"$f":"Import!J696","v":0},{"$f":"Import!K696","v":0},{"$f":"Import!L696","v":0},{"$f":"Import!M696","v":0},{"$f":"Import!N696","v":0},{"$f":"Import!O696","v":0},{"$f":"Import!P696","v":0},{"$f":"Import!Q696","v":0},{"$f":"Import!R696","v":0},{"$f":"Import!S696","v":0},{"$f":"Import!T696","v":0},{"$f":"Import!U696","v":0},{"$f":"Import!V696","v":0},{"$f":"Import!W696","v":0},{"$f":"Import!X696","v":0},{"$f":"Import!Y696","v":0},{"$f":"Import!Z696","v":0},{"$f":"Import!AA696","v":0},{"$f":"Import!AB696","v":0},{"$f":"Import!AC696","v":0},{"$f":"Import!AD696","v":0},{"$f":"Import!AE696","v":0},{"$f":"Import!AF696","v":0},{"$f":"Import!AG696","v":0},{"$f":"Import!AH696","v":0},{"$f":"Import!AI696","v":0},{"$f":"Import!AJ696","v":0},{"$f":"Import!AK696","v":0},{"$f":"Import!AL696","v":0}]
[null,{"$f":"Import!A697","v":0},{"$f":"Import!B697","v":0},{"$f":"Import!H697","v":0},{"$f":"Import!I697","v":0},{"$f":"Import!J697","v":0},{"$f":"Import!K697","v":0},{"$f":"Import!L697","v":0},{"$f":"Import!M697","v":0},{"$f":"Import!N697","v":0},{"$f":"Import!O697","v":0},{"$f":"Import!P697","v":0},{"$f":"Import!Q697","v":0},{"$f":"Import!R697","v":0},{"$f":"Import!S697","v":0},{"$f":"Import!T697","v":0},{"$f":"Import!U697","v":0},{"$f":"Import!V697","v":0},{"$f":"Import!W697","v":0},{"$f":"Import!X697","v":0},{"$f":"Import!Y697","v":0},{"$f":"Import!Z697","v":0},{"$f":"Import!AA697","v":0},{"$f":"Import!AB697","v":0},{"$f":"Import!AC697","v":0},{"$f":"Import!AD697","v":0},{"$f":"Import!AE697","v":0},{"$f":"Import!AF697","v":0},{"$f":"Import!AG697","v":0},{"$f":"Import!AH697","v":0},{"$f":"Import!AI697","v":0},{"$f":"Import!AJ697","v":0},{"$f":"Import!AK697","v":0},{"$f":"Import!AL697","v":0}]
[null,{"$f":"Import!A698","v":0},{"$f":"Import!B698","v":0},{"$f":"Import!H698","v":0},{"$f":"Import!I698","v":0},{"$f":"Import!J698","v":0},{"$f":"Import!K698","v":0},{"$f":"Import!L698","v":0},{"$f":"Import!M698","v":0},{"$f":"Import!N698","v":0},{"$f":"Import!O698","v":0},{"$f":"Import!P698","v":0},{"$f":"Import!Q698","v":0},{"$f":"Import!R698","v":0},{"$f":"Import!S698","v":0},{"$f":"Import!T698","v":0},{"$f":"Import!U698","v":0},{"$f":"Import!V698","v":0},{"$f":"Import!W698","v":0},{"$f":"Import!X698","v":0},{"$f":"Import!Y698","v":0},{"$f":"Import!Z698","v":0},{"$f":"Import!AA698","v":0},{"$f":"Import!AB698","v":0},{"$f":"Import!AC698","v":0},{"$f":"Import!AD698","v":0},{"$f":"Import!AE698","v":0},{"$f":"Import!AF698","v":0},{"$f":"Import!AG698","v":0},{"$f":"Import!AH698","v":0},{"$f":"Import!AI698","v":0},{"$f":"Import!AJ698","v":0},{"$f":"Import!AK698","v":0},{"$f":"Import!AL698","v":0}]
[null,{"$f":"Import!A699","v":0},{"$f":"Import!B699","v":0},{"$f":"Import!H699","v":0},{"$f":"Import!I699","v":0},{"$f":"Import!J699","v":0},{"$f":"Import!K699","v":0},{"$f":"Import!L699","v":0},{"$f":"Import!M699","v":0},{"$f":"Import!N699","v":0},{"$f":"Import!O699","v":0},{"$f":"Import!P699","v":0},{"$f":"Import!Q699","v":0},{"$f":"Import!R699","v":0},{"$f":"Import!S699","v":0},{"$f":"Import!T699","v":0},{"$f":"Import!U699","v":0},{"$f":"Import!V699","v":0},{"$f":"Import!W699","v":0},{"$f":"Import!X699","v":0},{"$f":"Import!Y699","v":0},{"$f":"Import!Z699","v":0},{"$f":"Import!AA699","v":0},{"$f":"Import!AB699","v":0},{"$f":"Import!AC699","v":0},{"$f":"Import!AD699","v":0},{"$f":"Import!AE699","v":0},{"$f":"Import!AF699","v":0},{"$f":"Import!AG699","v":0},{"$f":"Import!AH699","v":0},{"$f":"Import!AI699","v":0},{"$f":"Import!AJ699","v":0},{"$f":"Import!AK699","v":0},{"$f":"Import!AL699","v":0}]
[null,{"$f":"Import!A700","v":0},{"$f":"Import!B700","v":0},{"$f":"Import!H700","v":0},{"$f":"Import!I700","v":0},{"$f":"Import!J700","v":0},{"$f":"Import!K700","v":0},{"$f":"Import!L700","v":0},{"$f":"Import!M700","v":0},{"$f":"Import!N700","v":0},{"$f":"Import!O700","v":0},{"$f":"Import!P700","v":0},{"$f":"Import!Q700","v":0},{"$f":"Import!R700","v":0},{"$f":"Import!S700","v":0},{"$f":"Import!T700","v":0},{"$f":"Import!U700","v":0},{"$f":"Import!V700","v":0},{"$f":"Import!W700","v":0},{"$f":"Import!X700","v":0},{"$f":"Import!Y700","v":0},{"$f":"Import!Z700","v":0},{"$f":"Import!AA700","v":0},{"$f":"Import!AB700","v":0},{"$f":"Import!AC700","v":0},{"$f":"Import!AD700","v":0},{"$f":"Import!AE700","v":0},{"$f":"Import!AF700","v":0},{"$f":"Import!AG700","v":0},{"$f":"Import!AH700","v":0},{"$f":"Import!AI700","v":0},{"$f":"Import!AJ700","v":0},{"$f":"Import!AK700","v":0},{"$f":"Import!AL700","v":0}]
[null,{"$f":"Import!A701","v":0},{"$f":"Import!B701","v":0},{"$f":"Import!H701","v":0},{"$f":"Import!I701","v":0},{"$f":"Import!J701","v":0},{"$f":"Import!K701","v":0},{"$f":"Import!L701","v":0},{"$f":"Import!M701","v":0},{"$f":"Import!N701","v":0},{"$f":"Import!O701","v":0},{"$f":"Import!P701","v":0},{"$f":"Import!Q701","v":0},{"$f":"Import!R701","v":0},{"$f":"Import!S701","v":0},{"$f":"Import!T701","v":0},{"$f":"Import!U701","v":0},{"$f":"Import!V701","v":0},{"$f":"Import!W701","v":0},{"$f":"Import!X701","v":0},{"$f":"Import!Y701","v":0},{"$f":"Import!Z701","v":0},{"$f":"Import!AA701","v":0},{"$f":"Import!AB701","v":0},{"$f":"Import!AC701","v":0},{"$f":"Import!AD701","v":0},{"$f":"Import!AE701","v":0},{"$f":"Import!AF701","v":0},{"$f":"Import!AG701","v":0},{"$f":"Import!AH701","v":0},{"$f":"Import!AI701","v":0},{"$f":"Import!AJ701","v":0},{"$f":"Import!AK701","v":0},{"$f":"Import!AL701","v":0}]
[null,{"$f":"Import!A702","v":0},{"$f":"Import!B702","v":0},{"$f":"Import!H702","v":0},{"$f":"Import!I702","v":0},{"$f":"Import!J702","v":0},{"$f":"Import!K702","v":0},{"$f":"Import!L702","v":0},{"$f":"Import!M702","v":0},{"$f":"Import!N702","v":0},{"$f":"Import!O702","v":0},{"$f":"Import!P702","v":0},{"$f":"Import!Q702","v":0},{"$f":"Import!R702","v":0},{"$f":"Import!S702","v":0},{"$f":"Import!T702","v":0},{"$f":"Import!U702","v":0},{"$f":"Import!V702","v":0},{"$f":"Import!W702","v":0},{"$f":"Import!X702","v":0},{"$f":"Import!Y702","v":0},{"$f":"Import!Z702","v":0},{"$f":"Import!AA702","v":0},{"$f":"Import!AB702","v":0},{"$f":"Import!AC702","v":0},{"$f":"Import!AD702","v":0},{"$f":"Import!AE702","v":0},{"$f":"Import!AF702","v":0},{"$f":"Import!AG702","v":0},{"$f":"Import!AH702","v":0},{"$f":"Import!AI702","v":0},{"$f":"Import!AJ702","v":0},{"$f":"Import!AK702","v":0},{"$f":"Import!AL702","v":0}]
[null,{"$f":"Import!A703","v":0},{"$f":"Import!B703","v":0},{"$f":"Import!H703","v":0},{"$f":"Import!I703","v":0},{"$f":"Import!J703","v":0},{"$f":"Import!K703","v":0},{"$f":"Import!L703","v":0},{"$f":"Import!M703","v":0},{"$f":"Import!N703","v":0},{"$f":"Import!O703","v":0},{"$f":"Import!P703","v":0},{"$f":"Import!Q703","v":0},{"$f":"Import!R703","v":0},{"$f":"Import!S703","v":0},{"$f":"Import!T703","v":0},{"$f":"Import!U703","v":0},{"$f":"Import!V703","v":0},{"$f":"Import!W703","v":0},{"$f":"Import!X703","v":0},{"$f":"Import!Y703","v":0},{"$f":"Import!Z703","v":0},{"$f":"Import!AA703","v":0},{"$f":"Import!AB703","v":0},{"$f":"Import!AC703","v":0},{"$f":"Import!AD703","v":0},{"$f":"Import!AE703","v":0},{"$f":"Import!AF703","v":0},{"$f":"Import!AG703","v":0},{"$f":"Import!AH703","v":0},{"$f":"Import!AI703","v":0},{"$f":"Import!AJ703","v":0},{"$f":"Import!AK703","v":0},{"$f":"Import!AL703","v":0}]
[null,{"$f":"Import!A704","v":0},{"$f":"Import!B704","v":0},{"$f":"Import!H704","v":0},{"$f":"Import!I704","v":0},{"$f":"Import!J704","v":0},{"$f":"Import!K704","v":0},{"$f":"Import!L704","v":0},{"$f":"Import!M704","v":0},{"$f":"Import!N704","v":0},{"$f":"Import!O704","v":0},{"$f":"Import!P704","v":0},{"$f":"Import!Q704","v":0},{"$f":"Import!R704","v":0},{"$f":"Import!S704","v":0},{"$f":"Import!T704","v":0},{"$f":"Import!U704","v":0},{"$f":"Import!V704","v":0},{"$f":"Import!W704","v":0},{"$f":"Import!X704","v":0},{"$f":"Import!Y704","v":0},{"$f":"Import!Z704","v":0},{"$f":"Import!AA704","v":0},{"$f":"Import!AB704","v":0},{"$f":"Import!AC704","v":0},{"$f":"Import!AD704","v":0},{"$f":"Import!AE704","v":0},{"$f":"Import!AF704","v":0},{"$f":"Import!AG704","v":0},{"$f":"Import!AH704","v":0},{"$f":"Import!AI704","v":0},{"$f":"Import!AJ704","v":0},{"$f":"Import!AK704","v":0},{"$f":"Import!AL704","v":0}]
[null,{"$f":"Import!A705","v":0},{"$f":"Import!B705","v":0},{"$f":"Import!H705","v":0},{"$f":"Import!I705","v":0},{"$f":"Import!J705","v":0},{"$f":"Import!K705","v":0},{"$f":"Import!L705","v":0},{"$f":"Import!M705","v":0},{"$f":"Import!N705","v":0},{"$f":"Import!O705","v":0},{"$f":"Import!P705","v":0},{"$f":"Import!Q705","v":0},{"$f":"Import!R705","v":0},{"$f":"Import!S705","v":0},{"$f":"Import!T705","v":0},{"$f":"Import!U705","v":0},{"$f":"Import!V705","v":0},{"$f":"Import!W705","v":0},{"$f":"Import!X705","v":0},{"$f":"Import!Y705","v":0},{"$f":"Import!Z705","v":0},{"$f":"Import!AA705","v":0},{"$f":"Import!AB705","v":0},{"$f":"Import!AC705","v":0},{"$f":"Import!AD705","v":0},{"$f":"Import!AE705","v":0},{"$f":"Import!AF705","v":0},{"$f":"Import!AG705","v":0},{"$f":"Import!AH705","v":0},{"$f":"Import!AI705","v":0},{"$f":"Import!AJ705","v":0},{"$f":"Import!AK705","v":0},{"$f":"Import!AL705","v":0}]
[null,{"$f":"Import!A706","v":0},{"$f":"Import!B706","v":0},{"$f":"Import!H706","v":0},{"$f":"Import!I706","v":0},{"$f":"Import!J706","v":0},{"$f":"Import!K706","v":0},{"$f":"Import!L706","v":0},{"$f":"Import!M706","v":0},{"$f":"Import!N706","v":0},{"$f":"Import!O706","v":0},{"$f":"Import!P706","v":0},{"$f":"Import!Q706","v":0},{"$f":"Import!R706","v":0},{"$f":"Import!S706","v":0},{"$f":"Import!T706","v":0},{"$f":"Import!U706","v":0},{"$f":"Import!V706","v":0},{"$f":"Import!W706","v":0},{"$f":"Import!X706","v":0},{"$f":"Import!Y706","v":0},{"$f":"Import!Z706","v":0},{"$f":"Import!AA706","v":0},{"$f":"Import!AB706","v":0},{"$f":"Import!AC706","v":0},{"$f":"Import!AD706","v":0},{"$f":"Import!AE706","v":0},{"$f":"Import!AF706","v":0},{"$f":"Import!AG706","v":0},{"$f":"Import!AH706","v":0},{"$f":"Import!AI706","v":0},{"$f":"Import!AJ706","v":0},{"$f":"Import!AK706","v":0},{"$f":"Import!AL706","v":0}]
[null,{"$f":"Import!A707","v":0},{"$f":"Import!B707","v":0},{"$f":"Import!H707","v":0},{"$f":"Import!I707","v":0},{"$f":"Import!J707","v":0},{"$f":"Import!K707","v":0},{"$f":"Import!L707","v":0},{"$f":"Import!M707","v":0},{"$f":"Import!N707","v":0},{"$f":"Import!O707","v":0},{"$f":"Import!P707","v":0},{"$f":"Import!Q707","v":0},{"$f":"Import!R707","v":0},{"$f":"Import!S707","v":0},{"$f":"Import!T707","v":0},{"$f":"Import!U707","v":0},{"$f":"Import!V707","v":0},{"$f":"Import!W707","v":0},{"$f":"Import!X707","v":0},{"$f":"Import!Y707","v":0},{"$f":"Import!Z707","v":0},{"$f":"Import!AA707","v":0},{"$f":"Import!AB707","v":0},{"$f":"Import!AC707","v":0},{"$f":"Import!AD707","v":0},{"$f":"Import!AE707","v":0},{"$f":"Import!AF707","v":0},{"$f":"Import!AG707","v":0},{"$f":"Import!AH707","v":0},{"$f":"Import!AI707","v":0},{"$f":"Import!AJ707","v":0},{"$f":"Import!AK707","v":0},{"$f":"Import!AL707","v":0}]
[null,{"$f":"Import!A708","v":0},{"$f":"Import!B708","v":0},{"$f":"Import!H708","v":0},{"$f":"Import!I708","v":0},{"$f":"Import!J708","v":0},{"$f":"Import!K708","v":0},{"$f":"Import!L708","v":0},{"$f":"Import!M708","v":0},{"$f":"Import!N708","v":0},{"$f":"Import!O708","v":0},{"$f":"Import!P708","v":0},{"$f":"Import!Q708","v":0},{"$f":"Import!R708","v":0},{"$f":"Import!S708","v":0},{"$f":"Import!T708","v":0},{"$f":"Import!U708","v":0},{"$f":"Import!V708","v":0},{"$f":"Import!W708","v":0},{"$f":"Import!X708","v":0},{"$f":"Import!Y708","v":0},{"$f":"Import!Z708","v":0},{"$f":"Import!AA708","v":0},{"$f":"Import!AB708","v":0},{"$f":"Import!AC708","v":0},{"$f":"Import!AD708","v":0},{"$f":"Import!AE708","v":0},{"$f":"Import!AF708","v":0},{"$f":"Import!AG708","v":0},{"$f":"Import!AH708","v":0},{"$f":"Import!AI708","v":0},{"$f":"Import!AJ708","v":0},{"$f":"Import!AK708","v":0},{"$f":"Import!AL708","v":0}]
[null,{"$f":"Import!A709","v":0},{"$f":"Import!B709","v":0},{"$f":"Import!H709","v":0},{"$f":"Import!I709","v":0},{"$f":"Import!J709","v":0},{"$f":"Import!K709","v":0},{"$f":"Import!L709","v":0},{"$f":"Import!M709","v":0},{"$f":"Import!N709","v":0},{"$f":"Import!O709","v":0},{"$f":"Import!P709","v":0},{"$f":"Import!Q709","v":0},{"$f":"Import!R709","v":0},{"$f":"Import!S709","v":0},{"$f":"Import!T709","v":0},{"$f":"Import!U709","v":0},{"$f":"Import!V709","v":0},{"$f":"Import!W709","v":0},{"$f":"Import!X709","v":0},{"$f":"Import!Y709","v":0},{"$f":"Import!Z709","v":0},{"$f":"Import!AA709","v":0},{"$f":"Import!AB709","v":0},{"$f":"Import!AC709","v":0},{"$f":"Import!AD709","v":0},{"$f":"Import!AE709","v":0},{"$f":"Import!AF709","v":0},{"$f":"Import!AG709","v":0},{"$f":"Import!AH709","v":0},{"$f":"Import!AI709","v":0},{"$f":"Import!AJ709","v":0},{"$f":"Import!AK709","v":0},{"$f":"Import!AL709","v":0}]
[null,{"$f":"Import!A710","v":0},{"$f":"Import!B710","v":0},{"$f":"Import!H710","v":0},{"$f":"Import!I710","v":0},{"$f":"Import!J710","v":0},{"$f":"Import!K710","v":0},{"$f":"Import!L710","v":0},{"$f":"Import!M710","v":0},{"$f":"Import!N710","v":0},{"$f":"Import!O710","v":0},{"$f":"Import!P710","v":0},{"$f":"Import!Q710","v":0},{"$f":"Import!R710","v":0},{"$f":"Import!S710","v":0},{"$f":"Import!T710","v":0},{"$f":"Import!U710","v":0},{"$f":"Import!V710","v":0},{"$f":"Import!W710","v":0},{"$f":"Import!X710","v":0},{"$f":"Import!Y710","v":0},{"$f":"Import!Z710","v":0},{"$f":"Import!AA710","v":0},{"$f":"Import!AB710","v":0},{"$f":"Import!AC710","v":0},{"$f":"Import!AD710","v":0},{"$f":"Import!AE710","v":0},{"$f":"Import!AF710","v":0},{"$f":"Import!AG710","v":0},{"$f":"Import!AH710","v":0},{"$f":"Import!AI710","v":0},{"$f":"Import!AJ710","v":0},{"$f":"Import!AK710","v":0},{"$f":"Import!AL710","v":0}]
[null,{"$f":"Import!A711","v":0},{"$f":"Import!B711","v":0},{"$f":"Import!H711","v":0},{"$f":"Import!I711","v":0},{"$f":"Import!J711","v":0},{"$f":"Import!K711","v":0},{"$f":"Import!L711","v":0},{"$f":"Import!M711","v":0},{"$f":"Import!N711","v":0},{"$f":"Import!O711","v":0},{"$f":"Import!P711","v":0},{"$f":"Import!Q711","v":0},{"$f":"Import!R711","v":0},{"$f":"Import!S711","v":0},{"$f":"Import!T711","v":0},{"$f":"Import!U711","v":0},{"$f":"Import!V711","v":0},{"$f":"Import!W711","v":0},{"$f":"Import!X711","v":0},{"$f":"Import!Y711","v":0},{"$f":"Import!Z711","v":0},{"$f":"Import!AA711","v":0},{"$f":"Import!AB711","v":0},{"$f":"Import!AC711","v":0},{"$f":"Import!AD711","v":0},{"$f":"Import!AE711","v":0},{"$f":"Import!AF711","v":0},{"$f":"Import!AG711","v":0},{"$f":"Import!AH711","v":0},{"$f":"Import!AI711","v":0},{"$f":"Import!AJ711","v":0},{"$f":"Import!AK711","v":0},{"$f":"Import!AL711","v":0}]
[null,{"$f":"Import!A712","v":0},{"$f":"Import!B712","v":0},{"$f":"Import!H712","v":0},{"$f":"Import!I712","v":0},{"$f":"Import!J712","v":0},{"$f":"Import!K712","v":0},{"$f":"Import!L712","v":0},{"$f":"Import!M712","v":0},{"$f":"Import!N712","v":0},{"$f":"Import!O712","v":0},{"$f":"Import!P712","v":0},{"$f":"Import!Q712","v":0},{"$f":"Import!R712","v":0},{"$f":"Import!S712","v":0},{"$f":"Import!T712","v":0},{"$f":"Import!U712","v":0},{"$f":"Import!V712","v":0},{"$f":"Import!W712","v":0},{"$f":"Import!X712","v":0},{"$f":"Import!Y712","v":0},{"$f":"Import!Z712","v":0},{"$f":"Import!AA712","v":0},{"$f":"Import!AB712","v":0},{"$f":"Import!AC712","v":0},{"$f":"Import!AD712","v":0},{"$f":"Import!AE712","v":0},{"$f":"Import!AF712","v":0},{"$f":"Import!AG712","v":0},{"$f":"Import!AH712","v":0},{"$f":"Import!AI712","v":0},{"$f":"Import!AJ712","v":0},{"$f":"Import!AK712","v":0},{"$f":"Import!AL712","v":0}]
[null,{"$f":"Import!A713","v":0},{"$f":"Import!B713","v":0},{"$f":"Import!H713","v":0},{"$f":"Import!I713","v":0},{"$f":"Import!J713","v":0},{"$f":"Import!K713","v":0},{"$f":"Import!L713","v":0},{"$f":"Import!M713","v":0},{"$f":"Import!N713","v":0},{"$f":"Import!O713","v":0},{"$f":"Import!P713","v":0},{"$f":"Import!Q713","v":0},{"$f":"Import!R713","v":0},{"$f":"Import!S713","v":0},{"$f":"Import!T713","v":0},{"$f":"Import!U713","v":0},{"$f":"Import!V713","v":0},{"$f":"Import!W713","v":0},{"$f":"Import!X713","v":0},{"$f":"Import!Y713","v":0},{"$f":"Import!Z713","v":0},{"$f":"Import!AA713","v":0},{"$f":"Import!AB713","v":0},{"$f":"Import!AC713","v":0},{"$f":"Import!AD713","v":0},{"$f":"Import!AE713","v":0},{"$f":"Import!AF713","v":0},{"$f":"Import!AG713","v":0},{"$f":"Import!AH713","v":0},{"$f":"Import!AI713","v":0},{"$f":"Import!AJ713","v":0},{"$f":"Import!AK713","v":0},{"$f":"Import!AL713","v":0}]
[null,{"$f":"Import!A714","v":0},{"$f":"Import!B714","v":0},{"$f":"Import!H714","v":0},{"$f":"Import!I714","v":0},{"$f":"Import!J714","v":0},{"$f":"Import!K714","v":0},{"$f":"Import!L714","v":0},{"$f":"Import!M714","v":0},{"$f":"Import!N714","v":0},{"$f":"Import!O714","v":0},{"$f":"Import!P714","v":0},{"$f":"Import!Q714","v":0},{"$f":"Import!R714","v":0},{"$f":"Import!S714","v":0},{"$f":"Import!T714","v":0},{"$f":"Import!U714","v":0},{"$f":"Import!V714","v":0},{"$f":"Import!W714","v":0},{"$f":"Import!X714","v":0},{"$f":"Import!Y714","v":0},{"$f":"Import!Z714","v":0},{"$f":"Import!AA714","v":0},{"$f":"Import!AB714","v":0},{"$f":"Import!AC714","v":0},{"$f":"Import!AD714","v":0},{"$f":"Import!AE714","v":0},{"$f":"Import!AF714","v":0},{"$f":"Import!AG714","v":0},{"$f":"Import!AH714","v":0},{"$f":"Import!AI714","v":0},{"$f":"Import!AJ714","v":0},{"$f":"Import!AK714","v":0},{"$f":"Import!AL714","v":0}]
[null,{"$f":"Import!A715","v":0},{"$f":"Import!B715","v":0},{"$f":"Import!H715","v":0},{"$f":"Import!I715","v":0},{"$f":"Import!J715","v":0},{"$f":"Import!K715","v":0},{"$f":"Import!L715","v":0},{"$f":"Import!M715","v":0},{"$f":"Import!N715","v":0},{"$f":"Import!O715","v":0},{"$f":"Import!P715","v":0},{"$f":"Import!Q715","v":0},{"$f":"Import!R715","v":0},{"$f":"Import!S715","v":0},{"$f":"Import!T715","v":0},{"$f":"Import!U715","v":0},{"$f":"Import!V715","v":0},{"$f":"Import!W715","v":0},{"$f":"Import!X715","v":0},{"$f":"Import!Y715","v":0},{"$f":"Import!Z715","v":0},{"$f":"Import!AA715","v":0},{"$f":"Import!AB715","v":0},{"$f":"Import!AC715","v":0},{"$f":"Import!AD715","v":0},{"$f":"Import!AE715","v":0},{"$f":"Import!AF715","v":0},{"$f":"Import!AG715","v":0},{"$f":"Import!AH715","v":0},{"$f":"Import!AI715","v":0},{"$f":"Import!AJ715","v":0},{"$f":"Import!AK715","v":0},{"$f":"Import!AL715","v":0}]
[null,{"$f":"Import!A716","v":0},{"$f":"Import!B716","v":0},{"$f":"Import!H716","v":0},{"$f":"Import!I716","v":0},{"$f":"Import!J716","v":0},{"$f":"Import!K716","v":0},{"$f":"Import!L716","v":0},{"$f":"Import!M716","v":0},{"$f":"Import!N716","v":0},{"$f":"Import!O716","v":0},{"$f":"Import!P716","v":0},{"$f":"Import!Q716","v":0},{"$f":"Import!R716","v":0},{"$f":"Import!S716","v":0},{"$f":"Import!T716","v":0},{"$f":"Import!U716","v":0},{"$f":"Import!V716","v":0},{"$f":"Import!W716","v":0},{"$f":"Import!X716","v":0},{"$f":"Import!Y716","v":0},{"$f":"Import!Z716","v":0},{"$f":"Import!AA716","v":0},{"$f":"Import!AB716","v":0},{"$f":"Import!AC716","v":0},{"$f":"Import!AD716","v":0},{"$f":"Import!AE716","v":0},{"$f":"Import!AF716","v":0},{"$f":"Import!AG716","v":0},{"$f":"Import!AH716","v":0},{"$f":"Import!AI716","v":0},{"$f":"Import!AJ716","v":0},{"$f":"Import!AK716","v":0},{"$f":"Import!AL716","v":0}]
[null,{"$f":"Import!A717","v":0},{"$f":"Import!B717","v":0},{"$f":"Import!H717","v":0},{"$f":"Import!I717","v":0},{"$f":"Import!J717","v":0},{"$f":"Import!K717","v":0},{"$f":"Import!L717","v":0},{"$f":"Import!M717","v":0},{"$f":"Import!N717","v":0},{"$f":"Import!O717","v":0},{"$f":"Import!P717","v":0},{"$f":"Import!Q717","v":0},{"$f":"Import!R717","v":0},{"$f":"Import!S717","v":0},{"$f":"Import!T717","v":0},{"$f":"Import!U717","v":0},{"$f":"Import!V717","v":0},{"$f":"Import!W717","v":0},{"$f":"Import!X717","v":0},{"$f":"Import!Y717","v":0},{"$f":"Import!Z717","v":0},{"$f":"Import!AA717","v":0},{"$f":"Import!AB717","v":0},{"$f":"Import!AC717","v":0},{"$f":"Import!AD717","v":0},{"$f":"Import!AE717","v":0},{"$f":"Import!AF717","v":0},{"$f":"Import!AG717","v":0},{"$f":"Import!AH717","v":0},{"$f":"Import!AI717","v":0},{"$f":"Import!AJ717","v":0},{"$f":"Import!AK717","v":0},{"$f":"Import!AL717","v":0}]
[null,{"$f":"Import!A718","v":0},{"$f":"Import!B718","v":0},{"$f":"Import!H718","v":0},{"$f":"Import!I718","v":0},{"$f":"Import!J718","v":0},{"$f":"Import!K718","v":0},{"$f":"Import!L718","v":0},{"$f":"Import!M718","v":0},{"$f":"Import!N718","v":0},{"$f":"Import!O718","v":0},{"$f":"Import!P718","v":0},{"$f":"Import!Q718","v":0},{"$f":"Import!R718","v":0},{"$f":"Import!S718","v":0},{"$f":"Import!T718","v":0},{"$f":"Import!U718","v":0},{"$f":"Import!V718","v":0},{"$f":"Import!W718","v":0},{"$f":"Import!X718","v":0},{"$f":"Import!Y718","v":0},{"$f":"Import!Z718","v":0},{"$f":"Import!AA718","v":0},{"$f":"Import!AB718","v":0},{"$f":"Import!AC718","v":0},{"$f":"Import!AD718","v":0},{"$f":"Import!AE718","v":0},{"$f":"Import!AF718","v":0},{"$f":"Import!AG718","v":0},{"$f":"Import!AH718","v":0},{"$f":"Import!AI718","v":0},{"$f":"Import!AJ718","v":0},{"$f":"Import!AK718","v":0},{"$f":"Import!AL718","v":0}]
[null,{"$f":"Import!A719","v":0},{"$f":"Import!B719","v":0},{"$f":"Import!H719","v":0},{"$f":"Import!I719","v":0},{"$f":"Import!J719","v":0},{"$f":"Import!K719","v":0},{"$f":"Import!L719","v":0},{"$f":"Import!M719","v":0},{"$f":"Import!N719","v":0},{"$f":"Import!O719","v":0},{"$f":"Import!P719","v":0},{"$f":"Import!Q719","v":0},{"$f":"Import!R719","v":0},{"$f":"Import!S719","v":0},{"$f":"Import!T719","v":0},{"$f":"Import!U719","v":0},{"$f":"Import!V719","v":0},{"$f":"Import!W719","v":0},{"$f":"Import!X719","v":0},{"$f":"Import!Y719","v":0},{"$f":"Import!Z719","v":0},{"$f":"Import!AA719","v":0},{"$f":"Import!AB719","v":0},{"$f":"Import!AC719","v":0},{"$f":"Import!AD719","v":0},{"$f":"Import!AE719","v":0},{"$f":"Import!AF719","v":0},{"$f":"Import!AG719","v":0},{"$f":"Import!AH719","v":0},{"$f":"Import!AI719","v":0},{"$f":"Import!AJ719","v":0},{"$f":"Import!AK719","v":0},{"$f":"Import!AL719","v":0}]
[null,{"$f":"Import!A720","v":0},{"$f":"Import!B720","v":0},{"$f":"Import!H720","v":0},{"$f":"Import!I720","v":0},{"$f":"Import!J720","v":0},{"$f":"Import!K720","v":0},{"$f":"Import!L720","v":0},{"$f":"Import!M720","v":0},{"$f":"Import!N720","v":0},{"$f":"Import!O720","v":0},{"$f":"Import!P720","v":0},{"$f":"Import!Q720","v":0},{"$f":"Import!R720","v":0},{"$f":"Import!S720","v":0},{"$f":"Import!T720","v":0},{"$f":"Import!U720","v":0},{"$f":"Import!V720","v":0},{"$f":"Import!W720","v":0},{"$f":"Import!X720","v":0},{"$f":"Import!Y720","v":0},{"$f":"Import!Z720","v":0},{"$f":"Import!AA720","v":0},{"$f":"Import!AB720","v":0},{"$f":"Import!AC720","v":0},{"$f":"Import!AD720","v":0},{"$f":"Import!AE720","v":0},{"$f":"Import!AF720","v":0},{"$f":"Import!AG720","v":0},{"$f":"Import!AH720","v":0},{"$f":"Import!AI720","v":0},{"$f":"Import!AJ720","v":0},{"$f":"Import!AK720","v":0},{"$f":"Import!AL720","v":0}]
[null,{"$f":"Import!A721","v":0},{"$f":"Import!B721","v":0},{"$f":"Import!H721","v":0},{"$f":"Import!I721","v":0},{"$f":"Import!J721","v":0},{"$f":"Import!K721","v":0},{"$f":"Import!L721","v":0},{"$f":"Import!M721","v":0},{"$f":"Import!N721","v":0},{"$f":"Import!O721","v":0},{"$f":"Import!P721","v":0},{"$f":"Import!Q721","v":0},{"$f":"Import!R721","v":0},{"$f":"Import!S721","v":0},{"$f":"Import!T721","v":0},{"$f":"Import!U721","v":0},{"$f":"Import!V721","v":0},{"$f":"Import!W721","v":0},{"$f":"Import!X721","v":0},{"$f":"Import!Y721","v":0},{"$f":"Import!Z721","v":0},{"$f":"Import!AA721","v":0},{"$f":"Import!AB721","v":0},{"$f":"Import!AC721","v":0},{"$f":"Import!AD721","v":0},{"$f":"Import!AE721","v":0},{"$f":"Import!AF721","v":0},{"$f":"Import!AG721","v":0},{"$f":"Import!AH721","v":0},{"$f":"Import!AI721","v":0},{"$f":"Import!AJ721","v":0},{"$f":"Import!AK721","v":0},{"$f":"Import!AL721","v":0}]
[null,{"$f":"Import!A722","v":0},{"$f":"Import!B722","v":0},{"$f":"Import!H722","v":0},{"$f":"Import!I722","v":0},{"$f":"Import!J722","v":0},{"$f":"Import!K722","v":0},{"$f":"Import!L722","v":0},{"$f":"Import!M722","v":0},{"$f":"Import!N722","v":0},{"$f":"Import!O722","v":0},{"$f":"Import!P722","v":0},{"$f":"Import!Q722","v":0},{"$f":"Import!R722","v":0},{"$f":"Import!S722","v":0},{"$f":"Import!T722","v":0},{"$f":"Import!U722","v":0},{"$f":"Import!V722","v":0},{"$f":"Import!W722","v":0},{"$f":"Import!X722","v":0},{"$f":"Import!Y722","v":0},{"$f":"Import!Z722","v":0},{"$f":"Import!AA722","v":0},{"$f":"Import!AB722","v":0},{"$f":"Import!AC722","v":0},{"$f":"Import!AD722","v":0},{"$f":"Import!AE722","v":0},{"$f":"Import!AF722","v":0},{"$f":"Import!AG722","v":0},{"$f":"Import!AH722","v":0},{"$f":"Import!AI722","v":0},{"$f":"Import!AJ722","v":0},{"$f":"Import!AK722","v":0},{"$f":"Import!AL722","v":0}]
[null,{"$f":"Import!A723","v":0},{"$f":"Import!B723","v":0},{"$f":"Import!H723","v":0},{"$f":"Import!I723","v":0},{"$f":"Import!J723","v":0},{"$f":"Import!K723","v":0},{"$f":"Import!L723","v":0},{"$f":"Import!M723","v":0},{"$f":"Import!N723","v":0},{"$f":"Import!O723","v":0},{"$f":"Import!P723","v":0},{"$f":"Import!Q723","v":0},{"$f":"Import!R723","v":0},{"$f":"Import!S723","v":0},{"$f":"Import!T723","v":0},{"$f":"Import!U723","v":0},{"$f":"Import!V723","v":0},{"$f":"Import!W723","v":0},{"$f":"Import!X723","v":0},{"$f":"Import!Y723","v":0},{"$f":"Import!Z723","v":0},{"$f":"Import!AA723","v":0},{"$f":"Import!AB723","v":0},{"$f":"Import!AC723","v":0},{"$f":"Import!AD723","v":0},{"$f":"Import!AE723","v":0},{"$f":"Import!AF723","v":0},{"$f":"Import!AG723","v":0},{"$f":"Import!AH723","v":0},{"$f":"Import!AI723","v":0},{"$f":"Import!AJ723","v":0},{"$f":"Import!AK723","v":0},{"$f":"Import!AL723","v":0}]
[null,{"$f":"Import!A724","v":0},{"$f":"Import!B724","v":0},{"$f":"Import!H724","v":0},{"$f":"Import!I724","v":0},{"$f":"Import!J724","v":0},{"$f":"Import!K724","v":0},{"$f":"Import!L724","v":0},{"$f":"Import!M724","v":0},{"$f":"Import!N724","v":0},{"$f":"Import!O724","v":0},{"$f":"Import!P724","v":0},{"$f":"Import!Q724","v":0},{"$f":"Import!R724","v":0},{"$f":"Import!S724","v":0},{"$f":"Import!T724","v":0},{"$f":"Import!U724","v":0},{"$f":"Import!V724","v":0},{"$f":"Import!W724","v":0},{"$f":"Import!X724","v":0},{"$f":"Import!Y724","v":0},{"$f":"Import!Z724","v":0},{"$f":"Import!AA724","v":0},{"$f":"Import!AB724","v":0},{"$f":"Import!AC724","v":0},{"$f":"Import!AD724","v":0},{"$f":"Import!AE724","v":0},{"$f":"Import!AF724","v":0},{"$f":"Import!AG724","v":0},{"$f":"Import!AH724","v":0},{"$f":"Import!AI724","v":0},{"$f":"Import!AJ724","v":0},{"$f":"Import!AK724","v":0},{"$f":"Import!AL724","v":0}]
[null,{"$f":"Import!A725","v":0},{"$f":"Import!B725","v":0},{"$f":"Import!H725","v":0},{"$f":"Import!I725","v":0},{"$f":"Import!J725","v":0},{"$f":"Import!K725","v":0},{"$f":"Import!L725","v":0},{"$f":"Import!M725","v":0},{"$f":"Import!N725","v":0},{"$f":"Import!O725","v":0},{"$f":"Import!P725","v":0},{"$f":"Import!Q725","v":0},{"$f":"Import!R725","v":0},{"$f":"Import!S725","v":0},{"$f":"Import!T725","v":0},{"$f":"Import!U725","v":0},{"$f":"Import!V725","v":0},{"$f":"Import!W725","v":0},{"$f":"Import!X725","v":0},{"$f":"Import!Y725","v":0},{"$f":"Import!Z725","v":0},{"$f":"Import!AA725","v":0},{"$f":"Import!AB725","v":0},{"$f":"Import!AC725","v":0},{"$f":"Import!AD725","v":0},{"$f":"Import!AE725","v":0},{"$f":"Import!AF725","v":0},{"$f":"Import!AG725","v":0},{"$f":"Import!AH725","v":0},{"$f":"Import!AI725","v":0},{"$f":"Import!AJ725","v":0},{"$f":"Import!AK725","v":0},{"$f":"Import!AL725","v":0}]
[null,{"$f":"Import!A726","v":0},{"$f":"Import!B726","v":0},{"$f":"Import!H726","v":0},{"$f":"Import!I726","v":0},{"$f":"Import!J726","v":0},{"$f":"Import!K726","v":0},{"$f":"Import!L726","v":0},{"$f":"Import!M726","v":0},{"$f":"Import!N726","v":0},{"$f":"Import!O726","v":0},{"$f":"Import!P726","v":0},{"$f":"Import!Q726","v":0},{"$f":"Import!R726","v":0},{"$f":"Import!S726","v":0},{"$f":"Import!T726","v":0},{"$f":"Import!U726","v":0},{"$f":"Import!V726","v":0},{"$f":"Import!W726","v":0},{"$f":"Import!X726","v":0},{"$f":"Import!Y726","v":0},{"$f":"Import!Z726","v":0},{"$f":"Import!AA726","v":0},{"$f":"Import!AB726","v":0},{"$f":"Import!AC726","v":0},{"$f":"Import!AD726","v":0},{"$f":"Import!AE726","v":0},{"$f":"Import!AF726","v":0},{"$f":"Import!AG726","v":0},{"$f":"Import!AH726","v":0},{"$f":"Import!AI726","v":0},{"$f":"Import!AJ726","v":0},{"$f":"Import!AK726","v":0},{"$f":"Import!AL726","v":0}]
[null,{"$f":"Import!A727","v":0},{"$f":"Import!B727","v":0},{"$f":"Import!H727","v":0},{"$f":"Import!I727","v":0},{"$f":"Import!J727","v":0},{"$f":"Import!K727","v":0},{"$f":"Import!L727","v":0},{"$f":"Import!M727","v":0},{"$f":"Import!N727","v":0},{"$f":"Import!O727","v":0},{"$f":"Import!P727","v":0},{"$f":"Import!Q727","v":0},{"$f":"Import!R727","v":0},{"$f":"Import!S727","v":0},{"$f":"Import!T727","v":0},{"$f":"Import!U727","v":0},{"$f":"Import!V727","v":0},{"$f":"Import!W727","v":0},{"$f":"Import!X727","v":0},{"$f":"Import!Y727","v":0},{"$f":"Import!Z727","v":0},{"$f":"Import!AA727","v":0},{"$f":"Import!AB727","v":0},{"$f":"Import!AC727","v":0},{"$f":"Import!AD727","v":0},{"$f":"Import!AE727","v":0},{"$f":"Import!AF727","v":0},{"$f":"Import!AG727","v":0},{"$f":"Import!AH727","v":0},{"$f":"Import!AI727","v":0},{"$f":"Import!AJ727","v":0},{"$f":"Import!AK727","v":0},{"$f":"Import!AL727","v":0}]
[null,{"$f":"Import!A728","v":0},{"$f":"Import!B728","v":0},{"$f":"Import!H728","v":0},{"$f":"Import!I728","v":0},{"$f":"Import!J728","v":0},{"$f":"Import!K728","v":0},{"$f":"Import!L728","v":0},{"$f":"Import!M728","v":0},{"$f":"Import!N728","v":0},{"$f":"Import!O728","v":0},{"$f":"Import!P728","v":0},{"$f":"Import!Q728","v":0},{"$f":"Import!R728","v":0},{"$f":"Import!S728","v":0},{"$f":"Import!T728","v":0},{"$f":"Import!U728","v":0},{"$f":"Import!V728","v":0},{"$f":"Import!W728","v":0},{"$f":"Import!X728","v":0},{"$f":"Import!Y728","v":0},{"$f":"Import!Z728","v":0},{"$f":"Import!AA728","v":0},{"$f":"Import!AB728","v":0},{"$f":"Import!AC728","v":0},{"$f":"Import!AD728","v":0},{"$f":"Import!AE728","v":0},{"$f":"Import!AF728","v":0},{"$f":"Import!AG728","v":0},{"$f":"Import!AH728","v":0},{"$f":"Import!AI728","v":0},{"$f":"Import!AJ728","v":0},{"$f":"Import!AK728","v":0},{"$f":"Import!AL728","v":0}]
[null,{"$f":"Import!A729","v":0},{"$f":"Import!B729","v":0},{"$f":"Import!H729","v":0},{"$f":"Import!I729","v":0},{"$f":"Import!J729","v":0},{"$f":"Import!K729","v":0},{"$f":"Import!L729","v":0},{"$f":"Import!M729","v":0},{"$f":"Import!N729","v":0},{"$f":"Import!O729","v":0},{"$f":"Import!P729","v":0},{"$f":"Import!Q729","v":0},{"$f":"Import!R729","v":0},{"$f":"Import!S729","v":0},{"$f":"Import!T729","v":0},{"$f":"Import!U729","v":0},{"$f":"Import!V729","v":0},{"$f":"Import!W729","v":0},{"$f":"Import!X729","v":0},{"$f":"Import!Y729","v":0},{"$f":"Import!Z729","v":0},{"$f":"Import!AA729","v":0},{"$f":"Import!AB729","v":0},{"$f":"Import!AC729","v":0},{"$f":"Import!AD729","v":0},{"$f":"Import!AE729","v":0},{"$f":"Import!AF729","v":0},{"$f":"Import!AG729","v":0},{"$f":"Import!AH729","v":0},{"$f":"Import!AI729","v":0},{"$f":"Import!AJ729","v":0},{"$f":"Import!AK729","v":0},{"$f":"Import!AL729","v":0}]
[null,{"$f":"Import!A730","v":0},{"$f":"Import!B730","v":0},{"$f":"Import!H730","v":0},{"$f":"Import!I730","v":0},{"$f":"Import!J730","v":0},{"$f":"Import!K730","v":0},{"$f":"Import!L730","v":0},{"$f":"Import!M730","v":0},{"$f":"Import!N730","v":0},{"$f":"Import!O730","v":0},{"$f":"Import!P730","v":0},{"$f":"Import!Q730","v":0},{"$f":"Import!R730","v":0},{"$f":"Import!S730","v":0},{"$f":"Import!T730","v":0},{"$f":"Import!U730","v":0},{"$f":"Import!V730","v":0},{"$f":"Import!W730","v":0},{"$f":"Import!X730","v":0},{"$f":"Import!Y730","v":0},{"$f":"Import!Z730","v":0},{"$f":"Import!AA730","v":0},{"$f":"Import!AB730","v":0},{"$f":"Import!AC730","v":0},{"$f":"Import!AD730","v":0},{"$f":"Import!AE730","v":0},{"$f":"Import!AF730","v":0},{"$f":"Import!AG730","v":0},{"$f":"Import!AH730","v":0},{"$f":"Import!AI730","v":0},{"$f":"Import!AJ730","v":0},{"$f":"Import!AK730","v":0},{"$f":"Import!AL730","v":0}]
[null,{"$f":"Import!A731","v":0},{"$f":"Import!B731","v":0},{"$f":"Import!H731","v":0},{"$f":"Import!I731","v":0},{"$f":"Import!J731","v":0},{"$f":"Import!K731","v":0},{"$f":"Import!L731","v":0},{"$f":"Import!M731","v":0},{"$f":"Import!N731","v":0},{"$f":"Import!O731","v":0},{"$f":"Import!P731","v":0},{"$f":"Import!Q731","v":0},{"$f":"Import!R731","v":0},{"$f":"Import!S731","v":0},{"$f":"Import!T731","v":0},{"$f":"Import!U731","v":0},{"$f":"Import!V731","v":0},{"$f":"Import!W731","v":0},{"$f":"Import!X731","v":0},{"$f":"Import!Y731","v":0},{"$f":"Import!Z731","v":0},{"$f":"Import!AA731","v":0},{"$f":"Import!AB731","v":0},{"$f":"Import!AC731","v":0},{"$f":"Import!AD731","v":0},{"$f":"Import!AE731","v":0},{"$f":"Import!AF731","v":0},{"$f":"Import!AG731","v":0},{"$f":"Import!AH731","v":0},{"$f":"Import!AI731","v":0},{"$f":"Import!AJ731","v":0},{"$f":"Import!AK731","v":0},{"$f":"Import!AL731","v":0}]
[null,{"$f":"Import!A732","v":0},{"$f":"Import!B732","v":0},{"$f":"Import!H732","v":0},{"$f":"Import!I732","v":0},{"$f":"Import!J732","v":0},{"$f":"Import!K732","v":0},{"$f":"Import!L732","v":0},{"$f":"Import!M732","v":0},{"$f":"Import!N732","v":0},{"$f":"Import!O732","v":0},{"$f":"Import!P732","v":0},{"$f":"Import!Q732","v":0},{"$f":"Import!R732","v":0},{"$f":"Import!S732","v":0},{"$f":"Import!T732","v":0},{"$f":"Import!U732","v":0},{"$f":"Import!V732","v":0},{"$f":"Import!W732","v":0},{"$f":"Import!X732","v":0},{"$f":"Import!Y732","v":0},{"$f":"Import!Z732","v":0},{"$f":"Import!AA732","v":0},{"$f":"Import!AB732","v":0},{"$f":"Import!AC732","v":0},{"$f":"Import!AD732","v":0},{"$f":"Import!AE732","v":0},{"$f":"Import!AF732","v":0},{"$f":"Import!AG732","v":0},{"$f":"Import!AH732","v":0},{"$f":"Import!AI732","v":0},{"$f":"Import!AJ732","v":0},{"$f":"Import!AK732","v":0},{"$f":"Import!AL732","v":0}]
[null,{"$f":"Import!A733","v":0},{"$f":"Import!B733","v":0},{"$f":"Import!H733","v":0},{"$f":"Import!I733","v":0},{"$f":"Import!J733","v":0},{"$f":"Import!K733","v":0},{"$f":"Import!L733","v":0},{"$f":"Import!M733","v":0},{"$f":"Import!N733","v":0},{"$f":"Import!O733","v":0},{"$f":"Import!P733","v":0},{"$f":"Import!Q733","v":0},{"$f":"Import!R733","v":0},{"$f":"Import!S733","v":0},{"$f":"Import!T733","v":0},{"$f":"Import!U733","v":0},{"$f":"Import!V733","v":0},{"$f":"Import!W733","v":0},{"$f":"Import!X733","v":0},{"$f":"Import!Y733","v":0},{"$f":"Import!Z733","v":0},{"$f":"Import!AA733","v":0},{"$f":"Import!AB733","v":0},{"$f":"Import!AC733","v":0},{"$f":"Import!AD733","v":0},{"$f":"Import!AE733","v":0},{"$f":"Import!AF733","v":0},{"$f":"Import!AG733","v":0},{"$f":"Import!AH733","v":0},{"$f":"Import!AI733","v":0},{"$f":"Import!AJ733","v":0},{"$f":"Import!AK733","v":0},{"$f":"Import!AL733","v":0}]
[null,{"$f":"Import!A734","v":0},{"$f":"Import!B734","v":0},{"$f":"Import!H734","v":0},{"$f":"Import!I734","v":0},{"$f":"Import!J734","v":0},{"$f":"Import!K734","v":0},{"$f":"Import!L734","v":0},{"$f":"Import!M734","v":0},{"$f":"Import!N734","v":0},{"$f":"Import!O734","v":0},{"$f":"Import!P734","v":0},{"$f":"Import!Q734","v":0},{"$f":"Import!R734","v":0},{"$f":"Import!S734","v":0},{"$f":"Import!T734","v":0},{"$f":"Import!U734","v":0},{"$f":"Import!V734","v":0},{"$f":"Import!W734","v":0},{"$f":"Import!X734","v":0},{"$f":"Import!Y734","v":0},{"$f":"Import!Z734","v":0},{"$f":"Import!AA734","v":0},{"$f":"Import!AB734","v":0},{"$f":"Import!AC734","v":0},{"$f":"Import!AD734","v":0},{"$f":"Import!AE734","v":0},{"$f":"Import!AF734","v":0},{"$f":"Import!AG734","v":0},{"$f":"Import!AH734","v":0},{"$f":"Import!AI734","v":0},{"$f":"Import!AJ734","v":0},{"$f":"Import!AK734","v":0},{"$f":"Import!AL734","v":0}]
[null,{"$f":"Import!A735","v":0},{"$f":"Import!B735","v":0},{"$f":"Import!H735","v":0},{"$f":"Import!I735","v":0},{"$f":"Import!J735","v":0},{"$f":"Import!K735","v":0},{"$f":"Import!L735","v":0},{"$f":"Import!M735","v":0},{"$f":"Import!N735","v":0},{"$f":"Import!O735","v":0},{"$f":"Import!P735","v":0},{"$f":"Import!Q735","v":0},{"$f":"Import!R735","v":0},{"$f":"Import!S735","v":0},{"$f":"Import!T735","v":0},{"$f":"Import!U735","v":0},{"$f":"Import!V735","v":0},{"$f":"Import!W735","v":0},{"$f":"Import!X735","v":0},{"$f":"Import!Y735","v":0},{"$f":"Import!Z735","v":0},{"$f":"Import!AA735","v":0},{"$f":"Import!AB735","v":0},{"$f":"Import!AC735","v":0},{"$f":"Import!AD735","v":0},{"$f":"Import!AE735","v":0},{"$f":"Import!AF735","v":0},{"$f":"Import!AG735","v":0},{"$f":"Import!AH735","v":0},{"$f":"Import!AI735","v":0},{"$f":"Import!AJ735","v":0},{"$f":"Import!AK735","v":0},{"$f":"Import!AL735","v":0}]
[null,{"$f":"Import!A736","v":0},{"$f":"Import!B736","v":0},{"$f":"Import!H736","v":0},{"$f":"Import!I736","v":0},{"$f":"Import!J736","v":0},{"$f":"Import!K736","v":0},{"$f":"Import!L736","v":0},{"$f":"Import!M736","v":0},{"$f":"Import!N736","v":0},{"$f":"Import!O736","v":0},{"$f":"Import!P736","v":0},{"$f":"Import!Q736","v":0},{"$f":"Import!R736","v":0},{"$f":"Import!S736","v":0},{"$f":"Import!T736","v":0},{"$f":"Import!U736","v":0},{"$f":"Import!V736","v":0},{"$f":"Import!W736","v":0},{"$f":"Import!X736","v":0},{"$f":"Import!Y736","v":0},{"$f":"Import!Z736","v":0},{"$f":"Import!AA736","v":0},{"$f":"Import!AB736","v":0},{"$f":"Import!AC736","v":0},{"$f":"Import!AD736","v":0},{"$f":"Import!AE736","v":0},{"$f":"Import!AF736","v":0},{"$f":"Import!AG736","v":0},{"$f":"Import!AH736","v":0},{"$f":"Import!AI736","v":0},{"$f":"Import!AJ736","v":0},{"$f":"Import!AK736","v":0},{"$f":"Import!AL736","v":0}]
[null,{"$f":"Import!A737","v":0},{"$f":"Import!B737","v":0},{"$f":"Import!H737","v":0},{"$f":"Import!I737","v":0},{"$f":"Import!J737","v":0},{"$f":"Import!K737","v":0},{"$f":"Import!L737","v":0},{"$f":"Import!M737","v":0},{"$f":"Import!N737","v":0},{"$f":"Import!O737","v":0},{"$f":"Import!P737","v":0},{"$f":"Import!Q737","v":0},{"$f":"Import!R737","v":0},{"$f":"Import!S737","v":0},{"$f":"Import!T737","v":0},{"$f":"Import!U737","v":0},{"$f":"Import!V737","v":0},{"$f":"Import!W737","v":0},{"$f":"Import!X737","v":0},{"$f":"Import!Y737","v":0},{"$f":"Import!Z737","v":0},{"$f":"Import!AA737","v":0},{"$f":"Import!AB737","v":0},{"$f":"Import!AC737","v":0},{"$f":"Import!AD737","v":0},{"$f":"Import!AE737","v":0},{"$f":"Import!AF737","v":0},{"$f":"Import!AG737","v":0},{"$f":"Import!AH737","v":0},{"$f":"Import!AI737","v":0},{"$f":"Import!AJ737","v":0},{"$f":"Import!AK737","v":0},{"$f":"Import!AL737","v":0}]
[null,{"$f":"Import!A738","v":0},{"$f":"Import!B738","v":0},{"$f":"Import!H738","v":0},{"$f":"Import!I738","v":0},{"$f":"Import!J738","v":0},{"$f":"Import!K738","v":0},{"$f":"Import!L738","v":0},{"$f":"Import!M738","v":0},{"$f":"Import!N738","v":0},{"$f":"Import!O738","v":0},{"$f":"Import!P738","v":0},{"$f":"Import!Q738","v":0},{"$f":"Import!R738","v":0},{"$f":"Import!S738","v":0},{"$f":"Import!T738","v":0},{"$f":"Import!U738","v":0},{"$f":"Import!V738","v":0},{"$f":"Import!W738","v":0},{"$f":"Import!X738","v":0},{"$f":"Import!Y738","v":0},{"$f":"Import!Z738","v":0},{"$f":"Import!AA738","v":0},{"$f":"Import!AB738","v":0},{"$f":"Import!AC738","v":0},{"$f":"Import!AD738","v":0},{"$f":"Import!AE738","v":0},{"$f":"Import!AF738","v":0},{"$f":"Import!AG738","v":0},{"$f":"Import!AH738","v":0},{"$f":"Import!AI738","v":0},{"$f":"Import!AJ738","v":0},{"$f":"Import!AK738","v":0},{"$f":"Import!AL738","v":0}]
[null,{"$f":"Import!A739","v":0},{"$f":"Import!B739","v":0},{"$f":"Import!H739","v":0},{"$f":"Import!I739","v":0},{"$f":"Import!J739","v":0},{"$f":"Import!K739","v":0},{"$f":"Import!L739","v":0},{"$f":"Import!M739","v":0},{"$f":"Import!N739","v":0},{"$f":"Import!O739","v":0},{"$f":"Import!P739","v":0},{"$f":"Import!Q739","v":0},{"$f":"Import!R739","v":0},{"$f":"Import!S739","v":0},{"$f":"Import!T739","v":0},{"$f":"Import!U739","v":0},{"$f":"Import!V739","v":0},{"$f":"Import!W739","v":0},{"$f":"Import!X739","v":0},{"$f":"Import!Y739","v":0},{"$f":"Import!Z739","v":0},{"$f":"Import!AA739","v":0},{"$f":"Import!AB739","v":0},{"$f":"Import!AC739","v":0},{"$f":"Import!AD739","v":0},{"$f":"Import!AE739","v":0},{"$f":"Import!AF739","v":0},{"$f":"Import!AG739","v":0},{"$f":"Import!AH739","v":0},{"$f":"Import!AI739","v":0},{"$f":"Import!AJ739","v":0},{"$f":"Import!AK739","v":0},{"$f":"Import!AL739","v":0}]
[null,{"$f":"Import!A740","v":0},{"$f":"Import!B740","v":0},{"$f":"Import!H740","v":0},{"$f":"Import!I740","v":0},{"$f":"Import!J740","v":0},{"$f":"Import!K740","v":0},{"$f":"Import!L740","v":0},{"$f":"Import!M740","v":0},{"$f":"Import!N740","v":0},{"$f":"Import!O740","v":0},{"$f":"Import!P740","v":0},{"$f":"Import!Q740","v":0},{"$f":"Import!R740","v":0},{"$f":"Import!S740","v":0},{"$f":"Import!T740","v":0},{"$f":"Import!U740","v":0},{"$f":"Import!V740","v":0},{"$f":"Import!W740","v":0},{"$f":"Import!X740","v":0},{"$f":"Import!Y740","v":0},{"$f":"Import!Z740","v":0},{"$f":"Import!AA740","v":0},{"$f":"Import!AB740","v":0},{"$f":"Import!AC740","v":0},{"$f":"Import!AD740","v":0},{"$f":"Import!AE740","v":0},{"$f":"Import!AF740","v":0},{"$f":"Import!AG740","v":0},{"$f":"Import!AH740","v":0},{"$f":"Import!AI740","v":0},{"$f":"Import!AJ740","v":0},{"$f":"Import!AK740","v":0},{"$f":"Import!AL740","v":0}]
[null,{"$f":"Import!A741","v":0},{"$f":"Import!B741","v":0},{"$f":"Import!H741","v":0},{"$f":"Import!I741","v":0},{"$f":"Import!J741","v":0},{"$f":"Import!K741","v":0},{"$f":"Import!L741","v":0},{"$f":"Import!M741","v":0},{"$f":"Import!N741","v":0},{"$f":"Import!O741","v":0},{"$f":"Import!P741","v":0},{"$f":"Import!Q741","v":0},{"$f":"Import!R741","v":0},{"$f":"Import!S741","v":0},{"$f":"Import!T741","v":0},{"$f":"Import!U741","v":0},{"$f":"Import!V741","v":0},{"$f":"Import!W741","v":0},{"$f":"Import!X741","v":0},{"$f":"Import!Y741","v":0},{"$f":"Import!Z741","v":0},{"$f":"Import!AA741","v":0},{"$f":"Import!AB741","v":0},{"$f":"Import!AC741","v":0},{"$f":"Import!AD741","v":0},{"$f":"Import!AE741","v":0},{"$f":"Import!AF741","v":0},{"$f":"Import!AG741","v":0},{"$f":"Import!AH741","v":0},{"$f":"Import!AI741","v":0},{"$f":"Import!AJ741","v":0},{"$f":"Import!AK741","v":0},{"$f":"Import!AL741","v":0}]
[null,{"$f":"Import!A742","v":0},{"$f":"Import!B742","v":0},{"$f":"Import!H742","v":0},{"$f":"Import!I742","v":0},{"$f":"Import!J742","v":0},{"$f":"Import!K742","v":0},{"$f":"Import!L742","v":0},{"$f":"Import!M742","v":0},{"$f":"Import!N742","v":0},{"$f":"Import!O742","v":0},{"$f":"Import!P742","v":0},{"$f":"Import!Q742","v":0},{"$f":"Import!R742","v":0},{"$f":"Import!S742","v":0},{"$f":"Import!T742","v":0},{"$f":"Import!U742","v":0},{"$f":"Import!V742","v":0},{"$f":"Import!W742","v":0},{"$f":"Import!X742","v":0},{"$f":"Import!Y742","v":0},{"$f":"Import!Z742","v":0},{"$f":"Import!AA742","v":0},{"$f":"Import!AB742","v":0},{"$f":"Import!AC742","v":0},{"$f":"Import!AD742","v":0},{"$f":"Import!AE742","v":0},{"$f":"Import!AF742","v":0},{"$f":"Import!AG742","v":0},{"$f":"Import!AH742","v":0},{"$f":"Import!AI742","v":0},{"$f":"Import!AJ742","v":0},{"$f":"Import!AK742","v":0},{"$f":"Import!AL742","v":0}]
[null,{"$f":"Import!A743","v":0},{"$f":"Import!B743","v":0},{"$f":"Import!H743","v":0},{"$f":"Import!I743","v":0},{"$f":"Import!J743","v":0},{"$f":"Import!K743","v":0},{"$f":"Import!L743","v":0},{"$f":"Import!M743","v":0},{"$f":"Import!N743","v":0},{"$f":"Import!O743","v":0},{"$f":"Import!P743","v":0},{"$f":"Import!Q743","v":0},{"$f":"Import!R743","v":0},{"$f":"Import!S743","v":0},{"$f":"Import!T743","v":0},{"$f":"Import!U743","v":0},{"$f":"Import!V743","v":0},{"$f":"Import!W743","v":0},{"$f":"Import!X743","v":0},{"$f":"Import!Y743","v":0},{"$f":"Import!Z743","v":0},{"$f":"Import!AA743","v":0},{"$f":"Import!AB743","v":0},{"$f":"Import!AC743","v":0},{"$f":"Import!AD743","v":0},{"$f":"Import!AE743","v":0},{"$f":"Import!AF743","v":0},{"$f":"Import!AG743","v":0},{"$f":"Import!AH743","v":0},{"$f":"Import!AI743","v":0},{"$f":"Import!AJ743","v":0},{"$f":"Import!AK743","v":0},{"$f":"Import!AL743","v":0}]
[null,{"$f":"Import!A744","v":0},{"$f":"Import!B744","v":0},{"$f":"Import!H744","v":0},{"$f":"Import!I744","v":0},{"$f":"Import!J744","v":0},{"$f":"Import!K744","v":0},{"$f":"Import!L744","v":0},{"$f":"Import!M744","v":0},{"$f":"Import!N744","v":0},{"$f":"Import!O744","v":0},{"$f":"Import!P744","v":0},{"$f":"Import!Q744","v":0},{"$f":"Import!R744","v":0},{"$f":"Import!S744","v":0},{"$f":"Import!T744","v":0},{"$f":"Import!U744","v":0},{"$f":"Import!V744","v":0},{"$f":"Import!W744","v":0},{"$f":"Import!X744","v":0},{"$f":"Import!Y744","v":0},{"$f":"Import!Z744","v":0},{"$f":"Import!AA744","v":0},{"$f":"Import!AB744","v":0},{"$f":"Import!AC744","v":0},{"$f":"Import!AD744","v":0},{"$f":"Import!AE744","v":0},{"$f":"Import!AF744","v":0},{"$f":"Import!AG744","v":0},{"$f":"Import!AH744","v":0},{"$f":"Import!AI744","v":0},{"$f":"Import!AJ744","v":0},{"$f":"Import!AK744","v":0},{"$f":"Import!AL744","v":0}]
[null,{"$f":"Import!A745","v":0},{"$f":"Import!B745","v":0},{"$f":"Import!H745","v":0},{"$f":"Import!I745","v":0},{"$f":"Import!J745","v":0},{"$f":"Import!K745","v":0},{"$f":"Import!L745","v":0},{"$f":"Import!M745","v":0},{"$f":"Import!N745","v":0},{"$f":"Import!O745","v":0},{"$f":"Import!P745","v":0},{"$f":"Import!Q745","v":0},{"$f":"Import!R745","v":0},{"$f":"Import!S745","v":0},{"$f":"Import!T745","v":0},{"$f":"Import!U745","v":0},{"$f":"Import!V745","v":0},{"$f":"Import!W745","v":0},{"$f":"Import!X745","v":0},{"$f":"Import!Y745","v":0},{"$f":"Import!Z745","v":0},{"$f":"Import!AA745","v":0},{"$f":"Import!AB745","v":0},{"$f":"Import!AC745","v":0},{"$f":"Import!AD745","v":0},{"$f":"Import!AE745","v":0},{"$f":"Import!AF745","v":0},{"$f":"Import!AG745","v":0},{"$f":"Import!AH745","v":0},{"$f":"Import!AI745","v":0},{"$f":"Import!AJ745","v":0},{"$f":"Import!AK745","v":0},{"$f":"Import!AL745","v":0}]
[null,{"$f":"Import!A746","v":0},{"$f":"Import!B746","v":0},{"$f":"Import!H746","v":0},{"$f":"Import!I746","v":0},{"$f":"Import!J746","v":0},{"$f":"Import!K746","v":0},{"$f":"Import!L746","v":0},{"$f":"Import!M746","v":0},{"$f":"Import!N746","v":0},{"$f":"Import!O746","v":0},{"$f":"Import!P746","v":0},{"$f":"Import!Q746","v":0},{"$f":"Import!R746","v":0},{"$f":"Import!S746","v":0},{"$f":"Import!T746","v":0},{"$f":"Import!U746","v":0},{"$f":"Import!V746","v":0},{"$f":"Import!W746","v":0},{"$f":"Import!X746","v":0},{"$f":"Import!Y746","v":0},{"$f":"Import!Z746","v":0},{"$f":"Import!AA746","v":0},{"$f":"Import!AB746","v":0},{"$f":"Import!AC746","v":0},{"$f":"Import!AD746","v":0},{"$f":"Import!AE746","v":0},{"$f":"Import!AF746","v":0},{"$f":"Import!AG746","v":0},{"$f":"Import!AH746","v":0},{"$f":"Import!AI746","v":0},{"$f":"Import!AJ746","v":0},{"$f":"Import!AK746","v":0},{"$f":"Import!AL746","v":0}]
[null,{"$f":"Import!A747","v":0},{"$f":"Import!B747","v":0},{"$f":"Import!H747","v":0},{"$f":"Import!I747","v":0},{"$f":"Import!J747","v":0},{"$f":"Import!K747","v":0},{"$f":"Import!L747","v":0},{"$f":"Import!M747","v":0},{"$f":"Import!N747","v":0},{"$f":"Import!O747","v":0},{"$f":"Import!P747","v":0},{"$f":"Import!Q747","v":0},{"$f":"Import!R747","v":0},{"$f":"Import!S747","v":0},{"$f":"Import!T747","v":0},{"$f":"Import!U747","v":0},{"$f":"Import!V747","v":0},{"$f":"Import!W747","v":0},{"$f":"Import!X747","v":0},{"$f":"Import!Y747","v":0},{"$f":"Import!Z747","v":0},{"$f":"Import!AA747","v":0},{"$f":"Import!AB747","v":0},{"$f":"Import!AC747","v":0},{"$f":"Import!AD747","v":0},{"$f":"Import!AE747","v":0},{"$f":"Import!AF747","v":0},{"$f":"Import!AG747","v":0},{"$f":"Import!AH747","v":0},{"$f":"Import!AI747","v":0},{"$f":"Import!AJ747","v":0},{"$f":"Import!AK747","v":0},{"$f":"Import!AL747","v":0}]
[null,{"$f":"Import!A748","v":0},{"$f":"Import!B748","v":0},{"$f":"Import!H748","v":0},{"$f":"Import!I748","v":0},{"$f":"Import!J748","v":0},{"$f":"Import!K748","v":0},{"$f":"Import!L748","v":0},{"$f":"Import!M748","v":0},{"$f":"Import!N748","v":0},{"$f":"Import!O748","v":0},{"$f":"Import!P748","v":0},{"$f":"Import!Q748","v":0},{"$f":"Import!R748","v":0},{"$f":"Import!S748","v":0},{"$f":"Import!T748","v":0},{"$f":"Import!U748","v":0},{"$f":"Import!V748","v":0},{"$f":"Import!W748","v":0},{"$f":"Import!X748","v":0},{"$f":"Import!Y748","v":0},{"$f":"Import!Z748","v":0},{"$f":"Import!AA748","v":0},{"$f":"Import!AB748","v":0},{"$f":"Import!AC748","v":0},{"$f":"Import!AD748","v":0},{"$f":"Import!AE748","v":0},{"$f":"Import!AF748","v":0},{"$f":"Import!AG748","v":0},{"$f":"Import!AH748","v":0},{"$f":"Import!AI748","v":0},{"$f":"Import!AJ748","v":0},{"$f":"Import!AK748","v":0},{"$f":"Import!AL748","v":0}]
[null,{"$f":"Import!A749","v":0},{"$f":"Import!B749","v":0},{"$f":"Import!H749","v":0},{"$f":"Import!I749","v":0},{"$f":"Import!J749","v":0},{"$f":"Import!K749","v":0},{"$f":"Import!L749","v":0},{"$f":"Import!M749","v":0},{"$f":"Import!N749","v":0},{"$f":"Import!O749","v":0},{"$f":"Import!P749","v":0},{"$f":"Import!Q749","v":0},{"$f":"Import!R749","v":0},{"$f":"Import!S749","v":0},{"$f":"Import!T749","v":0},{"$f":"Import!U749","v":0},{"$f":"Import!V749","v":0},{"$f":"Import!W749","v":0},{"$f":"Import!X749","v":0},{"$f":"Import!Y749","v":0},{"$f":"Import!Z749","v":0},{"$f":"Import!AA749","v":0},{"$f":"Import!AB749","v":0},{"$f":"Import!AC749","v":0},{"$f":"Import!AD749","v":0},{"$f":"Import!AE749","v":0},{"$f":"Import!AF749","v":0},{"$f":"Import!AG749","v":0},{"$f":"Import!AH749","v":0},{"$f":"Import!AI749","v":0},{"$f":"Import!AJ749","v":0},{"$f":"Import!AK749","v":0},{"$f":"Import!AL749","v":0}]
[null,{"$f":"Import!A750","v":0},{"$f":"Import!B750","v":0},{"$f":"Import!H750","v":0},{"$f":"Import!I750","v":0},{"$f":"Import!J750","v":0},{"$f":"Import!K750","v":0},{"$f":"Import!L750","v":0},{"$f":"Import!M750","v":0},{"$f":"Import!N750","v":0},{"$f":"Import!O750","v":0},{"$f":"Import!P750","v":0},{"$f":"Import!Q750","v":0},{"$f":"Import!R750","v":0},{"$f":"Import!S750","v":0},{"$f":"Import!T750","v":0},{"$f":"Import!U750","v":0},{"$f":"Import!V750","v":0},{"$f":"Import!W750","v":0},{"$f":"Import!X750","v":0},{"$f":"Import!Y750","v":0},{"$f":"Import!Z750","v":0},{"$f":"Import!AA750","v":0},{"$f":"Import!AB750","v":0},{"$f":"Import!AC750","v":0},{"$f":"Import!AD750","v":0},{"$f":"Import!AE750","v":0},{"$f":"Import!AF750","v":0},{"$f":"Import!AG750","v":0},{"$f":"Import!AH750","v":0},{"$f":"Import!AI750","v":0},{"$f":"Import!AJ750","v":0},{"$f":"Import!AK750","v":0},{"$f":"Import!AL750","v":0}]
[null,{"$f":"Import!A751","v":0},{"$f":"Import!B751","v":0},{"$f":"Import!H751","v":0},{"$f":"Import!I751","v":0},{"$f":"Import!J751","v":0},{"$f":"Import!K751","v":0},{"$f":"Import!L751","v":0},{"$f":"Import!M751","v":0},{"$f":"Import!N751","v":0},{"$f":"Import!O751","v":0},{"$f":"Import!P751","v":0},{"$f":"Import!Q751","v":0},{"$f":"Import!R751","v":0},{"$f":"Import!S751","v":0},{"$f":"Import!T751","v":0},{"$f":"Import!U751","v":0},{"$f":"Import!V751","v":0},{"$f":"Import!W751","v":0},{"$f":"Import!X751","v":0},{"$f":"Import!Y751","v":0},{"$f":"Import!Z751","v":0},{"$f":"Import!AA751","v":0},{"$f":"Import!AB751","v":0},{"$f":"Import!AC751","v":0},{"$f":"Import!AD751","v":0},{"$f":"Import!AE751","v":0},{"$f":"Import!AF751","v":0},{"$f":"Import!AG751","v":0},{"$f":"Import!AH751","v":0},{"$f":"Import!AI751","v":0},{"$f":"Import!AJ751","v":0},{"$f":"Import!AK751","v":0},{"$f":"Import!AL751","v":0}]
[null,{"$f":"Import!A752","v":0},{"$f":"Import!B752","v":0},{"$f":"Import!H752","v":0},{"$f":"Import!I752","v":0},{"$f":"Import!J752","v":0},{"$f":"Import!K752","v":0},{"$f":"Import!L752","v":0},{"$f":"Import!M752","v":0},{"$f":"Import!N752","v":0},{"$f":"Import!O752","v":0},{"$f":"Import!P752","v":0},{"$f":"Import!Q752","v":0},{"$f":"Import!R752","v":0},{"$f":"Import!S752","v":0},{"$f":"Import!T752","v":0},{"$f":"Import!U752","v":0},{"$f":"Import!V752","v":0},{"$f":"Import!W752","v":0},{"$f":"Import!X752","v":0},{"$f":"Import!Y752","v":0},{"$f":"Import!Z752","v":0},{"$f":"Import!AA752","v":0},{"$f":"Import!AB752","v":0},{"$f":"Import!AC752","v":0},{"$f":"Import!AD752","v":0},{"$f":"Import!AE752","v":0},{"$f":"Import!AF752","v":0},{"$f":"Import!AG752","v":0},{"$f":"Import!AH752","v":0},{"$f":"Import!AI752","v":0},{"$f":"Import!AJ752","v":0},{"$f":"Import!AK752","v":0},{"$f":"Import!AL752","v":0}]
[null,{"$f":"Import!A753","v":0},{"$f":"Import!B753","v":0},{"$f":"Import!H753","v":0},{"$f":"Import!I753","v":0},{"$f":"Import!J753","v":0},{"$f":"Import!K753","v":0},{"$f":"Import!L753","v":0},{"$f":"Import!M753","v":0},{"$f":"Import!N753","v":0},{"$f":"Import!O753","v":0},{"$f":"Import!P753","v":0},{"$f":"Import!Q753","v":0},{"$f":"Import!R753","v":0},{"$f":"Import!S753","v":0},{"$f":"Import!T753","v":0},{"$f":"Import!U753","v":0},{"$f":"Import!V753","v":0},{"$f":"Import!W753","v":0},{"$f":"Import!X753","v":0},{"$f":"Import!Y753","v":0},{"$f":"Import!Z753","v":0},{"$f":"Import!AA753","v":0},{"$f":"Import!AB753","v":0},{"$f":"Import!AC753","v":0},{"$f":"Import!AD753","v":0},{"$f":"Import!AE753","v":0},{"$f":"Import!AF753","v":0},{"$f":"Import!AG753","v":0},{"$f":"Import!AH753","v":0},{"$f":"Import!AI753","v":0},{"$f":"Import!AJ753","v":0},{"$f":"Import!AK753","v":0},{"$f":"Import!AL753","v":0}]
[null,{"$f":"Import!A754","v":0},{"$f":"Import!B754","v":0},{"$f":"Import!H754","v":0},{"$f":"Import!I754","v":0},{"$f":"Import!J754","v":0},{"$f":"Import!K754","v":0},{"$f":"Import!L754","v":0},{"$f":"Import!M754","v":0},{"$f":"Import!N754","v":0},{"$f":"Import!O754","v":0},{"$f":"Import!P754","v":0},{"$f":"Import!Q754","v":0},{"$f":"Import!R754","v":0},{"$f":"Import!S754","v":0},{"$f":"Import!T754","v":0},{"$f":"Import!U754","v":0},{"$f":"Import!V754","v":0},{"$f":"Import!W754","v":0},{"$f":"Import!X754","v":0},{"$f":"Import!Y754","v":0},{"$f":"Import!Z754","v":0},{"$f":"Import!AA754","v":0},{"$f":"Import!AB754","v":0},{"$f":"Import!AC754","v":0},{"$f":"Import!AD754","v":0},{"$f":"Import!AE754","v":0},{"$f":"Import!AF754","v":0},{"$f":"Import!AG754","v":0},{"$f":"Import!AH754","v":0},{"$f":"Import!AI754","v":0},{"$f":"Import!AJ754","v":0},{"$f":"Import!AK754","v":0},{"$f":"Import!AL754","v":0}]
[null,{"$f":"Import!A755","v":0},{"$f":"Import!B755","v":0},{"$f":"Import!H755","v":0},{"$f":"Import!I755","v":0},{"$f":"Import!J755","v":0},{"$f":"Import!K755","v":0},{"$f":"Import!L755","v":0},{"$f":"Import!M755","v":0},{"$f":"Import!N755","v":0},{"$f":"Import!O755","v":0},{"$f":"Import!P755","v":0},{"$f":"Import!Q755","v":0},{"$f":"Import!R755","v":0},{"$f":"Import!S755","v":0},{"$f":"Import!T755","v":0},{"$f":"Import!U755","v":0},{"$f":"Import!V755","v":0},{"$f":"Import!W755","v":0},{"$f":"Import!X755","v":0},{"$f":"Import!Y755","v":0},{"$f":"Import!Z755","v":0},{"$f":"Import!AA755","v":0},{"$f":"Import!AB755","v":0},{"$f":"Import!AC755","v":0},{"$f":"Import!AD755","v":0},{"$f":"Import!AE755","v":0},{"$f":"Import!AF755","v":0},{"$f":"Import!AG755","v":0},{"$f":"Import!AH755","v":0},{"$f":"Import!AI755","v":0},{"$f":"Import!AJ755","v":0},{"$f":"Import!AK755","v":0},{"$f":"Import!AL755","v":0}]
[null,{"$f":"Import!A756","v":0},{"$f":"Import!B756","v":0},{"$f":"Import!H756","v":0},{"$f":"Import!I756","v":0},{"$f":"Import!J756","v":0},{"$f":"Import!K756","v":0},{"$f":"Import!L756","v":0},{"$f":"Import!M756","v":0},{"$f":"Import!N756","v":0},{"$f":"Import!O756","v":0},{"$f":"Import!P756","v":0},{"$f":"Import!Q756","v":0},{"$f":"Import!R756","v":0},{"$f":"Import!S756","v":0},{"$f":"Import!T756","v":0},{"$f":"Import!U756","v":0},{"$f":"Import!V756","v":0},{"$f":"Import!W756","v":0},{"$f":"Import!X756","v":0},{"$f":"Import!Y756","v":0},{"$f":"Import!Z756","v":0},{"$f":"Import!AA756","v":0},{"$f":"Import!AB756","v":0},{"$f":"Import!AC756","v":0},{"$f":"Import!AD756","v":0},{"$f":"Import!AE756","v":0},{"$f":"Import!AF756","v":0},{"$f":"Import!AG756","v":0},{"$f":"Import!AH756","v":0},{"$f":"Import!AI756","v":0},{"$f":"Import!AJ756","v":0},{"$f":"Import!AK756","v":0},{"$f":"Import!AL756","v":0}]
[null,{"$f":"Import!A757","v":0},{"$f":"Import!B757","v":0},{"$f":"Import!H757","v":0},{"$f":"Import!I757","v":0},{"$f":"Import!J757","v":0},{"$f":"Import!K757","v":0},{"$f":"Import!L757","v":0},{"$f":"Import!M757","v":0},{"$f":"Import!N757","v":0},{"$f":"Import!O757","v":0},{"$f":"Import!P757","v":0},{"$f":"Import!Q757","v":0},{"$f":"Import!R757","v":0},{"$f":"Import!S757","v":0},{"$f":"Import!T757","v":0},{"$f":"Import!U757","v":0},{"$f":"Import!V757","v":0},{"$f":"Import!W757","v":0},{"$f":"Import!X757","v":0},{"$f":"Import!Y757","v":0},{"$f":"Import!Z757","v":0},{"$f":"Import!AA757","v":0},{"$f":"Import!AB757","v":0},{"$f":"Import!AC757","v":0},{"$f":"Import!AD757","v":0},{"$f":"Import!AE757","v":0},{"$f":"Import!AF757","v":0},{"$f":"Import!AG757","v":0},{"$f":"Import!AH757","v":0},{"$f":"Import!AI757","v":0},{"$f":"Import!AJ757","v":0},{"$f":"Import!AK757","v":0},{"$f":"Import!AL757","v":0}]
[null,{"$f":"Import!A758","v":0},{"$f":"Import!B758","v":0},{"$f":"Import!H758","v":0},{"$f":"Import!I758","v":0},{"$f":"Import!J758","v":0},{"$f":"Import!K758","v":0},{"$f":"Import!L758","v":0},{"$f":"Import!M758","v":0},{"$f":"Import!N758","v":0},{"$f":"Import!O758","v":0},{"$f":"Import!P758","v":0},{"$f":"Import!Q758","v":0},{"$f":"Import!R758","v":0},{"$f":"Import!S758","v":0},{"$f":"Import!T758","v":0},{"$f":"Import!U758","v":0},{"$f":"Import!V758","v":0},{"$f":"Import!W758","v":0},{"$f":"Import!X758","v":0},{"$f":"Import!Y758","v":0},{"$f":"Import!Z758","v":0},{"$f":"Import!AA758","v":0},{"$f":"Import!AB758","v":0},{"$f":"Import!AC758","v":0},{"$f":"Import!AD758","v":0},{"$f":"Import!AE758","v":0},{"$f":"Import!AF758","v":0},{"$f":"Import!AG758","v":0},{"$f":"Import!AH758","v":0},{"$f":"Import!AI758","v":0},{"$f":"Import!AJ758","v":0},{"$f":"Import!AK758","v":0},{"$f":"Import!AL758","v":0}]
[null,{"$f":"Import!A759","v":0},{"$f":"Import!B759","v":0},{"$f":"Import!H759","v":0},{"$f":"Import!I759","v":0},{"$f":"Import!J759","v":0},{"$f":"Import!K759","v":0},{"$f":"Import!L759","v":0},{"$f":"Import!M759","v":0},{"$f":"Import!N759","v":0},{"$f":"Import!O759","v":0},{"$f":"Import!P759","v":0},{"$f":"Import!Q759","v":0},{"$f":"Import!R759","v":0},{"$f":"Import!S759","v":0},{"$f":"Import!T759","v":0},{"$f":"Import!U759","v":0},{"$f":"Import!V759","v":0},{"$f":"Import!W759","v":0},{"$f":"Import!X759","v":0},{"$f":"Import!Y759","v":0},{"$f":"Import!Z759","v":0},{"$f":"Import!AA759","v":0},{"$f":"Import!AB759","v":0},{"$f":"Import!AC759","v":0},{"$f":"Import!AD759","v":0},{"$f":"Import!AE759","v":0},{"$f":"Import!AF759","v":0},{"$f":"Import!AG759","v":0},{"$f":"Import!AH759","v":0},{"$f":"Import!AI759","v":0},{"$f":"Import!AJ759","v":0},{"$f":"Import!AK759","v":0},{"$f":"Import!AL759","v":0}]
[null,{"$f":"Import!A760","v":0},{"$f":"Import!B760","v":0},{"$f":"Import!H760","v":0},{"$f":"Import!I760","v":0},{"$f":"Import!J760","v":0},{"$f":"Import!K760","v":0},{"$f":"Import!L760","v":0},{"$f":"Import!M760","v":0},{"$f":"Import!N760","v":0},{"$f":"Import!O760","v":0},{"$f":"Import!P760","v":0},{"$f":"Import!Q760","v":0},{"$f":"Import!R760","v":0},{"$f":"Import!S760","v":0},{"$f":"Import!T760","v":0},{"$f":"Import!U760","v":0},{"$f":"Import!V760","v":0},{"$f":"Import!W760","v":0},{"$f":"Import!X760","v":0},{"$f":"Import!Y760","v":0},{"$f":"Import!Z760","v":0},{"$f":"Import!AA760","v":0},{"$f":"Import!AB760","v":0},{"$f":"Import!AC760","v":0},{"$f":"Import!AD760","v":0},{"$f":"Import!AE760","v":0},{"$f":"Import!AF760","v":0},{"$f":"Import!AG760","v":0},{"$f":"Import!AH760","v":0},{"$f":"Import!AI760","v":0},{"$f":"Import!AJ760","v":0},{"$f":"Import!AK760","v":0},{"$f":"Import!AL760","v":0}]
[null,{"$f":"Import!A761","v":0},{"$f":"Import!B761","v":0},{"$f":"Import!H761","v":0},{"$f":"Import!I761","v":0},{"$f":"Import!J761","v":0},{"$f":"Import!K761","v":0},{"$f":"Import!L761","v":0},{"$f":"Import!M761","v":0},{"$f":"Import!N761","v":0},{"$f":"Import!O761","v":0},{"$f":"Import!P761","v":0},{"$f":"Import!Q761","v":0},{"$f":"Import!R761","v":0},{"$f":"Import!S761","v":0},{"$f":"Import!T761","v":0},{"$f":"Import!U761","v":0},{"$f":"Import!V761","v":0},{"$f":"Import!W761","v":0},{"$f":"Import!X761","v":0},{"$f":"Import!Y761","v":0},{"$f":"Import!Z761","v":0},{"$f":"Import!AA761","v":0},{"$f":"Import!AB761","v":0},{"$f":"Import!AC761","v":0},{"$f":"Import!AD761","v":0},{"$f":"Import!AE761","v":0},{"$f":"Import!AF761","v":0},{"$f":"Import!AG761","v":0},{"$f":"Import!AH761","v":0},{"$f":"Import!AI761","v":0},{"$f":"Import!AJ761","v":0},{"$f":"Import!AK761","v":0},{"$f":"Import!AL761","v":0}]
[null,{"$f":"Import!A762","v":0},{"$f":"Import!B762","v":0},{"$f":"Import!H762","v":0},{"$f":"Import!I762","v":0},{"$f":"Import!J762","v":0},{"$f":"Import!K762","v":0},{"$f":"Import!L762","v":0},{"$f":"Import!M762","v":0},{"$f":"Import!N762","v":0},{"$f":"Import!O762","v":0},{"$f":"Import!P762","v":0},{"$f":"Import!Q762","v":0},{"$f":"Import!R762","v":0},{"$f":"Import!S762","v":0},{"$f":"Import!T762","v":0},{"$f":"Import!U762","v":0},{"$f":"Import!V762","v":0},{"$f":"Import!W762","v":0},{"$f":"Import!X762","v":0},{"$f":"Import!Y762","v":0},{"$f":"Import!Z762","v":0},{"$f":"Import!AA762","v":0},{"$f":"Import!AB762","v":0},{"$f":"Import!AC762","v":0},{"$f":"Import!AD762","v":0},{"$f":"Import!AE762","v":0},{"$f":"Import!AF762","v":0},{"$f":"Import!AG762","v":0},{"$f":"Import!AH762","v":0},{"$f":"Import!AI762","v":0},{"$f":"Import!AJ762","v":0},{"$f":"Import!AK762","v":0},{"$f":"Import!AL762","v":0}]
[null,{"$f":"Import!A763","v":0},{"$f":"Import!B763","v":0},{"$f":"Import!H763","v":0},{"$f":"Import!I763","v":0},{"$f":"Import!J763","v":0},{"$f":"Import!K763","v":0},{"$f":"Import!L763","v":0},{"$f":"Import!M763","v":0},{"$f":"Import!N763","v":0},{"$f":"Import!O763","v":0},{"$f":"Import!P763","v":0},{"$f":"Import!Q763","v":0},{"$f":"Import!R763","v":0},{"$f":"Import!S763","v":0},{"$f":"Import!T763","v":0},{"$f":"Import!U763","v":0},{"$f":"Import!V763","v":0},{"$f":"Import!W763","v":0},{"$f":"Import!X763","v":0},{"$f":"Import!Y763","v":0},{"$f":"Import!Z763","v":0},{"$f":"Import!AA763","v":0},{"$f":"Import!AB763","v":0},{"$f":"Import!AC763","v":0},{"$f":"Import!AD763","v":0},{"$f":"Import!AE763","v":0},{"$f":"Import!AF763","v":0},{"$f":"Import!AG763","v":0},{"$f":"Import!AH763","v":0},{"$f":"Import!AI763","v":0},{"$f":"Import!AJ763","v":0},{"$f":"Import!AK763","v":0},{"$f":"Import!AL763","v":0}]
[null,{"$f":"Import!A764","v":0},{"$f":"Import!B764","v":0},{"$f":"Import!H764","v":0},{"$f":"Import!I764","v":0},{"$f":"Import!J764","v":0},{"$f":"Import!K764","v":0},{"$f":"Import!L764","v":0},{"$f":"Import!M764","v":0},{"$f":"Import!N764","v":0},{"$f":"Import!O764","v":0},{"$f":"Import!P764","v":0},{"$f":"Import!Q764","v":0},{"$f":"Import!R764","v":0},{"$f":"Import!S764","v":0},{"$f":"Import!T764","v":0},{"$f":"Import!U764","v":0},{"$f":"Import!V764","v":0},{"$f":"Import!W764","v":0},{"$f":"Import!X764","v":0},{"$f":"Import!Y764","v":0},{"$f":"Import!Z764","v":0},{"$f":"Import!AA764","v":0},{"$f":"Import!AB764","v":0},{"$f":"Import!AC764","v":0},{"$f":"Import!AD764","v":0},{"$f":"Import!AE764","v":0},{"$f":"Import!AF764","v":0},{"$f":"Import!AG764","v":0},{"$f":"Import!AH764","v":0},{"$f":"Import!AI764","v":0},{"$f":"Import!AJ764","v":0},{"$f":"Import!AK764","v":0},{"$f":"Import!AL764","v":0}]
[null,{"$f":"Import!A765","v":0},{"$f":"Import!B765","v":0},{"$f":"Import!H765","v":0},{"$f":"Import!I765","v":0},{"$f":"Import!J765","v":0},{"$f":"Import!K765","v":0},{"$f":"Import!L765","v":0},{"$f":"Import!M765","v":0},{"$f":"Import!N765","v":0},{"$f":"Import!O765","v":0},{"$f":"Import!P765","v":0},{"$f":"Import!Q765","v":0},{"$f":"Import!R765","v":0},{"$f":"Import!S765","v":0},{"$f":"Import!T765","v":0},{"$f":"Import!U765","v":0},{"$f":"Import!V765","v":0},{"$f":"Import!W765","v":0},{"$f":"Import!X765","v":0},{"$f":"Import!Y765","v":0},{"$f":"Import!Z765","v":0},{"$f":"Import!AA765","v":0},{"$f":"Import!AB765","v":0},{"$f":"Import!AC765","v":0},{"$f":"Import!AD765","v":0},{"$f":"Import!AE765","v":0},{"$f":"Import!AF765","v":0},{"$f":"Import!AG765","v":0},{"$f":"Import!AH765","v":0},{"$f":"Import!AI765","v":0},{"$f":"Import!AJ765","v":0},{"$f":"Import!AK765","v":0},{"$f":"Import!AL765","v":0}]
[null,{"$f":"Import!A766","v":0},{"$f":"Import!B766","v":0},{"$f":"Import!H766","v":0},{"$f":"Import!I766","v":0},{"$f":"Import!J766","v":0},{"$f":"Import!K766","v":0},{"$f":"Import!L766","v":0},{"$f":"Import!M766","v":0},{"$f":"Import!N766","v":0},{"$f":"Import!O766","v":0},{"$f":"Import!P766","v":0},{"$f":"Import!Q766","v":0},{"$f":"Import!R766","v":0},{"$f":"Import!S766","v":0},{"$f":"Import!T766","v":0},{"$f":"Import!U766","v":0},{"$f":"Import!V766","v":0},{"$f":"Import!W766","v":0},{"$f":"Import!X766","v":0},{"$f":"Import!Y766","v":0},{"$f":"Import!Z766","v":0},{"$f":"Import!AA766","v":0},{"$f":"Import!AB766","v":0},{"$f":"Import!AC766","v":0},{"$f":"Import!AD766","v":0},{"$f":"Import!AE766","v":0},{"$f":"Import!AF766","v":0},{"$f":"Import!AG766","v":0},{"$f":"Import!AH766","v":0},{"$f":"Import!AI766","v":0},{"$f":"Import!AJ766","v":0},{"$f":"Import!AK766","v":0},{"$f":"Import!AL766","v":0}]
[null,{"$f":"Import!A767","v":0},{"$f":"Import!B767","v":0},{"$f":"Import!H767","v":0},{"$f":"Import!I767","v":0},{"$f":"Import!J767","v":0},{"$f":"Import!K767","v":0},{"$f":"Import!L767","v":0},{"$f":"Import!M767","v":0},{"$f":"Import!N767","v":0},{"$f":"Import!O767","v":0},{"$f":"Import!P767","v":0},{"$f":"Import!Q767","v":0},{"$f":"Import!R767","v":0},{"$f":"Import!S767","v":0},{"$f":"Import!T767","v":0},{"$f":"Import!U767","v":0},{"$f":"Import!V767","v":0},{"$f":"Import!W767","v":0},{"$f":"Import!X767","v":0},{"$f":"Import!Y767","v":0},{"$f":"Import!Z767","v":0},{"$f":"Import!AA767","v":0},{"$f":"Import!AB767","v":0},{"$f":"Import!AC767","v":0},{"$f":"Import!AD767","v":0},{"$f":"Import!AE767","v":0},{"$f":"Import!AF767","v":0},{"$f":"Import!AG767","v":0},{"$f":"Import!AH767","v":0},{"$f":"Import!AI767","v":0},{"$f":"Import!AJ767","v":0},{"$f":"Import!AK767","v":0},{"$f":"Import!AL767","v":0}]
[null,{"$f":"Import!A768","v":0},{"$f":"Import!B768","v":0},{"$f":"Import!H768","v":0},{"$f":"Import!I768","v":0},{"$f":"Import!J768","v":0},{"$f":"Import!K768","v":0},{"$f":"Import!L768","v":0},{"$f":"Import!M768","v":0},{"$f":"Import!N768","v":0},{"$f":"Import!O768","v":0},{"$f":"Import!P768","v":0},{"$f":"Import!Q768","v":0},{"$f":"Import!R768","v":0},{"$f":"Import!S768","v":0},{"$f":"Import!T768","v":0},{"$f":"Import!U768","v":0},{"$f":"Import!V768","v":0},{"$f":"Import!W768","v":0},{"$f":"Import!X768","v":0},{"$f":"Import!Y768","v":0},{"$f":"Import!Z768","v":0},{"$f":"Import!AA768","v":0},{"$f":"Import!AB768","v":0},{"$f":"Import!AC768","v":0},{"$f":"Import!AD768","v":0},{"$f":"Import!AE768","v":0},{"$f":"Import!AF768","v":0},{"$f":"Import!AG768","v":0},{"$f":"Import!AH768","v":0},{"$f":"Import!AI768","v":0},{"$f":"Import!AJ768","v":0},{"$f":"Import!AK768","v":0},{"$f":"Import!AL768","v":0}]
[null,{"$f":"Import!A769","v":0},{"$f":"Import!B769","v":0},{"$f":"Import!H769","v":0},{"$f":"Import!I769","v":0},{"$f":"Import!J769","v":0},{"$f":"Import!K769","v":0},{"$f":"Import!L769","v":0},{"$f":"Import!M769","v":0},{"$f":"Import!N769","v":0},{"$f":"Import!O769","v":0},{"$f":"Import!P769","v":0},{"$f":"Import!Q769","v":0},{"$f":"Import!R769","v":0},{"$f":"Import!S769","v":0},{"$f":"Import!T769","v":0},{"$f":"Import!U769","v":0},{"$f":"Import!V769","v":0},{"$f":"Import!W769","v":0},{"$f":"Import!X769","v":0},{"$f":"Import!Y769","v":0},{"$f":"Import!Z769","v":0},{"$f":"Import!AA769","v":0},{"$f":"Import!AB769","v":0},{"$f":"Import!AC769","v":0},{"$f":"Import!AD769","v":0},{"$f":"Import!AE769","v":0},{"$f":"Import!AF769","v":0},{"$f":"Import!AG769","v":0},{"$f":"Import!AH769","v":0},{"$f":"Import!AI769","v":0},{"$f":"Import!AJ769","v":0},{"$f":"Import!AK769","v":0},{"$f":"Import!AL769","v":0}]
[null,{"$f":"Import!A770","v":0},{"$f":"Import!B770","v":0},{"$f":"Import!H770","v":0},{"$f":"Import!I770","v":0},{"$f":"Import!J770","v":0},{"$f":"Import!K770","v":0},{"$f":"Import!L770","v":0},{"$f":"Import!M770","v":0},{"$f":"Import!N770","v":0},{"$f":"Import!O770","v":0},{"$f":"Import!P770","v":0},{"$f":"Import!Q770","v":0},{"$f":"Import!R770","v":0},{"$f":"Import!S770","v":0},{"$f":"Import!T770","v":0},{"$f":"Import!U770","v":0},{"$f":"Import!V770","v":0},{"$f":"Import!W770","v":0},{"$f":"Import!X770","v":0},{"$f":"Import!Y770","v":0},{"$f":"Import!Z770","v":0},{"$f":"Import!AA770","v":0},{"$f":"Import!AB770","v":0},{"$f":"Import!AC770","v":0},{"$f":"Import!AD770","v":0},{"$f":"Import!AE770","v":0},{"$f":"Import!AF770","v":0},{"$f":"Import!AG770","v":0},{"$f":"Import!AH770","v":0},{"$f":"Import!AI770","v":0},{"$f":"Import!AJ770","v":0},{"$f":"Import!AK770","v":0},{"$f":"Import!AL770","v":0}]
[null,{"$f":"Import!A771","v":0},{"$f":"Import!B771","v":0},{"$f":"Import!H771","v":0},{"$f":"Import!I771","v":0},{"$f":"Import!J771","v":0},{"$f":"Import!K771","v":0},{"$f":"Import!L771","v":0},{"$f":"Import!M771","v":0},{"$f":"Import!N771","v":0},{"$f":"Import!O771","v":0},{"$f":"Import!P771","v":0},{"$f":"Import!Q771","v":0},{"$f":"Import!R771","v":0},{"$f":"Import!S771","v":0},{"$f":"Import!T771","v":0},{"$f":"Import!U771","v":0},{"$f":"Import!V771","v":0},{"$f":"Import!W771","v":0},{"$f":"Import!X771","v":0},{"$f":"Import!Y771","v":0},{"$f":"Import!Z771","v":0},{"$f":"Import!AA771","v":0},{"$f":"Import!AB771","v":0},{"$f":"Import!AC771","v":0},{"$f":"Import!AD771","v":0},{"$f":"Import!AE771","v":0},{"$f":"Import!AF771","v":0},{"$f":"Import!AG771","v":0},{"$f":"Import!AH771","v":0},{"$f":"Import!AI771","v":0},{"$f":"Import!AJ771","v":0},{"$f":"Import!AK771","v":0},{"$f":"Import!AL771","v":0}]
[null,{"$f":"Import!A772","v":0},{"$f":"Import!B772","v":0},{"$f":"Import!H772","v":0},{"$f":"Import!I772","v":0},{"$f":"Import!J772","v":0},{"$f":"Import!K772","v":0},{"$f":"Import!L772","v":0},{"$f":"Import!M772","v":0},{"$f":"Import!N772","v":0},{"$f":"Import!O772","v":0},{"$f":"Import!P772","v":0},{"$f":"Import!Q772","v":0},{"$f":"Import!R772","v":0},{"$f":"Import!S772","v":0},{"$f":"Import!T772","v":0},{"$f":"Import!U772","v":0},{"$f":"Import!V772","v":0},{"$f":"Import!W772","v":0},{"$f":"Import!X772","v":0},{"$f":"Import!Y772","v":0},{"$f":"Import!Z772","v":0},{"$f":"Import!AA772","v":0},{"$f":"Import!AB772","v":0},{"$f":"Import!AC772","v":0},{"$f":"Import!AD772","v":0},{"$f":"Import!AE772","v":0},{"$f":"Import!AF772","v":0},{"$f":"Import!AG772","v":0},{"$f":"Import!AH772","v":0},{"$f":"Import!AI772","v":0},{"$f":"Import!AJ772","v":0},{"$f":"Import!AK772","v":0},{"$f":"Import!AL772","v":0}]
[null,{"$f":"Import!A773","v":0},{"$f":"Import!B773","v":0},{"$f":"Import!H773","v":0},{"$f":"Import!I773","v":0},{"$f":"Import!J773","v":0},{"$f":"Import!K773","v":0},{"$f":"Import!L773","v":0},{"$f":"Import!M773","v":0},{"$f":"Import!N773","v":0},{"$f":"Import!O773","v":0},{"$f":"Import!P773","v":0},{"$f":"Import!Q773","v":0},{"$f":"Import!R773","v":0},{"$f":"Import!S773","v":0},{"$f":"Import!T773","v":0},{"$f":"Import!U773","v":0},{"$f":"Import!V773","v":0},{"$f":"Import!W773","v":0},{"$f":"Import!X773","v":0},{"$f":"Import!Y773","v":0},{"$f":"Import!Z773","v":0},{"$f":"Import!AA773","v":0},{"$f":"Import!AB773","v":0},{"$f":"Import!AC773","v":0},{"$f":"Import!AD773","v":0},{"$f":"Import!AE773","v":0},{"$f":"Import!AF773","v":0},{"$f":"Import!AG773","v":0},{"$f":"Import!AH773","v":0},{"$f":"Import!AI773","v":0},{"$f":"Import!AJ773","v":0},{"$f":"Import!AK773","v":0},{"$f":"Import!AL773","v":0}]
[null,{"$f":"Import!A774","v":0},{"$f":"Import!B774","v":0},{"$f":"Import!H774","v":0},{"$f":"Import!I774","v":0},{"$f":"Import!J774","v":0},{"$f":"Import!K774","v":0},{"$f":"Import!L774","v":0},{"$f":"Import!M774","v":0},{"$f":"Import!N774","v":0},{"$f":"Import!O774","v":0},{"$f":"Import!P774","v":0},{"$f":"Import!Q774","v":0},{"$f":"Import!R774","v":0},{"$f":"Import!S774","v":0},{"$f":"Import!T774","v":0},{"$f":"Import!U774","v":0},{"$f":"Import!V774","v":0},{"$f":"Import!W774","v":0},{"$f":"Import!X774","v":0},{"$f":"Import!Y774","v":0},{"$f":"Import!Z774","v":0},{"$f":"Import!AA774","v":0},{"$f":"Import!AB774","v":0},{"$f":"Import!AC774","v":0},{"$f":"Import!AD774","v":0},{"$f":"Import!AE774","v":0},{"$f":"Import!AF774","v":0},{"$f":"Import!AG774","v":0},{"$f":"Import!AH774","v":0},{"$f":"Import!AI774","v":0},{"$f":"Import!AJ774","v":0},{"$f":"Import!AK774","v":0},{"$f":"Import!AL774","v":0}]
[null,{"$f":"Import!A775","v":0},{"$f":"Import!B775","v":0},{"$f":"Import!H775","v":0},{"$f":"Import!I775","v":0},{"$f":"Import!J775","v":0},{"$f":"Import!K775","v":0},{"$f":"Import!L775","v":0},{"$f":"Import!M775","v":0},{"$f":"Import!N775","v":0},{"$f":"Import!O775","v":0},{"$f":"Import!P775","v":0},{"$f":"Import!Q775","v":0},{"$f":"Import!R775","v":0},{"$f":"Import!S775","v":0},{"$f":"Import!T775","v":0},{"$f":"Import!U775","v":0},{"$f":"Import!V775","v":0},{"$f":"Import!W775","v":0},{"$f":"Import!X775","v":0},{"$f":"Import!Y775","v":0},{"$f":"Import!Z775","v":0},{"$f":"Import!AA775","v":0},{"$f":"Import!AB775","v":0},{"$f":"Import!AC775","v":0},{"$f":"Import!AD775","v":0},{"$f":"Import!AE775","v":0},{"$f":"Import!AF775","v":0},{"$f":"Import!AG775","v":0},{"$f":"Import!AH775","v":0},{"$f":"Import!AI775","v":0},{"$f":"Import!AJ775","v":0},{"$f":"Import!AK775","v":0},{"$f":"Import!AL775","v":0}]
[null,{"$f":"Import!A776","v":0},{"$f":"Import!B776","v":0},{"$f":"Import!H776","v":0},{"$f":"Import!I776","v":0},{"$f":"Import!J776","v":0},{"$f":"Import!K776","v":0},{"$f":"Import!L776","v":0},{"$f":"Import!M776","v":0},{"$f":"Import!N776","v":0},{"$f":"Import!O776","v":0},{"$f":"Import!P776","v":0},{"$f":"Import!Q776","v":0},{"$f":"Import!R776","v":0},{"$f":"Import!S776","v":0},{"$f":"Import!T776","v":0},{"$f":"Import!U776","v":0},{"$f":"Import!V776","v":0},{"$f":"Import!W776","v":0},{"$f":"Import!X776","v":0},{"$f":"Import!Y776","v":0},{"$f":"Import!Z776","v":0},{"$f":"Import!AA776","v":0},{"$f":"Import!AB776","v":0},{"$f":"Import!AC776","v":0},{"$f":"Import!AD776","v":0},{"$f":"Import!AE776","v":0},{"$f":"Import!AF776","v":0},{"$f":"Import!AG776","v":0},{"$f":"Import!AH776","v":0},{"$f":"Import!AI776","v":0},{"$f":"Import!AJ776","v":0},{"$f":"Import!AK776","v":0},{"$f":"Import!AL776","v":0}]
[null,{"$f":"Import!A777","v":0},{"$f":"Import!B777","v":0},{"$f":"Import!H777","v":0},{"$f":"Import!I777","v":0},{"$f":"Import!J777","v":0},{"$f":"Import!K777","v":0},{"$f":"Import!L777","v":0},{"$f":"Import!M777","v":0},{"$f":"Import!N777","v":0},{"$f":"Import!O777","v":0},{"$f":"Import!P777","v":0},{"$f":"Import!Q777","v":0},{"$f":"Import!R777","v":0},{"$f":"Import!S777","v":0},{"$f":"Import!T777","v":0},{"$f":"Import!U777","v":0},{"$f":"Import!V777","v":0},{"$f":"Import!W777","v":0},{"$f":"Import!X777","v":0},{"$f":"Import!Y777","v":0},{"$f":"Import!Z777","v":0},{"$f":"Import!AA777","v":0},{"$f":"Import!AB777","v":0},{"$f":"Import!AC777","v":0},{"$f":"Import!AD777","v":0},{"$f":"Import!AE777","v":0},{"$f":"Import!AF777","v":0},{"$f":"Import!AG777","v":0},{"$f":"Import!AH777","v":0},{"$f":"Import!AI777","v":0},{"$f":"Import!AJ777","v":0},{"$f":"Import!AK777","v":0},{"$f":"Import!AL777","v":0}]
[null,{"$f":"Import!A778","v":0},{"$f":"Import!B778","v":0},{"$f":"Import!H778","v":0},{"$f":"Import!I778","v":0},{"$f":"Import!J778","v":0},{"$f":"Import!K778","v":0},{"$f":"Import!L778","v":0},{"$f":"Import!M778","v":0},{"$f":"Import!N778","v":0},{"$f":"Import!O778","v":0},{"$f":"Import!P778","v":0},{"$f":"Import!Q778","v":0},{"$f":"Import!R778","v":0},{"$f":"Import!S778","v":0},{"$f":"Import!T778","v":0},{"$f":"Import!U778","v":0},{"$f":"Import!V778","v":0},{"$f":"Import!W778","v":0},{"$f":"Import!X778","v":0},{"$f":"Import!Y778","v":0},{"$f":"Import!Z778","v":0},{"$f":"Import!AA778","v":0},{"$f":"Import!AB778","v":0},{"$f":"Import!AC778","v":0},{"$f":"Import!AD778","v":0},{"$f":"Import!AE778","v":0},{"$f":"Import!AF778","v":0},{"$f":"Import!AG778","v":0},{"$f":"Import!AH778","v":0},{"$f":"Import!AI778","v":0},{"$f":"Import!AJ778","v":0},{"$f":"Import!AK778","v":0},{"$f":"Import!AL778","v":0}]
[null,{"$f":"Import!A779","v":0},{"$f":"Import!B779","v":0},{"$f":"Import!H779","v":0},{"$f":"Import!I779","v":0},{"$f":"Import!J779","v":0},{"$f":"Import!K779","v":0},{"$f":"Import!L779","v":0},{"$f":"Import!M779","v":0},{"$f":"Import!N779","v":0},{"$f":"Import!O779","v":0},{"$f":"Import!P779","v":0},{"$f":"Import!Q779","v":0},{"$f":"Import!R779","v":0},{"$f":"Import!S779","v":0},{"$f":"Import!T779","v":0},{"$f":"Import!U779","v":0},{"$f":"Import!V779","v":0},{"$f":"Import!W779","v":0},{"$f":"Import!X779","v":0},{"$f":"Import!Y779","v":0},{"$f":"Import!Z779","v":0},{"$f":"Import!AA779","v":0},{"$f":"Import!AB779","v":0},{"$f":"Import!AC779","v":0},{"$f":"Import!AD779","v":0},{"$f":"Import!AE779","v":0},{"$f":"Import!AF779","v":0},{"$f":"Import!AG779","v":0},{"$f":"Import!AH779","v":0},{"$f":"Import!AI779","v":0},{"$f":"Import!AJ779","v":0},{"$f":"Import!AK779","v":0},{"$f":"Import!AL779","v":0}]
[null,{"$f":"Import!A780","v":0},{"$f":"Import!B780","v":0},{"$f":"Import!H780","v":0},{"$f":"Import!I780","v":0},{"$f":"Import!J780","v":0},{"$f":"Import!K780","v":0},{"$f":"Import!L780","v":0},{"$f":"Import!M780","v":0},{"$f":"Import!N780","v":0},{"$f":"Import!O780","v":0},{"$f":"Import!P780","v":0},{"$f":"Import!Q780","v":0},{"$f":"Import!R780","v":0},{"$f":"Import!S780","v":0},{"$f":"Import!T780","v":0},{"$f":"Import!U780","v":0},{"$f":"Import!V780","v":0},{"$f":"Import!W780","v":0},{"$f":"Import!X780","v":0},{"$f":"Import!Y780","v":0},{"$f":"Import!Z780","v":0},{"$f":"Import!AA780","v":0},{"$f":"Import!AB780","v":0},{"$f":"Import!AC780","v":0},{"$f":"Import!AD780","v":0},{"$f":"Import!AE780","v":0},{"$f":"Import!AF780","v":0},{"$f":"Import!AG780","v":0},{"$f":"Import!AH780","v":0},{"$f":"Import!AI780","v":0},{"$f":"Import!AJ780","v":0},{"$f":"Import!AK780","v":0},{"$f":"Import!AL780","v":0}]
[null,{"$f":"Import!A781","v":0},{"$f":"Import!B781","v":0},{"$f":"Import!H781","v":0},{"$f":"Import!I781","v":0},{"$f":"Import!J781","v":0},{"$f":"Import!K781","v":0},{"$f":"Import!L781","v":0},{"$f":"Import!M781","v":0},{"$f":"Import!N781","v":0},{"$f":"Import!O781","v":0},{"$f":"Import!P781","v":0},{"$f":"Import!Q781","v":0},{"$f":"Import!R781","v":0},{"$f":"Import!S781","v":0},{"$f":"Import!T781","v":0},{"$f":"Import!U781","v":0},{"$f":"Import!V781","v":0},{"$f":"Import!W781","v":0},{"$f":"Import!X781","v":0},{"$f":"Import!Y781","v":0},{"$f":"Import!Z781","v":0},{"$f":"Import!AA781","v":0},{"$f":"Import!AB781","v":0},{"$f":"Import!AC781","v":0},{"$f":"Import!AD781","v":0},{"$f":"Import!AE781","v":0},{"$f":"Import!AF781","v":0},{"$f":"Import!AG781","v":0},{"$f":"Import!AH781","v":0},{"$f":"Import!AI781","v":0},{"$f":"Import!AJ781","v":0},{"$f":"Import!AK781","v":0},{"$f":"Import!AL781","v":0}]
[null,{"$f":"Import!A782","v":0},{"$f":"Import!B782","v":0},{"$f":"Import!H782","v":0},{"$f":"Import!I782","v":0},{"$f":"Import!J782","v":0},{"$f":"Import!K782","v":0},{"$f":"Import!L782","v":0},{"$f":"Import!M782","v":0},{"$f":"Import!N782","v":0},{"$f":"Import!O782","v":0},{"$f":"Import!P782","v":0},{"$f":"Import!Q782","v":0},{"$f":"Import!R782","v":0},{"$f":"Import!S782","v":0},{"$f":"Import!T782","v":0},{"$f":"Import!U782","v":0},{"$f":"Import!V782","v":0},{"$f":"Import!W782","v":0},{"$f":"Import!X782","v":0},{"$f":"Import!Y782","v":0},{"$f":"Import!Z782","v":0},{"$f":"Import!AA782","v":0},{"$f":"Import!AB782","v":0},{"$f":"Import!AC782","v":0},{"$f":"Import!AD782","v":0},{"$f":"Import!AE782","v":0},{"$f":"Import!AF782","v":0},{"$f":"Import!AG782","v":0},{"$f":"Import!AH782","v":0},{"$f":"Import!AI782","v":0},{"$f":"Import!AJ782","v":0},{"$f":"Import!AK782","v":0},{"$f":"Import!AL782","v":0}]
[null,{"$f":"Import!A783","v":0},{"$f":"Import!B783","v":0},{"$f":"Import!H783","v":0},{"$f":"Import!I783","v":0},{"$f":"Import!J783","v":0},{"$f":"Import!K783","v":0},{"$f":"Import!L783","v":0},{"$f":"Import!M783","v":0},{"$f":"Import!N783","v":0},{"$f":"Import!O783","v":0},{"$f":"Import!P783","v":0},{"$f":"Import!Q783","v":0},{"$f":"Import!R783","v":0},{"$f":"Import!S783","v":0},{"$f":"Import!T783","v":0},{"$f":"Import!U783","v":0},{"$f":"Import!V783","v":0},{"$f":"Import!W783","v":0},{"$f":"Import!X783","v":0},{"$f":"Import!Y783","v":0},{"$f":"Import!Z783","v":0},{"$f":"Import!AA783","v":0},{"$f":"Import!AB783","v":0},{"$f":"Import!AC783","v":0},{"$f":"Import!AD783","v":0},{"$f":"Import!AE783","v":0},{"$f":"Import!AF783","v":0},{"$f":"Import!AG783","v":0},{"$f":"Import!AH783","v":0},{"$f":"Import!AI783","v":0},{"$f":"Import!AJ783","v":0},{"$f":"Import!AK783","v":0},{"$f":"Import!AL783","v":0}]
[null,{"$f":"Import!A784","v":0},{"$f":"Import!B784","v":0},{"$f":"Import!H784","v":0},{"$f":"Import!I784","v":0},{"$f":"Import!J784","v":0},{"$f":"Import!K784","v":0},{"$f":"Import!L784","v":0},{"$f":"Import!M784","v":0},{"$f":"Import!N784","v":0},{"$f":"Import!O784","v":0},{"$f":"Import!P784","v":0},{"$f":"Import!Q784","v":0},{"$f":"Import!R784","v":0},{"$f":"Import!S784","v":0},{"$f":"Import!T784","v":0},{"$f":"Import!U784","v":0},{"$f":"Import!V784","v":0},{"$f":"Import!W784","v":0},{"$f":"Import!X784","v":0},{"$f":"Import!Y784","v":0},{"$f":"Import!Z784","v":0},{"$f":"Import!AA784","v":0},{"$f":"Import!AB784","v":0},{"$f":"Import!AC784","v":0},{"$f":"Import!AD784","v":0},{"$f":"Import!AE784","v":0},{"$f":"Import!AF784","v":0},{"$f":"Import!AG784","v":0},{"$f":"Import!AH784","v":0},{"$f":"Import!AI784","v":0},{"$f":"Import!AJ784","v":0},{"$f":"Import!AK784","v":0},{"$f":"Import!AL784","v":0}]
[null,{"$f":"Import!A785","v":0},{"$f":"Import!B785","v":0},{"$f":"Import!H785","v":0},{"$f":"Import!I785","v":0},{"$f":"Import!J785","v":0},{"$f":"Import!K785","v":0},{"$f":"Import!L785","v":0},{"$f":"Import!M785","v":0},{"$f":"Import!N785","v":0},{"$f":"Import!O785","v":0},{"$f":"Import!P785","v":0},{"$f":"Import!Q785","v":0},{"$f":"Import!R785","v":0},{"$f":"Import!S785","v":0},{"$f":"Import!T785","v":0},{"$f":"Import!U785","v":0},{"$f":"Import!V785","v":0},{"$f":"Import!W785","v":0},{"$f":"Import!X785","v":0},{"$f":"Import!Y785","v":0},{"$f":"Import!Z785","v":0},{"$f":"Import!AA785","v":0},{"$f":"Import!AB785","v":0},{"$f":"Import!AC785","v":0},{"$f":"Import!AD785","v":0},{"$f":"Import!AE785","v":0},{"$f":"Import!AF785","v":0},{"$f":"Import!AG785","v":0},{"$f":"Import!AH785","v":0},{"$f":"Import!AI785","v":0},{"$f":"Import!AJ785","v":0},{"$f":"Import!AK785","v":0},{"$f":"Import!AL785","v":0}]
[null,{"$f":"Import!A786","v":0},{"$f":"Import!B786","v":0},{"$f":"Import!H786","v":0},{"$f":"Import!I786","v":0},{"$f":"Import!J786","v":0},{"$f":"Import!K786","v":0},{"$f":"Import!L786","v":0},{"$f":"Import!M786","v":0},{"$f":"Import!N786","v":0},{"$f":"Import!O786","v":0},{"$f":"Import!P786","v":0},{"$f":"Import!Q786","v":0},{"$f":"Import!R786","v":0},{"$f":"Import!S786","v":0},{"$f":"Import!T786","v":0},{"$f":"Import!U786","v":0},{"$f":"Import!V786","v":0},{"$f":"Import!W786","v":0},{"$f":"Import!X786","v":0},{"$f":"Import!Y786","v":0},{"$f":"Import!Z786","v":0},{"$f":"Import!AA786","v":0},{"$f":"Import!AB786","v":0},{"$f":"Import!AC786","v":0},{"$f":"Import!AD786","v":0},{"$f":"Import!AE786","v":0},{"$f":"Import!AF786","v":0},{"$f":"Import!AG786","v":0},{"$f":"Import!AH786","v":0},{"$f":"Import!AI786","v":0},{"$f":"Import!AJ786","v":0},{"$f":"Import!AK786","v":0},{"$f":"Import!AL786","v":0}]
[null,{"$f":"Import!A787","v":0},{"$f":"Import!B787","v":0},{"$f":"Import!H787","v":0},{"$f":"Import!I787","v":0},{"$f":"Import!J787","v":0},{"$f":"Import!K787","v":0},{"$f":"Import!L787","v":0},{"$f":"Import!M787","v":0},{"$f":"Import!N787","v":0},{"$f":"Import!O787","v":0},{"$f":"Import!P787","v":0},{"$f":"Import!Q787","v":0},{"$f":"Import!R787","v":0},{"$f":"Import!S787","v":0},{"$f":"Import!T787","v":0},{"$f":"Import!U787","v":0},{"$f":"Import!V787","v":0},{"$f":"Import!W787","v":0},{"$f":"Import!X787","v":0},{"$f":"Import!Y787","v":0},{"$f":"Import!Z787","v":0},{"$f":"Import!AA787","v":0},{"$f":"Import!AB787","v":0},{"$f":"Import!AC787","v":0},{"$f":"Import!AD787","v":0},{"$f":"Import!AE787","v":0},{"$f":"Import!AF787","v":0},{"$f":"Import!AG787","v":0},{"$f":"Import!AH787","v":0},{"$f":"Import!AI787","v":0},{"$f":"Import!AJ787","v":0},{"$f":"Import!AK787","v":0},{"$f":"Import!AL787","v":0}]
[null,{"$f":"Import!A788","v":0},{"$f":"Import!B788","v":0},{"$f":"Import!H788","v":0},{"$f":"Import!I788","v":0},{"$f":"Import!J788","v":0},{"$f":"Import!K788","v":0},{"$f":"Import!L788","v":0},{"$f":"Import!M788","v":0},{"$f":"Import!N788","v":0},{"$f":"Import!O788","v":0},{"$f":"Import!P788","v":0},{"$f":"Import!Q788","v":0},{"$f":"Import!R788","v":0},{"$f":"Import!S788","v":0},{"$f":"Import!T788","v":0},{"$f":"Import!U788","v":0},{"$f":"Import!V788","v":0},{"$f":"Import!W788","v":0},{"$f":"Import!X788","v":0},{"$f":"Import!Y788","v":0},{"$f":"Import!Z788","v":0},{"$f":"Import!AA788","v":0},{"$f":"Import!AB788","v":0},{"$f":"Import!AC788","v":0},{"$f":"Import!AD788","v":0},{"$f":"Import!AE788","v":0},{"$f":"Import!AF788","v":0},{"$f":"Import!AG788","v":0},{"$f":"Import!AH788","v":0},{"$f":"Import!AI788","v":0},{"$f":"Import!AJ788","v":0},{"$f":"Import!AK788","v":0},{"$f":"Import!AL788","v":0}]
[null,{"$f":"Import!A789","v":0},{"$f":"Import!B789","v":0},{"$f":"Import!H789","v":0},{"$f":"Import!I789","v":0},{"$f":"Import!J789","v":0},{"$f":"Import!K789","v":0},{"$f":"Import!L789","v":0},{"$f":"Import!M789","v":0},{"$f":"Import!N789","v":0},{"$f":"Import!O789","v":0},{"$f":"Import!P789","v":0},{"$f":"Import!Q789","v":0},{"$f":"Import!R789","v":0},{"$f":"Import!S789","v":0},{"$f":"Import!T789","v":0},{"$f":"Import!U789","v":0},{"$f":"Import!V789","v":0},{"$f":"Import!W789","v":0},{"$f":"Import!X789","v":0},{"$f":"Import!Y789","v":0},{"$f":"Import!Z789","v":0},{"$f":"Import!AA789","v":0},{"$f":"Import!AB789","v":0},{"$f":"Import!AC789","v":0},{"$f":"Import!AD789","v":0},{"$f":"Import!AE789","v":0},{"$f":"Import!AF789","v":0},{"$f":"Import!AG789","v":0},{"$f":"Import!AH789","v":0},{"$f":"Import!AI789","v":0},{"$f":"Import!AJ789","v":0},{"$f":"Import!AK789","v":0},{"$f":"Import!AL789","v":0}]
[null,{"$f":"Import!A790","v":0},{"$f":"Import!B790","v":0},{"$f":"Import!H790","v":0},{"$f":"Import!I790","v":0},{"$f":"Import!J790","v":0},{"$f":"Import!K790","v":0},{"$f":"Import!L790","v":0},{"$f":"Import!M790","v":0},{"$f":"Import!N790","v":0},{"$f":"Import!O790","v":0},{"$f":"Import!P790","v":0},{"$f":"Import!Q790","v":0},{"$f":"Import!R790","v":0},{"$f":"Import!S790","v":0},{"$f":"Import!T790","v":0},{"$f":"Import!U790","v":0},{"$f":"Import!V790","v":0},{"$f":"Import!W790","v":0},{"$f":"Import!X790","v":0},{"$f":"Import!Y790","v":0},{"$f":"Import!Z790","v":0},{"$f":"Import!AA790","v":0},{"$f":"Import!AB790","v":0},{"$f":"Import!AC790","v":0},{"$f":"Import!AD790","v":0},{"$f":"Import!AE790","v":0},{"$f":"Import!AF790","v":0},{"$f":"Import!AG790","v":0},{"$f":"Import!AH790","v":0},{"$f":"Import!AI790","v":0},{"$f":"Import!AJ790","v":0},{"$f":"Import!AK790","v":0},{"$f":"Import!AL790","v":0}]
[null,{"$f":"Import!A791","v":0},{"$f":"Import!B791","v":0},{"$f":"Import!H791","v":0},{"$f":"Import!I791","v":0},{"$f":"Import!J791","v":0},{"$f":"Import!K791","v":0},{"$f":"Import!L791","v":0},{"$f":"Import!M791","v":0},{"$f":"Import!N791","v":0},{"$f":"Import!O791","v":0},{"$f":"Import!P791","v":0},{"$f":"Import!Q791","v":0},{"$f":"Import!R791","v":0},{"$f":"Import!S791","v":0},{"$f":"Import!T791","v":0},{"$f":"Import!U791","v":0},{"$f":"Import!V791","v":0},{"$f":"Import!W791","v":0},{"$f":"Import!X791","v":0},{"$f":"Import!Y791","v":0},{"$f":"Import!Z791","v":0},{"$f":"Import!AA791","v":0},{"$f":"Import!AB791","v":0},{"$f":"Import!AC791","v":0},{"$f":"Import!AD791","v":0},{"$f":"Import!AE791","v":0},{"$f":"Import!AF791","v":0},{"$f":"Import!AG791","v":0},{"$f":"Import!AH791","v":0},{"$f":"Import!AI791","v":0},{"$f":"Import!AJ791","v":0},{"$f":"Import!AK791","v":0},{"$f":"Import!AL791","v":0}]
[null,{"$f":"Import!A792","v":0},{"$f":"Import!B792","v":0},{"$f":"Import!H792","v":0},{"$f":"Import!I792","v":0},{"$f":"Import!J792","v":0},{"$f":"Import!K792","v":0},{"$f":"Import!L792","v":0},{"$f":"Import!M792","v":0},{"$f":"Import!N792","v":0},{"$f":"Import!O792","v":0},{"$f":"Import!P792","v":0},{"$f":"Import!Q792","v":0},{"$f":"Import!R792","v":0},{"$f":"Import!S792","v":0},{"$f":"Import!T792","v":0},{"$f":"Import!U792","v":0},{"$f":"Import!V792","v":0},{"$f":"Import!W792","v":0},{"$f":"Import!X792","v":0},{"$f":"Import!Y792","v":0},{"$f":"Import!Z792","v":0},{"$f":"Import!AA792","v":0},{"$f":"Import!AB792","v":0},{"$f":"Import!AC792","v":0},{"$f":"Import!AD792","v":0},{"$f":"Import!AE792","v":0},{"$f":"Import!AF792","v":0},{"$f":"Import!AG792","v":0},{"$f":"Import!AH792","v":0},{"$f":"Import!AI792","v":0},{"$f":"Import!AJ792","v":0},{"$f":"Import!AK792","v":0},{"$f":"Import!AL792","v":0}]
[null,{"$f":"Import!A793","v":0},{"$f":"Import!B793","v":0},{"$f":"Import!H793","v":0},{"$f":"Import!I793","v":0},{"$f":"Import!J793","v":0},{"$f":"Import!K793","v":0},{"$f":"Import!L793","v":0},{"$f":"Import!M793","v":0},{"$f":"Import!N793","v":0},{"$f":"Import!O793","v":0},{"$f":"Import!P793","v":0},{"$f":"Import!Q793","v":0},{"$f":"Import!R793","v":0},{"$f":"Import!S793","v":0},{"$f":"Import!T793","v":0},{"$f":"Import!U793","v":0},{"$f":"Import!V793","v":0},{"$f":"Import!W793","v":0},{"$f":"Import!X793","v":0},{"$f":"Import!Y793","v":0},{"$f":"Import!Z793","v":0},{"$f":"Import!AA793","v":0},{"$f":"Import!AB793","v":0},{"$f":"Import!AC793","v":0},{"$f":"Import!AD793","v":0},{"$f":"Import!AE793","v":0},{"$f":"Import!AF793","v":0},{"$f":"Import!AG793","v":0},{"$f":"Import!AH793","v":0},{"$f":"Import!AI793","v":0},{"$f":"Import!AJ793","v":0},{"$f":"Import!AK793","v":0},{"$f":"Import!AL793","v":0}]
[null,{"$f":"Import!A794","v":0},{"$f":"Import!B794","v":0},{"$f":"Import!H794","v":0},{"$f":"Import!I794","v":0},{"$f":"Import!J794","v":0},{"$f":"Import!K794","v":0},{"$f":"Import!L794","v":0},{"$f":"Import!M794","v":0},{"$f":"Import!N794","v":0},{"$f":"Import!O794","v":0},{"$f":"Import!P794","v":0},{"$f":"Import!Q794","v":0},{"$f":"Import!R794","v":0},{"$f":"Import!S794","v":0},{"$f":"Import!T794","v":0},{"$f":"Import!U794","v":0},{"$f":"Import!V794","v":0},{"$f":"Import!W794","v":0},{"$f":"Import!X794","v":0},{"$f":"Import!Y794","v":0},{"$f":"Import!Z794","v":0},{"$f":"Import!AA794","v":0},{"$f":"Import!AB794","v":0},{"$f":"Import!AC794","v":0},{"$f":"Import!AD794","v":0},{"$f":"Import!AE794","v":0},{"$f":"Import!AF794","v":0},{"$f":"Import!AG794","v":0},{"$f":"Import!AH794","v":0},{"$f":"Import!AI794","v":0},{"$f":"Import!AJ794","v":0},{"$f":"Import!AK794","v":0},{"$f":"Import!AL794","v":0}]
[null,{"$f":"Import!A795","v":0},{"$f":"Import!B795","v":0},{"$f":"Import!H795","v":0},{"$f":"Import!I795","v":0},{"$f":"Import!J795","v":0},{"$f":"Import!K795","v":0},{"$f":"Import!L795","v":0},{"$f":"Import!M795","v":0},{"$f":"Import!N795","v":0},{"$f":"Import!O795","v":0},{"$f":"Import!P795","v":0},{"$f":"Import!Q795","v":0},{"$f":"Import!R795","v":0},{"$f":"Import!S795","v":0},{"$f":"Import!T795","v":0},{"$f":"Import!U795","v":0},{"$f":"Import!V795","v":0},{"$f":"Import!W795","v":0},{"$f":"Import!X795","v":0},{"$f":"Import!Y795","v":0},{"$f":"Import!Z795","v":0},{"$f":"Import!AA795","v":0},{"$f":"Import!AB795","v":0},{"$f":"Import!AC795","v":0},{"$f":"Import!AD795","v":0},{"$f":"Import!AE795","v":0},{"$f":"Import!AF795","v":0},{"$f":"Import!AG795","v":0},{"$f":"Import!AH795","v":0},{"$f":"Import!AI795","v":0},{"$f":"Import!AJ795","v":0},{"$f":"Import!AK795","v":0},{"$f":"Import!AL795","v":0}]
[null,{"$f":"Import!A796","v":0},{"$f":"Import!B796","v":0},{"$f":"Import!H796","v":0},{"$f":"Import!I796","v":0},{"$f":"Import!J796","v":0},{"$f":"Import!K796","v":0},{"$f":"Import!L796","v":0},{"$f":"Import!M796","v":0},{"$f":"Import!N796","v":0},{"$f":"Import!O796","v":0},{"$f":"Import!P796","v":0},{"$f":"Import!Q796","v":0},{"$f":"Import!R796","v":0},{"$f":"Import!S796","v":0},{"$f":"Import!T796","v":0},{"$f":"Import!U796","v":0},{"$f":"Import!V796","v":0},{"$f":"Import!W796","v":0},{"$f":"Import!X796","v":0},{"$f":"Import!Y796","v":0},{"$f":"Import!Z796","v":0},{"$f":"Import!AA796","v":0},{"$f":"Import!AB796","v":0},{"$f":"Import!AC796","v":0},{"$f":"Import!AD796","v":0},{"$f":"Import!AE796","v":0},{"$f":"Import!AF796","v":0},{"$f":"Import!AG796","v":0},{"$f":"Import!AH796","v":0},{"$f":"Import!AI796","v":0},{"$f":"Import!AJ796","v":0},{"$f":"Import!AK796","v":0},{"$f":"Import!AL796","v":0}]
[null,{"$f":"Import!A797","v":0},{"$f":"Import!B797","v":0},{"$f":"Import!H797","v":0},{"$f":"Import!I797","v":0},{"$f":"Import!J797","v":0},{"$f":"Import!K797","v":0},{"$f":"Import!L797","v":0},{"$f":"Import!M797","v":0},{"$f":"Import!N797","v":0},{"$f":"Import!O797","v":0},{"$f":"Import!P797","v":0},{"$f":"Import!Q797","v":0},{"$f":"Import!R797","v":0},{"$f":"Import!S797","v":0},{"$f":"Import!T797","v":0},{"$f":"Import!U797","v":0},{"$f":"Import!V797","v":0},{"$f":"Import!W797","v":0},{"$f":"Import!X797","v":0},{"$f":"Import!Y797","v":0},{"$f":"Import!Z797","v":0},{"$f":"Import!AA797","v":0},{"$f":"Import!AB797","v":0},{"$f":"Import!AC797","v":0},{"$f":"Import!AD797","v":0},{"$f":"Import!AE797","v":0},{"$f":"Import!AF797","v":0},{"$f":"Import!AG797","v":0},{"$f":"Import!AH797","v":0},{"$f":"Import!AI797","v":0},{"$f":"Import!AJ797","v":0},{"$f":"Import!AK797","v":0},{"$f":"Import!AL797","v":0}]
[null,{"$f":"Import!A798","v":0},{"$f":"Import!B798","v":0},{"$f":"Import!H798","v":0},{"$f":"Import!I798","v":0},{"$f":"Import!J798","v":0},{"$f":"Import!K798","v":0},{"$f":"Import!L798","v":0},{"$f":"Import!M798","v":0},{"$f":"Import!N798","v":0},{"$f":"Import!O798","v":0},{"$f":"Import!P798","v":0},{"$f":"Import!Q798","v":0},{"$f":"Import!R798","v":0},{"$f":"Import!S798","v":0},{"$f":"Import!T798","v":0},{"$f":"Import!U798","v":0},{"$f":"Import!V798","v":0},{"$f":"Import!W798","v":0},{"$f":"Import!X798","v":0},{"$f":"Import!Y798","v":0},{"$f":"Import!Z798","v":0},{"$f":"Import!AA798","v":0},{"$f":"Import!AB798","v":0},{"$f":"Import!AC798","v":0},{"$f":"Import!AD798","v":0},{"$f":"Import!AE798","v":0},{"$f":"Import!AF798","v":0},{"$f":"Import!AG798","v":0},{"$f":"Import!AH798","v":0},{"$f":"Import!AI798","v":0},{"$f":"Import!AJ798","v":0},{"$f":"Import!AK798","v":0},{"$f":"Import!AL798","v":0}]
[null,{"$f":"Import!A799","v":0},{"$f":"Import!B799","v":0},{"$f":"Import!H799","v":0},{"$f":"Import!I799","v":0},{"$f":"Import!J799","v":0},{"$f":"Import!K799","v":0},{"$f":"Import!L799","v":0},{"$f":"Import!M799","v":0},{"$f":"Import!N799","v":0},{"$f":"Import!O799","v":0},{"$f":"Import!P799","v":0},{"$f":"Import!Q799","v":0},{"$f":"Import!R799","v":0},{"$f":"Import!S799","v":0},{"$f":"Import!T799","v":0},{"$f":"Import!U799","v":0},{"$f":"Import!V799","v":0},{"$f":"Import!W799","v":0},{"$f":"Import!X799","v":0},{"$f":"Import!Y799","v":0},{"$f":"Import!Z799","v":0},{"$f":"Import!AA799","v":0},{"$f":"Import!AB799","v":0},{"$f":"Import!AC799","v":0},{"$f":"Import!AD799","v":0},{"$f":"Import!AE799","v":0},{"$f":"Import!AF799","v":0},{"$f":"Import!AG799","v":0},{"$f":"Import!AH799","v":0},{"$f":"Import!AI799","v":0},{"$f":"Import!AJ799","v":0},{"$f":"Import!AK799","v":0},{"$f":"Import!AL799","v":0}]
[null,{"$f":"Import!A800","v":0},{"$f":"Import!B800","v":0},{"$f":"Import!H800","v":0},{"$f":"Import!I800","v":0},{"$f":"Import!J800","v":0},{"$f":"Import!K800","v":0},{"$f":"Import!L800","v":0},{"$f":"Import!M800","v":0},{"$f":"Import!N800","v":0},{"$f":"Import!O800","v":0},{"$f":"Import!P800","v":0},{"$f":"Import!Q800","v":0},{"$f":"Import!R800","v":0},{"$f":"Import!S800","v":0},{"$f":"Import!T800","v":0},{"$f":"Import!U800","v":0},{"$f":"Import!V800","v":0},{"$f":"Import!W800","v":0},{"$f":"Import!X800","v":0},{"$f":"Import!Y800","v":0},{"$f":"Import!Z800","v":0},{"$f":"Import!AA800","v":0},{"$f":"Import!AB800","v":0},{"$f":"Import!AC800","v":0},{"$f":"Import!AD800","v":0},{"$f":"Import!AE800","v":0},{"$f":"Import!AF800","v":0},{"$f":"Import!AG800","v":0},{"$f":"Import!AH800","v":0},{"$f":"Import!AI800","v":0},{"$f":"Import!AJ800","v":0},{"$f":"Import!AK800","v":0},{"$f":"Import!AL800","v":0}]
[null,{"$f":"Import!A801","v":0},{"$f":"Import!B801","v":0},{"$f":"Import!H801","v":0},{"$f":"Import!I801","v":0},{"$f":"Import!J801","v":0},{"$f":"Import!K801","v":0},{"$f":"Import!L801","v":0},{"$f":"Import!M801","v":0},{"$f":"Import!N801","v":0},{"$f":"Import!O801","v":0},{"$f":"Import!P801","v":0},{"$f":"Import!Q801","v":0},{"$f":"Import!R801","v":0},{"$f":"Import!S801","v":0},{"$f":"Import!T801","v":0},{"$f":"Import!U801","v":0},{"$f":"Import!V801","v":0},{"$f":"Import!W801","v":0},{"$f":"Import!X801","v":0},{"$f":"Import!Y801","v":0},{"$f":"Import!Z801","v":0},{"$f":"Import!AA801","v":0},{"$f":"Import!AB801","v":0},{"$f":"Import!AC801","v":0},{"$f":"Import!AD801","v":0},{"$f":"Import!AE801","v":0},{"$f":"Import!AF801","v":0},{"$f":"Import!AG801","v":0},{"$f":"Import!AH801","v":0},{"$f":"Import!AI801","v":0},{"$f":"Import!AJ801","v":0},{"$f":"Import!AK801","v":0},{"$f":"Import!AL801","v":0}]
[null,{"$f":"Import!A802","v":0},{"$f":"Import!B802","v":0},{"$f":"Import!H802","v":0},{"$f":"Import!I802","v":0},{"$f":"Import!J802","v":0},{"$f":"Import!K802","v":0},{"$f":"Import!L802","v":0},{"$f":"Import!M802","v":0},{"$f":"Import!N802","v":0},{"$f":"Import!O802","v":0},{"$f":"Import!P802","v":0},{"$f":"Import!Q802","v":0},{"$f":"Import!R802","v":0},{"$f":"Import!S802","v":0},{"$f":"Import!T802","v":0},{"$f":"Import!U802","v":0},{"$f":"Import!V802","v":0},{"$f":"Import!W802","v":0},{"$f":"Import!X802","v":0},{"$f":"Import!Y802","v":0},{"$f":"Import!Z802","v":0},{"$f":"Import!AA802","v":0},{"$f":"Import!AB802","v":0},{"$f":"Import!AC802","v":0},{"$f":"Import!AD802","v":0},{"$f":"Import!AE802","v":0},{"$f":"Import!AF802","v":0},{"$f":"Import!AG802","v":0},{"$f":"Import!AH802","v":0},{"$f":"Import!AI802","v":0},{"$f":"Import!AJ802","v":0},{"$f":"Import!AK802","v":0},{"$f":"Import!AL802","v":0}]
[null,{"$f":"Import!A803","v":0},{"$f":"Import!B803","v":0},{"$f":"Import!H803","v":0},{"$f":"Import!I803","v":0},{"$f":"Import!J803","v":0},{"$f":"Import!K803","v":0},{"$f":"Import!L803","v":0},{"$f":"Import!M803","v":0},{"$f":"Import!N803","v":0},{"$f":"Import!O803","v":0},{"$f":"Import!P803","v":0},{"$f":"Import!Q803","v":0},{"$f":"Import!R803","v":0},{"$f":"Import!S803","v":0},{"$f":"Import!T803","v":0},{"$f":"Import!U803","v":0},{"$f":"Import!V803","v":0},{"$f":"Import!W803","v":0},{"$f":"Import!X803","v":0},{"$f":"Import!Y803","v":0},{"$f":"Import!Z803","v":0},{"$f":"Import!AA803","v":0},{"$f":"Import!AB803","v":0},{"$f":"Import!AC803","v":0},{"$f":"Import!AD803","v":0},{"$f":"Import!AE803","v":0},{"$f":"Import!AF803","v":0},{"$f":"Import!AG803","v":0},{"$f":"Import!AH803","v":0},{"$f":"Import!AI803","v":0},{"$f":"Import!AJ803","v":0},{"$f":"Import!AK803","v":0},{"$f":"Import!AL803","v":0}]
[null,{"$f":"Import!A804","v":0},{"$f":"Import!B804","v":0},{"$f":"Import!H804","v":0},{"$f":"Import!I804","v":0},{"$f":"Import!J804","v":0},{"$f":"Import!K804","v":0},{"$f":"Import!L804","v":0},{"$f":"Import!M804","v":0},{"$f":"Import!N804","v":0},{"$f":"Import!O804","v":0},{"$f":"Import!P804","v":0},{"$f":"Import!Q804","v":0},{"$f":"Import!R804","v":0},{"$f":"Import!S804","v":0},{"$f":"Import!T804","v":0},{"$f":"Import!U804","v":0},{"$f":"Import!V804","v":0},{"$f":"Import!W804","v":0},{"$f":"Import!X804","v":0},{"$f":"Import!Y804","v":0},{"$f":"Import!Z804","v":0},{"$f":"Import!AA804","v":0},{"$f":"Import!AB804","v":0},{"$f":"Import!AC804","v":0},{"$f":"Import!AD804","v":0},{"$f":"Import!AE804","v":0},{"$f":"Import!AF804","v":0},{"$f":"Import!AG804","v":0},{"$f":"Import!AH804","v":0},{"$f":"Import!AI804","v":0},{"$f":"Import!AJ804","v":0},{"$f":"Import!AK804","v":0},{"$f":"Import!AL804","v":0}]
[null,{"$f":"Import!A805","v":0},{"$f":"Import!B805","v":0},{"$f":"Import!H805","v":0},{"$f":"Import!I805","v":0},{"$f":"Import!J805","v":0},{"$f":"Import!K805","v":0},{"$f":"Import!L805","v":0},{"$f":"Import!M805","v":0},{"$f":"Import!N805","v":0},{"$f":"Import!O805","v":0},{"$f":"Import!P805","v":0},{"$f":"Import!Q805","v":0},{"$f":"Import!R805","v":0},{"$f":"Import!S805","v":0},{"$f":"Import!T805","v":0},{"$f":"Import!U805","v":0},{"$f":"Import!V805","v":0},{"$f":"Import!W805","v":0},{"$f":"Import!X805","v":0},{"$f":"Import!Y805","v":0},{"$f":"Import!Z805","v":0},{"$f":"Import!AA805","v":0},{"$f":"Import!AB805","v":0},{"$f":"Import!AC805","v":0},{"$f":"Import!AD805","v":0},{"$f":"Import!AE805","v":0},{"$f":"Import!AF805","v":0},{"$f":"Import!AG805","v":0},{"$f":"Import!AH805","v":0},{"$f":"Import!AI805","v":0},{"$f":"Import!AJ805","v":0},{"$f":"Import!AK805","v":0},{"$f":"Import!AL805","v":0}]
[null,{"$f":"Import!A806","v":0},{"$f":"Import!B806","v":0},{"$f":"Import!H806","v":0},{"$f":"Import!I806","v":0},{"$f":"Import!J806","v":0},{"$f":"Import!K806","v":0},{"$f":"Import!L806","v":0},{"$f":"Import!M806","v":0},{"$f":"Import!N806","v":0},{"$f":"Import!O806","v":0},{"$f":"Import!P806","v":0},{"$f":"Import!Q806","v":0},{"$f":"Import!R806","v":0},{"$f":"Import!S806","v":0},{"$f":"Import!T806","v":0},{"$f":"Import!U806","v":0},{"$f":"Import!V806","v":0},{"$f":"Import!W806","v":0},{"$f":"Import!X806","v":0},{"$f":"Import!Y806","v":0},{"$f":"Import!Z806","v":0},{"$f":"Import!AA806","v":0},{"$f":"Import!AB806","v":0},{"$f":"Import!AC806","v":0},{"$f":"Import!AD806","v":0},{"$f":"Import!AE806","v":0},{"$f":"Import!AF806","v":0},{"$f":"Import!AG806","v":0},{"$f":"Import!AH806","v":0},{"$f":"Import!AI806","v":0},{"$f":"Import!AJ806","v":0},{"$f":"Import!AK806","v":0},{"$f":"Import!AL806","v":0}]
[null,{"$f":"Import!A807","v":0},{"$f":"Import!B807","v":0},{"$f":"Import!H807","v":0},{"$f":"Import!I807","v":0},{"$f":"Import!J807","v":0},{"$f":"Import!K807","v":0},{"$f":"Import!L807","v":0},{"$f":"Import!M807","v":0},{"$f":"Import!N807","v":0},{"$f":"Import!O807","v":0},{"$f":"Import!P807","v":0},{"$f":"Import!Q807","v":0},{"$f":"Import!R807","v":0},{"$f":"Import!S807","v":0},{"$f":"Import!T807","v":0},{"$f":"Import!U807","v":0},{"$f":"Import!V807","v":0},{"$f":"Import!W807","v":0},{"$f":"Import!X807","v":0},{"$f":"Import!Y807","v":0},{"$f":"Import!Z807","v":0},{"$f":"Import!AA807","v":0},{"$f":"Import!AB807","v":0},{"$f":"Import!AC807","v":0},{"$f":"Import!AD807","v":0},{"$f":"Import!AE807","v":0},{"$f":"Import!AF807","v":0},{"$f":"Import!AG807","v":0},{"$f":"Import!AH807","v":0},{"$f":"Import!AI807","v":0},{"$f":"Import!AJ807","v":0},{"$f":"Import!AK807","v":0},{"$f":"Import!AL807","v":0}]
[null,{"$f":"Import!A808","v":0},{"$f":"Import!B808","v":0},{"$f":"Import!H808","v":0},{"$f":"Import!I808","v":0},{"$f":"Import!J808","v":0},{"$f":"Import!K808","v":0},{"$f":"Import!L808","v":0},{"$f":"Import!M808","v":0},{"$f":"Import!N808","v":0},{"$f":"Import!O808","v":0},{"$f":"Import!P808","v":0},{"$f":"Import!Q808","v":0},{"$f":"Import!R808","v":0},{"$f":"Import!S808","v":0},{"$f":"Import!T808","v":0},{"$f":"Import!U808","v":0},{"$f":"Import!V808","v":0},{"$f":"Import!W808","v":0},{"$f":"Import!X808","v":0},{"$f":"Import!Y808","v":0},{"$f":"Import!Z808","v":0},{"$f":"Import!AA808","v":0},{"$f":"Import!AB808","v":0},{"$f":"Import!AC808","v":0},{"$f":"Import!AD808","v":0},{"$f":"Import!AE808","v":0},{"$f":"Import!AF808","v":0},{"$f":"Import!AG808","v":0},{"$f":"Import!AH808","v":0},{"$f":"Import!AI808","v":0},{"$f":"Import!AJ808","v":0},{"$f":"Import!AK808","v":0},{"$f":"Import!AL808","v":0}]
[null,{"$f":"Import!A809","v":0},{"$f":"Import!B809","v":0},{"$f":"Import!H809","v":0},{"$f":"Import!I809","v":0},{"$f":"Import!J809","v":0},{"$f":"Import!K809","v":0},{"$f":"Import!L809","v":0},{"$f":"Import!M809","v":0},{"$f":"Import!N809","v":0},{"$f":"Import!O809","v":0},{"$f":"Import!P809","v":0},{"$f":"Import!Q809","v":0},{"$f":"Import!R809","v":0},{"$f":"Import!S809","v":0},{"$f":"Import!T809","v":0},{"$f":"Import!U809","v":0},{"$f":"Import!V809","v":0},{"$f":"Import!W809","v":0},{"$f":"Import!X809","v":0},{"$f":"Import!Y809","v":0},{"$f":"Import!Z809","v":0},{"$f":"Import!AA809","v":0},{"$f":"Import!AB809","v":0},{"$f":"Import!AC809","v":0},{"$f":"Import!AD809","v":0},{"$f":"Import!AE809","v":0},{"$f":"Import!AF809","v":0},{"$f":"Import!AG809","v":0},{"$f":"Import!AH809","v":0},{"$f":"Import!AI809","v":0},{"$f":"Import!AJ809","v":0},{"$f":"Import!AK809","v":0},{"$f":"Import!AL809","v":0}]
[null,{"$f":"Import!A810","v":0},{"$f":"Import!B810","v":0},{"$f":"Import!H810","v":0},{"$f":"Import!I810","v":0},{"$f":"Import!J810","v":0},{"$f":"Import!K810","v":0},{"$f":"Import!L810","v":0},{"$f":"Import!M810","v":0},{"$f":"Import!N810","v":0},{"$f":"Import!O810","v":0},{"$f":"Import!P810","v":0},{"$f":"Import!Q810","v":0},{"$f":"Import!R810","v":0},{"$f":"Import!S810","v":0},{"$f":"Import!T810","v":0},{"$f":"Import!U810","v":0},{"$f":"Import!V810","v":0},{"$f":"Import!W810","v":0},{"$f":"Import!X810","v":0},{"$f":"Import!Y810","v":0},{"$f":"Import!Z810","v":0},{"$f":"Import!AA810","v":0},{"$f":"Import!AB810","v":0},{"$f":"Import!AC810","v":0},{"$f":"Import!AD810","v":0},{"$f":"Import!AE810","v":0},{"$f":"Import!AF810","v":0},{"$f":"Import!AG810","v":0},{"$f":"Import!AH810","v":0},{"$f":"Import!AI810","v":0},{"$f":"Import!AJ810","v":0},{"$f":"Import!AK810","v":0},{"$f":"Import!AL810","v":0}]
[null,{"$f":"Import!A811","v":0},{"$f":"Import!B811","v":0},{"$f":"Import!H811","v":0},{"$f":"Import!I811","v":0},{"$f":"Import!J811","v":0},{"$f":"Import!K811","v":0},{"$f":"Import!L811","v":0},{"$f":"Import!M811","v":0},{"$f":"Import!N811","v":0},{"$f":"Import!O811","v":0},{"$f":"Import!P811","v":0},{"$f":"Import!Q811","v":0},{"$f":"Import!R811","v":0},{"$f":"Import!S811","v":0},{"$f":"Import!T811","v":0},{"$f":"Import!U811","v":0},{"$f":"Import!V811","v":0},{"$f":"Import!W811","v":0},{"$f":"Import!X811","v":0},{"$f":"Import!Y811","v":0},{"$f":"Import!Z811","v":0},{"$f":"Import!AA811","v":0},{"$f":"Import!AB811","v":0},{"$f":"Import!AC811","v":0},{"$f":"Import!AD811","v":0},{"$f":"Import!AE811","v":0},{"$f":"Import!AF811","v":0},{"$f":"Import!AG811","v":0},{"$f":"Import!AH811","v":0},{"$f":"Import!AI811","v":0},{"$f":"Import!AJ811","v":0},{"$f":"Import!AK811","v":0},{"$f":"Import!AL811","v":0}]
[null,{"$f":"Import!A812","v":0},{"$f":"Import!B812","v":0},{"$f":"Import!H812","v":0},{"$f":"Import!I812","v":0},{"$f":"Import!J812","v":0},{"$f":"Import!K812","v":0},{"$f":"Import!L812","v":0},{"$f":"Import!M812","v":0},{"$f":"Import!N812","v":0},{"$f":"Import!O812","v":0},{"$f":"Import!P812","v":0},{"$f":"Import!Q812","v":0},{"$f":"Import!R812","v":0},{"$f":"Import!S812","v":0},{"$f":"Import!T812","v":0},{"$f":"Import!U812","v":0},{"$f":"Import!V812","v":0},{"$f":"Import!W812","v":0},{"$f":"Import!X812","v":0},{"$f":"Import!Y812","v":0},{"$f":"Import!Z812","v":0},{"$f":"Import!AA812","v":0},{"$f":"Import!AB812","v":0},{"$f":"Import!AC812","v":0},{"$f":"Import!AD812","v":0},{"$f":"Import!AE812","v":0},{"$f":"Import!AF812","v":0},{"$f":"Import!AG812","v":0},{"$f":"Import!AH812","v":0},{"$f":"Import!AI812","v":0},{"$f":"Import!AJ812","v":0},{"$f":"Import!AK812","v":0},{"$f":"Import!AL812","v":0}]
[null,{"$f":"Import!A813","v":0},{"$f":"Import!B813","v":0},{"$f":"Import!H813","v":0},{"$f":"Import!I813","v":0},{"$f":"Import!J813","v":0},{"$f":"Import!K813","v":0},{"$f":"Import!L813","v":0},{"$f":"Import!M813","v":0},{"$f":"Import!N813","v":0},{"$f":"Import!O813","v":0},{"$f":"Import!P813","v":0},{"$f":"Import!Q813","v":0},{"$f":"Import!R813","v":0},{"$f":"Import!S813","v":0},{"$f":"Import!T813","v":0},{"$f":"Import!U813","v":0},{"$f":"Import!V813","v":0},{"$f":"Import!W813","v":0},{"$f":"Import!X813","v":0},{"$f":"Import!Y813","v":0},{"$f":"Import!Z813","v":0},{"$f":"Import!AA813","v":0},{"$f":"Import!AB813","v":0},{"$f":"Import!AC813","v":0},{"$f":"Import!AD813","v":0},{"$f":"Import!AE813","v":0},{"$f":"Import!AF813","v":0},{"$f":"Import!AG813","v":0},{"$f":"Import!AH813","v":0},{"$f":"Import!AI813","v":0},{"$f":"Import!AJ813","v":0},{"$f":"Import!AK813","v":0},{"$f":"Import!AL813","v":0}]
[null,{"$f":"Import!A814","v":0},{"$f":"Import!B814","v":0},{"$f":"Import!H814","v":0},{"$f":"Import!I814","v":0},{"$f":"Import!J814","v":0},{"$f":"Import!K814","v":0},{"$f":"Import!L814","v":0},{"$f":"Import!M814","v":0},{"$f":"Import!N814","v":0},{"$f":"Import!O814","v":0},{"$f":"Import!P814","v":0},{"$f":"Import!Q814","v":0},{"$f":"Import!R814","v":0},{"$f":"Import!S814","v":0},{"$f":"Import!T814","v":0},{"$f":"Import!U814","v":0},{"$f":"Import!V814","v":0},{"$f":"Import!W814","v":0},{"$f":"Import!X814","v":0},{"$f":"Import!Y814","v":0},{"$f":"Import!Z814","v":0},{"$f":"Import!AA814","v":0},{"$f":"Import!AB814","v":0},{"$f":"Import!AC814","v":0},{"$f":"Import!AD814","v":0},{"$f":"Import!AE814","v":0},{"$f":"Import!AF814","v":0},{"$f":"Import!AG814","v":0},{"$f":"Import!AH814","v":0},{"$f":"Import!AI814","v":0},{"$f":"Import!AJ814","v":0},{"$f":"Import!AK814","v":0},{"$f":"Import!AL814","v":0}]
[null,{"$f":"Import!A815","v":0},{"$f":"Import!B815","v":0},{"$f":"Import!H815","v":0},{"$f":"Import!I815","v":0},{"$f":"Import!J815","v":0},{"$f":"Import!K815","v":0},{"$f":"Import!L815","v":0},{"$f":"Import!M815","v":0},{"$f":"Import!N815","v":0},{"$f":"Import!O815","v":0},{"$f":"Import!P815","v":0},{"$f":"Import!Q815","v":0},{"$f":"Import!R815","v":0},{"$f":"Import!S815","v":0},{"$f":"Import!T815","v":0},{"$f":"Import!U815","v":0},{"$f":"Import!V815","v":0},{"$f":"Import!W815","v":0},{"$f":"Import!X815","v":0},{"$f":"Import!Y815","v":0},{"$f":"Import!Z815","v":0},{"$f":"Import!AA815","v":0},{"$f":"Import!AB815","v":0},{"$f":"Import!AC815","v":0},{"$f":"Import!AD815","v":0},{"$f":"Import!AE815","v":0},{"$f":"Import!AF815","v":0},{"$f":"Import!AG815","v":0},{"$f":"Import!AH815","v":0},{"$f":"Import!AI815","v":0},{"$f":"Import!AJ815","v":0},{"$f":"Import!AK815","v":0},{"$f":"Import!AL815","v":0}]
[null,{"$f":"Import!A816","v":0},{"$f":"Import!B816","v":0},{"$f":"Import!H816","v":0},{"$f":"Import!I816","v":0},{"$f":"Import!J816","v":0},{"$f":"Import!K816","v":0},{"$f":"Import!L816","v":0},{"$f":"Import!M816","v":0},{"$f":"Import!N816","v":0},{"$f":"Import!O816","v":0},{"$f":"Import!P816","v":0},{"$f":"Import!Q816","v":0},{"$f":"Import!R816","v":0},{"$f":"Import!S816","v":0},{"$f":"Import!T816","v":0},{"$f":"Import!U816","v":0},{"$f":"Import!V816","v":0},{"$f":"Import!W816","v":0},{"$f":"Import!X816","v":0},{"$f":"Import!Y816","v":0},{"$f":"Import!Z816","v":0},{"$f":"Import!AA816","v":0},{"$f":"Import!AB816","v":0},{"$f":"Import!AC816","v":0},{"$f":"Import!AD816","v":0},{"$f":"Import!AE816","v":0},{"$f":"Import!AF816","v":0},{"$f":"Import!AG816","v":0},{"$f":"Import!AH816","v":0},{"$f":"Import!AI816","v":0},{"$f":"Import!AJ816","v":0},{"$f":"Import!AK816","v":0},{"$f":"Import!AL816","v":0}]
[null,{"$f":"Import!A817","v":0},{"$f":"Import!B817","v":0},{"$f":"Import!H817","v":0},{"$f":"Import!I817","v":0},{"$f":"Import!J817","v":0},{"$f":"Import!K817","v":0},{"$f":"Import!L817","v":0},{"$f":"Import!M817","v":0},{"$f":"Import!N817","v":0},{"$f":"Import!O817","v":0},{"$f":"Import!P817","v":0},{"$f":"Import!Q817","v":0},{"$f":"Import!R817","v":0},{"$f":"Import!S817","v":0},{"$f":"Import!T817","v":0},{"$f":"Import!U817","v":0},{"$f":"Import!V817","v":0},{"$f":"Import!W817","v":0},{"$f":"Import!X817","v":0},{"$f":"Import!Y817","v":0},{"$f":"Import!Z817","v":0},{"$f":"Import!AA817","v":0},{"$f":"Import!AB817","v":0},{"$f":"Import!AC817","v":0},{"$f":"Import!AD817","v":0},{"$f":"Import!AE817","v":0},{"$f":"Import!AF817","v":0},{"$f":"Import!AG817","v":0},{"$f":"Import!AH817","v":0},{"$f":"Import!AI817","v":0},{"$f":"Import!AJ817","v":0},{"$f":"Import!AK817","v":0},{"$f":"Import!AL817","v":0}]
[null,{"$f":"Import!A818","v":0},{"$f":"Import!B818","v":0},{"$f":"Import!H818","v":0},{"$f":"Import!I818","v":0},{"$f":"Import!J818","v":0},{"$f":"Import!K818","v":0},{"$f":"Import!L818","v":0},{"$f":"Import!M818","v":0},{"$f":"Import!N818","v":0},{"$f":"Import!O818","v":0},{"$f":"Import!P818","v":0},{"$f":"Import!Q818","v":0},{"$f":"Import!R818","v":0},{"$f":"Import!S818","v":0},{"$f":"Import!T818","v":0},{"$f":"Import!U818","v":0},{"$f":"Import!V818","v":0},{"$f":"Import!W818","v":0},{"$f":"Import!X818","v":0},{"$f":"Import!Y818","v":0},{"$f":"Import!Z818","v":0},{"$f":"Import!AA818","v":0},{"$f":"Import!AB818","v":0},{"$f":"Import!AC818","v":0},{"$f":"Import!AD818","v":0},{"$f":"Import!AE818","v":0},{"$f":"Import!AF818","v":0},{"$f":"Import!AG818","v":0},{"$f":"Import!AH818","v":0},{"$f":"Import!AI818","v":0},{"$f":"Import!AJ818","v":0},{"$f":"Import!AK818","v":0},{"$f":"Import!AL818","v":0}]
[null,{"$f":"Import!A819","v":0},{"$f":"Import!B819","v":0},{"$f":"Import!H819","v":0},{"$f":"Import!I819","v":0},{"$f":"Import!J819","v":0},{"$f":"Import!K819","v":0},{"$f":"Import!L819","v":0},{"$f":"Import!M819","v":0},{"$f":"Import!N819","v":0},{"$f":"Import!O819","v":0},{"$f":"Import!P819","v":0},{"$f":"Import!Q819","v":0},{"$f":"Import!R819","v":0},{"$f":"Import!S819","v":0},{"$f":"Import!T819","v":0},{"$f":"Import!U819","v":0},{"$f":"Import!V819","v":0},{"$f":"Import!W819","v":0},{"$f":"Import!X819","v":0},{"$f":"Import!Y819","v":0},{"$f":"Import!Z819","v":0},{"$f":"Import!AA819","v":0},{"$f":"Import!AB819","v":0},{"$f":"Import!AC819","v":0},{"$f":"Import!AD819","v":0},{"$f":"Import!AE819","v":0},{"$f":"Import!AF819","v":0},{"$f":"Import!AG819","v":0},{"$f":"Import!AH819","v":0},{"$f":"Import!AI819","v":0},{"$f":"Import!AJ819","v":0},{"$f":"Import!AK819","v":0},{"$f":"Import!AL819","v":0}]
[null,{"$f":"Import!A820","v":0},{"$f":"Import!B820","v":0},{"$f":"Import!H820","v":0},{"$f":"Import!I820","v":0},{"$f":"Import!J820","v":0},{"$f":"Import!K820","v":0},{"$f":"Import!L820","v":0},{"$f":"Import!M820","v":0},{"$f":"Import!N820","v":0},{"$f":"Import!O820","v":0},{"$f":"Import!P820","v":0},{"$f":"Import!Q820","v":0},{"$f":"Import!R820","v":0},{"$f":"Import!S820","v":0},{"$f":"Import!T820","v":0},{"$f":"Import!U820","v":0},{"$f":"Import!V820","v":0},{"$f":"Import!W820","v":0},{"$f":"Import!X820","v":0},{"$f":"Import!Y820","v":0},{"$f":"Import!Z820","v":0},{"$f":"Import!AA820","v":0},{"$f":"Import!AB820","v":0},{"$f":"Import!AC820","v":0},{"$f":"Import!AD820","v":0},{"$f":"Import!AE820","v":0},{"$f":"Import!AF820","v":0},{"$f":"Import!AG820","v":0},{"$f":"Import!AH820","v":0},{"$f":"Import!AI820","v":0},{"$f":"Import!AJ820","v":0},{"$f":"Import!AK820","v":0},{"$f":"Import!AL820","v":0}]
[null,{"$f":"Import!A821","v":0},{"$f":"Import!B821","v":0},{"$f":"Import!H821","v":0},{"$f":"Import!I821","v":0},{"$f":"Import!J821","v":0},{"$f":"Import!K821","v":0},{"$f":"Import!L821","v":0},{"$f":"Import!M821","v":0},{"$f":"Import!N821","v":0},{"$f":"Import!O821","v":0},{"$f":"Import!P821","v":0},{"$f":"Import!Q821","v":0},{"$f":"Import!R821","v":0},{"$f":"Import!S821","v":0},{"$f":"Import!T821","v":0},{"$f":"Import!U821","v":0},{"$f":"Import!V821","v":0},{"$f":"Import!W821","v":0},{"$f":"Import!X821","v":0},{"$f":"Import!Y821","v":0},{"$f":"Import!Z821","v":0},{"$f":"Import!AA821","v":0},{"$f":"Import!AB821","v":0},{"$f":"Import!AC821","v":0},{"$f":"Import!AD821","v":0},{"$f":"Import!AE821","v":0},{"$f":"Import!AF821","v":0},{"$f":"Import!AG821","v":0},{"$f":"Import!AH821","v":0},{"$f":"Import!AI821","v":0},{"$f":"Import!AJ821","v":0},{"$f":"Import!AK821","v":0},{"$f":"Import!AL821","v":0}]
[null,{"$f":"Import!A822","v":0},{"$f":"Import!B822","v":0},{"$f":"Import!H822","v":0},{"$f":"Import!I822","v":0},{"$f":"Import!J822","v":0},{"$f":"Import!K822","v":0},{"$f":"Import!L822","v":0},{"$f":"Import!M822","v":0},{"$f":"Import!N822","v":0},{"$f":"Import!O822","v":0},{"$f":"Import!P822","v":0},{"$f":"Import!Q822","v":0},{"$f":"Import!R822","v":0},{"$f":"Import!S822","v":0},{"$f":"Import!T822","v":0},{"$f":"Import!U822","v":0},{"$f":"Import!V822","v":0},{"$f":"Import!W822","v":0},{"$f":"Import!X822","v":0},{"$f":"Import!Y822","v":0},{"$f":"Import!Z822","v":0},{"$f":"Import!AA822","v":0},{"$f":"Import!AB822","v":0},{"$f":"Import!AC822","v":0},{"$f":"Import!AD822","v":0},{"$f":"Import!AE822","v":0},{"$f":"Import!AF822","v":0},{"$f":"Import!AG822","v":0},{"$f":"Import!AH822","v":0},{"$f":"Import!AI822","v":0},{"$f":"Import!AJ822","v":0},{"$f":"Import!AK822","v":0},{"$f":"Import!AL822","v":0}]
[null,{"$f":"Import!A823","v":0},{"$f":"Import!B823","v":0},{"$f":"Import!H823","v":0},{"$f":"Import!I823","v":0},{"$f":"Import!J823","v":0},{"$f":"Import!K823","v":0},{"$f":"Import!L823","v":0},{"$f":"Import!M823","v":0},{"$f":"Import!N823","v":0},{"$f":"Import!O823","v":0},{"$f":"Import!P823","v":0},{"$f":"Import!Q823","v":0},{"$f":"Import!R823","v":0},{"$f":"Import!S823","v":0},{"$f":"Import!T823","v":0},{"$f":"Import!U823","v":0},{"$f":"Import!V823","v":0},{"$f":"Import!W823","v":0},{"$f":"Import!X823","v":0},{"$f":"Import!Y823","v":0},{"$f":"Import!Z823","v":0},{"$f":"Import!AA823","v":0},{"$f":"Import!AB823","v":0},{"$f":"Import!AC823","v":0},{"$f":"Import!AD823","v":0},{"$f":"Import!AE823","v":0},{"$f":"Import!AF823","v":0},{"$f":"Import!AG823","v":0},{"$f":"Import!AH823","v":0},{"$f":"Import!AI823","v":0},{"$f":"Import!AJ823","v":0},{"$f":"Import!AK823","v":0},{"$f":"Import!AL823","v":0}]
[null,{"$f":"Import!A824","v":0},{"$f":"Import!B824","v":0},{"$f":"Import!H824","v":0},{"$f":"Import!I824","v":0},{"$f":"Import!J824","v":0},{"$f":"Import!K824","v":0},{"$f":"Import!L824","v":0},{"$f":"Import!M824","v":0},{"$f":"Import!N824","v":0},{"$f":"Import!O824","v":0},{"$f":"Import!P824","v":0},{"$f":"Import!Q824","v":0},{"$f":"Import!R824","v":0},{"$f":"Import!S824","v":0},{"$f":"Import!T824","v":0},{"$f":"Import!U824","v":0},{"$f":"Import!V824","v":0},{"$f":"Import!W824","v":0},{"$f":"Import!X824","v":0},{"$f":"Import!Y824","v":0},{"$f":"Import!Z824","v":0},{"$f":"Import!AA824","v":0},{"$f":"Import!AB824","v":0},{"$f":"Import!AC824","v":0},{"$f":"Import!AD824","v":0},{"$f":"Import!AE824","v":0},{"$f":"Import!AF824","v":0},{"$f":"Import!AG824","v":0},{"$f":"Import!AH824","v":0},{"$f":"Import!AI824","v":0},{"$f":"Import!AJ824","v":0},{"$f":"Import!AK824","v":0},{"$f":"Import!AL824","v":0}]
[null,{"$f":"Import!A825","v":0},{"$f":"Import!B825","v":0},{"$f":"Import!H825","v":0},{"$f":"Import!I825","v":0},{"$f":"Import!J825","v":0},{"$f":"Import!K825","v":0},{"$f":"Import!L825","v":0},{"$f":"Import!M825","v":0},{"$f":"Import!N825","v":0},{"$f":"Import!O825","v":0},{"$f":"Import!P825","v":0},{"$f":"Import!Q825","v":0},{"$f":"Import!R825","v":0},{"$f":"Import!S825","v":0},{"$f":"Import!T825","v":0},{"$f":"Import!U825","v":0},{"$f":"Import!V825","v":0},{"$f":"Import!W825","v":0},{"$f":"Import!X825","v":0},{"$f":"Import!Y825","v":0},{"$f":"Import!Z825","v":0},{"$f":"Import!AA825","v":0},{"$f":"Import!AB825","v":0},{"$f":"Import!AC825","v":0},{"$f":"Import!AD825","v":0},{"$f":"Import!AE825","v":0},{"$f":"Import!AF825","v":0},{"$f":"Import!AG825","v":0},{"$f":"Import!AH825","v":0},{"$f":"Import!AI825","v":0},{"$f":"Import!AJ825","v":0},{"$f":"Import!AK825","v":0},{"$f":"Import!AL825","v":0}]
[null,{"$f":"Import!A826","v":0},{"$f":"Import!B826","v":0},{"$f":"Import!H826","v":0},{"$f":"Import!I826","v":0},{"$f":"Import!J826","v":0},{"$f":"Import!K826","v":0},{"$f":"Import!L826","v":0},{"$f":"Import!M826","v":0},{"$f":"Import!N826","v":0},{"$f":"Import!O826","v":0},{"$f":"Import!P826","v":0},{"$f":"Import!Q826","v":0},{"$f":"Import!R826","v":0},{"$f":"Import!S826","v":0},{"$f":"Import!T826","v":0},{"$f":"Import!U826","v":0},{"$f":"Import!V826","v":0},{"$f":"Import!W826","v":0},{"$f":"Import!X826","v":0},{"$f":"Import!Y826","v":0},{"$f":"Import!Z826","v":0},{"$f":"Import!AA826","v":0},{"$f":"Import!AB826","v":0},{"$f":"Import!AC826","v":0},{"$f":"Import!AD826","v":0},{"$f":"Import!AE826","v":0},{"$f":"Import!AF826","v":0},{"$f":"Import!AG826","v":0},{"$f":"Import!AH826","v":0},{"$f":"Import!AI826","v":0},{"$f":"Import!AJ826","v":0},{"$f":"Import!AK826","v":0},{"$f":"Import!AL826","v":0}]
[null,{"$f":"Import!A827","v":0},{"$f":"Import!B827","v":0},{"$f":"Import!H827","v":0},{"$f":"Import!I827","v":0},{"$f":"Import!J827","v":0},{"$f":"Import!K827","v":0},{"$f":"Import!L827","v":0},{"$f":"Import!M827","v":0},{"$f":"Import!N827","v":0},{"$f":"Import!O827","v":0},{"$f":"Import!P827","v":0},{"$f":"Import!Q827","v":0},{"$f":"Import!R827","v":0},{"$f":"Import!S827","v":0},{"$f":"Import!T827","v":0},{"$f":"Import!U827","v":0},{"$f":"Import!V827","v":0},{"$f":"Import!W827","v":0},{"$f":"Import!X827","v":0},{"$f":"Import!Y827","v":0},{"$f":"Import!Z827","v":0},{"$f":"Import!AA827","v":0},{"$f":"Import!AB827","v":0},{"$f":"Import!AC827","v":0},{"$f":"Import!AD827","v":0},{"$f":"Import!AE827","v":0},{"$f":"Import!AF827","v":0},{"$f":"Import!AG827","v":0},{"$f":"Import!AH827","v":0},{"$f":"Import!AI827","v":0},{"$f":"Import!AJ827","v":0},{"$f":"Import!AK827","v":0},{"$f":"Import!AL827","v":0}]
[null,{"$f":"Import!A828","v":0},{"$f":"Import!B828","v":0},{"$f":"Import!H828","v":0},{"$f":"Import!I828","v":0},{"$f":"Import!J828","v":0},{"$f":"Import!K828","v":0},{"$f":"Import!L828","v":0},{"$f":"Import!M828","v":0},{"$f":"Import!N828","v":0},{"$f":"Import!O828","v":0},{"$f":"Import!P828","v":0},{"$f":"Import!Q828","v":0},{"$f":"Import!R828","v":0},{"$f":"Import!S828","v":0},{"$f":"Import!T828","v":0},{"$f":"Import!U828","v":0},{"$f":"Import!V828","v":0},{"$f":"Import!W828","v":0},{"$f":"Import!X828","v":0},{"$f":"Import!Y828","v":0},{"$f":"Import!Z828","v":0},{"$f":"Import!AA828","v":0},{"$f":"Import!AB828","v":0},{"$f":"Import!AC828","v":0},{"$f":"Import!AD828","v":0},{"$f":"Import!AE828","v":0},{"$f":"Import!AF828","v":0},{"$f":"Import!AG828","v":0},{"$f":"Import!AH828","v":0},{"$f":"Import!AI828","v":0},{"$f":"Import!AJ828","v":0},{"$f":"Import!AK828","v":0},{"$f":"Import!AL828","v":0}]
[null,{"$f":"Import!A829","v":0},{"$f":"Import!B829","v":0},{"$f":"Import!H829","v":0},{"$f":"Import!I829","v":0},{"$f":"Import!J829","v":0},{"$f":"Import!K829","v":0},{"$f":"Import!L829","v":0},{"$f":"Import!M829","v":0},{"$f":"Import!N829","v":0},{"$f":"Import!O829","v":0},{"$f":"Import!P829","v":0},{"$f":"Import!Q829","v":0},{"$f":"Import!R829","v":0},{"$f":"Import!S829","v":0},{"$f":"Import!T829","v":0},{"$f":"Import!U829","v":0},{"$f":"Import!V829","v":0},{"$f":"Import!W829","v":0},{"$f":"Import!X829","v":0},{"$f":"Import!Y829","v":0},{"$f":"Import!Z829","v":0},{"$f":"Import!AA829","v":0},{"$f":"Import!AB829","v":0},{"$f":"Import!AC829","v":0},{"$f":"Import!AD829","v":0},{"$f":"Import!AE829","v":0},{"$f":"Import!AF829","v":0},{"$f":"Import!AG829","v":0},{"$f":"Import!AH829","v":0},{"$f":"Import!AI829","v":0},{"$f":"Import!AJ829","v":0},{"$f":"Import!AK829","v":0},{"$f":"Import!AL829","v":0}]
[null,{"$f":"Import!A830","v":0},{"$f":"Import!B830","v":0},{"$f":"Import!H830","v":0},{"$f":"Import!I830","v":0},{"$f":"Import!J830","v":0},{"$f":"Import!K830","v":0},{"$f":"Import!L830","v":0},{"$f":"Import!M830","v":0},{"$f":"Import!N830","v":0},{"$f":"Import!O830","v":0},{"$f":"Import!P830","v":0},{"$f":"Import!Q830","v":0},{"$f":"Import!R830","v":0},{"$f":"Import!S830","v":0},{"$f":"Import!T830","v":0},{"$f":"Import!U830","v":0},{"$f":"Import!V830","v":0},{"$f":"Import!W830","v":0},{"$f":"Import!X830","v":0},{"$f":"Import!Y830","v":0},{"$f":"Import!Z830","v":0},{"$f":"Import!AA830","v":0},{"$f":"Import!AB830","v":0},{"$f":"Import!AC830","v":0},{"$f":"Import!AD830","v":0},{"$f":"Import!AE830","v":0},{"$f":"Import!AF830","v":0},{"$f":"Import!AG830","v":0},{"$f":"Import!AH830","v":0},{"$f":"Import!AI830","v":0},{"$f":"Import!AJ830","v":0},{"$f":"Import!AK830","v":0},{"$f":"Import!AL830","v":0}]
[null,{"$f":"Import!A831","v":0},{"$f":"Import!B831","v":0},{"$f":"Import!H831","v":0},{"$f":"Import!I831","v":0},{"$f":"Import!J831","v":0},{"$f":"Import!K831","v":0},{"$f":"Import!L831","v":0},{"$f":"Import!M831","v":0},{"$f":"Import!N831","v":0},{"$f":"Import!O831","v":0},{"$f":"Import!P831","v":0},{"$f":"Import!Q831","v":0},{"$f":"Import!R831","v":0},{"$f":"Import!S831","v":0},{"$f":"Import!T831","v":0},{"$f":"Import!U831","v":0},{"$f":"Import!V831","v":0},{"$f":"Import!W831","v":0},{"$f":"Import!X831","v":0},{"$f":"Import!Y831","v":0},{"$f":"Import!Z831","v":0},{"$f":"Import!AA831","v":0},{"$f":"Import!AB831","v":0},{"$f":"Import!AC831","v":0},{"$f":"Import!AD831","v":0},{"$f":"Import!AE831","v":0},{"$f":"Import!AF831","v":0},{"$f":"Import!AG831","v":0},{"$f":"Import!AH831","v":0},{"$f":"Import!AI831","v":0},{"$f":"Import!AJ831","v":0},{"$f":"Import!AK831","v":0},{"$f":"Import!AL831","v":0}]
[null,{"$f":"Import!A832","v":0},{"$f":"Import!B832","v":0},{"$f":"Import!H832","v":0},{"$f":"Import!I832","v":0},{"$f":"Import!J832","v":0},{"$f":"Import!K832","v":0},{"$f":"Import!L832","v":0},{"$f":"Import!M832","v":0},{"$f":"Import!N832","v":0},{"$f":"Import!O832","v":0},{"$f":"Import!P832","v":0},{"$f":"Import!Q832","v":0},{"$f":"Import!R832","v":0},{"$f":"Import!S832","v":0},{"$f":"Import!T832","v":0},{"$f":"Import!U832","v":0},{"$f":"Import!V832","v":0},{"$f":"Import!W832","v":0},{"$f":"Import!X832","v":0},{"$f":"Import!Y832","v":0},{"$f":"Import!Z832","v":0},{"$f":"Import!AA832","v":0},{"$f":"Import!AB832","v":0},{"$f":"Import!AC832","v":0},{"$f":"Import!AD832","v":0},{"$f":"Import!AE832","v":0},{"$f":"Import!AF832","v":0},{"$f":"Import!AG832","v":0},{"$f":"Import!AH832","v":0},{"$f":"Import!AI832","v":0},{"$f":"Import!AJ832","v":0},{"$f":"Import!AK832","v":0},{"$f":"Import!AL832","v":0}]
[null,{"$f":"Import!A833","v":0},{"$f":"Import!B833","v":0},{"$f":"Import!H833","v":0},{"$f":"Import!I833","v":0},{"$f":"Import!J833","v":0},{"$f":"Import!K833","v":0},{"$f":"Import!L833","v":0},{"$f":"Import!M833","v":0},{"$f":"Import!N833","v":0},{"$f":"Import!O833","v":0},{"$f":"Import!P833","v":0},{"$f":"Import!Q833","v":0},{"$f":"Import!R833","v":0},{"$f":"Import!S833","v":0},{"$f":"Import!T833","v":0},{"$f":"Import!U833","v":0},{"$f":"Import!V833","v":0},{"$f":"Import!W833","v":0},{"$f":"Import!X833","v":0},{"$f":"Import!Y833","v":0},{"$f":"Import!Z833","v":0},{"$f":"Import!AA833","v":0},{"$f":"Import!AB833","v":0},{"$f":"Import!AC833","v":0},{"$f":"Import!AD833","v":0},{"$f":"Import!AE833","v":0},{"$f":"Import!AF833","v":0},{"$f":"Import!AG833","v":0},{"$f":"Import!AH833","v":0},{"$f":"Import!AI833","v":0},{"$f":"Import!AJ833","v":0},{"$f":"Import!AK833","v":0},{"$f":"Import!AL833","v":0}]
[null,{"$f":"Import!A834","v":0},{"$f":"Import!B834","v":0},{"$f":"Import!H834","v":0},{"$f":"Import!I834","v":0},{"$f":"Import!J834","v":0},{"$f":"Import!K834","v":0},{"$f":"Import!L834","v":0},{"$f":"Import!M834","v":0},{"$f":"Import!N834","v":0},{"$f":"Import!O834","v":0},{"$f":"Import!P834","v":0},{"$f":"Import!Q834","v":0},{"$f":"Import!R834","v":0},{"$f":"Import!S834","v":0},{"$f":"Import!T834","v":0},{"$f":"Import!U834","v":0},{"$f":"Import!V834","v":0},{"$f":"Import!W834","v":0},{"$f":"Import!X834","v":0},{"$f":"Import!Y834","v":0},{"$f":"Import!Z834","v":0},{"$f":"Import!AA834","v":0},{"$f":"Import!AB834","v":0},{"$f":"Import!AC834","v":0},{"$f":"Import!AD834","v":0},{"$f":"Import!AE834","v":0},{"$f":"Import!AF834","v":0},{"$f":"Import!AG834","v":0},{"$f":"Import!AH834","v":0},{"$f":"Import!AI834","v":0},{"$f":"Import!AJ834","v":0},{"$f":"Import!AK834","v":0},{"$f":"Import!AL834","v":0}]
[null,{"$f":"Import!A835","v":0},{"$f":"Import!B835","v":0},{"$f":"Import!H835","v":0},{"$f":"Import!I835","v":0},{"$f":"Import!J835","v":0},{"$f":"Import!K835","v":0},{"$f":"Import!L835","v":0},{"$f":"Import!M835","v":0},{"$f":"Import!N835","v":0},{"$f":"Import!O835","v":0},{"$f":"Import!P835","v":0},{"$f":"Import!Q835","v":0},{"$f":"Import!R835","v":0},{"$f":"Import!S835","v":0},{"$f":"Import!T835","v":0},{"$f":"Import!U835","v":0},{"$f":"Import!V835","v":0},{"$f":"Import!W835","v":0},{"$f":"Import!X835","v":0},{"$f":"Import!Y835","v":0},{"$f":"Import!Z835","v":0},{"$f":"Import!AA835","v":0},{"$f":"Import!AB835","v":0},{"$f":"Import!AC835","v":0},{"$f":"Import!AD835","v":0},{"$f":"Import!AE835","v":0},{"$f":"Import!AF835","v":0},{"$f":"Import!AG835","v":0},{"$f":"Import!AH835","v":0},{"$f":"Import!AI835","v":0},{"$f":"Import!AJ835","v":0},{"$f":"Import!AK835","v":0},{"$f":"Import!AL835","v":0}]
[null,{"$f":"Import!A836","v":0},{"$f":"Import!B836","v":0},{"$f":"Import!H836","v":0},{"$f":"Import!I836","v":0},{"$f":"Import!J836","v":0},{"$f":"Import!K836","v":0},{"$f":"Import!L836","v":0},{"$f":"Import!M836","v":0},{"$f":"Import!N836","v":0},{"$f":"Import!O836","v":0},{"$f":"Import!P836","v":0},{"$f":"Import!Q836","v":0},{"$f":"Import!R836","v":0},{"$f":"Import!S836","v":0},{"$f":"Import!T836","v":0},{"$f":"Import!U836","v":0},{"$f":"Import!V836","v":0},{"$f":"Import!W836","v":0},{"$f":"Import!X836","v":0},{"$f":"Import!Y836","v":0},{"$f":"Import!Z836","v":0},{"$f":"Import!AA836","v":0},{"$f":"Import!AB836","v":0},{"$f":"Import!AC836","v":0},{"$f":"Import!AD836","v":0},{"$f":"Import!AE836","v":0},{"$f":"Import!AF836","v":0},{"$f":"Import!AG836","v":0},{"$f":"Import!AH836","v":0},{"$f":"Import!AI836","v":0},{"$f":"Import!AJ836","v":0},{"$f":"Import!AK836","v":0},{"$f":"Import!AL836","v":0}]
[null,{"$f":"Import!A837","v":0},{"$f":"Import!B837","v":0},{"$f":"Import!H837","v":0},{"$f":"Import!I837","v":0},{"$f":"Import!J837","v":0},{"$f":"Import!K837","v":0},{"$f":"Import!L837","v":0},{"$f":"Import!M837","v":0},{"$f":"Import!N837","v":0},{"$f":"Import!O837","v":0},{"$f":"Import!P837","v":0},{"$f":"Import!Q837","v":0},{"$f":"Import!R837","v":0},{"$f":"Import!S837","v":0},{"$f":"Import!T837","v":0},{"$f":"Import!U837","v":0},{"$f":"Import!V837","v":0},{"$f":"Import!W837","v":0},{"$f":"Import!X837","v":0},{"$f":"Import!Y837","v":0},{"$f":"Import!Z837","v":0},{"$f":"Import!AA837","v":0},{"$f":"Import!AB837","v":0},{"$f":"Import!AC837","v":0},{"$f":"Import!AD837","v":0},{"$f":"Import!AE837","v":0},{"$f":"Import!AF837","v":0},{"$f":"Import!AG837","v":0},{"$f":"Import!AH837","v":0},{"$f":"Import!AI837","v":0},{"$f":"Import!AJ837","v":0},{"$f":"Import!AK837","v":0},{"$f":"Import!AL837","v":0}]
[null,{"$f":"Import!A838","v":0},{"$f":"Import!B838","v":0},{"$f":"Import!H838","v":0},{"$f":"Import!I838","v":0},{"$f":"Import!J838","v":0},{"$f":"Import!K838","v":0},{"$f":"Import!L838","v":0},{"$f":"Import!M838","v":0},{"$f":"Import!N838","v":0},{"$f":"Import!O838","v":0},{"$f":"Import!P838","v":0},{"$f":"Import!Q838","v":0},{"$f":"Import!R838","v":0},{"$f":"Import!S838","v":0},{"$f":"Import!T838","v":0},{"$f":"Import!U838","v":0},{"$f":"Import!V838","v":0},{"$f":"Import!W838","v":0},{"$f":"Import!X838","v":0},{"$f":"Import!Y838","v":0},{"$f":"Import!Z838","v":0},{"$f":"Import!AA838","v":0},{"$f":"Import!AB838","v":0},{"$f":"Import!AC838","v":0},{"$f":"Import!AD838","v":0},{"$f":"Import!AE838","v":0},{"$f":"Import!AF838","v":0},{"$f":"Import!AG838","v":0},{"$f":"Import!AH838","v":0},{"$f":"Import!AI838","v":0},{"$f":"Import!AJ838","v":0},{"$f":"Import!AK838","v":0},{"$f":"Import!AL838","v":0}]
[null,{"$f":"Import!A839","v":0},{"$f":"Import!B839","v":0},{"$f":"Import!H839","v":0},{"$f":"Import!I839","v":0},{"$f":"Import!J839","v":0},{"$f":"Import!K839","v":0},{"$f":"Import!L839","v":0},{"$f":"Import!M839","v":0},{"$f":"Import!N839","v":0},{"$f":"Import!O839","v":0},{"$f":"Import!P839","v":0},{"$f":"Import!Q839","v":0},{"$f":"Import!R839","v":0},{"$f":"Import!S839","v":0},{"$f":"Import!T839","v":0},{"$f":"Import!U839","v":0},{"$f":"Import!V839","v":0},{"$f":"Import!W839","v":0},{"$f":"Import!X839","v":0},{"$f":"Import!Y839","v":0},{"$f":"Import!Z839","v":0},{"$f":"Import!AA839","v":0},{"$f":"Import!AB839","v":0},{"$f":"Import!AC839","v":0},{"$f":"Import!AD839","v":0},{"$f":"Import!AE839","v":0},{"$f":"Import!AF839","v":0},{"$f":"Import!AG839","v":0},{"$f":"Import!AH839","v":0},{"$f":"Import!AI839","v":0},{"$f":"Import!AJ839","v":0},{"$f":"Import!AK839","v":0},{"$f":"Import!AL839","v":0}]
[null,{"$f":"Import!A840","v":0},{"$f":"Import!B840","v":0},{"$f":"Import!H840","v":0},{"$f":"Import!I840","v":0},{"$f":"Import!J840","v":0},{"$f":"Import!K840","v":0},{"$f":"Import!L840","v":0},{"$f":"Import!M840","v":0},{"$f":"Import!N840","v":0},{"$f":"Import!O840","v":0},{"$f":"Import!P840","v":0},{"$f":"Import!Q840","v":0},{"$f":"Import!R840","v":0},{"$f":"Import!S840","v":0},{"$f":"Import!T840","v":0},{"$f":"Import!U840","v":0},{"$f":"Import!V840","v":0},{"$f":"Import!W840","v":0},{"$f":"Import!X840","v":0},{"$f":"Import!Y840","v":0},{"$f":"Import!Z840","v":0},{"$f":"Import!AA840","v":0},{"$f":"Import!AB840","v":0},{"$f":"Import!AC840","v":0},{"$f":"Import!AD840","v":0},{"$f":"Import!AE840","v":0},{"$f":"Import!AF840","v":0},{"$f":"Import!AG840","v":0},{"$f":"Import!AH840","v":0},{"$f":"Import!AI840","v":0},{"$f":"Import!AJ840","v":0},{"$f":"Import!AK840","v":0},{"$f":"Import!AL840","v":0}]
[null,{"$f":"Import!A841","v":0},{"$f":"Import!B841","v":0},{"$f":"Import!H841","v":0},{"$f":"Import!I841","v":0},{"$f":"Import!J841","v":0},{"$f":"Import!K841","v":0},{"$f":"Import!L841","v":0},{"$f":"Import!M841","v":0},{"$f":"Import!N841","v":0},{"$f":"Import!O841","v":0},{"$f":"Import!P841","v":0},{"$f":"Import!Q841","v":0},{"$f":"Import!R841","v":0},{"$f":"Import!S841","v":0},{"$f":"Import!T841","v":0},{"$f":"Import!U841","v":0},{"$f":"Import!V841","v":0},{"$f":"Import!W841","v":0},{"$f":"Import!X841","v":0},{"$f":"Import!Y841","v":0},{"$f":"Import!Z841","v":0},{"$f":"Import!AA841","v":0},{"$f":"Import!AB841","v":0},{"$f":"Import!AC841","v":0},{"$f":"Import!AD841","v":0},{"$f":"Import!AE841","v":0},{"$f":"Import!AF841","v":0},{"$f":"Import!AG841","v":0},{"$f":"Import!AH841","v":0},{"$f":"Import!AI841","v":0},{"$f":"Import!AJ841","v":0},{"$f":"Import!AK841","v":0},{"$f":"Import!AL841","v":0}]
[null,{"$f":"Import!A842","v":0},{"$f":"Import!B842","v":0},{"$f":"Import!H842","v":0},{"$f":"Import!I842","v":0},{"$f":"Import!J842","v":0},{"$f":"Import!K842","v":0},{"$f":"Import!L842","v":0},{"$f":"Import!M842","v":0},{"$f":"Import!N842","v":0},{"$f":"Import!O842","v":0},{"$f":"Import!P842","v":0},{"$f":"Import!Q842","v":0},{"$f":"Import!R842","v":0},{"$f":"Import!S842","v":0},{"$f":"Import!T842","v":0},{"$f":"Import!U842","v":0},{"$f":"Import!V842","v":0},{"$f":"Import!W842","v":0},{"$f":"Import!X842","v":0},{"$f":"Import!Y842","v":0},{"$f":"Import!Z842","v":0},{"$f":"Import!AA842","v":0},{"$f":"Import!AB842","v":0},{"$f":"Import!AC842","v":0},{"$f":"Import!AD842","v":0},{"$f":"Import!AE842","v":0},{"$f":"Import!AF842","v":0},{"$f":"Import!AG842","v":0},{"$f":"Import!AH842","v":0},{"$f":"Import!AI842","v":0},{"$f":"Import!AJ842","v":0},{"$f":"Import!AK842","v":0},{"$f":"Import!AL842","v":0}]
[null,{"$f":"Import!A843","v":0},{"$f":"Import!B843","v":0},{"$f":"Import!H843","v":0},{"$f":"Import!I843","v":0},{"$f":"Import!J843","v":0},{"$f":"Import!K843","v":0},{"$f":"Import!L843","v":0},{"$f":"Import!M843","v":0},{"$f":"Import!N843","v":0},{"$f":"Import!O843","v":0},{"$f":"Import!P843","v":0},{"$f":"Import!Q843","v":0},{"$f":"Import!R843","v":0},{"$f":"Import!S843","v":0},{"$f":"Import!T843","v":0},{"$f":"Import!U843","v":0},{"$f":"Import!V843","v":0},{"$f":"Import!W843","v":0},{"$f":"Import!X843","v":0},{"$f":"Import!Y843","v":0},{"$f":"Import!Z843","v":0},{"$f":"Import!AA843","v":0},{"$f":"Import!AB843","v":0},{"$f":"Import!AC843","v":0},{"$f":"Import!AD843","v":0},{"$f":"Import!AE843","v":0},{"$f":"Import!AF843","v":0},{"$f":"Import!AG843","v":0},{"$f":"Import!AH843","v":0},{"$f":"Import!AI843","v":0},{"$f":"Import!AJ843","v":0},{"$f":"Import!AK843","v":0},{"$f":"Import!AL843","v":0}]
[null,{"$f":"Import!A844","v":0},{"$f":"Import!B844","v":0},{"$f":"Import!H844","v":0},{"$f":"Import!I844","v":0},{"$f":"Import!J844","v":0},{"$f":"Import!K844","v":0},{"$f":"Import!L844","v":0},{"$f":"Import!M844","v":0},{"$f":"Import!N844","v":0},{"$f":"Import!O844","v":0},{"$f":"Import!P844","v":0},{"$f":"Import!Q844","v":0},{"$f":"Import!R844","v":0},{"$f":"Import!S844","v":0},{"$f":"Import!T844","v":0},{"$f":"Import!U844","v":0},{"$f":"Import!V844","v":0},{"$f":"Import!W844","v":0},{"$f":"Import!X844","v":0},{"$f":"Import!Y844","v":0},{"$f":"Import!Z844","v":0},{"$f":"Import!AA844","v":0},{"$f":"Import!AB844","v":0},{"$f":"Import!AC844","v":0},{"$f":"Import!AD844","v":0},{"$f":"Import!AE844","v":0},{"$f":"Import!AF844","v":0},{"$f":"Import!AG844","v":0},{"$f":"Import!AH844","v":0},{"$f":"Import!AI844","v":0},{"$f":"Import!AJ844","v":0},{"$f":"Import!AK844","v":0},{"$f":"Import!AL844","v":0}]
[null,{"$f":"Import!A845","v":0},{"$f":"Import!B845","v":0},{"$f":"Import!H845","v":0},{"$f":"Import!I845","v":0},{"$f":"Import!J845","v":0},{"$f":"Import!K845","v":0},{"$f":"Import!L845","v":0},{"$f":"Import!M845","v":0},{"$f":"Import!N845","v":0},{"$f":"Import!O845","v":0},{"$f":"Import!P845","v":0},{"$f":"Import!Q845","v":0},{"$f":"Import!R845","v":0},{"$f":"Import!S845","v":0},{"$f":"Import!T845","v":0},{"$f":"Import!U845","v":0},{"$f":"Import!V845","v":0},{"$f":"Import!W845","v":0},{"$f":"Import!X845","v":0},{"$f":"Import!Y845","v":0},{"$f":"Import!Z845","v":0},{"$f":"Import!AA845","v":0},{"$f":"Import!AB845","v":0},{"$f":"Import!AC845","v":0},{"$f":"Import!AD845","v":0},{"$f":"Import!AE845","v":0},{"$f":"Import!AF845","v":0},{"$f":"Import!AG845","v":0},{"$f":"Import!AH845","v":0},{"$f":"Import!AI845","v":0},{"$f":"Import!AJ845","v":0},{"$f":"Import!AK845","v":0},{"$f":"Import!AL845","v":0}]
[null,{"$f":"Import!A846","v":0},{"$f":"Import!B846","v":0},{"$f":"Import!H846","v":0},{"$f":"Import!I846","v":0},{"$f":"Import!J846","v":0},{"$f":"Import!K846","v":0},{"$f":"Import!L846","v":0},{"$f":"Import!M846","v":0},{"$f":"Import!N846","v":0},{"$f":"Import!O846","v":0},{"$f":"Import!P846","v":0},{"$f":"Import!Q846","v":0},{"$f":"Import!R846","v":0},{"$f":"Import!S846","v":0},{"$f":"Import!T846","v":0},{"$f":"Import!U846","v":0},{"$f":"Import!V846","v":0},{"$f":"Import!W846","v":0},{"$f":"Import!X846","v":0},{"$f":"Import!Y846","v":0},{"$f":"Import!Z846","v":0},{"$f":"Import!AA846","v":0},{"$f":"Import!AB846","v":0},{"$f":"Import!AC846","v":0},{"$f":"Import!AD846","v":0},{"$f":"Import!AE846","v":0},{"$f":"Import!AF846","v":0},{"$f":"Import!AG846","v":0},{"$f":"Import!AH846","v":0},{"$f":"Import!AI846","v":0},{"$f":"Import!AJ846","v":0},{"$f":"Import!AK846","v":0},{"$f":"Import!AL846","v":0}]
[null,{"$f":"Import!A847","v":0},{"$f":"Import!B847","v":0},{"$f":"Import!H847","v":0},{"$f":"Import!I847","v":0},{"$f":"Import!J847","v":0},{"$f":"Import!K847","v":0},{"$f":"Import!L847","v":0},{"$f":"Import!M847","v":0},{"$f":"Import!N847","v":0},{"$f":"Import!O847","v":0},{"$f":"Import!P847","v":0},{"$f":"Import!Q847","v":0},{"$f":"Import!R847","v":0},{"$f":"Import!S847","v":0},{"$f":"Import!T847","v":0},{"$f":"Import!U847","v":0},{"$f":"Import!V847","v":0},{"$f":"Import!W847","v":0},{"$f":"Import!X847","v":0},{"$f":"Import!Y847","v":0},{"$f":"Import!Z847","v":0},{"$f":"Import!AA847","v":0},{"$f":"Import!AB847","v":0},{"$f":"Import!AC847","v":0},{"$f":"Import!AD847","v":0},{"$f":"Import!AE847","v":0},{"$f":"Import!AF847","v":0},{"$f":"Import!AG847","v":0},{"$f":"Import!AH847","v":0},{"$f":"Import!AI847","v":0},{"$f":"Import!AJ847","v":0},{"$f":"Import!AK847","v":0},{"$f":"Import!AL847","v":0}]
[null,{"$f":"Import!A848","v":0},{"$f":"Import!B848","v":0},{"$f":"Import!H848","v":0},{"$f":"Import!I848","v":0},{"$f":"Import!J848","v":0},{"$f":"Import!K848","v":0},{"$f":"Import!L848","v":0},{"$f":"Import!M848","v":0},{"$f":"Import!N848","v":0},{"$f":"Import!O848","v":0},{"$f":"Import!P848","v":0},{"$f":"Import!Q848","v":0},{"$f":"Import!R848","v":0},{"$f":"Import!S848","v":0},{"$f":"Import!T848","v":0},{"$f":"Import!U848","v":0},{"$f":"Import!V848","v":0},{"$f":"Import!W848","v":0},{"$f":"Import!X848","v":0},{"$f":"Import!Y848","v":0},{"$f":"Import!Z848","v":0},{"$f":"Import!AA848","v":0},{"$f":"Import!AB848","v":0},{"$f":"Import!AC848","v":0},{"$f":"Import!AD848","v":0},{"$f":"Import!AE848","v":0},{"$f":"Import!AF848","v":0},{"$f":"Import!AG848","v":0},{"$f":"Import!AH848","v":0},{"$f":"Import!AI848","v":0},{"$f":"Import!AJ848","v":0},{"$f":"Import!AK848","v":0},{"$f":"Import!AL848","v":0}]
[null,{"$f":"Import!A849","v":0},{"$f":"Import!B849","v":0},{"$f":"Import!H849","v":0},{"$f":"Import!I849","v":0},{"$f":"Import!J849","v":0},{"$f":"Import!K849","v":0},{"$f":"Import!L849","v":0},{"$f":"Import!M849","v":0},{"$f":"Import!N849","v":0},{"$f":"Import!O849","v":0},{"$f":"Import!P849","v":0},{"$f":"Import!Q849","v":0},{"$f":"Import!R849","v":0},{"$f":"Import!S849","v":0},{"$f":"Import!T849","v":0},{"$f":"Import!U849","v":0},{"$f":"Import!V849","v":0},{"$f":"Import!W849","v":0},{"$f":"Import!X849","v":0},{"$f":"Import!Y849","v":0},{"$f":"Import!Z849","v":0},{"$f":"Import!AA849","v":0},{"$f":"Import!AB849","v":0},{"$f":"Import!AC849","v":0},{"$f":"Import!AD849","v":0},{"$f":"Import!AE849","v":0},{"$f":"Import!AF849","v":0},{"$f":"Import!AG849","v":0},{"$f":"Import!AH849","v":0},{"$f":"Import!AI849","v":0},{"$f":"Import!AJ849","v":0},{"$f":"Import!AK849","v":0},{"$f":"Import!AL849","v":0}]
[null,{"$f":"Import!A850","v":0},{"$f":"Import!B850","v":0},{"$f":"Import!H850","v":0},{"$f":"Import!I850","v":0},{"$f":"Import!J850","v":0},{"$f":"Import!K850","v":0},{"$f":"Import!L850","v":0},{"$f":"Import!M850","v":0},{"$f":"Import!N850","v":0},{"$f":"Import!O850","v":0},{"$f":"Import!P850","v":0},{"$f":"Import!Q850","v":0},{"$f":"Import!R850","v":0},{"$f":"Import!S850","v":0},{"$f":"Import!T850","v":0},{"$f":"Import!U850","v":0},{"$f":"Import!V850","v":0},{"$f":"Import!W850","v":0},{"$f":"Import!X850","v":0},{"$f":"Import!Y850","v":0},{"$f":"Import!Z850","v":0},{"$f":"Import!AA850","v":0},{"$f":"Import!AB850","v":0},{"$f":"Import!AC850","v":0},{"$f":"Import!AD850","v":0},{"$f":"Import!AE850","v":0},{"$f":"Import!AF850","v":0},{"$f":"Import!AG850","v":0},{"$f":"Import!AH850","v":0},{"$f":"Import!AI850","v":0},{"$f":"Import!AJ850","v":0},{"$f":"Import!AK850","v":0},{"$f":"Import!AL850","v":0}]
[null,{"$f":"Import!A851","v":0},{"$f":"Import!B851","v":0},{"$f":"Import!H851","v":0},{"$f":"Import!I851","v":0},{"$f":"Import!J851","v":0},{"$f":"Import!K851","v":0},{"$f":"Import!L851","v":0},{"$f":"Import!M851","v":0},{"$f":"Import!N851","v":0},{"$f":"Import!O851","v":0},{"$f":"Import!P851","v":0},{"$f":"Import!Q851","v":0},{"$f":"Import!R851","v":0},{"$f":"Import!S851","v":0},{"$f":"Import!T851","v":0},{"$f":"Import!U851","v":0},{"$f":"Import!V851","v":0},{"$f":"Import!W851","v":0},{"$f":"Import!X851","v":0},{"$f":"Import!Y851","v":0},{"$f":"Import!Z851","v":0},{"$f":"Import!AA851","v":0},{"$f":"Import!AB851","v":0},{"$f":"Import!AC851","v":0},{"$f":"Import!AD851","v":0},{"$f":"Import!AE851","v":0},{"$f":"Import!AF851","v":0},{"$f":"Import!AG851","v":0},{"$f":"Import!AH851","v":0},{"$f":"Import!AI851","v":0},{"$f":"Import!AJ851","v":0},{"$f":"Import!AK851","v":0},{"$f":"Import!AL851","v":0}]
[null,{"$f":"Import!A852","v":0},{"$f":"Import!B852","v":0},{"$f":"Import!H852","v":0},{"$f":"Import!I852","v":0},{"$f":"Import!J852","v":0},{"$f":"Import!K852","v":0},{"$f":"Import!L852","v":0},{"$f":"Import!M852","v":0},{"$f":"Import!N852","v":0},{"$f":"Import!O852","v":0},{"$f":"Import!P852","v":0},{"$f":"Import!Q852","v":0},{"$f":"Import!R852","v":0},{"$f":"Import!S852","v":0},{"$f":"Import!T852","v":0},{"$f":"Import!U852","v":0},{"$f":"Import!V852","v":0},{"$f":"Import!W852","v":0},{"$f":"Import!X852","v":0},{"$f":"Import!Y852","v":0},{"$f":"Import!Z852","v":0},{"$f":"Import!AA852","v":0},{"$f":"Import!AB852","v":0},{"$f":"Import!AC852","v":0},{"$f":"Import!AD852","v":0},{"$f":"Import!AE852","v":0},{"$f":"Import!AF852","v":0},{"$f":"Import!AG852","v":0},{"$f":"Import!AH852","v":0},{"$f":"Import!AI852","v":0},{"$f":"Import!AJ852","v":0},{"$f":"Import!AK852","v":0},{"$f":"Import!AL852","v":0}]
[null,{"$f":"Import!A853","v":0},{"$f":"Import!B853","v":0},{"$f":"Import!H853","v":0},{"$f":"Import!I853","v":0},{"$f":"Import!J853","v":0},{"$f":"Import!K853","v":0},{"$f":"Import!L853","v":0},{"$f":"Import!M853","v":0},{"$f":"Import!N853","v":0},{"$f":"Import!O853","v":0},{"$f":"Import!P853","v":0},{"$f":"Import!Q853","v":0},{"$f":"Import!R853","v":0},{"$f":"Import!S853","v":0},{"$f":"Import!T853","v":0},{"$f":"Import!U853","v":0},{"$f":"Import!V853","v":0},{"$f":"Import!W853","v":0},{"$f":"Import!X853","v":0},{"$f":"Import!Y853","v":0},{"$f":"Import!Z853","v":0},{"$f":"Import!AA853","v":0},{"$f":"Import!AB853","v":0},{"$f":"Import!AC853","v":0},{"$f":"Import!AD853","v":0},{"$f":"Import!AE853","v":0},{"$f":"Import!AF853","v":0},{"$f":"Import!AG853","v":0},{"$f":"Import!AH853","v":0},{"$f":"Import!AI853","v":0},{"$f":"Import!AJ853","v":0},{"$f":"Import!AK853","v":0},{"$f":"Import!AL853","v":0}]
[null,{"$f":"Import!A854","v":0},{"$f":"Import!B854","v":0},{"$f":"Import!H854","v":0},{"$f":"Import!I854","v":0},{"$f":"Import!J854","v":0},{"$f":"Import!K854","v":0},{"$f":"Import!L854","v":0},{"$f":"Import!M854","v":0},{"$f":"Import!N854","v":0},{"$f":"Import!O854","v":0},{"$f":"Import!P854","v":0},{"$f":"Import!Q854","v":0},{"$f":"Import!R854","v":0},{"$f":"Import!S854","v":0},{"$f":"Import!T854","v":0},{"$f":"Import!U854","v":0},{"$f":"Import!V854","v":0},{"$f":"Import!W854","v":0},{"$f":"Import!X854","v":0},{"$f":"Import!Y854","v":0},{"$f":"Import!Z854","v":0},{"$f":"Import!AA854","v":0},{"$f":"Import!AB854","v":0},{"$f":"Import!AC854","v":0},{"$f":"Import!AD854","v":0},{"$f":"Import!AE854","v":0},{"$f":"Import!AF854","v":0},{"$f":"Import!AG854","v":0},{"$f":"Import!AH854","v":0},{"$f":"Import!AI854","v":0},{"$f":"Import!AJ854","v":0},{"$f":"Import!AK854","v":0},{"$f":"Import!AL854","v":0}]
[null,{"$f":"Import!A855","v":0},{"$f":"Import!B855","v":0},{"$f":"Import!H855","v":0},{"$f":"Import!I855","v":0},{"$f":"Import!J855","v":0},{"$f":"Import!K855","v":0},{"$f":"Import!L855","v":0},{"$f":"Import!M855","v":0},{"$f":"Import!N855","v":0},{"$f":"Import!O855","v":0},{"$f":"Import!P855","v":0},{"$f":"Import!Q855","v":0},{"$f":"Import!R855","v":0},{"$f":"Import!S855","v":0},{"$f":"Import!T855","v":0},{"$f":"Import!U855","v":0},{"$f":"Import!V855","v":0},{"$f":"Import!W855","v":0},{"$f":"Import!X855","v":0},{"$f":"Import!Y855","v":0},{"$f":"Import!Z855","v":0},{"$f":"Import!AA855","v":0},{"$f":"Import!AB855","v":0},{"$f":"Import!AC855","v":0},{"$f":"Import!AD855","v":0},{"$f":"Import!AE855","v":0},{"$f":"Import!AF855","v":0},{"$f":"Import!AG855","v":0},{"$f":"Import!AH855","v":0},{"$f":"Import!AI855","v":0},{"$f":"Import!AJ855","v":0},{"$f":"Import!AK855","v":0},{"$f":"Import!AL855","v":0}]
[null,{"$f":"Import!A856","v":0},{"$f":"Import!B856","v":0},{"$f":"Import!H856","v":0},{"$f":"Import!I856","v":0},{"$f":"Import!J856","v":0},{"$f":"Import!K856","v":0},{"$f":"Import!L856","v":0},{"$f":"Import!M856","v":0},{"$f":"Import!N856","v":0},{"$f":"Import!O856","v":0},{"$f":"Import!P856","v":0},{"$f":"Import!Q856","v":0},{"$f":"Import!R856","v":0},{"$f":"Import!S856","v":0},{"$f":"Import!T856","v":0},{"$f":"Import!U856","v":0},{"$f":"Import!V856","v":0},{"$f":"Import!W856","v":0},{"$f":"Import!X856","v":0},{"$f":"Import!Y856","v":0},{"$f":"Import!Z856","v":0},{"$f":"Import!AA856","v":0},{"$f":"Import!AB856","v":0},{"$f":"Import!AC856","v":0},{"$f":"Import!AD856","v":0},{"$f":"Import!AE856","v":0},{"$f":"Import!AF856","v":0},{"$f":"Import!AG856","v":0},{"$f":"Import!AH856","v":0},{"$f":"Import!AI856","v":0},{"$f":"Import!AJ856","v":0},{"$f":"Import!AK856","v":0},{"$f":"Import!AL856","v":0}]
[null,{"$f":"Import!A857","v":0},{"$f":"Import!B857","v":0},{"$f":"Import!H857","v":0},{"$f":"Import!I857","v":0},{"$f":"Import!J857","v":0},{"$f":"Import!K857","v":0},{"$f":"Import!L857","v":0},{"$f":"Import!M857","v":0},{"$f":"Import!N857","v":0},{"$f":"Import!O857","v":0},{"$f":"Import!P857","v":0},{"$f":"Import!Q857","v":0},{"$f":"Import!R857","v":0},{"$f":"Import!S857","v":0},{"$f":"Import!T857","v":0},{"$f":"Import!U857","v":0},{"$f":"Import!V857","v":0},{"$f":"Import!W857","v":0},{"$f":"Import!X857","v":0},{"$f":"Import!Y857","v":0},{"$f":"Import!Z857","v":0},{"$f":"Import!AA857","v":0},{"$f":"Import!AB857","v":0},{"$f":"Import!AC857","v":0},{"$f":"Import!AD857","v":0},{"$f":"Import!AE857","v":0},{"$f":"Import!AF857","v":0},{"$f":"Import!AG857","v":0},{"$f":"Import!AH857","v":0},{"$f":"Import!AI857","v":0},{"$f":"Import!AJ857","v":0},{"$f":"Import!AK857","v":0},{"$f":"Import!AL857","v":0}]
[null,{"$f":"Import!A858","v":0},{"$f":"Import!B858","v":0},{"$f":"Import!H858","v":0},{"$f":"Import!I858","v":0},{"$f":"Import!J858","v":0},{"$f":"Import!K858","v":0},{"$f":"Import!L858","v":0},{"$f":"Import!M858","v":0},{"$f":"Import!N858","v":0},{"$f":"Import!O858","v":0},{"$f":"Import!P858","v":0},{"$f":"Import!Q858","v":0},{"$f":"Import!R858","v":0},{"$f":"Import!S858","v":0},{"$f":"Import!T858","v":0},{"$f":"Import!U858","v":0},{"$f":"Import!V858","v":0},{"$f":"Import!W858","v":0},{"$f":"Import!X858","v":0},{"$f":"Import!Y858","v":0},{"$f":"Import!Z858","v":0},{"$f":"Import!AA858","v":0},{"$f":"Import!AB858","v":0},{"$f":"Import!AC858","v":0},{"$f":"Import!AD858","v":0},{"$f":"Import!AE858","v":0},{"$f":"Import!AF858","v":0},{"$f":"Import!AG858","v":0},{"$f":"Import!AH858","v":0},{"$f":"Import!AI858","v":0},{"$f":"Import!AJ858","v":0},{"$f":"Import!AK858","v":0},{"$f":"Import!AL858","v":0}]
[null,{"$f":"Import!A859","v":0},{"$f":"Import!B859","v":0},{"$f":"Import!H859","v":0},{"$f":"Import!I859","v":0},{"$f":"Import!J859","v":0},{"$f":"Import!K859","v":0},{"$f":"Import!L859","v":0},{"$f":"Import!M859","v":0},{"$f":"Import!N859","v":0},{"$f":"Import!O859","v":0},{"$f":"Import!P859","v":0},{"$f":"Import!Q859","v":0},{"$f":"Import!R859","v":0},{"$f":"Import!S859","v":0},{"$f":"Import!T859","v":0},{"$f":"Import!U859","v":0},{"$f":"Import!V859","v":0},{"$f":"Import!W859","v":0},{"$f":"Import!X859","v":0},{"$f":"Import!Y859","v":0},{"$f":"Import!Z859","v":0},{"$f":"Import!AA859","v":0},{"$f":"Import!AB859","v":0},{"$f":"Import!AC859","v":0},{"$f":"Import!AD859","v":0},{"$f":"Import!AE859","v":0},{"$f":"Import!AF859","v":0},{"$f":"Import!AG859","v":0},{"$f":"Import!AH859","v":0},{"$f":"Import!AI859","v":0},{"$f":"Import!AJ859","v":0},{"$f":"Import!AK859","v":0},{"$f":"Import!AL859","v":0}]
[null,{"$f":"Import!A860","v":0},{"$f":"Import!B860","v":0},{"$f":"Import!H860","v":0},{"$f":"Import!I860","v":0},{"$f":"Import!J860","v":0},{"$f":"Import!K860","v":0},{"$f":"Import!L860","v":0},{"$f":"Import!M860","v":0},{"$f":"Import!N860","v":0},{"$f":"Import!O860","v":0},{"$f":"Import!P860","v":0},{"$f":"Import!Q860","v":0},{"$f":"Import!R860","v":0},{"$f":"Import!S860","v":0},{"$f":"Import!T860","v":0},{"$f":"Import!U860","v":0},{"$f":"Import!V860","v":0},{"$f":"Import!W860","v":0},{"$f":"Import!X860","v":0},{"$f":"Import!Y860","v":0},{"$f":"Import!Z860","v":0},{"$f":"Import!AA860","v":0},{"$f":"Import!AB860","v":0},{"$f":"Import!AC860","v":0},{"$f":"Import!AD860","v":0},{"$f":"Import!AE860","v":0},{"$f":"Import!AF860","v":0},{"$f":"Import!AG860","v":0},{"$f":"Import!AH860","v":0},{"$f":"Import!AI860","v":0},{"$f":"Import!AJ860","v":0},{"$f":"Import!AK860","v":0},{"$f":"Import!AL860","v":0}]
[null,{"$f":"Import!A861","v":0},{"$f":"Import!B861","v":0},{"$f":"Import!H861","v":0},{"$f":"Import!I861","v":0},{"$f":"Import!J861","v":0},{"$f":"Import!K861","v":0},{"$f":"Import!L861","v":0},{"$f":"Import!M861","v":0},{"$f":"Import!N861","v":0},{"$f":"Import!O861","v":0},{"$f":"Import!P861","v":0},{"$f":"Import!Q861","v":0},{"$f":"Import!R861","v":0},{"$f":"Import!S861","v":0},{"$f":"Import!T861","v":0},{"$f":"Import!U861","v":0},{"$f":"Import!V861","v":0},{"$f":"Import!W861","v":0},{"$f":"Import!X861","v":0},{"$f":"Import!Y861","v":0},{"$f":"Import!Z861","v":0},{"$f":"Import!AA861","v":0},{"$f":"Import!AB861","v":0},{"$f":"Import!AC861","v":0},{"$f":"Import!AD861","v":0},{"$f":"Import!AE861","v":0},{"$f":"Import!AF861","v":0},{"$f":"Import!AG861","v":0},{"$f":"Import!AH861","v":0},{"$f":"Import!AI861","v":0},{"$f":"Import!AJ861","v":0},{"$f":"Import!AK861","v":0},{"$f":"Import!AL861","v":0}]
[null,{"$f":"Import!A862","v":0},{"$f":"Import!B862","v":0},{"$f":"Import!H862","v":0},{"$f":"Import!I862","v":0},{"$f":"Import!J862","v":0},{"$f":"Import!K862","v":0},{"$f":"Import!L862","v":0},{"$f":"Import!M862","v":0},{"$f":"Import!N862","v":0},{"$f":"Import!O862","v":0},{"$f":"Import!P862","v":0},{"$f":"Import!Q862","v":0},{"$f":"Import!R862","v":0},{"$f":"Import!S862","v":0},{"$f":"Import!T862","v":0},{"$f":"Import!U862","v":0},{"$f":"Import!V862","v":0},{"$f":"Import!W862","v":0},{"$f":"Import!X862","v":0},{"$f":"Import!Y862","v":0},{"$f":"Import!Z862","v":0},{"$f":"Import!AA862","v":0},{"$f":"Import!AB862","v":0},{"$f":"Import!AC862","v":0},{"$f":"Import!AD862","v":0},{"$f":"Import!AE862","v":0},{"$f":"Import!AF862","v":0},{"$f":"Import!AG862","v":0},{"$f":"Import!AH862","v":0},{"$f":"Import!AI862","v":0},{"$f":"Import!AJ862","v":0},{"$f":"Import!AK862","v":0},{"$f":"Import!AL862","v":0}]
[null,{"$f":"Import!A863","v":0},{"$f":"Import!B863","v":0},{"$f":"Import!H863","v":0},{"$f":"Import!I863","v":0},{"$f":"Import!J863","v":0},{"$f":"Import!K863","v":0},{"$f":"Import!L863","v":0},{"$f":"Import!M863","v":0},{"$f":"Import!N863","v":0},{"$f":"Import!O863","v":0},{"$f":"Import!P863","v":0},{"$f":"Import!Q863","v":0},{"$f":"Import!R863","v":0},{"$f":"Import!S863","v":0},{"$f":"Import!T863","v":0},{"$f":"Import!U863","v":0},{"$f":"Import!V863","v":0},{"$f":"Import!W863","v":0},{"$f":"Import!X863","v":0},{"$f":"Import!Y863","v":0},{"$f":"Import!Z863","v":0},{"$f":"Import!AA863","v":0},{"$f":"Import!AB863","v":0},{"$f":"Import!AC863","v":0},{"$f":"Import!AD863","v":0},{"$f":"Import!AE863","v":0},{"$f":"Import!AF863","v":0},{"$f":"Import!AG863","v":0},{"$f":"Import!AH863","v":0},{"$f":"Import!AI863","v":0},{"$f":"Import!AJ863","v":0},{"$f":"Import!AK863","v":0},{"$f":"Import!AL863","v":0}]
[null,{"$f":"Import!A864","v":0},{"$f":"Import!B864","v":0},{"$f":"Import!H864","v":0},{"$f":"Import!I864","v":0},{"$f":"Import!J864","v":0},{"$f":"Import!K864","v":0},{"$f":"Import!L864","v":0},{"$f":"Import!M864","v":0},{"$f":"Import!N864","v":0},{"$f":"Import!O864","v":0},{"$f":"Import!P864","v":0},{"$f":"Import!Q864","v":0},{"$f":"Import!R864","v":0},{"$f":"Import!S864","v":0},{"$f":"Import!T864","v":0},{"$f":"Import!U864","v":0},{"$f":"Import!V864","v":0},{"$f":"Import!W864","v":0},{"$f":"Import!X864","v":0},{"$f":"Import!Y864","v":0},{"$f":"Import!Z864","v":0},{"$f":"Import!AA864","v":0},{"$f":"Import!AB864","v":0},{"$f":"Import!AC864","v":0},{"$f":"Import!AD864","v":0},{"$f":"Import!AE864","v":0},{"$f":"Import!AF864","v":0},{"$f":"Import!AG864","v":0},{"$f":"Import!AH864","v":0},{"$f":"Import!AI864","v":0},{"$f":"Import!AJ864","v":0},{"$f":"Import!AK864","v":0},{"$f":"Import!AL864","v":0}]
[null,{"$f":"Import!A865","v":0},{"$f":"Import!B865","v":0},{"$f":"Import!H865","v":0},{"$f":"Import!I865","v":0},{"$f":"Import!J865","v":0},{"$f":"Import!K865","v":0},{"$f":"Import!L865","v":0},{"$f":"Import!M865","v":0},{"$f":"Import!N865","v":0},{"$f":"Import!O865","v":0},{"$f":"Import!P865","v":0},{"$f":"Import!Q865","v":0},{"$f":"Import!R865","v":0},{"$f":"Import!S865","v":0},{"$f":"Import!T865","v":0},{"$f":"Import!U865","v":0},{"$f":"Import!V865","v":0},{"$f":"Import!W865","v":0},{"$f":"Import!X865","v":0},{"$f":"Import!Y865","v":0},{"$f":"Import!Z865","v":0},{"$f":"Import!AA865","v":0},{"$f":"Import!AB865","v":0},{"$f":"Import!AC865","v":0},{"$f":"Import!AD865","v":0},{"$f":"Import!AE865","v":0},{"$f":"Import!AF865","v":0},{"$f":"Import!AG865","v":0},{"$f":"Import!AH865","v":0},{"$f":"Import!AI865","v":0},{"$f":"Import!AJ865","v":0},{"$f":"Import!AK865","v":0},{"$f":"Import!AL865","v":0}]
[null,{"$f":"Import!A866","v":0},{"$f":"Import!B866","v":0},{"$f":"Import!H866","v":0},{"$f":"Import!I866","v":0},{"$f":"Import!J866","v":0},{"$f":"Import!K866","v":0},{"$f":"Import!L866","v":0},{"$f":"Import!M866","v":0},{"$f":"Import!N866","v":0},{"$f":"Import!O866","v":0},{"$f":"Import!P866","v":0},{"$f":"Import!Q866","v":0},{"$f":"Import!R866","v":0},{"$f":"Import!S866","v":0},{"$f":"Import!T866","v":0},{"$f":"Import!U866","v":0},{"$f":"Import!V866","v":0},{"$f":"Import!W866","v":0},{"$f":"Import!X866","v":0},{"$f":"Import!Y866","v":0},{"$f":"Import!Z866","v":0},{"$f":"Import!AA866","v":0},{"$f":"Import!AB866","v":0},{"$f":"Import!AC866","v":0},{"$f":"Import!AD866","v":0},{"$f":"Import!AE866","v":0},{"$f":"Import!AF866","v":0},{"$f":"Import!AG866","v":0},{"$f":"Import!AH866","v":0},{"$f":"Import!AI866","v":0},{"$f":"Import!AJ866","v":0},{"$f":"Import!AK866","v":0},{"$f":"Import!AL866","v":0}]
[null,{"$f":"Import!A867","v":0},{"$f":"Import!B867","v":0},{"$f":"Import!H867","v":0},{"$f":"Import!I867","v":0},{"$f":"Import!J867","v":0},{"$f":"Import!K867","v":0},{"$f":"Import!L867","v":0},{"$f":"Import!M867","v":0},{"$f":"Import!N867","v":0},{"$f":"Import!O867","v":0},{"$f":"Import!P867","v":0},{"$f":"Import!Q867","v":0},{"$f":"Import!R867","v":0},{"$f":"Import!S867","v":0},{"$f":"Import!T867","v":0},{"$f":"Import!U867","v":0},{"$f":"Import!V867","v":0},{"$f":"Import!W867","v":0},{"$f":"Import!X867","v":0},{"$f":"Import!Y867","v":0},{"$f":"Import!Z867","v":0},{"$f":"Import!AA867","v":0},{"$f":"Import!AB867","v":0},{"$f":"Import!AC867","v":0},{"$f":"Import!AD867","v":0},{"$f":"Import!AE867","v":0},{"$f":"Import!AF867","v":0},{"$f":"Import!AG867","v":0},{"$f":"Import!AH867","v":0},{"$f":"Import!AI867","v":0},{"$f":"Import!AJ867","v":0},{"$f":"Import!AK867","v":0},{"$f":"Import!AL867","v":0}]
[null,{"$f":"Import!A868","v":0},{"$f":"Import!B868","v":0},{"$f":"Import!H868","v":0},{"$f":"Import!I868","v":0},{"$f":"Import!J868","v":0},{"$f":"Import!K868","v":0},{"$f":"Import!L868","v":0},{"$f":"Import!M868","v":0},{"$f":"Import!N868","v":0},{"$f":"Import!O868","v":0},{"$f":"Import!P868","v":0},{"$f":"Import!Q868","v":0},{"$f":"Import!R868","v":0},{"$f":"Import!S868","v":0},{"$f":"Import!T868","v":0},{"$f":"Import!U868","v":0},{"$f":"Import!V868","v":0},{"$f":"Import!W868","v":0},{"$f":"Import!X868","v":0},{"$f":"Import!Y868","v":0},{"$f":"Import!Z868","v":0},{"$f":"Import!AA868","v":0},{"$f":"Import!AB868","v":0},{"$f":"Import!AC868","v":0},{"$f":"Import!AD868","v":0},{"$f":"Import!AE868","v":0},{"$f":"Import!AF868","v":0},{"$f":"Import!AG868","v":0},{"$f":"Import!AH868","v":0},{"$f":"Import!AI868","v":0},{"$f":"Import!AJ868","v":0},{"$f":"Import!AK868","v":0},{"$f":"Import!AL868","v":0}]
[null,{"$f":"Import!A869","v":0},{"$f":"Import!B869","v":0},{"$f":"Import!H869","v":0},{"$f":"Import!I869","v":0},{"$f":"Import!J869","v":0},{"$f":"Import!K869","v":0},{"$f":"Import!L869","v":0},{"$f":"Import!M869","v":0},{"$f":"Import!N869","v":0},{"$f":"Import!O869","v":0},{"$f":"Import!P869","v":0},{"$f":"Import!Q869","v":0},{"$f":"Import!R869","v":0},{"$f":"Import!S869","v":0},{"$f":"Import!T869","v":0},{"$f":"Import!U869","v":0},{"$f":"Import!V869","v":0},{"$f":"Import!W869","v":0},{"$f":"Import!X869","v":0},{"$f":"Import!Y869","v":0},{"$f":"Import!Z869","v":0},{"$f":"Import!AA869","v":0},{"$f":"Import!AB869","v":0},{"$f":"Import!AC869","v":0},{"$f":"Import!AD869","v":0},{"$f":"Import!AE869","v":0},{"$f":"Import!AF869","v":0},{"$f":"Import!AG869","v":0},{"$f":"Import!AH869","v":0},{"$f":"Import!AI869","v":0},{"$f":"Import!AJ869","v":0},{"$f":"Import!AK869","v":0},{"$f":"Import!AL869","v":0}]
[null,{"$f":"Import!A870","v":0},{"$f":"Import!B870","v":0},{"$f":"Import!H870","v":0},{"$f":"Import!I870","v":0},{"$f":"Import!J870","v":0},{"$f":"Import!K870","v":0},{"$f":"Import!L870","v":0},{"$f":"Import!M870","v":0},{"$f":"Import!N870","v":0},{"$f":"Import!O870","v":0},{"$f":"Import!P870","v":0},{"$f":"Import!Q870","v":0},{"$f":"Import!R870","v":0},{"$f":"Import!S870","v":0},{"$f":"Import!T870","v":0},{"$f":"Import!U870","v":0},{"$f":"Import!V870","v":0},{"$f":"Import!W870","v":0},{"$f":"Import!X870","v":0},{"$f":"Import!Y870","v":0},{"$f":"Import!Z870","v":0},{"$f":"Import!AA870","v":0},{"$f":"Import!AB870","v":0},{"$f":"Import!AC870","v":0},{"$f":"Import!AD870","v":0},{"$f":"Import!AE870","v":0},{"$f":"Import!AF870","v":0},{"$f":"Import!AG870","v":0},{"$f":"Import!AH870","v":0},{"$f":"Import!AI870","v":0},{"$f":"Import!AJ870","v":0},{"$f":"Import!AK870","v":0},{"$f":"Import!AL870","v":0}]
[null,{"$f":"Import!A871","v":0},{"$f":"Import!B871","v":0},{"$f":"Import!H871","v":0},{"$f":"Import!I871","v":0},{"$f":"Import!J871","v":0},{"$f":"Import!K871","v":0},{"$f":"Import!L871","v":0},{"$f":"Import!M871","v":0},{"$f":"Import!N871","v":0},{"$f":"Import!O871","v":0},{"$f":"Import!P871","v":0},{"$f":"Import!Q871","v":0},{"$f":"Import!R871","v":0},{"$f":"Import!S871","v":0},{"$f":"Import!T871","v":0},{"$f":"Import!U871","v":0},{"$f":"Import!V871","v":0},{"$f":"Import!W871","v":0},{"$f":"Import!X871","v":0},{"$f":"Import!Y871","v":0},{"$f":"Import!Z871","v":0},{"$f":"Import!AA871","v":0},{"$f":"Import!AB871","v":0},{"$f":"Import!AC871","v":0},{"$f":"Import!AD871","v":0},{"$f":"Import!AE871","v":0},{"$f":"Import!AF871","v":0},{"$f":"Import!AG871","v":0},{"$f":"Import!AH871","v":0},{"$f":"Import!AI871","v":0},{"$f":"Import!AJ871","v":0},{"$f":"Import!AK871","v":0},{"$f":"Import!AL871","v":0}]
[null,{"$f":"Import!A872","v":0},{"$f":"Import!B872","v":0},{"$f":"Import!H872","v":0},{"$f":"Import!I872","v":0},{"$f":"Import!J872","v":0},{"$f":"Import!K872","v":0},{"$f":"Import!L872","v":0},{"$f":"Import!M872","v":0},{"$f":"Import!N872","v":0},{"$f":"Import!O872","v":0},{"$f":"Import!P872","v":0},{"$f":"Import!Q872","v":0},{"$f":"Import!R872","v":0},{"$f":"Import!S872","v":0},{"$f":"Import!T872","v":0},{"$f":"Import!U872","v":0},{"$f":"Import!V872","v":0},{"$f":"Import!W872","v":0},{"$f":"Import!X872","v":0},{"$f":"Import!Y872","v":0},{"$f":"Import!Z872","v":0},{"$f":"Import!AA872","v":0},{"$f":"Import!AB872","v":0},{"$f":"Import!AC872","v":0},{"$f":"Import!AD872","v":0},{"$f":"Import!AE872","v":0},{"$f":"Import!AF872","v":0},{"$f":"Import!AG872","v":0},{"$f":"Import!AH872","v":0},{"$f":"Import!AI872","v":0},{"$f":"Import!AJ872","v":0},{"$f":"Import!AK872","v":0},{"$f":"Import!AL872","v":0}]
[null,{"$f":"Import!A873","v":0},{"$f":"Import!B873","v":0},{"$f":"Import!H873","v":0},{"$f":"Import!I873","v":0},{"$f":"Import!J873","v":0},{"$f":"Import!K873","v":0},{"$f":"Import!L873","v":0},{"$f":"Import!M873","v":0},{"$f":"Import!N873","v":0},{"$f":"Import!O873","v":0},{"$f":"Import!P873","v":0},{"$f":"Import!Q873","v":0},{"$f":"Import!R873","v":0},{"$f":"Import!S873","v":0},{"$f":"Import!T873","v":0},{"$f":"Import!U873","v":0},{"$f":"Import!V873","v":0},{"$f":"Import!W873","v":0},{"$f":"Import!X873","v":0},{"$f":"Import!Y873","v":0},{"$f":"Import!Z873","v":0},{"$f":"Import!AA873","v":0},{"$f":"Import!AB873","v":0},{"$f":"Import!AC873","v":0},{"$f":"Import!AD873","v":0},{"$f":"Import!AE873","v":0},{"$f":"Import!AF873","v":0},{"$f":"Import!AG873","v":0},{"$f":"Import!AH873","v":0},{"$f":"Import!AI873","v":0},{"$f":"Import!AJ873","v":0},{"$f":"Import!AK873","v":0},{"$f":"Import!AL873","v":0}]
[null,{"$f":"Import!A874","v":0},{"$f":"Import!B874","v":0},{"$f":"Import!H874","v":0},{"$f":"Import!I874","v":0},{"$f":"Import!J874","v":0},{"$f":"Import!K874","v":0},{"$f":"Import!L874","v":0},{"$f":"Import!M874","v":0},{"$f":"Import!N874","v":0},{"$f":"Import!O874","v":0},{"$f":"Import!P874","v":0},{"$f":"Import!Q874","v":0},{"$f":"Import!R874","v":0},{"$f":"Import!S874","v":0},{"$f":"Import!T874","v":0},{"$f":"Import!U874","v":0},{"$f":"Import!V874","v":0},{"$f":"Import!W874","v":0},{"$f":"Import!X874","v":0},{"$f":"Import!Y874","v":0},{"$f":"Import!Z874","v":0},{"$f":"Import!AA874","v":0},{"$f":"Import!AB874","v":0},{"$f":"Import!AC874","v":0},{"$f":"Import!AD874","v":0},{"$f":"Import!AE874","v":0},{"$f":"Import!AF874","v":0},{"$f":"Import!AG874","v":0},{"$f":"Import!AH874","v":0},{"$f":"Import!AI874","v":0},{"$f":"Import!AJ874","v":0},{"$f":"Import!AK874","v":0},{"$f":"Import!AL874","v":0}]
[null,{"$f":"Import!A875","v":0},{"$f":"Import!B875","v":0},{"$f":"Import!H875","v":0},{"$f":"Import!I875","v":0},{"$f":"Import!J875","v":0},{"$f":"Import!K875","v":0},{"$f":"Import!L875","v":0},{"$f":"Import!M875","v":0},{"$f":"Import!N875","v":0},{"$f":"Import!O875","v":0},{"$f":"Import!P875","v":0},{"$f":"Import!Q875","v":0},{"$f":"Import!R875","v":0},{"$f":"Import!S875","v":0},{"$f":"Import!T875","v":0},{"$f":"Import!U875","v":0},{"$f":"Import!V875","v":0},{"$f":"Import!W875","v":0},{"$f":"Import!X875","v":0},{"$f":"Import!Y875","v":0},{"$f":"Import!Z875","v":0},{"$f":"Import!AA875","v":0},{"$f":"Import!AB875","v":0},{"$f":"Import!AC875","v":0},{"$f":"Import!AD875","v":0},{"$f":"Import!AE875","v":0},{"$f":"Import!AF875","v":0},{"$f":"Import!AG875","v":0},{"$f":"Import!AH875","v":0},{"$f":"Import!AI875","v":0},{"$f":"Import!AJ875","v":0},{"$f":"Import!AK875","v":0},{"$f":"Import!AL875","v":0}]
[null,{"$f":"Import!A876","v":0},{"$f":"Import!B876","v":0},{"$f":"Import!H876","v":0},{"$f":"Import!I876","v":0},{"$f":"Import!J876","v":0},{"$f":"Import!K876","v":0},{"$f":"Import!L876","v":0},{"$f":"Import!M876","v":0},{"$f":"Import!N876","v":0},{"$f":"Import!O876","v":0},{"$f":"Import!P876","v":0},{"$f":"Import!Q876","v":0},{"$f":"Import!R876","v":0},{"$f":"Import!S876","v":0},{"$f":"Import!T876","v":0},{"$f":"Import!U876","v":0},{"$f":"Import!V876","v":0},{"$f":"Import!W876","v":0},{"$f":"Import!X876","v":0},{"$f":"Import!Y876","v":0},{"$f":"Import!Z876","v":0},{"$f":"Import!AA876","v":0},{"$f":"Import!AB876","v":0},{"$f":"Import!AC876","v":0},{"$f":"Import!AD876","v":0},{"$f":"Import!AE876","v":0},{"$f":"Import!AF876","v":0},{"$f":"Import!AG876","v":0},{"$f":"Import!AH876","v":0},{"$f":"Import!AI876","v":0},{"$f":"Import!AJ876","v":0},{"$f":"Import!AK876","v":0},{"$f":"Import!AL876","v":0}]
[null,{"$f":"Import!A877","v":0},{"$f":"Import!B877","v":0},{"$f":"Import!H877","v":0},{"$f":"Import!I877","v":0},{"$f":"Import!J877","v":0},{"$f":"Import!K877","v":0},{"$f":"Import!L877","v":0},{"$f":"Import!M877","v":0},{"$f":"Import!N877","v":0},{"$f":"Import!O877","v":0},{"$f":"Import!P877","v":0},{"$f":"Import!Q877","v":0},{"$f":"Import!R877","v":0},{"$f":"Import!S877","v":0},{"$f":"Import!T877","v":0},{"$f":"Import!U877","v":0},{"$f":"Import!V877","v":0},{"$f":"Import!W877","v":0},{"$f":"Import!X877","v":0},{"$f":"Import!Y877","v":0},{"$f":"Import!Z877","v":0},{"$f":"Import!AA877","v":0},{"$f":"Import!AB877","v":0},{"$f":"Import!AC877","v":0},{"$f":"Import!AD877","v":0},{"$f":"Import!AE877","v":0},{"$f":"Import!AF877","v":0},{"$f":"Import!AG877","v":0},{"$f":"Import!AH877","v":0},{"$f":"Import!AI877","v":0},{"$f":"Import!AJ877","v":0},{"$f":"Import!AK877","v":0},{"$f":"Import!AL877","v":0}]
[null,{"$f":"Import!A878","v":0},{"$f":"Import!B878","v":0},{"$f":"Import!H878","v":0},{"$f":"Import!I878","v":0},{"$f":"Import!J878","v":0},{"$f":"Import!K878","v":0},{"$f":"Import!L878","v":0},{"$f":"Import!M878","v":0},{"$f":"Import!N878","v":0},{"$f":"Import!O878","v":0},{"$f":"Import!P878","v":0},{"$f":"Import!Q878","v":0},{"$f":"Import!R878","v":0},{"$f":"Import!S878","v":0},{"$f":"Import!T878","v":0},{"$f":"Import!U878","v":0},{"$f":"Import!V878","v":0},{"$f":"Import!W878","v":0},{"$f":"Import!X878","v":0},{"$f":"Import!Y878","v":0},{"$f":"Import!Z878","v":0},{"$f":"Import!AA878","v":0},{"$f":"Import!AB878","v":0},{"$f":"Import!AC878","v":0},{"$f":"Import!AD878","v":0},{"$f":"Import!AE878","v":0},{"$f":"Import!AF878","v":0},{"$f":"Import!AG878","v":0},{"$f":"Import!AH878","v":0},{"$f":"Import!AI878","v":0},{"$f":"Import!AJ878","v":0},{"$f":"Import!AK878","v":0},{"$f":"Import!AL878","v":0}]
[null,{"$f":"Import!A879","v":0},{"$f":"Import!B879","v":0},{"$f":"Import!H879","v":0},{"$f":"Import!I879","v":0},{"$f":"Import!J879","v":0},{"$f":"Import!K879","v":0},{"$f":"Import!L879","v":0},{"$f":"Import!M879","v":0},{"$f":"Import!N879","v":0},{"$f":"Import!O879","v":0},{"$f":"Import!P879","v":0},{"$f":"Import!Q879","v":0},{"$f":"Import!R879","v":0},{"$f":"Import!S879","v":0},{"$f":"Import!T879","v":0},{"$f":"Import!U879","v":0},{"$f":"Import!V879","v":0},{"$f":"Import!W879","v":0},{"$f":"Import!X879","v":0},{"$f":"Import!Y879","v":0},{"$f":"Import!Z879","v":0},{"$f":"Import!AA879","v":0},{"$f":"Import!AB879","v":0},{"$f":"Import!AC879","v":0},{"$f":"Import!AD879","v":0},{"$f":"Import!AE879","v":0},{"$f":"Import!AF879","v":0},{"$f":"Import!AG879","v":0},{"$f":"Import!AH879","v":0},{"$f":"Import!AI879","v":0},{"$f":"Import!AJ879","v":0},{"$f":"Import!AK879","v":0},{"$f":"Import!AL879","v":0}]
[null,{"$f":"Import!A880","v":0},{"$f":"Import!B880","v":0},{"$f":"Import!H880","v":0},{"$f":"Import!I880","v":0},{"$f":"Import!J880","v":0},{"$f":"Import!K880","v":0},{"$f":"Import!L880","v":0},{"$f":"Import!M880","v":0},{"$f":"Import!N880","v":0},{"$f":"Import!O880","v":0},{"$f":"Import!P880","v":0},{"$f":"Import!Q880","v":0},{"$f":"Import!R880","v":0},{"$f":"Import!S880","v":0},{"$f":"Import!T880","v":0},{"$f":"Import!U880","v":0},{"$f":"Import!V880","v":0},{"$f":"Import!W880","v":0},{"$f":"Import!X880","v":0},{"$f":"Import!Y880","v":0},{"$f":"Import!Z880","v":0},{"$f":"Import!AA880","v":0},{"$f":"Import!AB880","v":0},{"$f":"Import!AC880","v":0},{"$f":"Import!AD880","v":0},{"$f":"Import!AE880","v":0},{"$f":"Import!AF880","v":0},{"$f":"Import!AG880","v":0},{"$f":"Import!AH880","v":0},{"$f":"Import!AI880","v":0},{"$f":"Import!AJ880","v":0},{"$f":"Import!AK880","v":0},{"$f":"Import!AL880","v":0}]
[null,{"$f":"Import!A881","v":0},{"$f":"Import!B881","v":0},{"$f":"Import!H881","v":0},{"$f":"Import!I881","v":0},{"$f":"Import!J881","v":0},{"$f":"Import!K881","v":0},{"$f":"Import!L881","v":0},{"$f":"Import!M881","v":0},{"$f":"Import!N881","v":0},{"$f":"Import!O881","v":0},{"$f":"Import!P881","v":0},{"$f":"Import!Q881","v":0},{"$f":"Import!R881","v":0},{"$f":"Import!S881","v":0},{"$f":"Import!T881","v":0},{"$f":"Import!U881","v":0},{"$f":"Import!V881","v":0},{"$f":"Import!W881","v":0},{"$f":"Import!X881","v":0},{"$f":"Import!Y881","v":0},{"$f":"Import!Z881","v":0},{"$f":"Import!AA881","v":0},{"$f":"Import!AB881","v":0},{"$f":"Import!AC881","v":0},{"$f":"Import!AD881","v":0},{"$f":"Import!AE881","v":0},{"$f":"Import!AF881","v":0},{"$f":"Import!AG881","v":0},{"$f":"Import!AH881","v":0},{"$f":"Import!AI881","v":0},{"$f":"Import!AJ881","v":0},{"$f":"Import!AK881","v":0},{"$f":"Import!AL881","v":0}]
[null,{"$f":"Import!A882","v":0},{"$f":"Import!B882","v":0},{"$f":"Import!H882","v":0},{"$f":"Import!I882","v":0},{"$f":"Import!J882","v":0},{"$f":"Import!K882","v":0},{"$f":"Import!L882","v":0},{"$f":"Import!M882","v":0},{"$f":"Import!N882","v":0},{"$f":"Import!O882","v":0},{"$f":"Import!P882","v":0},{"$f":"Import!Q882","v":0},{"$f":"Import!R882","v":0},{"$f":"Import!S882","v":0},{"$f":"Import!T882","v":0},{"$f":"Import!U882","v":0},{"$f":"Import!V882","v":0},{"$f":"Import!W882","v":0},{"$f":"Import!X882","v":0},{"$f":"Import!Y882","v":0},{"$f":"Import!Z882","v":0},{"$f":"Import!AA882","v":0},{"$f":"Import!AB882","v":0},{"$f":"Import!AC882","v":0},{"$f":"Import!AD882","v":0},{"$f":"Import!AE882","v":0},{"$f":"Import!AF882","v":0},{"$f":"Import!AG882","v":0},{"$f":"Import!AH882","v":0},{"$f":"Import!AI882","v":0},{"$f":"Import!AJ882","v":0},{"$f":"Import!AK882","v":0},{"$f":"Import!AL882","v":0}]
[null,{"$f":"Import!A883","v":0},{"$f":"Import!B883","v":0},{"$f":"Import!H883","v":0},{"$f":"Import!I883","v":0},{"$f":"Import!J883","v":0},{"$f":"Import!K883","v":0},{"$f":"Import!L883","v":0},{"$f":"Import!M883","v":0},{"$f":"Import!N883","v":0},{"$f":"Import!O883","v":0},{"$f":"Import!P883","v":0},{"$f":"Import!Q883","v":0},{"$f":"Import!R883","v":0},{"$f":"Import!S883","v":0},{"$f":"Import!T883","v":0},{"$f":"Import!U883","v":0},{"$f":"Import!V883","v":0},{"$f":"Import!W883","v":0},{"$f":"Import!X883","v":0},{"$f":"Import!Y883","v":0},{"$f":"Import!Z883","v":0},{"$f":"Import!AA883","v":0},{"$f":"Import!AB883","v":0},{"$f":"Import!AC883","v":0},{"$f":"Import!AD883","v":0},{"$f":"Import!AE883","v":0},{"$f":"Import!AF883","v":0},{"$f":"Import!AG883","v":0},{"$f":"Import!AH883","v":0},{"$f":"Import!AI883","v":0},{"$f":"Import!AJ883","v":0},{"$f":"Import!AK883","v":0},{"$f":"Import!AL883","v":0}]
[null,{"$f":"Import!A884","v":0},{"$f":"Import!B884","v":0},{"$f":"Import!H884","v":0},{"$f":"Import!I884","v":0},{"$f":"Import!J884","v":0},{"$f":"Import!K884","v":0},{"$f":"Import!L884","v":0},{"$f":"Import!M884","v":0},{"$f":"Import!N884","v":0},{"$f":"Import!O884","v":0},{"$f":"Import!P884","v":0},{"$f":"Import!Q884","v":0},{"$f":"Import!R884","v":0},{"$f":"Import!S884","v":0},{"$f":"Import!T884","v":0},{"$f":"Import!U884","v":0},{"$f":"Import!V884","v":0},{"$f":"Import!W884","v":0},{"$f":"Import!X884","v":0},{"$f":"Import!Y884","v":0},{"$f":"Import!Z884","v":0},{"$f":"Import!AA884","v":0},{"$f":"Import!AB884","v":0},{"$f":"Import!AC884","v":0},{"$f":"Import!AD884","v":0},{"$f":"Import!AE884","v":0},{"$f":"Import!AF884","v":0},{"$f":"Import!AG884","v":0},{"$f":"Import!AH884","v":0},{"$f":"Import!AI884","v":0},{"$f":"Import!AJ884","v":0},{"$f":"Import!AK884","v":0},{"$f":"Import!AL884","v":0}]
[null,{"$f":"Import!A885","v":0},{"$f":"Import!B885","v":0},{"$f":"Import!H885","v":0},{"$f":"Import!I885","v":0},{"$f":"Import!J885","v":0},{"$f":"Import!K885","v":0},{"$f":"Import!L885","v":0},{"$f":"Import!M885","v":0},{"$f":"Import!N885","v":0},{"$f":"Import!O885","v":0},{"$f":"Import!P885","v":0},{"$f":"Import!Q885","v":0},{"$f":"Import!R885","v":0},{"$f":"Import!S885","v":0},{"$f":"Import!T885","v":0},{"$f":"Import!U885","v":0},{"$f":"Import!V885","v":0},{"$f":"Import!W885","v":0},{"$f":"Import!X885","v":0},{"$f":"Import!Y885","v":0},{"$f":"Import!Z885","v":0},{"$f":"Import!AA885","v":0},{"$f":"Import!AB885","v":0},{"$f":"Import!AC885","v":0},{"$f":"Import!AD885","v":0},{"$f":"Import!AE885","v":0},{"$f":"Import!AF885","v":0},{"$f":"Import!AG885","v":0},{"$f":"Import!AH885","v":0},{"$f":"Import!AI885","v":0},{"$f":"Import!AJ885","v":0},{"$f":"Import!AK885","v":0},{"$f":"Import!AL885","v":0}]
[null,{"$f":"Import!A886","v":0},{"$f":"Import!B886","v":0},{"$f":"Import!H886","v":0},{"$f":"Import!I886","v":0},{"$f":"Import!J886","v":0},{"$f":"Import!K886","v":0},{"$f":"Import!L886","v":0},{"$f":"Import!M886","v":0},{"$f":"Import!N886","v":0},{"$f":"Import!O886","v":0},{"$f":"Import!P886","v":0},{"$f":"Import!Q886","v":0},{"$f":"Import!R886","v":0},{"$f":"Import!S886","v":0},{"$f":"Import!T886","v":0},{"$f":"Import!U886","v":0},{"$f":"Import!V886","v":0},{"$f":"Import!W886","v":0},{"$f":"Import!X886","v":0},{"$f":"Import!Y886","v":0},{"$f":"Import!Z886","v":0},{"$f":"Import!AA886","v":0},{"$f":"Import!AB886","v":0},{"$f":"Import!AC886","v":0},{"$f":"Import!AD886","v":0},{"$f":"Import!AE886","v":0},{"$f":"Import!AF886","v":0},{"$f":"Import!AG886","v":0},{"$f":"Import!AH886","v":0},{"$f":"Import!AI886","v":0},{"$f":"Import!AJ886","v":0},{"$f":"Import!AK886","v":0},{"$f":"Import!AL886","v":0}]
[null,{"$f":"Import!A887","v":0},{"$f":"Import!B887","v":0},{"$f":"Import!H887","v":0},{"$f":"Import!I887","v":0},{"$f":"Import!J887","v":0},{"$f":"Import!K887","v":0},{"$f":"Import!L887","v":0},{"$f":"Import!M887","v":0},{"$f":"Import!N887","v":0},{"$f":"Import!O887","v":0},{"$f":"Import!P887","v":0},{"$f":"Import!Q887","v":0},{"$f":"Import!R887","v":0},{"$f":"Import!S887","v":0},{"$f":"Import!T887","v":0},{"$f":"Import!U887","v":0},{"$f":"Import!V887","v":0},{"$f":"Import!W887","v":0},{"$f":"Import!X887","v":0},{"$f":"Import!Y887","v":0},{"$f":"Import!Z887","v":0},{"$f":"Import!AA887","v":0},{"$f":"Import!AB887","v":0},{"$f":"Import!AC887","v":0},{"$f":"Import!AD887","v":0},{"$f":"Import!AE887","v":0},{"$f":"Import!AF887","v":0},{"$f":"Import!AG887","v":0},{"$f":"Import!AH887","v":0},{"$f":"Import!AI887","v":0},{"$f":"Import!AJ887","v":0},{"$f":"Import!AK887","v":0},{"$f":"Import!AL887","v":0}]
[null,{"$f":"Import!A888","v":0},{"$f":"Import!B888","v":0},{"$f":"Import!H888","v":0},{"$f":"Import!I888","v":0},{"$f":"Import!J888","v":0},{"$f":"Import!K888","v":0},{"$f":"Import!L888","v":0},{"$f":"Import!M888","v":0},{"$f":"Import!N888","v":0},{"$f":"Import!O888","v":0},{"$f":"Import!P888","v":0},{"$f":"Import!Q888","v":0},{"$f":"Import!R888","v":0},{"$f":"Import!S888","v":0},{"$f":"Import!T888","v":0},{"$f":"Import!U888","v":0},{"$f":"Import!V888","v":0},{"$f":"Import!W888","v":0},{"$f":"Import!X888","v":0},{"$f":"Import!Y888","v":0},{"$f":"Import!Z888","v":0},{"$f":"Import!AA888","v":0},{"$f":"Import!AB888","v":0},{"$f":"Import!AC888","v":0},{"$f":"Import!AD888","v":0},{"$f":"Import!AE888","v":0},{"$f":"Import!AF888","v":0},{"$f":"Import!AG888","v":0},{"$f":"Import!AH888","v":0},{"$f":"Import!AI888","v":0},{"$f":"Import!AJ888","v":0},{"$f":"Import!AK888","v":0},{"$f":"Import!AL888","v":0}]
[null,{"$f":"Import!A889","v":0},{"$f":"Import!B889","v":0},{"$f":"Import!H889","v":0},{"$f":"Import!I889","v":0},{"$f":"Import!J889","v":0},{"$f":"Import!K889","v":0},{"$f":"Import!L889","v":0},{"$f":"Import!M889","v":0},{"$f":"Import!N889","v":0},{"$f":"Import!O889","v":0},{"$f":"Import!P889","v":0},{"$f":"Import!Q889","v":0},{"$f":"Import!R889","v":0},{"$f":"Import!S889","v":0},{"$f":"Import!T889","v":0},{"$f":"Import!U889","v":0},{"$f":"Import!V889","v":0},{"$f":"Import!W889","v":0},{"$f":"Import!X889","v":0},{"$f":"Import!Y889","v":0},{"$f":"Import!Z889","v":0},{"$f":"Import!AA889","v":0},{"$f":"Import!AB889","v":0},{"$f":"Import!AC889","v":0},{"$f":"Import!AD889","v":0},{"$f":"Import!AE889","v":0},{"$f":"Import!AF889","v":0},{"$f":"Import!AG889","v":0},{"$f":"Import!AH889","v":0},{"$f":"Import!AI889","v":0},{"$f":"Import!AJ889","v":0},{"$f":"Import!AK889","v":0},{"$f":"Import!AL889","v":0}]
[null,{"$f":"Import!A890","v":0},{"$f":"Import!B890","v":0},{"$f":"Import!H890","v":0},{"$f":"Import!I890","v":0},{"$f":"Import!J890","v":0},{"$f":"Import!K890","v":0},{"$f":"Import!L890","v":0},{"$f":"Import!M890","v":0},{"$f":"Import!N890","v":0},{"$f":"Import!O890","v":0},{"$f":"Import!P890","v":0},{"$f":"Import!Q890","v":0},{"$f":"Import!R890","v":0},{"$f":"Import!S890","v":0},{"$f":"Import!T890","v":0},{"$f":"Import!U890","v":0},{"$f":"Import!V890","v":0},{"$f":"Import!W890","v":0},{"$f":"Import!X890","v":0},{"$f":"Import!Y890","v":0},{"$f":"Import!Z890","v":0},{"$f":"Import!AA890","v":0},{"$f":"Import!AB890","v":0},{"$f":"Import!AC890","v":0},{"$f":"Import!AD890","v":0},{"$f":"Import!AE890","v":0},{"$f":"Import!AF890","v":0},{"$f":"Import!AG890","v":0},{"$f":"Import!AH890","v":0},{"$f":"Import!AI890","v":0},{"$f":"Import!AJ890","v":0},{"$f":"Import!AK890","v":0},{"$f":"Import!AL890","v":0}]
[null,{"$f":"Import!A891","v":0},{"$f":"Import!B891","v":0},{"$f":"Import!H891","v":0},{"$f":"Import!I891","v":0},{"$f":"Import!J891","v":0},{"$f":"Import!K891","v":0},{"$f":"Import!L891","v":0},{"$f":"Import!M891","v":0},{"$f":"Import!N891","v":0},{"$f":"Import!O891","v":0},{"$f":"Import!P891","v":0},{"$f":"Import!Q891","v":0},{"$f":"Import!R891","v":0},{"$f":"Import!S891","v":0},{"$f":"Import!T891","v":0},{"$f":"Import!U891","v":0},{"$f":"Import!V891","v":0},{"$f":"Import!W891","v":0},{"$f":"Import!X891","v":0},{"$f":"Import!Y891","v":0},{"$f":"Import!Z891","v":0},{"$f":"Import!AA891","v":0},{"$f":"Import!AB891","v":0},{"$f":"Import!AC891","v":0},{"$f":"Import!AD891","v":0},{"$f":"Import!AE891","v":0},{"$f":"Import!AF891","v":0},{"$f":"Import!AG891","v":0},{"$f":"Import!AH891","v":0},{"$f":"Import!AI891","v":0},{"$f":"Import!AJ891","v":0},{"$f":"Import!AK891","v":0},{"$f":"Import!AL891","v":0}]
[null,{"$f":"Import!A892","v":0},{"$f":"Import!B892","v":0},{"$f":"Import!H892","v":0},{"$f":"Import!I892","v":0},{"$f":"Import!J892","v":0},{"$f":"Import!K892","v":0},{"$f":"Import!L892","v":0},{"$f":"Import!M892","v":0},{"$f":"Import!N892","v":0},{"$f":"Import!O892","v":0},{"$f":"Import!P892","v":0},{"$f":"Import!Q892","v":0},{"$f":"Import!R892","v":0},{"$f":"Import!S892","v":0},{"$f":"Import!T892","v":0},{"$f":"Import!U892","v":0},{"$f":"Import!V892","v":0},{"$f":"Import!W892","v":0},{"$f":"Import!X892","v":0},{"$f":"Import!Y892","v":0},{"$f":"Import!Z892","v":0},{"$f":"Import!AA892","v":0},{"$f":"Import!AB892","v":0},{"$f":"Import!AC892","v":0},{"$f":"Import!AD892","v":0},{"$f":"Import!AE892","v":0},{"$f":"Import!AF892","v":0},{"$f":"Import!AG892","v":0},{"$f":"Import!AH892","v":0},{"$f":"Import!AI892","v":0},{"$f":"Import!AJ892","v":0},{"$f":"Import!AK892","v":0},{"$f":"Import!AL892","v":0}]
[null,{"$f":"Import!A893","v":0},{"$f":"Import!B893","v":0},{"$f":"Import!H893","v":0},{"$f":"Import!I893","v":0},{"$f":"Import!J893","v":0},{"$f":"Import!K893","v":0},{"$f":"Import!L893","v":0},{"$f":"Import!M893","v":0},{"$f":"Import!N893","v":0},{"$f":"Import!O893","v":0},{"$f":"Import!P893","v":0},{"$f":"Import!Q893","v":0},{"$f":"Import!R893","v":0},{"$f":"Import!S893","v":0},{"$f":"Import!T893","v":0},{"$f":"Import!U893","v":0},{"$f":"Import!V893","v":0},{"$f":"Import!W893","v":0},{"$f":"Import!X893","v":0},{"$f":"Import!Y893","v":0},{"$f":"Import!Z893","v":0},{"$f":"Import!AA893","v":0},{"$f":"Import!AB893","v":0},{"$f":"Import!AC893","v":0},{"$f":"Import!AD893","v":0},{"$f":"Import!AE893","v":0},{"$f":"Import!AF893","v":0},{"$f":"Import!AG893","v":0},{"$f":"Import!AH893","v":0},{"$f":"Import!AI893","v":0},{"$f":"Import!AJ893","v":0},{"$f":"Import!AK893","v":0},{"$f":"Import!AL893","v":0}]
[null,{"$f":"Import!A894","v":0},{"$f":"Import!B894","v":0},{"$f":"Import!H894","v":0},{"$f":"Import!I894","v":0},{"$f":"Import!J894","v":0},{"$f":"Import!K894","v":0},{"$f":"Import!L894","v":0},{"$f":"Import!M894","v":0},{"$f":"Import!N894","v":0},{"$f":"Import!O894","v":0},{"$f":"Import!P894","v":0},{"$f":"Import!Q894","v":0},{"$f":"Import!R894","v":0},{"$f":"Import!S894","v":0},{"$f":"Import!T894","v":0},{"$f":"Import!U894","v":0},{"$f":"Import!V894","v":0},{"$f":"Import!W894","v":0},{"$f":"Import!X894","v":0},{"$f":"Import!Y894","v":0},{"$f":"Import!Z894","v":0},{"$f":"Import!AA894","v":0},{"$f":"Import!AB894","v":0},{"$f":"Import!AC894","v":0},{"$f":"Import!AD894","v":0},{"$f":"Import!AE894","v":0},{"$f":"Import!AF894","v":0},{"$f":"Import!AG894","v":0},{"$f":"Import!AH894","v":0},{"$f":"Import!AI894","v":0},{"$f":"Import!AJ894","v":0},{"$f":"Import!AK894","v":0},{"$f":"Import!AL894","v":0}]
[null,{"$f":"Import!A895","v":0},{"$f":"Import!B895","v":0},{"$f":"Import!H895","v":0},{"$f":"Import!I895","v":0},{"$f":"Import!J895","v":0},{"$f":"Import!K895","v":0},{"$f":"Import!L895","v":0},{"$f":"Import!M895","v":0},{"$f":"Import!N895","v":0},{"$f":"Import!O895","v":0},{"$f":"Import!P895","v":0},{"$f":"Import!Q895","v":0},{"$f":"Import!R895","v":0},{"$f":"Import!S895","v":0},{"$f":"Import!T895","v":0},{"$f":"Import!U895","v":0},{"$f":"Import!V895","v":0},{"$f":"Import!W895","v":0},{"$f":"Import!X895","v":0},{"$f":"Import!Y895","v":0},{"$f":"Import!Z895","v":0},{"$f":"Import!AA895","v":0},{"$f":"Import!AB895","v":0},{"$f":"Import!AC895","v":0},{"$f":"Import!AD895","v":0},{"$f":"Import!AE895","v":0},{"$f":"Import!AF895","v":0},{"$f":"Import!AG895","v":0},{"$f":"Import!AH895","v":0},{"$f":"Import!AI895","v":0},{"$f":"Import!AJ895","v":0},{"$f":"Import!AK895","v":0},{"$f":"Import!AL895","v":0}]
[null,{"$f":"Import!A896","v":0},{"$f":"Import!B896","v":0},{"$f":"Import!H896","v":0},{"$f":"Import!I896","v":0},{"$f":"Import!J896","v":0},{"$f":"Import!K896","v":0},{"$f":"Import!L896","v":0},{"$f":"Import!M896","v":0},{"$f":"Import!N896","v":0},{"$f":"Import!O896","v":0},{"$f":"Import!P896","v":0},{"$f":"Import!Q896","v":0},{"$f":"Import!R896","v":0},{"$f":"Import!S896","v":0},{"$f":"Import!T896","v":0},{"$f":"Import!U896","v":0},{"$f":"Import!V896","v":0},{"$f":"Import!W896","v":0},{"$f":"Import!X896","v":0},{"$f":"Import!Y896","v":0},{"$f":"Import!Z896","v":0},{"$f":"Import!AA896","v":0},{"$f":"Import!AB896","v":0},{"$f":"Import!AC896","v":0},{"$f":"Import!AD896","v":0},{"$f":"Import!AE896","v":0},{"$f":"Import!AF896","v":0},{"$f":"Import!AG896","v":0},{"$f":"Import!AH896","v":0},{"$f":"Import!AI896","v":0},{"$f":"Import!AJ896","v":0},{"$f":"Import!AK896","v":0},{"$f":"Import!AL896","v":0}]
[null,{"$f":"Import!A897","v":0},{"$f":"Import!B897","v":0},{"$f":"Import!H897","v":0},{"$f":"Import!I897","v":0},{"$f":"Import!J897","v":0},{"$f":"Import!K897","v":0},{"$f":"Import!L897","v":0},{"$f":"Import!M897","v":0},{"$f":"Import!N897","v":0},{"$f":"Import!O897","v":0},{"$f":"Import!P897","v":0},{"$f":"Import!Q897","v":0},{"$f":"Import!R897","v":0},{"$f":"Import!S897","v":0},{"$f":"Import!T897","v":0},{"$f":"Import!U897","v":0},{"$f":"Import!V897","v":0},{"$f":"Import!W897","v":0},{"$f":"Import!X897","v":0},{"$f":"Import!Y897","v":0},{"$f":"Import!Z897","v":0},{"$f":"Import!AA897","v":0},{"$f":"Import!AB897","v":0},{"$f":"Import!AC897","v":0},{"$f":"Import!AD897","v":0},{"$f":"Import!AE897","v":0},{"$f":"Import!AF897","v":0},{"$f":"Import!AG897","v":0},{"$f":"Import!AH897","v":0},{"$f":"Import!AI897","v":0},{"$f":"Import!AJ897","v":0},{"$f":"Import!AK897","v":0},{"$f":"Import!AL897","v":0}]
[null,{"$f":"Import!A898","v":0},{"$f":"Import!B898","v":0},{"$f":"Import!H898","v":0},{"$f":"Import!I898","v":0},{"$f":"Import!J898","v":0},{"$f":"Import!K898","v":0},{"$f":"Import!L898","v":0},{"$f":"Import!M898","v":0},{"$f":"Import!N898","v":0},{"$f":"Import!O898","v":0},{"$f":"Import!P898","v":0},{"$f":"Import!Q898","v":0},{"$f":"Import!R898","v":0},{"$f":"Import!S898","v":0},{"$f":"Import!T898","v":0},{"$f":"Import!U898","v":0},{"$f":"Import!V898","v":0},{"$f":"Import!W898","v":0},{"$f":"Import!X898","v":0},{"$f":"Import!Y898","v":0},{"$f":"Import!Z898","v":0},{"$f":"Import!AA898","v":0},{"$f":"Import!AB898","v":0},{"$f":"Import!AC898","v":0},{"$f":"Import!AD898","v":0},{"$f":"Import!AE898","v":0},{"$f":"Import!AF898","v":0},{"$f":"Import!AG898","v":0},{"$f":"Import!AH898","v":0},{"$f":"Import!AI898","v":0},{"$f":"Import!AJ898","v":0},{"$f":"Import!AK898","v":0},{"$f":"Import!AL898","v":0}]
[null,{"$f":"Import!A899","v":0},{"$f":"Import!B899","v":0},{"$f":"Import!H899","v":0},{"$f":"Import!I899","v":0},{"$f":"Import!J899","v":0},{"$f":"Import!K899","v":0},{"$f":"Import!L899","v":0},{"$f":"Import!M899","v":0},{"$f":"Import!N899","v":0},{"$f":"Import!O899","v":0},{"$f":"Import!P899","v":0},{"$f":"Import!Q899","v":0},{"$f":"Import!R899","v":0},{"$f":"Import!S899","v":0},{"$f":"Import!T899","v":0},{"$f":"Import!U899","v":0},{"$f":"Import!V899","v":0},{"$f":"Import!W899","v":0},{"$f":"Import!X899","v":0},{"$f":"Import!Y899","v":0},{"$f":"Import!Z899","v":0},{"$f":"Import!AA899","v":0},{"$f":"Import!AB899","v":0},{"$f":"Import!AC899","v":0},{"$f":"Import!AD899","v":0},{"$f":"Import!AE899","v":0},{"$f":"Import!AF899","v":0},{"$f":"Import!AG899","v":0},{"$f":"Import!AH899","v":0},{"$f":"Import!AI899","v":0},{"$f":"Import!AJ899","v":0},{"$f":"Import!AK899","v":0},{"$f":"Import!AL899","v":0}]
[null,{"$f":"Import!A900","v":0},{"$f":"Import!B900","v":0},{"$f":"Import!H900","v":0},{"$f":"Import!I900","v":0},{"$f":"Import!J900","v":0},{"$f":"Import!K900","v":0},{"$f":"Import!L900","v":0},{"$f":"Import!M900","v":0},{"$f":"Import!N900","v":0},{"$f":"Import!O900","v":0},{"$f":"Import!P900","v":0},{"$f":"Import!Q900","v":0},{"$f":"Import!R900","v":0},{"$f":"Import!S900","v":0},{"$f":"Import!T900","v":0},{"$f":"Import!U900","v":0},{"$f":"Import!V900","v":0},{"$f":"Import!W900","v":0},{"$f":"Import!X900","v":0},{"$f":"Import!Y900","v":0},{"$f":"Import!Z900","v":0},{"$f":"Import!AA900","v":0},{"$f":"Import!AB900","v":0},{"$f":"Import!AC900","v":0},{"$f":"Import!AD900","v":0},{"$f":"Import!AE900","v":0},{"$f":"Import!AF900","v":0},{"$f":"Import!AG900","v":0},{"$f":"Import!AH900","v":0},{"$f":"Import!AI900","v":0},{"$f":"Import!AJ900","v":0},{"$f":"Import!AK900","v":0},{"$f":"Import!AL900","v":0}]
[null,{"$f":"Import!A901","v":0},{"$f":"Import!B901","v":0},{"$f":"Import!H901","v":0},{"$f":"Import!I901","v":0},{"$f":"Import!J901","v":0},{"$f":"Import!K901","v":0},{"$f":"Import!L901","v":0},{"$f":"Import!M901","v":0},{"$f":"Import!N901","v":0},{"$f":"Import!O901","v":0},{"$f":"Import!P901","v":0},{"$f":"Import!Q901","v":0},{"$f":"Import!R901","v":0},{"$f":"Import!S901","v":0},{"$f":"Import!T901","v":0},{"$f":"Import!U901","v":0},{"$f":"Import!V901","v":0},{"$f":"Import!W901","v":0},{"$f":"Import!X901","v":0},{"$f":"Import!Y901","v":0},{"$f":"Import!Z901","v":0},{"$f":"Import!AA901","v":0},{"$f":"Import!AB901","v":0},{"$f":"Import!AC901","v":0},{"$f":"Import!AD901","v":0},{"$f":"Import!AE901","v":0},{"$f":"Import!AF901","v":0},{"$f":"Import!AG901","v":0},{"$f":"Import!AH901","v":0},{"$f":"Import!AI901","v":0},{"$f":"Import!AJ901","v":0},{"$f":"Import!AK901","v":0},{"$f":"Import!AL901","v":0}]
[null,{"$f":"Import!A902","v":0},{"$f":"Import!B902","v":0},{"$f":"Import!H902","v":0},{"$f":"Import!I902","v":0},{"$f":"Import!J902","v":0},{"$f":"Import!K902","v":0},{"$f":"Import!L902","v":0},{"$f":"Import!M902","v":0},{"$f":"Import!N902","v":0},{"$f":"Import!O902","v":0},{"$f":"Import!P902","v":0},{"$f":"Import!Q902","v":0},{"$f":"Import!R902","v":0},{"$f":"Import!S902","v":0},{"$f":"Import!T902","v":0},{"$f":"Import!U902","v":0},{"$f":"Import!V902","v":0},{"$f":"Import!W902","v":0},{"$f":"Import!X902","v":0},{"$f":"Import!Y902","v":0},{"$f":"Import!Z902","v":0},{"$f":"Import!AA902","v":0},{"$f":"Import!AB902","v":0},{"$f":"Import!AC902","v":0},{"$f":"Import!AD902","v":0},{"$f":"Import!AE902","v":0},{"$f":"Import!AF902","v":0},{"$f":"Import!AG902","v":0},{"$f":"Import!AH902","v":0},{"$f":"Import!AI902","v":0},{"$f":"Import!AJ902","v":0},{"$f":"Import!AK902","v":0},{"$f":"Import!AL902","v":0}]
[null,{"$f":"Import!A903","v":0},{"$f":"Import!B903","v":0},{"$f":"Import!H903","v":0},{"$f":"Import!I903","v":0},{"$f":"Import!J903","v":0},{"$f":"Import!K903","v":0},{"$f":"Import!L903","v":0},{"$f":"Import!M903","v":0},{"$f":"Import!N903","v":0},{"$f":"Import!O903","v":0},{"$f":"Import!P903","v":0},{"$f":"Import!Q903","v":0},{"$f":"Import!R903","v":0},{"$f":"Import!S903","v":0},{"$f":"Import!T903","v":0},{"$f":"Import!U903","v":0},{"$f":"Import!V903","v":0},{"$f":"Import!W903","v":0},{"$f":"Import!X903","v":0},{"$f":"Import!Y903","v":0},{"$f":"Import!Z903","v":0},{"$f":"Import!AA903","v":0},{"$f":"Import!AB903","v":0},{"$f":"Import!AC903","v":0},{"$f":"Import!AD903","v":0},{"$f":"Import!AE903","v":0},{"$f":"Import!AF903","v":0},{"$f":"Import!AG903","v":0},{"$f":"Import!AH903","v":0},{"$f":"Import!AI903","v":0},{"$f":"Import!AJ903","v":0},{"$f":"Import!AK903","v":0},{"$f":"Import!AL903","v":0}]
[null,{"$f":"Import!A904","v":0},{"$f":"Import!B904","v":0},{"$f":"Import!H904","v":0},{"$f":"Import!I904","v":0},{"$f":"Import!J904","v":0},{"$f":"Import!K904","v":0},{"$f":"Import!L904","v":0},{"$f":"Import!M904","v":0},{"$f":"Import!N904","v":0},{"$f":"Import!O904","v":0},{"$f":"Import!P904","v":0},{"$f":"Import!Q904","v":0},{"$f":"Import!R904","v":0},{"$f":"Import!S904","v":0},{"$f":"Import!T904","v":0},{"$f":"Import!U904","v":0},{"$f":"Import!V904","v":0},{"$f":"Import!W904","v":0},{"$f":"Import!X904","v":0},{"$f":"Import!Y904","v":0},{"$f":"Import!Z904","v":0},{"$f":"Import!AA904","v":0},{"$f":"Import!AB904","v":0},{"$f":"Import!AC904","v":0},{"$f":"Import!AD904","v":0},{"$f":"Import!AE904","v":0},{"$f":"Import!AF904","v":0},{"$f":"Import!AG904","v":0},{"$f":"Import!AH904","v":0},{"$f":"Import!AI904","v":0},{"$f":"Import!AJ904","v":0},{"$f":"Import!AK904","v":0},{"$f":"Import!AL904","v":0}]
[null,{"$f":"Import!A905","v":0},{"$f":"Import!B905","v":0},{"$f":"Import!H905","v":0},{"$f":"Import!I905","v":0},{"$f":"Import!J905","v":0},{"$f":"Import!K905","v":0},{"$f":"Import!L905","v":0},{"$f":"Import!M905","v":0},{"$f":"Import!N905","v":0},{"$f":"Import!O905","v":0},{"$f":"Import!P905","v":0},{"$f":"Import!Q905","v":0},{"$f":"Import!R905","v":0},{"$f":"Import!S905","v":0},{"$f":"Import!T905","v":0},{"$f":"Import!U905","v":0},{"$f":"Import!V905","v":0},{"$f":"Import!W905","v":0},{"$f":"Import!X905","v":0},{"$f":"Import!Y905","v":0},{"$f":"Import!Z905","v":0},{"$f":"Import!AA905","v":0},{"$f":"Import!AB905","v":0},{"$f":"Import!AC905","v":0},{"$f":"Import!AD905","v":0},{"$f":"Import!AE905","v":0},{"$f":"Import!AF905","v":0},{"$f":"Import!AG905","v":0},{"$f":"Import!AH905","v":0},{"$f":"Import!AI905","v":0},{"$f":"Import!AJ905","v":0},{"$f":"Import!AK905","v":0},{"$f":"Import!AL905","v":0}]
[null,{"$f":"Import!A906","v":0},{"$f":"Import!B906","v":0},{"$f":"Import!H906","v":0},{"$f":"Import!I906","v":0},{"$f":"Import!J906","v":0},{"$f":"Import!K906","v":0},{"$f":"Import!L906","v":0},{"$f":"Import!M906","v":0},{"$f":"Import!N906","v":0},{"$f":"Import!O906","v":0},{"$f":"Import!P906","v":0},{"$f":"Import!Q906","v":0},{"$f":"Import!R906","v":0},{"$f":"Import!S906","v":0},{"$f":"Import!T906","v":0},{"$f":"Import!U906","v":0},{"$f":"Import!V906","v":0},{"$f":"Import!W906","v":0},{"$f":"Import!X906","v":0},{"$f":"Import!Y906","v":0},{"$f":"Import!Z906","v":0},{"$f":"Import!AA906","v":0},{"$f":"Import!AB906","v":0},{"$f":"Import!AC906","v":0},{"$f":"Import!AD906","v":0},{"$f":"Import!AE906","v":0},{"$f":"Import!AF906","v":0},{"$f":"Import!AG906","v":0},{"$f":"Import!AH906","v":0},{"$f":"Import!AI906","v":0},{"$f":"Import!AJ906","v":0},{"$f":"Import!AK906","v":0},{"$f":"Import!AL906","v":0}]
[null,{"$f":"Import!A907","v":0},{"$f":"Import!B907","v":0},{"$f":"Import!H907","v":0},{"$f":"Import!I907","v":0},{"$f":"Import!J907","v":0},{"$f":"Import!K907","v":0},{"$f":"Import!L907","v":0},{"$f":"Import!M907","v":0},{"$f":"Import!N907","v":0},{"$f":"Import!O907","v":0},{"$f":"Import!P907","v":0},{"$f":"Import!Q907","v":0},{"$f":"Import!R907","v":0},{"$f":"Import!S907","v":0},{"$f":"Import!T907","v":0},{"$f":"Import!U907","v":0},{"$f":"Import!V907","v":0},{"$f":"Import!W907","v":0},{"$f":"Import!X907","v":0},{"$f":"Import!Y907","v":0},{"$f":"Import!Z907","v":0},{"$f":"Import!AA907","v":0},{"$f":"Import!AB907","v":0},{"$f":"Import!AC907","v":0},{"$f":"Import!AD907","v":0},{"$f":"Import!AE907","v":0},{"$f":"Import!AF907","v":0},{"$f":"Import!AG907","v":0},{"$f":"Import!AH907","v":0},{"$f":"Import!AI907","v":0},{"$f":"Import!AJ907","v":0},{"$f":"Import!AK907","v":0},{"$f":"Import!AL907","v":0}]
[null,{"$f":"Import!A908","v":0},{"$f":"Import!B908","v":0},{"$f":"Import!H908","v":0},{"$f":"Import!I908","v":0},{"$f":"Import!J908","v":0},{"$f":"Import!K908","v":0},{"$f":"Import!L908","v":0},{"$f":"Import!M908","v":0},{"$f":"Import!N908","v":0},{"$f":"Import!O908","v":0},{"$f":"Import!P908","v":0},{"$f":"Import!Q908","v":0},{"$f":"Import!R908","v":0},{"$f":"Import!S908","v":0},{"$f":"Import!T908","v":0},{"$f":"Import!U908","v":0},{"$f":"Import!V908","v":0},{"$f":"Import!W908","v":0},{"$f":"Import!X908","v":0},{"$f":"Import!Y908","v":0},{"$f":"Import!Z908","v":0},{"$f":"Import!AA908","v":0},{"$f":"Import!AB908","v":0},{"$f":"Import!AC908","v":0},{"$f":"Import!AD908","v":0},{"$f":"Import!AE908","v":0},{"$f":"Import!AF908","v":0},{"$f":"Import!AG908","v":0},{"$f":"Import!AH908","v":0},{"$f":"Import!AI908","v":0},{"$f":"Import!AJ908","v":0},{"$f":"Import!AK908","v":0},{"$f":"Import!AL908","v":0}]
[null,{"$f":"Import!A909","v":0},{"$f":"Import!B909","v":0},{"$f":"Import!H909","v":0},{"$f":"Import!I909","v":0},{"$f":"Import!J909","v":0},{"$f":"Import!K909","v":0},{"$f":"Import!L909","v":0},{"$f":"Import!M909","v":0},{"$f":"Import!N909","v":0},{"$f":"Import!O909","v":0},{"$f":"Import!P909","v":0},{"$f":"Import!Q909","v":0},{"$f":"Import!R909","v":0},{"$f":"Import!S909","v":0},{"$f":"Import!T909","v":0},{"$f":"Import!U909","v":0},{"$f":"Import!V909","v":0},{"$f":"Import!W909","v":0},{"$f":"Import!X909","v":0},{"$f":"Import!Y909","v":0},{"$f":"Import!Z909","v":0},{"$f":"Import!AA909","v":0},{"$f":"Import!AB909","v":0},{"$f":"Import!AC909","v":0},{"$f":"Import!AD909","v":0},{"$f":"Import!AE909","v":0},{"$f":"Import!AF909","v":0},{"$f":"Import!AG909","v":0},{"$f":"Import!AH909","v":0},{"$f":"Import!AI909","v":0},{"$f":"Import!AJ909","v":0},{"$f":"Import!AK909","v":0},{"$f":"Import!AL909","v":0}]
[null,{"$f":"Import!A910","v":0},{"$f":"Import!B910","v":0},{"$f":"Import!H910","v":0},{"$f":"Import!I910","v":0},{"$f":"Import!J910","v":0},{"$f":"Import!K910","v":0},{"$f":"Import!L910","v":0},{"$f":"Import!M910","v":0},{"$f":"Import!N910","v":0},{"$f":"Import!O910","v":0},{"$f":"Import!P910","v":0},{"$f":"Import!Q910","v":0},{"$f":"Import!R910","v":0},{"$f":"Import!S910","v":0},{"$f":"Import!T910","v":0},{"$f":"Import!U910","v":0},{"$f":"Import!V910","v":0},{"$f":"Import!W910","v":0},{"$f":"Import!X910","v":0},{"$f":"Import!Y910","v":0},{"$f":"Import!Z910","v":0},{"$f":"Import!AA910","v":0},{"$f":"Import!AB910","v":0},{"$f":"Import!AC910","v":0},{"$f":"Import!AD910","v":0},{"$f":"Import!AE910","v":0},{"$f":"Import!AF910","v":0},{"$f":"Import!AG910","v":0},{"$f":"Import!AH910","v":0},{"$f":"Import!AI910","v":0},{"$f":"Import!AJ910","v":0},{"$f":"Import!AK910","v":0},{"$f":"Import!AL910","v":0}]
[null,{"$f":"Import!A911","v":0},{"$f":"Import!B911","v":0},{"$f":"Import!H911","v":0},{"$f":"Import!I911","v":0},{"$f":"Import!J911","v":0},{"$f":"Import!K911","v":0},{"$f":"Import!L911","v":0},{"$f":"Import!M911","v":0},{"$f":"Import!N911","v":0},{"$f":"Import!O911","v":0},{"$f":"Import!P911","v":0},{"$f":"Import!Q911","v":0},{"$f":"Import!R911","v":0},{"$f":"Import!S911","v":0},{"$f":"Import!T911","v":0},{"$f":"Import!U911","v":0},{"$f":"Import!V911","v":0},{"$f":"Import!W911","v":0},{"$f":"Import!X911","v":0},{"$f":"Import!Y911","v":0},{"$f":"Import!Z911","v":0},{"$f":"Import!AA911","v":0},{"$f":"Import!AB911","v":0},{"$f":"Import!AC911","v":0},{"$f":"Import!AD911","v":0},{"$f":"Import!AE911","v":0},{"$f":"Import!AF911","v":0},{"$f":"Import!AG911","v":0},{"$f":"Import!AH911","v":0},{"$f":"Import!AI911","v":0},{"$f":"Import!AJ911","v":0},{"$f":"Import!AK911","v":0},{"$f":"Import!AL911","v":0}]
[null,{"$f":"Import!A912","v":0},{"$f":"Import!B912","v":0},{"$f":"Import!H912","v":0},{"$f":"Import!I912","v":0},{"$f":"Import!J912","v":0},{"$f":"Import!K912","v":0},{"$f":"Import!L912","v":0},{"$f":"Import!M912","v":0},{"$f":"Import!N912","v":0},{"$f":"Import!O912","v":0},{"$f":"Import!P912","v":0},{"$f":"Import!Q912","v":0},{"$f":"Import!R912","v":0},{"$f":"Import!S912","v":0},{"$f":"Import!T912","v":0},{"$f":"Import!U912","v":0},{"$f":"Import!V912","v":0},{"$f":"Import!W912","v":0},{"$f":"Import!X912","v":0},{"$f":"Import!Y912","v":0},{"$f":"Import!Z912","v":0},{"$f":"Import!AA912","v":0},{"$f":"Import!AB912","v":0},{"$f":"Import!AC912","v":0},{"$f":"Import!AD912","v":0},{"$f":"Import!AE912","v":0},{"$f":"Import!AF912","v":0},{"$f":"Import!AG912","v":0},{"$f":"Import!AH912","v":0},{"$f":"Import!AI912","v":0},{"$f":"Import!AJ912","v":0},{"$f":"Import!AK912","v":0},{"$f":"Import!AL912","v":0}]
[null,{"$f":"Import!A913","v":0},{"$f":"Import!B913","v":0},{"$f":"Import!H913","v":0},{"$f":"Import!I913","v":0},{"$f":"Import!J913","v":0},{"$f":"Import!K913","v":0},{"$f":"Import!L913","v":0},{"$f":"Import!M913","v":0},{"$f":"Import!N913","v":0},{"$f":"Import!O913","v":0},{"$f":"Import!P913","v":0},{"$f":"Import!Q913","v":0},{"$f":"Import!R913","v":0},{"$f":"Import!S913","v":0},{"$f":"Import!T913","v":0},{"$f":"Import!U913","v":0},{"$f":"Import!V913","v":0},{"$f":"Import!W913","v":0},{"$f":"Import!X913","v":0},{"$f":"Import!Y913","v":0},{"$f":"Import!Z913","v":0},{"$f":"Import!AA913","v":0},{"$f":"Import!AB913","v":0},{"$f":"Import!AC913","v":0},{"$f":"Import!AD913","v":0},{"$f":"Import!AE913","v":0},{"$f":"Import!AF913","v":0},{"$f":"Import!AG913","v":0},{"$f":"Import!AH913","v":0},{"$f":"Import!AI913","v":0},{"$f":"Import!AJ913","v":0},{"$f":"Import!AK913","v":0},{"$f":"Import!AL913","v":0}]
[null,{"$f":"Import!A914","v":0},{"$f":"Import!B914","v":0},{"$f":"Import!H914","v":0},{"$f":"Import!I914","v":0},{"$f":"Import!J914","v":0},{"$f":"Import!K914","v":0},{"$f":"Import!L914","v":0},{"$f":"Import!M914","v":0},{"$f":"Import!N914","v":0},{"$f":"Import!O914","v":0},{"$f":"Import!P914","v":0},{"$f":"Import!Q914","v":0},{"$f":"Import!R914","v":0},{"$f":"Import!S914","v":0},{"$f":"Import!T914","v":0},{"$f":"Import!U914","v":0},{"$f":"Import!V914","v":0},{"$f":"Import!W914","v":0},{"$f":"Import!X914","v":0},{"$f":"Import!Y914","v":0},{"$f":"Import!Z914","v":0},{"$f":"Import!AA914","v":0},{"$f":"Import!AB914","v":0},{"$f":"Import!AC914","v":0},{"$f":"Import!AD914","v":0},{"$f":"Import!AE914","v":0},{"$f":"Import!AF914","v":0},{"$f":"Import!AG914","v":0},{"$f":"Import!AH914","v":0},{"$f":"Import!AI914","v":0},{"$f":"Import!AJ914","v":0},{"$f":"Import!AK914","v":0},{"$f":"Import!AL914","v":0}]
[null,{"$f":"Import!A915","v":0},{"$f":"Import!B915","v":0},{"$f":"Import!H915","v":0},{"$f":"Import!I915","v":0},{"$f":"Import!J915","v":0},{"$f":"Import!K915","v":0},{"$f":"Import!L915","v":0},{"$f":"Import!M915","v":0},{"$f":"Import!N915","v":0},{"$f":"Import!O915","v":0},{"$f":"Import!P915","v":0},{"$f":"Import!Q915","v":0},{"$f":"Import!R915","v":0},{"$f":"Import!S915","v":0},{"$f":"Import!T915","v":0},{"$f":"Import!U915","v":0},{"$f":"Import!V915","v":0},{"$f":"Import!W915","v":0},{"$f":"Import!X915","v":0},{"$f":"Import!Y915","v":0},{"$f":"Import!Z915","v":0},{"$f":"Import!AA915","v":0},{"$f":"Import!AB915","v":0},{"$f":"Import!AC915","v":0},{"$f":"Import!AD915","v":0},{"$f":"Import!AE915","v":0},{"$f":"Import!AF915","v":0},{"$f":"Import!AG915","v":0},{"$f":"Import!AH915","v":0},{"$f":"Import!AI915","v":0},{"$f":"Import!AJ915","v":0},{"$f":"Import!AK915","v":0},{"$f":"Import!AL915","v":0}]
[null,{"$f":"Import!A916","v":0},{"$f":"Import!B916","v":0},{"$f":"Import!H916","v":0},{"$f":"Import!I916","v":0},{"$f":"Import!J916","v":0},{"$f":"Import!K916","v":0},{"$f":"Import!L916","v":0},{"$f":"Import!M916","v":0},{"$f":"Import!N916","v":0},{"$f":"Import!O916","v":0},{"$f":"Import!P916","v":0},{"$f":"Import!Q916","v":0},{"$f":"Import!R916","v":0},{"$f":"Import!S916","v":0},{"$f":"Import!T916","v":0},{"$f":"Import!U916","v":0},{"$f":"Import!V916","v":0},{"$f":"Import!W916","v":0},{"$f":"Import!X916","v":0},{"$f":"Import!Y916","v":0},{"$f":"Import!Z916","v":0},{"$f":"Import!AA916","v":0},{"$f":"Import!AB916","v":0},{"$f":"Import!AC916","v":0},{"$f":"Import!AD916","v":0},{"$f":"Import!AE916","v":0},{"$f":"Import!AF916","v":0},{"$f":"Import!AG916","v":0},{"$f":"Import!AH916","v":0},{"$f":"Import!AI916","v":0},{"$f":"Import!AJ916","v":0},{"$f":"Import!AK916","v":0},{"$f":"Import!AL916","v":0}]
[null,{"$f":"Import!A917","v":0},{"$f":"Import!B917","v":0},{"$f":"Import!H917","v":0},{"$f":"Import!I917","v":0},{"$f":"Import!J917","v":0},{"$f":"Import!K917","v":0},{"$f":"Import!L917","v":0},{"$f":"Import!M917","v":0},{"$f":"Import!N917","v":0},{"$f":"Import!O917","v":0},{"$f":"Import!P917","v":0},{"$f":"Import!Q917","v":0},{"$f":"Import!R917","v":0},{"$f":"Import!S917","v":0},{"$f":"Import!T917","v":0},{"$f":"Import!U917","v":0},{"$f":"Import!V917","v":0},{"$f":"Import!W917","v":0},{"$f":"Import!X917","v":0},{"$f":"Import!Y917","v":0},{"$f":"Import!Z917","v":0},{"$f":"Import!AA917","v":0},{"$f":"Import!AB917","v":0},{"$f":"Import!AC917","v":0},{"$f":"Import!AD917","v":0},{"$f":"Import!AE917","v":0},{"$f":"Import!AF917","v":0},{"$f":"Import!AG917","v":0},{"$f":"Import!AH917","v":0},{"$f":"Import!AI917","v":0},{"$f":"Import!AJ917","v":0},{"$f":"Import!AK917","v":0},{"$f":"Import!AL917","v":0}]
[null,{"$f":"Import!A918","v":0},{"$f":"Import!B918","v":0},{"$f":"Import!H918","v":0},{"$f":"Import!I918","v":0},{"$f":"Import!J918","v":0},{"$f":"Import!K918","v":0},{"$f":"Import!L918","v":0},{"$f":"Import!M918","v":0},{"$f":"Import!N918","v":0},{"$f":"Import!O918","v":0},{"$f":"Import!P918","v":0},{"$f":"Import!Q918","v":0},{"$f":"Import!R918","v":0},{"$f":"Import!S918","v":0},{"$f":"Import!T918","v":0},{"$f":"Import!U918","v":0},{"$f":"Import!V918","v":0},{"$f":"Import!W918","v":0},{"$f":"Import!X918","v":0},{"$f":"Import!Y918","v":0},{"$f":"Import!Z918","v":0},{"$f":"Import!AA918","v":0},{"$f":"Import!AB918","v":0},{"$f":"Import!AC918","v":0},{"$f":"Import!AD918","v":0},{"$f":"Import!AE918","v":0},{"$f":"Import!AF918","v":0},{"$f":"Import!AG918","v":0},{"$f":"Import!AH918","v":0},{"$f":"Import!AI918","v":0},{"$f":"Import!AJ918","v":0},{"$f":"Import!AK918","v":0},{"$f":"Import!AL918","v":0}]
[null,{"$f":"Import!A919","v":0},{"$f":"Import!B919","v":0},{"$f":"Import!H919","v":0},{"$f":"Import!I919","v":0},{"$f":"Import!J919","v":0},{"$f":"Import!K919","v":0},{"$f":"Import!L919","v":0},{"$f":"Import!M919","v":0},{"$f":"Import!N919","v":0},{"$f":"Import!O919","v":0},{"$f":"Import!P919","v":0},{"$f":"Import!Q919","v":0},{"$f":"Import!R919","v":0},{"$f":"Import!S919","v":0},{"$f":"Import!T919","v":0},{"$f":"Import!U919","v":0},{"$f":"Import!V919","v":0},{"$f":"Import!W919","v":0},{"$f":"Import!X919","v":0},{"$f":"Import!Y919","v":0},{"$f":"Import!Z919","v":0},{"$f":"Import!AA919","v":0},{"$f":"Import!AB919","v":0},{"$f":"Import!AC919","v":0},{"$f":"Import!AD919","v":0},{"$f":"Import!AE919","v":0},{"$f":"Import!AF919","v":0},{"$f":"Import!AG919","v":0},{"$f":"Import!AH919","v":0},{"$f":"Import!AI919","v":0},{"$f":"Import!AJ919","v":0},{"$f":"Import!AK919","v":0},{"$f":"Import!AL919","v":0}]
[null,{"$f":"Import!A920","v":0},{"$f":"Import!B920","v":0},{"$f":"Import!H920","v":0},{"$f":"Import!I920","v":0},{"$f":"Import!J920","v":0},{"$f":"Import!K920","v":0},{"$f":"Import!L920","v":0},{"$f":"Import!M920","v":0},{"$f":"Import!N920","v":0},{"$f":"Import!O920","v":0},{"$f":"Import!P920","v":0},{"$f":"Import!Q920","v":0},{"$f":"Import!R920","v":0},{"$f":"Import!S920","v":0},{"$f":"Import!T920","v":0},{"$f":"Import!U920","v":0},{"$f":"Import!V920","v":0},{"$f":"Import!W920","v":0},{"$f":"Import!X920","v":0},{"$f":"Import!Y920","v":0},{"$f":"Import!Z920","v":0},{"$f":"Import!AA920","v":0},{"$f":"Import!AB920","v":0},{"$f":"Import!AC920","v":0},{"$f":"Import!AD920","v":0},{"$f":"Import!AE920","v":0},{"$f":"Import!AF920","v":0},{"$f":"Import!AG920","v":0},{"$f":"Import!AH920","v":0},{"$f":"Import!AI920","v":0},{"$f":"Import!AJ920","v":0},{"$f":"Import!AK920","v":0},{"$f":"Import!AL920","v":0}]
[null,{"$f":"Import!A921","v":0},{"$f":"Import!B921","v":0},{"$f":"Import!H921","v":0},{"$f":"Import!I921","v":0},{"$f":"Import!J921","v":0},{"$f":"Import!K921","v":0},{"$f":"Import!L921","v":0},{"$f":"Import!M921","v":0},{"$f":"Import!N921","v":0},{"$f":"Import!O921","v":0},{"$f":"Import!P921","v":0},{"$f":"Import!Q921","v":0},{"$f":"Import!R921","v":0},{"$f":"Import!S921","v":0},{"$f":"Import!T921","v":0},{"$f":"Import!U921","v":0},{"$f":"Import!V921","v":0},{"$f":"Import!W921","v":0},{"$f":"Import!X921","v":0},{"$f":"Import!Y921","v":0},{"$f":"Import!Z921","v":0},{"$f":"Import!AA921","v":0},{"$f":"Import!AB921","v":0},{"$f":"Import!AC921","v":0},{"$f":"Import!AD921","v":0},{"$f":"Import!AE921","v":0},{"$f":"Import!AF921","v":0},{"$f":"Import!AG921","v":0},{"$f":"Import!AH921","v":0},{"$f":"Import!AI921","v":0},{"$f":"Import!AJ921","v":0},{"$f":"Import!AK921","v":0},{"$f":"Import!AL921","v":0}]
[null,{"$f":"Import!A922","v":0},{"$f":"Import!B922","v":0},{"$f":"Import!H922","v":0},{"$f":"Import!I922","v":0},{"$f":"Import!J922","v":0},{"$f":"Import!K922","v":0},{"$f":"Import!L922","v":0},{"$f":"Import!M922","v":0},{"$f":"Import!N922","v":0},{"$f":"Import!O922","v":0},{"$f":"Import!P922","v":0},{"$f":"Import!Q922","v":0},{"$f":"Import!R922","v":0},{"$f":"Import!S922","v":0},{"$f":"Import!T922","v":0},{"$f":"Import!U922","v":0},{"$f":"Import!V922","v":0},{"$f":"Import!W922","v":0},{"$f":"Import!X922","v":0},{"$f":"Import!Y922","v":0},{"$f":"Import!Z922","v":0},{"$f":"Import!AA922","v":0},{"$f":"Import!AB922","v":0},{"$f":"Import!AC922","v":0},{"$f":"Import!AD922","v":0},{"$f":"Import!AE922","v":0},{"$f":"Import!AF922","v":0},{"$f":"Import!AG922","v":0},{"$f":"Import!AH922","v":0},{"$f":"Import!AI922","v":0},{"$f":"Import!AJ922","v":0},{"$f":"Import!AK922","v":0},{"$f":"Import!AL922","v":0}]
[null,{"$f":"Import!A923","v":0},{"$f":"Import!B923","v":0},{"$f":"Import!H923","v":0},{"$f":"Import!I923","v":0},{"$f":"Import!J923","v":0},{"$f":"Import!K923","v":0},{"$f":"Import!L923","v":0},{"$f":"Import!M923","v":0},{"$f":"Import!N923","v":0},{"$f":"Import!O923","v":0},{"$f":"Import!P923","v":0},{"$f":"Import!Q923","v":0},{"$f":"Import!R923","v":0},{"$f":"Import!S923","v":0},{"$f":"Import!T923","v":0},{"$f":"Import!U923","v":0},{"$f":"Import!V923","v":0},{"$f":"Import!W923","v":0},{"$f":"Import!X923","v":0},{"$f":"Import!Y923","v":0},{"$f":"Import!Z923","v":0},{"$f":"Import!AA923","v":0},{"$f":"Import!AB923","v":0},{"$f":"Import!AC923","v":0},{"$f":"Import!AD923","v":0},{"$f":"Import!AE923","v":0},{"$f":"Import!AF923","v":0},{"$f":"Import!AG923","v":0},{"$f":"Import!AH923","v":0},{"$f":"Import!AI923","v":0},{"$f":"Import!AJ923","v":0},{"$f":"Import!AK923","v":0},{"$f":"Import!AL923","v":0}]
[null,{"$f":"Import!A924","v":0},{"$f":"Import!B924","v":0},{"$f":"Import!H924","v":0},{"$f":"Import!I924","v":0},{"$f":"Import!J924","v":0},{"$f":"Import!K924","v":0},{"$f":"Import!L924","v":0},{"$f":"Import!M924","v":0},{"$f":"Import!N924","v":0},{"$f":"Import!O924","v":0},{"$f":"Import!P924","v":0},{"$f":"Import!Q924","v":0},{"$f":"Import!R924","v":0},{"$f":"Import!S924","v":0},{"$f":"Import!T924","v":0},{"$f":"Import!U924","v":0},{"$f":"Import!V924","v":0},{"$f":"Import!W924","v":0},{"$f":"Import!X924","v":0},{"$f":"Import!Y924","v":0},{"$f":"Import!Z924","v":0},{"$f":"Import!AA924","v":0},{"$f":"Import!AB924","v":0},{"$f":"Import!AC924","v":0},{"$f":"Import!AD924","v":0},{"$f":"Import!AE924","v":0},{"$f":"Import!AF924","v":0},{"$f":"Import!AG924","v":0},{"$f":"Import!AH924","v":0},{"$f":"Import!AI924","v":0},{"$f":"Import!AJ924","v":0},{"$f":"Import!AK924","v":0},{"$f":"Import!AL924","v":0}]
[null,{"$f":"Import!A925","v":0},{"$f":"Import!B925","v":0},{"$f":"Import!H925","v":0},{"$f":"Import!I925","v":0},{"$f":"Import!J925","v":0},{"$f":"Import!K925","v":0},{"$f":"Import!L925","v":0},{"$f":"Import!M925","v":0},{"$f":"Import!N925","v":0},{"$f":"Import!O925","v":0},{"$f":"Import!P925","v":0},{"$f":"Import!Q925","v":0},{"$f":"Import!R925","v":0},{"$f":"Import!S925","v":0},{"$f":"Import!T925","v":0},{"$f":"Import!U925","v":0},{"$f":"Import!V925","v":0},{"$f":"Import!W925","v":0},{"$f":"Import!X925","v":0},{"$f":"Import!Y925","v":0},{"$f":"Import!Z925","v":0},{"$f":"Import!AA925","v":0},{"$f":"Import!AB925","v":0},{"$f":"Import!AC925","v":0},{"$f":"Import!AD925","v":0},{"$f":"Import!AE925","v":0},{"$f":"Import!AF925","v":0},{"$f":"Import!AG925","v":0},{"$f":"Import!AH925","v":0},{"$f":"Import!AI925","v":0},{"$f":"Import!AJ925","v":0},{"$f":"Import!AK925","v":0},{"$f":"Import!AL925","v":0}]
[null,{"$f":"Import!A926","v":0},{"$f":"Import!B926","v":0},{"$f":"Import!H926","v":0},{"$f":"Import!I926","v":0},{"$f":"Import!J926","v":0},{"$f":"Import!K926","v":0},{"$f":"Import!L926","v":0},{"$f":"Import!M926","v":0},{"$f":"Import!N926","v":0},{"$f":"Import!O926","v":0},{"$f":"Import!P926","v":0},{"$f":"Import!Q926","v":0},{"$f":"Import!R926","v":0},{"$f":"Import!S926","v":0},{"$f":"Import!T926","v":0},{"$f":"Import!U926","v":0},{"$f":"Import!V926","v":0},{"$f":"Import!W926","v":0},{"$f":"Import!X926","v":0},{"$f":"Import!Y926","v":0},{"$f":"Import!Z926","v":0},{"$f":"Import!AA926","v":0},{"$f":"Import!AB926","v":0},{"$f":"Import!AC926","v":0},{"$f":"Import!AD926","v":0},{"$f":"Import!AE926","v":0},{"$f":"Import!AF926","v":0},{"$f":"Import!AG926","v":0},{"$f":"Import!AH926","v":0},{"$f":"Import!AI926","v":0},{"$f":"Import!AJ926","v":0},{"$f":"Import!AK926","v":0},{"$f":"Import!AL926","v":0}]
[null,{"$f":"Import!A927","v":0},{"$f":"Import!B927","v":0},{"$f":"Import!H927","v":0},{"$f":"Import!I927","v":0},{"$f":"Import!J927","v":0},{"$f":"Import!K927","v":0},{"$f":"Import!L927","v":0},{"$f":"Import!M927","v":0},{"$f":"Import!N927","v":0},{"$f":"Import!O927","v":0},{"$f":"Import!P927","v":0},{"$f":"Import!Q927","v":0},{"$f":"Import!R927","v":0},{"$f":"Import!S927","v":0},{"$f":"Import!T927","v":0},{"$f":"Import!U927","v":0},{"$f":"Import!V927","v":0},{"$f":"Import!W927","v":0},{"$f":"Import!X927","v":0},{"$f":"Import!Y927","v":0},{"$f":"Import!Z927","v":0},{"$f":"Import!AA927","v":0},{"$f":"Import!AB927","v":0},{"$f":"Import!AC927","v":0},{"$f":"Import!AD927","v":0},{"$f":"Import!AE927","v":0},{"$f":"Import!AF927","v":0},{"$f":"Import!AG927","v":0},{"$f":"Import!AH927","v":0},{"$f":"Import!AI927","v":0},{"$f":"Import!AJ927","v":0},{"$f":"Import!AK927","v":0},{"$f":"Import!AL927","v":0}]
[null,{"$f":"Import!A928","v":0},{"$f":"Import!B928","v":0},{"$f":"Import!H928","v":0},{"$f":"Import!I928","v":0},{"$f":"Import!J928","v":0},{"$f":"Import!K928","v":0},{"$f":"Import!L928","v":0},{"$f":"Import!M928","v":0},{"$f":"Import!N928","v":0},{"$f":"Import!O928","v":0},{"$f":"Import!P928","v":0},{"$f":"Import!Q928","v":0},{"$f":"Import!R928","v":0},{"$f":"Import!S928","v":0},{"$f":"Import!T928","v":0},{"$f":"Import!U928","v":0},{"$f":"Import!V928","v":0},{"$f":"Import!W928","v":0},{"$f":"Import!X928","v":0},{"$f":"Import!Y928","v":0},{"$f":"Import!Z928","v":0},{"$f":"Import!AA928","v":0},{"$f":"Import!AB928","v":0},{"$f":"Import!AC928","v":0},{"$f":"Import!AD928","v":0},{"$f":"Import!AE928","v":0},{"$f":"Import!AF928","v":0},{"$f":"Import!AG928","v":0},{"$f":"Import!AH928","v":0},{"$f":"Import!AI928","v":0},{"$f":"Import!AJ928","v":0},{"$f":"Import!AK928","v":0},{"$f":"Import!AL928","v":0}]
[null,{"$f":"Import!A929","v":0},{"$f":"Import!B929","v":0},{"$f":"Import!H929","v":0},{"$f":"Import!I929","v":0},{"$f":"Import!J929","v":0},{"$f":"Import!K929","v":0},{"$f":"Import!L929","v":0},{"$f":"Import!M929","v":0},{"$f":"Import!N929","v":0},{"$f":"Import!O929","v":0},{"$f":"Import!P929","v":0},{"$f":"Import!Q929","v":0},{"$f":"Import!R929","v":0},{"$f":"Import!S929","v":0},{"$f":"Import!T929","v":0},{"$f":"Import!U929","v":0},{"$f":"Import!V929","v":0},{"$f":"Import!W929","v":0},{"$f":"Import!X929","v":0},{"$f":"Import!Y929","v":0},{"$f":"Import!Z929","v":0},{"$f":"Import!AA929","v":0},{"$f":"Import!AB929","v":0},{"$f":"Import!AC929","v":0},{"$f":"Import!AD929","v":0},{"$f":"Import!AE929","v":0},{"$f":"Import!AF929","v":0},{"$f":"Import!AG929","v":0},{"$f":"Import!AH929","v":0},{"$f":"Import!AI929","v":0},{"$f":"Import!AJ929","v":0},{"$f":"Import!AK929","v":0},{"$f":"Import!AL929","v":0}]
[null,{"$f":"Import!A930","v":0},{"$f":"Import!B930","v":0},{"$f":"Import!H930","v":0},{"$f":"Import!I930","v":0},{"$f":"Import!J930","v":0},{"$f":"Import!K930","v":0},{"$f":"Import!L930","v":0},{"$f":"Import!M930","v":0},{"$f":"Import!N930","v":0},{"$f":"Import!O930","v":0},{"$f":"Import!P930","v":0},{"$f":"Import!Q930","v":0},{"$f":"Import!R930","v":0},{"$f":"Import!S930","v":0},{"$f":"Import!T930","v":0},{"$f":"Import!U930","v":0},{"$f":"Import!V930","v":0},{"$f":"Import!W930","v":0},{"$f":"Import!X930","v":0},{"$f":"Import!Y930","v":0},{"$f":"Import!Z930","v":0},{"$f":"Import!AA930","v":0},{"$f":"Import!AB930","v":0},{"$f":"Import!AC930","v":0},{"$f":"Import!AD930","v":0},{"$f":"Import!AE930","v":0},{"$f":"Import!AF930","v":0},{"$f":"Import!AG930","v":0},{"$f":"Import!AH930","v":0},{"$f":"Import!AI930","v":0},{"$f":"Import!AJ930","v":0},{"$f":"Import!AK930","v":0},{"$f":"Import!AL930","v":0}]
[null,{"$f":"Import!A931","v":0},{"$f":"Import!B931","v":0},{"$f":"Import!H931","v":0},{"$f":"Import!I931","v":0},{"$f":"Import!J931","v":0},{"$f":"Import!K931","v":0},{"$f":"Import!L931","v":0},{"$f":"Import!M931","v":0},{"$f":"Import!N931","v":0},{"$f":"Import!O931","v":0},{"$f":"Import!P931","v":0},{"$f":"Import!Q931","v":0},{"$f":"Import!R931","v":0},{"$f":"Import!S931","v":0},{"$f":"Import!T931","v":0},{"$f":"Import!U931","v":0},{"$f":"Import!V931","v":0},{"$f":"Import!W931","v":0},{"$f":"Import!X931","v":0},{"$f":"Import!Y931","v":0},{"$f":"Import!Z931","v":0},{"$f":"Import!AA931","v":0},{"$f":"Import!AB931","v":0},{"$f":"Import!AC931","v":0},{"$f":"Import!AD931","v":0},{"$f":"Import!AE931","v":0},{"$f":"Import!AF931","v":0},{"$f":"Import!AG931","v":0},{"$f":"Import!AH931","v":0},{"$f":"Import!AI931","v":0},{"$f":"Import!AJ931","v":0},{"$f":"Import!AK931","v":0},{"$f":"Import!AL931","v":0}]
[null,{"$f":"Import!A932","v":0},{"$f":"Import!B932","v":0},{"$f":"Import!H932","v":0},{"$f":"Import!I932","v":0},{"$f":"Import!J932","v":0},{"$f":"Import!K932","v":0},{"$f":"Import!L932","v":0},{"$f":"Import!M932","v":0},{"$f":"Import!N932","v":0},{"$f":"Import!O932","v":0},{"$f":"Import!P932","v":0},{"$f":"Import!Q932","v":0},{"$f":"Import!R932","v":0},{"$f":"Import!S932","v":0},{"$f":"Import!T932","v":0},{"$f":"Import!U932","v":0},{"$f":"Import!V932","v":0},{"$f":"Import!W932","v":0},{"$f":"Import!X932","v":0},{"$f":"Import!Y932","v":0},{"$f":"Import!Z932","v":0},{"$f":"Import!AA932","v":0},{"$f":"Import!AB932","v":0},{"$f":"Import!AC932","v":0},{"$f":"Import!AD932","v":0},{"$f":"Import!AE932","v":0},{"$f":"Import!AF932","v":0},{"$f":"Import!AG932","v":0},{"$f":"Import!AH932","v":0},{"$f":"Import!AI932","v":0},{"$f":"Import!AJ932","v":0},{"$f":"Import!AK932","v":0},{"$f":"Import!AL932","v":0}]
[null,{"$f":"Import!A933","v":0},{"$f":"Import!B933","v":0},{"$f":"Import!H933","v":0},{"$f":"Import!I933","v":0},{"$f":"Import!J933","v":0},{"$f":"Import!K933","v":0},{"$f":"Import!L933","v":0},{"$f":"Import!M933","v":0},{"$f":"Import!N933","v":0},{"$f":"Import!O933","v":0},{"$f":"Import!P933","v":0},{"$f":"Import!Q933","v":0},{"$f":"Import!R933","v":0},{"$f":"Import!S933","v":0},{"$f":"Import!T933","v":0},{"$f":"Import!U933","v":0},{"$f":"Import!V933","v":0},{"$f":"Import!W933","v":0},{"$f":"Import!X933","v":0},{"$f":"Import!Y933","v":0},{"$f":"Import!Z933","v":0},{"$f":"Import!AA933","v":0},{"$f":"Import!AB933","v":0},{"$f":"Import!AC933","v":0},{"$f":"Import!AD933","v":0},{"$f":"Import!AE933","v":0},{"$f":"Import!AF933","v":0},{"$f":"Import!AG933","v":0},{"$f":"Import!AH933","v":0},{"$f":"Import!AI933","v":0},{"$f":"Import!AJ933","v":0},{"$f":"Import!AK933","v":0},{"$f":"Import!AL933","v":0}]
[null,{"$f":"Import!A934","v":0},{"$f":"Import!B934","v":0},{"$f":"Import!H934","v":0},{"$f":"Import!I934","v":0},{"$f":"Import!J934","v":0},{"$f":"Import!K934","v":0},{"$f":"Import!L934","v":0},{"$f":"Import!M934","v":0},{"$f":"Import!N934","v":0},{"$f":"Import!O934","v":0},{"$f":"Import!P934","v":0},{"$f":"Import!Q934","v":0},{"$f":"Import!R934","v":0},{"$f":"Import!S934","v":0},{"$f":"Import!T934","v":0},{"$f":"Import!U934","v":0},{"$f":"Import!V934","v":0},{"$f":"Import!W934","v":0},{"$f":"Import!X934","v":0},{"$f":"Import!Y934","v":0},{"$f":"Import!Z934","v":0},{"$f":"Import!AA934","v":0},{"$f":"Import!AB934","v":0},{"$f":"Import!AC934","v":0},{"$f":"Import!AD934","v":0},{"$f":"Import!AE934","v":0},{"$f":"Import!AF934","v":0},{"$f":"Import!AG934","v":0},{"$f":"Import!AH934","v":0},{"$f":"Import!AI934","v":0},{"$f":"Import!AJ934","v":0},{"$f":"Import!AK934","v":0},{"$f":"Import!AL934","v":0}]
[null,{"$f":"Import!A935","v":0},{"$f":"Import!B935","v":0},{"$f":"Import!H935","v":0},{"$f":"Import!I935","v":0},{"$f":"Import!J935","v":0},{"$f":"Import!K935","v":0},{"$f":"Import!L935","v":0},{"$f":"Import!M935","v":0},{"$f":"Import!N935","v":0},{"$f":"Import!O935","v":0},{"$f":"Import!P935","v":0},{"$f":"Import!Q935","v":0},{"$f":"Import!R935","v":0},{"$f":"Import!S935","v":0},{"$f":"Import!T935","v":0},{"$f":"Import!U935","v":0},{"$f":"Import!V935","v":0},{"$f":"Import!W935","v":0},{"$f":"Import!X935","v":0},{"$f":"Import!Y935","v":0},{"$f":"Import!Z935","v":0},{"$f":"Import!AA935","v":0},{"$f":"Import!AB935","v":0},{"$f":"Import!AC935","v":0},{"$f":"Import!AD935","v":0},{"$f":"Import!AE935","v":0},{"$f":"Import!AF935","v":0},{"$f":"Import!AG935","v":0},{"$f":"Import!AH935","v":0},{"$f":"Import!AI935","v":0},{"$f":"Import!AJ935","v":0},{"$f":"Import!AK935","v":0},{"$f":"Import!AL935","v":0}]
[null,{"$f":"Import!A936","v":0},{"$f":"Import!B936","v":0},{"$f":"Import!H936","v":0},{"$f":"Import!I936","v":0},{"$f":"Import!J936","v":0},{"$f":"Import!K936","v":0},{"$f":"Import!L936","v":0},{"$f":"Import!M936","v":0},{"$f":"Import!N936","v":0},{"$f":"Import!O936","v":0},{"$f":"Import!P936","v":0},{"$f":"Import!Q936","v":0},{"$f":"Import!R936","v":0},{"$f":"Import!S936","v":0},{"$f":"Import!T936","v":0},{"$f":"Import!U936","v":0},{"$f":"Import!V936","v":0},{"$f":"Import!W936","v":0},{"$f":"Import!X936","v":0},{"$f":"Import!Y936","v":0},{"$f":"Import!Z936","v":0},{"$f":"Import!AA936","v":0},{"$f":"Import!AB936","v":0},{"$f":"Import!AC936","v":0},{"$f":"Import!AD936","v":0},{"$f":"Import!AE936","v":0},{"$f":"Import!AF936","v":0},{"$f":"Import!AG936","v":0},{"$f":"Import!AH936","v":0},{"$f":"Import!AI936","v":0},{"$f":"Import!AJ936","v":0},{"$f":"Import!AK936","v":0},{"$f":"Import!AL936","v":0}]
[null,{"$f":"Import!A937","v":0},{"$f":"Import!B937","v":0},{"$f":"Import!H937","v":0},{"$f":"Import!I937","v":0},{"$f":"Import!J937","v":0},{"$f":"Import!K937","v":0},{"$f":"Import!L937","v":0},{"$f":"Import!M937","v":0},{"$f":"Import!N937","v":0},{"$f":"Import!O937","v":0},{"$f":"Import!P937","v":0},{"$f":"Import!Q937","v":0},{"$f":"Import!R937","v":0},{"$f":"Import!S937","v":0},{"$f":"Import!T937","v":0},{"$f":"Import!U937","v":0},{"$f":"Import!V937","v":0},{"$f":"Import!W937","v":0},{"$f":"Import!X937","v":0},{"$f":"Import!Y937","v":0},{"$f":"Import!Z937","v":0},{"$f":"Import!AA937","v":0},{"$f":"Import!AB937","v":0},{"$f":"Import!AC937","v":0},{"$f":"Import!AD937","v":0},{"$f":"Import!AE937","v":0},{"$f":"Import!AF937","v":0},{"$f":"Import!AG937","v":0},{"$f":"Import!AH937","v":0},{"$f":"Import!AI937","v":0},{"$f":"Import!AJ937","v":0},{"$f":"Import!AK937","v":0},{"$f":"Import!AL937","v":0}]
[null,{"$f":"Import!A938","v":0},{"$f":"Import!B938","v":0},{"$f":"Import!H938","v":0},{"$f":"Import!I938","v":0},{"$f":"Import!J938","v":0},{"$f":"Import!K938","v":0},{"$f":"Import!L938","v":0},{"$f":"Import!M938","v":0},{"$f":"Import!N938","v":0},{"$f":"Import!O938","v":0},{"$f":"Import!P938","v":0},{"$f":"Import!Q938","v":0},{"$f":"Import!R938","v":0},{"$f":"Import!S938","v":0},{"$f":"Import!T938","v":0},{"$f":"Import!U938","v":0},{"$f":"Import!V938","v":0},{"$f":"Import!W938","v":0},{"$f":"Import!X938","v":0},{"$f":"Import!Y938","v":0},{"$f":"Import!Z938","v":0},{"$f":"Import!AA938","v":0},{"$f":"Import!AB938","v":0},{"$f":"Import!AC938","v":0},{"$f":"Import!AD938","v":0},{"$f":"Import!AE938","v":0},{"$f":"Import!AF938","v":0},{"$f":"Import!AG938","v":0},{"$f":"Import!AH938","v":0},{"$f":"Import!AI938","v":0},{"$f":"Import!AJ938","v":0},{"$f":"Import!AK938","v":0},{"$f":"Import!AL938","v":0}]
[null,{"$f":"Import!A939","v":0},{"$f":"Import!B939","v":0},{"$f":"Import!H939","v":0},{"$f":"Import!I939","v":0},{"$f":"Import!J939","v":0},{"$f":"Import!K939","v":0},{"$f":"Import!L939","v":0},{"$f":"Import!M939","v":0},{"$f":"Import!N939","v":0},{"$f":"Import!O939","v":0},{"$f":"Import!P939","v":0},{"$f":"Import!Q939","v":0},{"$f":"Import!R939","v":0},{"$f":"Import!S939","v":0},{"$f":"Import!T939","v":0},{"$f":"Import!U939","v":0},{"$f":"Import!V939","v":0},{"$f":"Import!W939","v":0},{"$f":"Import!X939","v":0},{"$f":"Import!Y939","v":0},{"$f":"Import!Z939","v":0},{"$f":"Import!AA939","v":0},{"$f":"Import!AB939","v":0},{"$f":"Import!AC939","v":0},{"$f":"Import!AD939","v":0},{"$f":"Import!AE939","v":0},{"$f":"Import!AF939","v":0},{"$f":"Import!AG939","v":0},{"$f":"Import!AH939","v":0},{"$f":"Import!AI939","v":0},{"$f":"Import!AJ939","v":0},{"$f":"Import!AK939","v":0},{"$f":"Import!AL939","v":0}]
[null,{"$f":"Import!A940","v":0},{"$f":"Import!B940","v":0},{"$f":"Import!H940","v":0},{"$f":"Import!I940","v":0},{"$f":"Import!J940","v":0},{"$f":"Import!K940","v":0},{"$f":"Import!L940","v":0},{"$f":"Import!M940","v":0},{"$f":"Import!N940","v":0},{"$f":"Import!O940","v":0},{"$f":"Import!P940","v":0},{"$f":"Import!Q940","v":0},{"$f":"Import!R940","v":0},{"$f":"Import!S940","v":0},{"$f":"Import!T940","v":0},{"$f":"Import!U940","v":0},{"$f":"Import!V940","v":0},{"$f":"Import!W940","v":0},{"$f":"Import!X940","v":0},{"$f":"Import!Y940","v":0},{"$f":"Import!Z940","v":0},{"$f":"Import!AA940","v":0},{"$f":"Import!AB940","v":0},{"$f":"Import!AC940","v":0},{"$f":"Import!AD940","v":0},{"$f":"Import!AE940","v":0},{"$f":"Import!AF940","v":0},{"$f":"Import!AG940","v":0},{"$f":"Import!AH940","v":0},{"$f":"Import!AI940","v":0},{"$f":"Import!AJ940","v":0},{"$f":"Import!AK940","v":0},{"$f":"Import!AL940","v":0}]
[null,{"$f":"Import!A941","v":0},{"$f":"Import!B941","v":0},{"$f":"Import!H941","v":0},{"$f":"Import!I941","v":0},{"$f":"Import!J941","v":0},{"$f":"Import!K941","v":0},{"$f":"Import!L941","v":0},{"$f":"Import!M941","v":0},{"$f":"Import!N941","v":0},{"$f":"Import!O941","v":0},{"$f":"Import!P941","v":0},{"$f":"Import!Q941","v":0},{"$f":"Import!R941","v":0},{"$f":"Import!S941","v":0},{"$f":"Import!T941","v":0},{"$f":"Import!U941","v":0},{"$f":"Import!V941","v":0},{"$f":"Import!W941","v":0},{"$f":"Import!X941","v":0},{"$f":"Import!Y941","v":0},{"$f":"Import!Z941","v":0},{"$f":"Import!AA941","v":0},{"$f":"Import!AB941","v":0},{"$f":"Import!AC941","v":0},{"$f":"Import!AD941","v":0},{"$f":"Import!AE941","v":0},{"$f":"Import!AF941","v":0},{"$f":"Import!AG941","v":0},{"$f":"Import!AH941","v":0},{"$f":"Import!AI941","v":0},{"$f":"Import!AJ941","v":0},{"$f":"Import!AK941","v":0},{"$f":"Import!AL941","v":0}]
[null,{"$f":"Import!A942","v":0},{"$f":"Import!B942","v":0},{"$f":"Import!H942","v":0},{"$f":"Import!I942","v":0},{"$f":"Import!J942","v":0},{"$f":"Import!K942","v":0},{"$f":"Import!L942","v":0},{"$f":"Import!M942","v":0},{"$f":"Import!N942","v":0},{"$f":"Import!O942","v":0},{"$f":"Import!P942","v":0},{"$f":"Import!Q942","v":0},{"$f":"Import!R942","v":0},{"$f":"Import!S942","v":0},{"$f":"Import!T942","v":0},{"$f":"Import!U942","v":0},{"$f":"Import!V942","v":0},{"$f":"Import!W942","v":0},{"$f":"Import!X942","v":0},{"$f":"Import!Y942","v":0},{"$f":"Import!Z942","v":0},{"$f":"Import!AA942","v":0},{"$f":"Import!AB942","v":0},{"$f":"Import!AC942","v":0},{"$f":"Import!AD942","v":0},{"$f":"Import!AE942","v":0},{"$f":"Import!AF942","v":0},{"$f":"Import!AG942","v":0},{"$f":"Import!AH942","v":0},{"$f":"Import!AI942","v":0},{"$f":"Import!AJ942","v":0},{"$f":"Import!AK942","v":0},{"$f":"Import!AL942","v":0}]
[null,{"$f":"Import!A943","v":0},{"$f":"Import!B943","v":0},{"$f":"Import!H943","v":0},{"$f":"Import!I943","v":0},{"$f":"Import!J943","v":0},{"$f":"Import!K943","v":0},{"$f":"Import!L943","v":0},{"$f":"Import!M943","v":0},{"$f":"Import!N943","v":0},{"$f":"Import!O943","v":0},{"$f":"Import!P943","v":0},{"$f":"Import!Q943","v":0},{"$f":"Import!R943","v":0},{"$f":"Import!S943","v":0},{"$f":"Import!T943","v":0},{"$f":"Import!U943","v":0},{"$f":"Import!V943","v":0},{"$f":"Import!W943","v":0},{"$f":"Import!X943","v":0},{"$f":"Import!Y943","v":0},{"$f":"Import!Z943","v":0},{"$f":"Import!AA943","v":0},{"$f":"Import!AB943","v":0},{"$f":"Import!AC943","v":0},{"$f":"Import!AD943","v":0},{"$f":"Import!AE943","v":0},{"$f":"Import!AF943","v":0},{"$f":"Import!AG943","v":0},{"$f":"Import!AH943","v":0},{"$f":"Import!AI943","v":0},{"$f":"Import!AJ943","v":0},{"$f":"Import!AK943","v":0},{"$f":"Import!AL943","v":0}]
[null,{"$f":"Import!A944","v":0},{"$f":"Import!B944","v":0},{"$f":"Import!H944","v":0},{"$f":"Import!I944","v":0},{"$f":"Import!J944","v":0},{"$f":"Import!K944","v":0},{"$f":"Import!L944","v":0},{"$f":"Import!M944","v":0},{"$f":"Import!N944","v":0},{"$f":"Import!O944","v":0},{"$f":"Import!P944","v":0},{"$f":"Import!Q944","v":0},{"$f":"Import!R944","v":0},{"$f":"Import!S944","v":0},{"$f":"Import!T944","v":0},{"$f":"Import!U944","v":0},{"$f":"Import!V944","v":0},{"$f":"Import!W944","v":0},{"$f":"Import!X944","v":0},{"$f":"Import!Y944","v":0},{"$f":"Import!Z944","v":0},{"$f":"Import!AA944","v":0},{"$f":"Import!AB944","v":0},{"$f":"Import!AC944","v":0},{"$f":"Import!AD944","v":0},{"$f":"Import!AE944","v":0},{"$f":"Import!AF944","v":0},{"$f":"Import!AG944","v":0},{"$f":"Import!AH944","v":0},{"$f":"Import!AI944","v":0},{"$f":"Import!AJ944","v":0},{"$f":"Import!AK944","v":0},{"$f":"Import!AL944","v":0}]
[null,{"$f":"Import!A945","v":0},{"$f":"Import!B945","v":0},{"$f":"Import!H945","v":0},{"$f":"Import!I945","v":0},{"$f":"Import!J945","v":0},{"$f":"Import!K945","v":0},{"$f":"Import!L945","v":0},{"$f":"Import!M945","v":0},{"$f":"Import!N945","v":0},{"$f":"Import!O945","v":0},{"$f":"Import!P945","v":0},{"$f":"Import!Q945","v":0},{"$f":"Import!R945","v":0},{"$f":"Import!S945","v":0},{"$f":"Import!T945","v":0},{"$f":"Import!U945","v":0},{"$f":"Import!V945","v":0},{"$f":"Import!W945","v":0},{"$f":"Import!X945","v":0},{"$f":"Import!Y945","v":0},{"$f":"Import!Z945","v":0},{"$f":"Import!AA945","v":0},{"$f":"Import!AB945","v":0},{"$f":"Import!AC945","v":0},{"$f":"Import!AD945","v":0},{"$f":"Import!AE945","v":0},{"$f":"Import!AF945","v":0},{"$f":"Import!AG945","v":0},{"$f":"Import!AH945","v":0},{"$f":"Import!AI945","v":0},{"$f":"Import!AJ945","v":0},{"$f":"Import!AK945","v":0},{"$f":"Import!AL945","v":0}]
[null,{"$f":"Import!A946","v":0},{"$f":"Import!B946","v":0},{"$f":"Import!H946","v":0},{"$f":"Import!I946","v":0},{"$f":"Import!J946","v":0},{"$f":"Import!K946","v":0},{"$f":"Import!L946","v":0},{"$f":"Import!M946","v":0},{"$f":"Import!N946","v":0},{"$f":"Import!O946","v":0},{"$f":"Import!P946","v":0},{"$f":"Import!Q946","v":0},{"$f":"Import!R946","v":0},{"$f":"Import!S946","v":0},{"$f":"Import!T946","v":0},{"$f":"Import!U946","v":0},{"$f":"Import!V946","v":0},{"$f":"Import!W946","v":0},{"$f":"Import!X946","v":0},{"$f":"Import!Y946","v":0},{"$f":"Import!Z946","v":0},{"$f":"Import!AA946","v":0},{"$f":"Import!AB946","v":0},{"$f":"Import!AC946","v":0},{"$f":"Import!AD946","v":0},{"$f":"Import!AE946","v":0},{"$f":"Import!AF946","v":0},{"$f":"Import!AG946","v":0},{"$f":"Import!AH946","v":0},{"$f":"Import!AI946","v":0},{"$f":"Import!AJ946","v":0},{"$f":"Import!AK946","v":0},{"$f":"Import!AL946","v":0}]
[null,{"$f":"Import!A947","v":0},{"$f":"Import!B947","v":0},{"$f":"Import!H947","v":0},{"$f":"Import!I947","v":0},{"$f":"Import!J947","v":0},{"$f":"Import!K947","v":0},{"$f":"Import!L947","v":0},{"$f":"Import!M947","v":0},{"$f":"Import!N947","v":0},{"$f":"Import!O947","v":0},{"$f":"Import!P947","v":0},{"$f":"Import!Q947","v":0},{"$f":"Import!R947","v":0},{"$f":"Import!S947","v":0},{"$f":"Import!T947","v":0},{"$f":"Import!U947","v":0},{"$f":"Import!V947","v":0},{"$f":"Import!W947","v":0},{"$f":"Import!X947","v":0},{"$f":"Import!Y947","v":0},{"$f":"Import!Z947","v":0},{"$f":"Import!AA947","v":0},{"$f":"Import!AB947","v":0},{"$f":"Import!AC947","v":0},{"$f":"Import!AD947","v":0},{"$f":"Import!AE947","v":0},{"$f":"Import!AF947","v":0},{"$f":"Import!AG947","v":0},{"$f":"Import!AH947","v":0},{"$f":"Import!AI947","v":0},{"$f":"Import!AJ947","v":0},{"$f":"Import!AK947","v":0},{"$f":"Import!AL947","v":0}]
[null,{"$f":"Import!A948","v":0},{"$f":"Import!B948","v":0},{"$f":"Import!H948","v":0},{"$f":"Import!I948","v":0},{"$f":"Import!J948","v":0},{"$f":"Import!K948","v":0},{"$f":"Import!L948","v":0},{"$f":"Import!M948","v":0},{"$f":"Import!N948","v":0},{"$f":"Import!O948","v":0},{"$f":"Import!P948","v":0},{"$f":"Import!Q948","v":0},{"$f":"Import!R948","v":0},{"$f":"Import!S948","v":0},{"$f":"Import!T948","v":0},{"$f":"Import!U948","v":0},{"$f":"Import!V948","v":0},{"$f":"Import!W948","v":0},{"$f":"Import!X948","v":0},{"$f":"Import!Y948","v":0},{"$f":"Import!Z948","v":0},{"$f":"Import!AA948","v":0},{"$f":"Import!AB948","v":0},{"$f":"Import!AC948","v":0},{"$f":"Import!AD948","v":0},{"$f":"Import!AE948","v":0},{"$f":"Import!AF948","v":0},{"$f":"Import!AG948","v":0},{"$f":"Import!AH948","v":0},{"$f":"Import!AI948","v":0},{"$f":"Import!AJ948","v":0},{"$f":"Import!AK948","v":0},{"$f":"Import!AL948","v":0}]
[null,{"$f":"Import!A949","v":0},{"$f":"Import!B949","v":0},{"$f":"Import!H949","v":0},{"$f":"Import!I949","v":0},{"$f":"Import!J949","v":0},{"$f":"Import!K949","v":0},{"$f":"Import!L949","v":0},{"$f":"Import!M949","v":0},{"$f":"Import!N949","v":0},{"$f":"Import!O949","v":0},{"$f":"Import!P949","v":0},{"$f":"Import!Q949","v":0},{"$f":"Import!R949","v":0},{"$f":"Import!S949","v":0},{"$f":"Import!T949","v":0},{"$f":"Import!U949","v":0},{"$f":"Import!V949","v":0},{"$f":"Import!W949","v":0},{"$f":"Import!X949","v":0},{"$f":"Import!Y949","v":0},{"$f":"Import!Z949","v":0},{"$f":"Import!AA949","v":0},{"$f":"Import!AB949","v":0},{"$f":"Import!AC949","v":0},{"$f":"Import!AD949","v":0},{"$f":"Import!AE949","v":0},{"$f":"Import!AF949","v":0},{"$f":"Import!AG949","v":0},{"$f":"Import!AH949","v":0},{"$f":"Import!AI949","v":0},{"$f":"Import!AJ949","v":0},{"$f":"Import!AK949","v":0},{"$f":"Import!AL949","v":0}]
[null,{"$f":"Import!A950","v":0},{"$f":"Import!B950","v":0},{"$f":"Import!H950","v":0},{"$f":"Import!I950","v":0},{"$f":"Import!J950","v":0},{"$f":"Import!K950","v":0},{"$f":"Import!L950","v":0},{"$f":"Import!M950","v":0},{"$f":"Import!N950","v":0},{"$f":"Import!O950","v":0},{"$f":"Import!P950","v":0},{"$f":"Import!Q950","v":0},{"$f":"Import!R950","v":0},{"$f":"Import!S950","v":0},{"$f":"Import!T950","v":0},{"$f":"Import!U950","v":0},{"$f":"Import!V950","v":0},{"$f":"Import!W950","v":0},{"$f":"Import!X950","v":0},{"$f":"Import!Y950","v":0},{"$f":"Import!Z950","v":0},{"$f":"Import!AA950","v":0},{"$f":"Import!AB950","v":0},{"$f":"Import!AC950","v":0},{"$f":"Import!AD950","v":0},{"$f":"Import!AE950","v":0},{"$f":"Import!AF950","v":0},{"$f":"Import!AG950","v":0},{"$f":"Import!AH950","v":0},{"$f":"Import!AI950","v":0},{"$f":"Import!AJ950","v":0},{"$f":"Import!AK950","v":0},{"$f":"Import!AL950","v":0}]
[null,{"$f":"Import!A951","v":0},{"$f":"Import!B951","v":0},{"$f":"Import!H951","v":0},{"$f":"Import!I951","v":0},{"$f":"Import!J951","v":0},{"$f":"Import!K951","v":0},{"$f":"Import!L951","v":0},{"$f":"Import!M951","v":0},{"$f":"Import!N951","v":0},{"$f":"Import!O951","v":0},{"$f":"Import!P951","v":0},{"$f":"Import!Q951","v":0},{"$f":"Import!R951","v":0},{"$f":"Import!S951","v":0},{"$f":"Import!T951","v":0},{"$f":"Import!U951","v":0},{"$f":"Import!V951","v":0},{"$f":"Import!W951","v":0},{"$f":"Import!X951","v":0},{"$f":"Import!Y951","v":0},{"$f":"Import!Z951","v":0},{"$f":"Import!AA951","v":0},{"$f":"Import!AB951","v":0},{"$f":"Import!AC951","v":0},{"$f":"Import!AD951","v":0},{"$f":"Import!AE951","v":0},{"$f":"Import!AF951","v":0},{"$f":"Import!AG951","v":0},{"$f":"Import!AH951","v":0},{"$f":"Import!AI951","v":0},{"$f":"Import!AJ951","v":0},{"$f":"Import!AK951","v":0},{"$f":"Import!AL951","v":0}]
[null,{"$f":"Import!A952","v":0},{"$f":"Import!B952","v":0},{"$f":"Import!H952","v":0},{"$f":"Import!I952","v":0},{"$f":"Import!J952","v":0},{"$f":"Import!K952","v":0},{"$f":"Import!L952","v":0},{"$f":"Import!M952","v":0},{"$f":"Import!N952","v":0},{"$f":"Import!O952","v":0},{"$f":"Import!P952","v":0},{"$f":"Import!Q952","v":0},{"$f":"Import!R952","v":0},{"$f":"Import!S952","v":0},{"$f":"Import!T952","v":0},{"$f":"Import!U952","v":0},{"$f":"Import!V952","v":0},{"$f":"Import!W952","v":0},{"$f":"Import!X952","v":0},{"$f":"Import!Y952","v":0},{"$f":"Import!Z952","v":0},{"$f":"Import!AA952","v":0},{"$f":"Import!AB952","v":0},{"$f":"Import!AC952","v":0},{"$f":"Import!AD952","v":0},{"$f":"Import!AE952","v":0},{"$f":"Import!AF952","v":0},{"$f":"Import!AG952","v":0},{"$f":"Import!AH952","v":0},{"$f":"Import!AI952","v":0},{"$f":"Import!AJ952","v":0},{"$f":"Import!AK952","v":0},{"$f":"Import!AL952","v":0}]
[null,{"$f":"Import!A953","v":0},{"$f":"Import!B953","v":0},{"$f":"Import!H953","v":0},{"$f":"Import!I953","v":0},{"$f":"Import!J953","v":0},{"$f":"Import!K953","v":0},{"$f":"Import!L953","v":0},{"$f":"Import!M953","v":0},{"$f":"Import!N953","v":0},{"$f":"Import!O953","v":0},{"$f":"Import!P953","v":0},{"$f":"Import!Q953","v":0},{"$f":"Import!R953","v":0},{"$f":"Import!S953","v":0},{"$f":"Import!T953","v":0},{"$f":"Import!U953","v":0},{"$f":"Import!V953","v":0},{"$f":"Import!W953","v":0},{"$f":"Import!X953","v":0},{"$f":"Import!Y953","v":0},{"$f":"Import!Z953","v":0},{"$f":"Import!AA953","v":0},{"$f":"Import!AB953","v":0},{"$f":"Import!AC953","v":0},{"$f":"Import!AD953","v":0},{"$f":"Import!AE953","v":0},{"$f":"Import!AF953","v":0},{"$f":"Import!AG953","v":0},{"$f":"Import!AH953","v":0},{"$f":"Import!AI953","v":0},{"$f":"Import!AJ953","v":0},{"$f":"Import!AK953","v":0},{"$f":"Import!AL953","v":0}]
[null,{"$f":"Import!A954","v":0},{"$f":"Import!B954","v":0},{"$f":"Import!H954","v":0},{"$f":"Import!I954","v":0},{"$f":"Import!J954","v":0},{"$f":"Import!K954","v":0},{"$f":"Import!L954","v":0},{"$f":"Import!M954","v":0},{"$f":"Import!N954","v":0},{"$f":"Import!O954","v":0},{"$f":"Import!P954","v":0},{"$f":"Import!Q954","v":0},{"$f":"Import!R954","v":0},{"$f":"Import!S954","v":0},{"$f":"Import!T954","v":0},{"$f":"Import!U954","v":0},{"$f":"Import!V954","v":0},{"$f":"Import!W954","v":0},{"$f":"Import!X954","v":0},{"$f":"Import!Y954","v":0},{"$f":"Import!Z954","v":0},{"$f":"Import!AA954","v":0},{"$f":"Import!AB954","v":0},{"$f":"Import!AC954","v":0},{"$f":"Import!AD954","v":0},{"$f":"Import!AE954","v":0},{"$f":"Import!AF954","v":0},{"$f":"Import!AG954","v":0},{"$f":"Import!AH954","v":0},{"$f":"Import!AI954","v":0},{"$f":"Import!AJ954","v":0},{"$f":"Import!AK954","v":0},{"$f":"Import!AL954","v":0}]
[null,{"$f":"Import!A955","v":0},{"$f":"Import!B955","v":0},{"$f":"Import!H955","v":0},{"$f":"Import!I955","v":0},{"$f":"Import!J955","v":0},{"$f":"Import!K955","v":0},{"$f":"Import!L955","v":0},{"$f":"Import!M955","v":0},{"$f":"Import!N955","v":0},{"$f":"Import!O955","v":0},{"$f":"Import!P955","v":0},{"$f":"Import!Q955","v":0},{"$f":"Import!R955","v":0},{"$f":"Import!S955","v":0},{"$f":"Import!T955","v":0},{"$f":"Import!U955","v":0},{"$f":"Import!V955","v":0},{"$f":"Import!W955","v":0},{"$f":"Import!X955","v":0},{"$f":"Import!Y955","v":0},{"$f":"Import!Z955","v":0},{"$f":"Import!AA955","v":0},{"$f":"Import!AB955","v":0},{"$f":"Import!AC955","v":0},{"$f":"Import!AD955","v":0},{"$f":"Import!AE955","v":0},{"$f":"Import!AF955","v":0},{"$f":"Import!AG955","v":0},{"$f":"Import!AH955","v":0},{"$f":"Import!AI955","v":0},{"$f":"Import!AJ955","v":0},{"$f":"Import!AK955","v":0},{"$f":"Import!AL955","v":0}]
[null,{"$f":"Import!A956","v":0},{"$f":"Import!B956","v":0},{"$f":"Import!H956","v":0},{"$f":"Import!I956","v":0},{"$f":"Import!J956","v":0},{"$f":"Import!K956","v":0},{"$f":"Import!L956","v":0},{"$f":"Import!M956","v":0},{"$f":"Import!N956","v":0},{"$f":"Import!O956","v":0},{"$f":"Import!P956","v":0},{"$f":"Import!Q956","v":0},{"$f":"Import!R956","v":0},{"$f":"Import!S956","v":0},{"$f":"Import!T956","v":0},{"$f":"Import!U956","v":0},{"$f":"Import!V956","v":0},{"$f":"Import!W956","v":0},{"$f":"Import!X956","v":0},{"$f":"Import!Y956","v":0},{"$f":"Import!Z956","v":0},{"$f":"Import!AA956","v":0},{"$f":"Import!AB956","v":0},{"$f":"Import!AC956","v":0},{"$f":"Import!AD956","v":0},{"$f":"Import!AE956","v":0},{"$f":"Import!AF956","v":0},{"$f":"Import!AG956","v":0},{"$f":"Import!AH956","v":0},{"$f":"Import!AI956","v":0},{"$f":"Import!AJ956","v":0},{"$f":"Import!AK956","v":0},{"$f":"Import!AL956","v":0}]

{"sheet":"Operating Account Projections","index":1,"n_rows":1077,"n_cols":34,"rows_kept":1077,"merged":[[0,4,0,9],[23,1,23,3],[24,1,24,3],[25,1,25,3],[26,1,26,3],[27,1,27,3],[28,1,28,3],[29,1,29,3],[30,1,30,3],[31,1,31,3],[32,1,32,3],[33,1,33,3],[34,1,34,5],[37,1,37,4]]}
[]
[]
[]
[]
[]
[{"$nulls":19}," "]
{"$rows_empty":10}
[null,"Operating Account Balance (beginning balance)",{"v":0,"d":"$0"}]
[null,"Annual Operating Account Allocation Rate",{"v":0,"d":"$0"}]
[null,"Annual Operating Account Allocation Rate Change",{"v":0.03,"d":"$0"}]
[null,"Annual Operating Expenses Inflation Rate",{"v":0.03,"d":"$0"}]
[null,"*Green cells are Master cells that are editable and populate the below table."]
[]
[{"$nulls":4},{"$f":"Import!I10","v":2022},{"$f":"Import!J10","v":2023},{"$f":"Import!K10","v":2024},{"$f":"Import!L10","v":2025},{"$f":"Import!M10","v":2026},{"$f":"Import!N10","v":2027},{"$f":"Import!O10","v":2028},{"$f":"Import!P10","v":2029},{"$f":"Import!Q10","v":2030},{"$f":"Import!R10","v":2031},{"$f":"Import!S10","v":2032},{"$f":"Import!T10","v":2033},{"$f":"Import!U10","v":2034},{"$f":"Import!V10","v":2035},{"$f":"Import!W10","v":2036},{"$f":"Import!X10","v":2037},{"$f":"Import!Y10","v":2038},{"$f":"Import!Z10","v":2039},{"$f":"Import!AA10","v":2040},{"$f":"Import!AB10","v":2041},{"$f":"Import!AC10","v":2042},{"$f":"Import!AD10","v":2043},{"$f":"Import!AE10","v":2044},{"$f":"Import!AF10","v":2045},{"$f":"Import!AG10","v":2046},{"$f":"Import!AH10","v":2047},{"$f":"Import!AI10","v":2048},{"$f":"Import!AJ10","v":2049},{"$f":"Import!AK10","v":2050},{"$f":"Import!AL10","v":2051}]
[null,"Annual Operating Account Allocation Rate",null,null,{"$f":"C18","v":{"v":0,"d":"$0"}},{"$f":"IF(E25=\"\",(E26*E24)+E24,(E25*E26)+E25)","v":{"v":0,"d":"$0"}},{"$f":"IF(F25=\"\",(F26*F24)+F24,(F25*F26)+F25)","v":{"v":0,"d":"$0"}},{"v":0,"d":"$0"},{"v":0,"d":"$0"},{"v":0,"d":"$0"},{"v":0,"d":"$0"},{"v":0,"d":"$0"},{"v":0,"d":"$0"},{"v":0,"d":"$0"},{"v":0,"d":"$0"},{"v":0,"d":"$0"},{"v":0,"d":"$0"},{"v":0,"d":"$0"},{"v":0,"d":"$0"},{"v":0,"d":"$0"},{"v":0,"d":"$0"},{"v":0,"d":"$0"},{"v":0,"d":"$0"},{"v":0,"d":"$0"},{"v":0,"d":"$0"},{"v":0,"d":"$0"},{"v":0,"d":"$0"},{"v":0,"d":"$0"},{"v":0,"d":"$0"},{"v":0,"d":"$0"},{"v":0,"d":"$0"},{"v":0,"d":"$0"},{"v":0,"d":"$0"},{"v":0,"d":"$0"}]
[null,"Overwrite Annual Operating Account Allocation Rate**"]
[null,"Annual Operating Account Allocation % Rate Change",null,null,{"$f":"IF(E27=\"\",$C$19,E27)","v":{"v":0.03,"d":"$0"}},{"v":0.03,"d":"$0"},{"v":0.03,"d":"$0"},{"v":0.03,"d":"$0"},{"v":0.03,"d":"$0"},{"v":0.03,"d":"$0"},{"v":0.03,"d":"$0"},{"v":0.03,"d":"$0"},{"v":0.03,"d":"$0"},{"v":0.03,"d":"$0"},{"v":0.03,"d":"$0"},{"v":0.03,"d":"$0"},{"v":0.03,"d":"$0"},{"v":0.03,"d":"$0"},{"v":0.03,"d":"$0"},{"v":0.03,"d":"$0"},{"v":0.03,"d":"$0"},{"v":0.03,"d":"$0"},{"v":0.03,"d":"$0"},{"v":0.03,"d":"$0"},{"v":0.03,"d":"$0"},{"v":0.03,"d":"$0"},{"v":0.03,"d":"$0"},{"v":0.03,"d":"$0"},{"v":0.03,"d":"$0"},{"v":0.03,"d":"$0"},{"v":0.03,"d":"$0"},{"v":0.03,"d":"$0"},{"v":0.03,"d":"$0"},{"v":0.03,"d":"$0"}]
[null,"Overwrite Annual Operating Account % Rate Change**"]
[null,"Annual Operating Account Inflation Rate",null,null,{"$f":"IF(E29=\"\",$C$19,E29)","v":{"v":0.03,"d":"$0"}},{"v":0.03,"d":"$0"},{"v":0.03,"d":"$0"},{"v":0.03,"d":"$0"},{"v":0.03,"d":"$0"},{"v":0.03,"d":"$0"},{"v":0.03,"d":"$0"},{"v":0.03,"d":"$0"},{"v":0.03,"d":"$0"},{"v":0.03,"d":"$0"},{"v":0.03,"d":"$0"},{"v":0.03,"d":"$0"},{"v":0.03,"d":"$0"},{"v":0.03,"d":"$0"},{"v":0.03,"d":"$0"},{"v":0.03,"d":"$0"},{"v":0.03,"d":"$0"},{"v":0.03,"d":"$0"},{"v":0.03,"d":"$0"},{"v":0.03,"d":"$0"},{"v":0.03,"d":"$0"},{"v":0.03,"d":"$0"},{"v":0.03,"d":"$0"},{"v":0.03,"d":"$0"},{"v":0.03,"d":"$0"},{"v":0.03,"d":"$0"},{"v":0.03,"d":"$0"},{"v":0.03,"d":"$0"},{"v":0.03,"d":"$0"},{"v":0.03,"d":"$0"}]
[null,"Overwrite Annual Operating Account Inflation Rate**"]
[]
[null,"Add Other Sources of Income (one time)"]
[null,"Annual Projected Operating Account Expenditures",null,null,{"$f":"((SUM(E40:E1075)+E33))","v":{"v":0,"d":"$0"}},{"v":0,"d":"$0"},{"v":0,"d":"$0"},{"v":0,"d":"$0"},{"v":0,"d":"$0"},{"v":0,"d":"$0"},{"v":0,"d":"$0"},{"v":0,"d":"$0"},{"v":0,"d":"$0"},{"v":0,"d":"$0"},{"v":0,"d":"$0"},{"v":0,"d":"$0"},{"v":0,"d":"$0"},{"v":0,"d":"$0"},{"v":0,"d":"$0"},{"v":0,"d":"$0"},{"v":0,"d":"$0"},{"v":0,"d":"$0"},{"v":0,"d":"$0"},{"v":0,"d":"$0"},{"v":0,"d":"$0"},{"v":0,"d":"$0"},{"v":0,"d":"$0"},{"v":0,"d":"$0"},{"v":0,"d":"$0"},{"v":0,"d":"$0"},{"v":0,"d":"$0"},{"v":0,"d":"$0"},{"v":0,"d":"$0"},{"v":0,"d":"$0"}]
[null,"Add Other Operating Expenses (one time expenses)"]
[null,"Year End Operating Account Balance",null,null,{"$f":"SUM(C17+E24+E31)-E32","v":{"v":0,"d":"$0"}},{"$f":"SUM(E34+F24+F31)-F32","v":{"v":0,"d":"$0"}},{"v":0,"d":"$0"},{"v":0,"d":"$0"},{"v":0,"d":"$0"},{"v":0,"d":"$0"},{"v":0,"d":"$0"},{"v":0,"d":"$0"},{"v":0,"d":"$0"},{"v":0,"d":"$0"},{"v":0,"d":"$0"},{"v":0,"d":"$0"},{"v":0,"d":"$0"},{"v":0,"d":"$0"},{"v":0,"d":"$0"},{"v":0,"d":"$0"},{"v":0,"d":"$0"},{"v":0,"d":"$0"},{"v":0,"d":"$0"},{"v":0,"d":"$0"},{"v":0,"d":"$0"},{"v":0,"d":"$0"},{"v":0,"d":"$0"},{"v":0,"d":"$0"},{"v":0,"d":"$0"},{"v":0,"d":"$0"},{"v":0,"d":"$0"},{"v":0,"d":"$0"},{"v":0,"d":"$0"},{"v":0,"d":"$0"}]
[null,"**Master cell data can be overwritten in specific years by entering the preferred value into the yellow cells below the master populated data. "]
[]
[]
[null,"***Input the Operating Account expense description and current annual cost below. Cost will inflate at the above selected inflation rate. "]
[null,"Description of Operating Account Expense***","Expense ID","Current Annual Cost","2022","2023","2024","2025","2026","2027","2028","2029","2030","2031","2032","2033","2034","2035","2036","2037","2038","2039","2040","2041","2042","2043","2044","2045","2046","2047","2048","2049","2050","2051"]
[null,"Enter Non-Inflation Impacted Operating Expense Here (yellow cells)"]
[]
[]
[]
[]
[null,"Enter Inflation Impacted Operating Account Expenses Here (white & gray cells)",null,null,{"$f":"(D45*E$28)+D45","v":0},0,0,0,0,0,0,0,0,0,0,0,0,0,0,0,0,0,0,null,{"$f":"(X45*Y$28)+X45","v":0},0,0,0,0,0,0,0,0,0]
[{"$nulls":4},{"$f":"(D46*E$28)+D46","v":0},0,0,null,0,0,0,0,0,0,0,0,0,0,0,0,0,0,0,{"$f":"(W46*X$28)+W46","v":0},{"$f":"(X46*Y$28)+X46","v":0},0,0,0,0,0,0,0,0,0]
[{"$nulls":4},{"$f":"(D47*E$28)+D47","v":0},0,0,0,0,0,0,0,0,0,0,0,0,0,0,0,0,0,0,0,{"$f":"(X47*Y$28)+X47","v":0},0,0,0,0,0,0,0,0,0]
[{"$nulls":4},{"$f":"(D48*E$28)+D48","v":0},0,0,0,0,0,0,0,0,0,0,0,0,0,0,0,0,0,0,0,{"$f":"(X48*Y$28)+X48","v":0},0,0,0,0,0,0,0,0,0]
[{"$nulls":4},{"$f":"(D49*E$28)+D49","v":0},0,0,0,0,0,0,0,0,0,0,0,0,0,0,0,0,0,0,0,{"$f":"(X49*Y$28)+X49","v":0},0,0,0,0,0,0,0,0,0]
[{"$nulls":4},{"$f":"(D50*E$28)+D50","v":0},0,0,0,0,0,0,0,0,0,0,0,0,0,0,0,0,0,0,0,{"$f":"(X50*Y$28)+X50","v":0},0,0,0,0,0,0,0,0,0]
[{"$nulls":4},{"$f":"(D51*E$28)+D51","v":0},0,0,0,0,0,0,0,0,0,0,0,0,0,0,0,0,0,0,0,{"$f":"(X51*Y$28)+X51","v":0},0,0,0,0,0,0,0,0,0]
[{"$nulls":4},{"$f":"(D52*E$28)+D52","v":0},0,0,0,0,0,0,0,0,0,0,0,0,0,0,0,0,0,0,0,{"$f":"(X52*Y$28)+X52","v":0},0,0,0,0,0,0,0,0,0]
[{"$nulls":4},{"$f":"(D53*E$28)+D53","v":0},0,0,0,0,0,0,0,0,0,0,0,0,0,0,0,0,0,0,0,{"$f":"(X53*Y$28)+X53","v":0},0,0,0,0,0,0,0,0,0]
[{"$nulls":4},{"$f":"(D54*E$28)+D54","v":0},0,0,0,0,0,0,0,0,0,0,0,0,0,0,0,0,0,0,0,{"$f":"(X54*Y$28)+X54","v":0},0,0,0,0,0,0,0,0,0]
[{"$nulls":4},{"$f":"(D55*E$28)+D55","v":0},0,0,0,0,0,0,0,0,0,0,0,0,0,0,0,0,0,0,0,{"$f":"(X55*Y$28)+X55","v":0},0,0,0,0,0,0,0,0,0]
[{"$nulls":4},{"$f":"(D56*E$28)+D56","v":0},0,0,0,0,0,0,0,0,0,0,0,0,0,0,0,0,0,0,0,{"$f":"(X56*Y$28)+X56","v":0},0,0,0,0,0,0,0,0,0]
[{"$nulls":4},{"$f":"(D57*E$28)+D57","v":0},0,0,0,0,0,0,0,0,0,0,0,0,0,0,0,0,0,0,0,{"$f":"(X57*Y$28)+X57","v":0},0,0,0,0,0,0,0,0,0]
[{"$nulls":4},{"$f":"(D58*E$28)+D58","v":0},0,0,0,0,0,0,0,0,0,0,0,0,0,0,0,0,0,0,0,{"$f":"(X58*Y$28)+X58","v":0},0,0,0,0,0,0,0,0,0]
[{"$nulls":4},{"$f":"(D59*E$28)+D59","v":0},0,0,0,0,0,0,0,0,0,0,0,0,0,0,0,0,0,0,0,{"$f":"(X59*Y$28)+X59","v":0},0,0,0,0,0,0,0,0,0]
[{"$nulls":4},{"$f":"(D60*E$28)+D60","v":0},0,0,0,0,0,0,0,0,0,0,0,0,0,0,0,0,0,0,0,{"$f":"(X60*Y$28)+X60","v":0},0,0,0,0,0,0,0,0,0]
[{"$nulls":4},{"$f":"(D61*E$28)+D61","v":0},0,0,0,0,0,0,0,0,0,0,0,0,0,0,0,0,0,0,0,{"$f":"(X61*Y$28)+X61","v":0},0,0,0,0,0,0,0,0,0]
[{"$nulls":4},{"$f":"(D62*E$28)+D62","v":0},0,0,0,0,0,0,0,0,0,0,0,0,0,0,0,0,0,0,0,{"$f":"(X62*Y$28)+X62","v":0},0,0,0,0,0,0,0,0,0]
[{"$nulls":4},{"$f":"(D63*E$28)+D63","v":0},0,0,0,0,0,0,0,0,0,0,0,0,0,0,0,0,0,0,0,{"$f":"(X63*Y$28)+X63","v":0},0,0,0,0,0,0,0,0,0]
[{"$nulls":4},{"$f":"(D64*E$28)+D64","v":0},0,0,0,0,0,0,0,0,0,0,0,0,0,0,0,0,0,0,0,{"$f":"(X64*Y$28)+X64","v":0},0,0,0,0,0,0,0,0,0]
[{"$nulls":4},{"$f":"(D65*E$28)+D65","v":0},0,0,0,0,0,0,0,0,0,0,0,0,0,0,0,0,0,0,0,{"$f":"(X65*Y$28)+X65","v":0},0,0,0,0,0,0,0,0,0]
[{"$nulls":4},{"$f":"(D66*E$28)+D66","v":0},0,0,0,0,0,0,0,0,0,0,0,0,0,0,0,0,0,0,0,{"$f":"(X66*Y$28)+X66","v":0},0,0,0,0,0,0,0,0,0]
[{"$nulls":4},{"$f":"(D67*E$28)+D67","v":0},0,0,0,0,0,0,0,0,0,0,0,0,0,0,0,0,0,0,0,{"$f":"(X67*Y$28)+X67","v":0},0,0,0,0,0,0,0,0,0]
[{"$nulls":4},{"$f":"(D68*E$28)+D68","v":0},0,0,0,0,0,0,0,0,0,0,0,0,0,0,0,0,0,0,0,{"$f":"(X68*Y$28)+X68","v":0},0,0,0,0,0,0,0,0,0]
[{"$nulls":4},{"$f":"(D69*E$28)+D69","v":0},0,0,0,0,0,0,0,0,0,0,0,0,0,0,0,0,0,0,0,{"$f":"(X69*Y$28)+X69","v":0},0,0,0,0,0,0,0,0,0]
[{"$nulls":4},{"$f":"(D70*E$28)+D70","v":0},0,0,0,0,0,0,0,0,0,0,0,0,0,0,0,0,0,0,0,{"$f":"(X70*Y$28)+X70","v":0},0,0,0,0,0,0,0,0,0]
[{"$nulls":4},{"$f":"(D71*E$28)+D71","v":0},0,0,0,0,0,0,0,0,0,0,0,0,0,0,0,0,0,0,0,{"$f":"(X71*Y$28)+X71","v":0},0,0,0,0,0,0,0,0,0]
[{"$nulls":4},{"$f":"(D72*E$28)+D72","v":0},0,0,0,0,0,0,0,0,0,0,0,0,0,0,0,0,0,0,0,{"$f":"(X72*Y$28)+X72","v":0},0,0,0,0,0,0,0,0,0]
[{"$nulls":4},{"$f":"(D73*E$28)+D73","v":0},0,0,0,0,0,0,0,0,0,0,0,0,0,0,0,0,0,0,0,{"$f":"(X73*Y$28)+X73","v":0},0,0,0,0,0,0,0,0,0]
[{"$nulls":4},{"$f":"(D74*E$28)+D74","v":0},0,0,0,0,0,0,0,0,0,0,0,0,0,0,0,0,0,0,0,{"$f":"(X74*Y$28)+X74","v":0},0,0,0,0,0,0,0,0,0]
[{"$nulls":4},{"$f":"(D75*E$28)+D75","v":0},0,0,0,0,0,0,0,0,0,0,0,0,0,0,0,0,0,0,0,{"$f":"(X75*Y$28)+X75","v":0},0,0,0,0,0,0,0,0,0]
[{"$nulls":4},{"$f":"(D76*E$28)+D76","v":0},0,0,0,0,0,0,0,0,0,0,0,0,0,0,0,0,0,0,0,{"$f":"(X76*Y$28)+X76","v":0},0,0,0,0,0,0,0,0,0]
[{"$nulls":4},{"$f":"(D77*E$28)+D77","v":0},0,0,0,0,0,0,0,0,0,0,0,0,0,0,0,0,0,0,0,{"$f":"(X77*Y$28)+X77","v":0},0,0,0,0,0,0,0,0,0]
[{"$nulls":4},{"$f":"(D78*E$28)+D78","v":0},0,0,0,0,0,0,0,0,0,0,0,0,0,0,0,0,0,0,{"$f":"(W78*X$28)+W78","v":0},{"$f":"(X78*Y$28)+X78","v":0},0,0,0,0,0,0,0,0,0]
[{"$nulls":4},{"$f":"(D79*E$28)+D79","v":0},0,0,0,0,0,0,0,0,0,0,0,0,0,0,0,0,0,0,0,{"$f":"(X79*Y$28)+X79","v":0},0,0,0,0,0,0,0,0,0]
[{"$nulls":4},{"$f":"(D80*E$28)+D80","v":0},0,0,0,0,0,0,0,0,0,0,0,0,0,0,0,0,0,0,0,{"$f":"(X80*Y$28)+X80","v":0},0,0,0,0,0,0,0,0,0]
[{"$nulls":4},{"$f":"(D81*E$28)+D81","v":0},0,0,0,0,0,0,0,0,0,0,0,0,0,0,0,0,0,0,0,{"$f":"(X81*Y$28)+X81","v":0},0,0,0,0,0,0,0,0,0]
[{"$nulls":4},{"$f":"(D82*E$28)+D82","v":0},0,0,0,0,0,0,0,0,0,0,0,0,0,0,0,0,0,0,0,{"$f":"(X82*Y$28)+X82","v":0},0,0,0,0,0,0,0,0,0]
[{"$nulls":4},{"$f":"(D83*E$28)+D83","v":0},0,0,0,0,0,0,0,0,0,0,0,0,0,0,0,0,0,0,0,{"$f":"(X83*Y$28)+X83","v":0},0,0,0,0,0,0,0,0,0]
[{"$nulls":4},{"$f":"(D84*E$28)+D84","v":0},0,0,0,0,0,0,0,0,0,0,0,0,0,0,0,0,0,0,0,{"$f":"(X84*Y$28)+X84","v":0},0,0,0,0,0,0,0,0,0]
[{"$nulls":4},{"$f":"(D85*E$28)+D85","v":0},0,0,0,0,0,0,0,0,0,0,0,0,0,0,0,0,0,0,0,{"$f":"(X85*Y$28)+X85","v":0},0,0,0,0,0,0,0,0,0]
[{"$nulls":4},{"$f":"(D86*E$28)+D86","v":0},0,0,0,0,0,0,0,0,0,0,0,0,0,0,0,0,0,0,0,{"$f":"(X86*Y$28)+X86","v":0},0,0,0,0,0,0,0,0,0]
[{"$nulls":4},{"$f":"(D87*E$28)+D87","v":0},0,0,0,0,0,0,0,0,0,0,0,0,0,0,0,0,0,0,0,{"$f":"(X87*Y$28)+X87","v":0},0,0,0,0,0,0,0,0,0]
[{"$nulls":4},{"$f":"(D88*E$28)+D88","v":0},0,0,0,0,0,0,0,0,0,0,0,0,0,0,0,0,0,0,0,{"$f":"(X88*Y$28)+X88","v":0},0,0,0,0,0,0,0,0,0]
[{"$nulls":4},{"$f":"(D89*E$28)+D89","v":0},0,0,0,0,0,0,0,0,0,0,0,0,0,0,0,0,0,0,0,{"$f":"(X89*Y$28)+X89","v":0},0,0,0,0,0,0,0,0,0]
[{"$nulls":4},{"$f":"(D90*E$28)+D90","v":0},0,0,0,0,0,0,0,0,0,0,0,0,0,0,0,0,0,0,0,{"$f":"(X90*Y$28)+X90","v":0},0,0,0,0,0,0,0,0,0]
[{"$nulls":4},{"$f":"(D91*E$28)+D91","v":0},0,0,0,0,0,0,0,0,0,0,0,0,0,0,0,0,0,0,0,{"$f":"(X91*Y$28)+X91","v":0},0,0,0,0,0,0,0,0,0]
[{"$nulls":4},{"$f":"(D92*E$28)+D92","v":0},0,0,0,0,0,0,0,0,0,0,0,0,0,0,0,0,0,0,0,{"$f":"(X92*Y$28)+X92","v":0},0,0,0,0,0,0,0,0,0]
[{"$nulls":4},{"$f":"(D93*E$28)+D93","v":0},0,0,0,0,0,0,0,0,0,0,0,0,0,0,0,0,0,0,0,{"$f":"(X93*Y$28)+X93","v":0},0,0,0,0,0,0,0,0,0]
[{"$nulls":4},{"$f":"(D94*E$28)+D94","v":0},0,0,0,0,0,0,0,0,0,0,0,0,0,0,0,0,0,0,0,{"$f":"(X94*Y$28)+X94","v":0},0,0,0,0,0,0,0,0,0]
[{"$nulls":4},{"$f":"(D95*E$28)+D95","v":0},0,0,0,0,0,0,0,0,0,0,0,0,0,0,0,0,0,0,0,{"$f":"(X95*Y$28)+X95","v":0},0,0,0,0,0,0,0,0,0]
[{"$nulls":4},{"$f":"(D96*E$28)+D96","v":0},0,0,0,0,0,0,0,0,0,0,0,0,0,0,0,0,0,0,0,{"$f":"(X96*Y$28)+X96","v":0},0,0,0,0,0,0,0,0,0]
[{"$nulls":4},{"$f":"(D97*E$28)+D97","v":0},0,0,0,0,0,0,0,0,0,0,0,0,0,0,0,0,0,0,0,{"$f":"(X97*Y$28)+X97","v":0},0,0,0,0,0,0,0,0,0]
[{"$nulls":4},{"$f":"(D98*E$28)+D98","v":0},0,0,0,0,0,0,0,0,0,0,0,0,0,0,0,0,0,0,0,{"$f":"(X98*Y$28)+X98","v":0},0,0,0,0,0,0,0,0,0]
[{"$nulls":4},{"$f":"(D99*E$28)+D99","v":0},0,0,0,0,0,0,0,0,0,0,0,0,0,0,0,0,0,0,0,{"$f":"(X99*Y$28)+X99","v":0},0,0,0,0,0,0,0,0,0]
[{"$nulls":4},{"$f":"(D100*E$28)+D100","v":0},0,0,0,0,0,0,0,0,0,0,0,0,0,0,0,0,0,0,0,{"$f":"(X100*Y$28)+X100","v":0},0,0,0,0,0,0,0,0,0]
[{"$nulls":4},{"$f":"(D101*E$28)+D101","v":0},0,0,0,0,0,0,0,0,0,0,0,0,0,0,0,0,0,0,0,{"$f":"(X101*Y$28)+X101","v":0},0,0,0,0,0,0,0,0,0]
[{"$nulls":4},{"$f":"(D102*E$28)+D102","v":0},0,0,0,0,0,0,0,0,0,0,0,0,0,0,0,0,0,0,0,{"$f":"(X102*Y$28)+X102","v":0},0,0,0,0,0,0,0,0,0]
[{"$nulls":4},{"$f":"(D103*E$28)+D103","v":0},0,0,0,0,0,0,0,0,0,0,0,0,0,0,0,0,0,0,0,{"$f":"(X103*Y$28)+X103","v":0},0,0,0,0,0,0,0,0,0]
[{"$nulls":4},{"$f":"(D104*E$28)+D104","v":0},0,0,0,0,0,0,0,0,0,0,0,0,0,0,0,0,0,0,0,{"$f":"(X104*Y$28)+X104","v":0},0,0,0,0,0,0,0,0,0]
[{"$nulls":4},{"$f":"(D105*E$28)+D105","v":0},0,0,0,0,0,0,0,0,0,0,0,0,0,0,0,0,0,0,0,{"$f":"(X105*Y$28)+X105","v":0},0,0,0,0,0,0,0,0,0]
[{"$nulls":4},{"$f":"(D106*E$28)+D106","v":0},0,0,0,0,0,0,0,0,0,0,0,0,0,0,0,0,0,0,0,{"$f":"(X106*Y$28)+X106","v":0},0,0,0,0,0,0,0,0,0]
[{"$nulls":4},{"$f":"(D107*E$28)+D107","v":0},0,0,0,0,0,0,0,0,0,0,0,0,0,0,0,0,0,0,0,{"$f":"(X107*Y$28)+X107","v":0},0,0,0,0,0,0,0,0,0]
[{"$nulls":4},{"$f":"(D108*E$28)+D108","v":0},0,0,0,0,0,0,0,0,0,0,0,0,0,0,0,0,0,0,0,{"$f":"(X108*Y$28)+X108","v":0},0,0,0,0,0,0,0,0,0]
[{"$nulls":4},{"$f":"(D109*E$28)+D109","v":0},0,0,0,0,0,0,0,0,0,0,0,0,0,0,0,0,0,0,0,{"$f":"(X109*Y$28)+X109","v":0},0,0,0,0,0,0,0,0,0]
[{"$nulls":4},{"$f":"(D110*E$28)+D110","v":0},0,0,0,0,0,0,0,0,0,0,0,0,0,0,0,0,0,0,{"$f":"(W110*X$28)+W110","v":0},{"$f":"(X110*Y$28)+X110","v":0},0,0,0,0,0,0,0,0,0]
[{"$nulls":4},{"$f":"(D111*E$28)+D111","v":0},0,0,0,0,0,0,0,0,0,0,0,0,0,0,0,0,0,0,0,{"$f":"(X111*Y$28)+X111","v":0},0,0,0,0,0,0,0,0,0]
[{"$nulls":4},{"$f":"(D112*E$28)+D112","v":0},0,0,0,0,0,0,0,0,0,0,0,0,0,0,0,0,0,0,0,{"$f":"(X112*Y$28)+X112","v":0},0,0,0,0,0,0,0,0,0]
[{"$nulls":4},{"$f":"(D113*E$28)+D113","v":0},0,0,0,0,0,0,0,0,0,0,0,0,0,0,0,0,0,0,0,{"$f":"(X113*Y$28)+X113","v":0},0,0,0,0,0,0,0,0,0]
[{"$nulls":4},{"$f":"(D114*E$28)+D114","v":0},0,0,0,0,0,0,0,0,0,0,0,0,0,0,0,0,0,0,0,{"$f":"(X114*Y$28)+X114","v":0},0,0,0,0,0,0,0,0,0]
[{"$nulls":4},{"$f":"(D115*E$28)+D115","v":0},0,0,0,0,0,0,0,0,0,0,0,0,0,0,0,0,0,0,0,{"$f":"(X115*Y$28)+X115","v":0},0,0,0,0,0,0,0,0,0]
[{"$nulls":4},{"$f":"(D116*E$28)+D116","v":0},0,0,0,0,0,0,0,0,0,0,0,0,0,0,0,0,0,0,0,{"$f":"(X116*Y$28)+X116","v":0},0,0,0,0,0,0,0,0,0]
[{"$nulls":4},{"$f":"(D117*E$28)+D117","v":0},0,0,0,0,0,0,0,0,0,0,0,0,0,0,0,0,0,0,0,{"$f":"(X117*Y$28)+X117","v":0},0,0,0,0,0,0,0,0,0]
[{"$nulls":4},{"$f":"(D118*$C$20)+D118","v":0},0,0,0,0,0,0,0,0,0,0,0,0,0,0,0,0,0,0,0,0,0,0,0,0,0,0,0,0,0]
[{"$nulls":4},{"$f":"(D119*$C$20)+D119","v":0},0,0,0,0,0,0,0,0,0,0,0,0,0,0,0,0,0,0,0,0,0,0,0,0,0,0,0,0,0]
[{"$nulls":4},{"$f":"(D120*$C$20)+D120","v":0},0,0,0,0,0,0,0,0,0,0,0,0,0,0,0,0,0,0,0,0,0,0,0,0,0,0,0,0,0]
[{"$nulls":4},{"$f":"(D121*$C$20)+D121","v":0},0,0,0,0,0,0,0,0,0,0,0,0,0,0,0,0,0,0,0,0,0,0,0,0,0,0,0,0,0]
[{"$nulls":4},{"$f":"(D122*$C$20)+D122","v":0},0,0,0,0,0,0,0,0,0,0,0,0,0,0,0,0,0,0,0,0,0,0,0,0,0,0,0,0,0]
[{"$nulls":4},{"$f":"(D123*$C$20)+D123","v":0},0,0,0,0,0,0,0,0,0,0,0,0,0,0,0,0,0,0,0,0,0,0,0,0,0,0,0,0,0]
[{"$nulls":4},{"$f":"(D124*$C$20)+D124","v":0},0,0,0,0,0,0,0,0,0,0,0,0,0,0,0,0,0,0,0,0,0,0,0,0,0,0,0,0,0]
[{"$nulls":4},{"$f":"(D125*$C$20)+D125","v":0},0,0,0,0,0,0,0,0,0,0,0,0,0,0,0,0,0,0,0,0,0,0,0,0,0,0,0,0,0]
[{"$nulls":4},{"$f":"(D126*$C$20)+D126","v":0},0,0,0,0,0,0,0,0,0,0,0,0,0,0,0,0,0,0,0,0,0,0,0,0,0,0,0,0,0]
[{"$nulls":4},{"$f":"(D127*$C$20)+D127","v":0},0,0,0,0,0,0,0,0,0,0,0,0,0,0,0,0,0,0,0,0,0,0,0,0,0,0,0,0,0]
[{"$nulls":4},{"$f":"(D128*$C$20)+D128","v":0},0,0,0,0,0,0,0,0,0,0,0,0,0,0,0,0,0,0,0,0,0,0,0,0,0,0,0,0,0]
[{"$nulls":4},{"$f":"(D129*$C$20)+D129","v":0},0,0,0,0,0,0,0,0,0,0,0,0,0,0,0,0,0,0,0,0,0,0,0,0,0,0,0,0,0]
[{"$nulls":4},{"$f":"(D130*$C$20)+D130","v":0},0,0,0,0,0,0,0,0,0,0,0,0,0,0,0,0,0,0,0,0,0,0,0,0,0,0,0,0,0]
[{"$nulls":4},{"$f":"(D131*$C$20)+D131","v":0},0,0,0,0,0,0,0,0,0,0,0,0,0,0,0,0,0,0,0,0,0,0,0,0,0,0,0,0,0]
[{"$nulls":4},{"$f":"(D132*$C$20)+D132","v":0},0,0,0,0,0,0,0,0,0,0,0,0,0,0,0,0,0,0,0,0,0,0,0,0,0,0,0,0,0]
[{"$nulls":4},{"$f":"(D133*$C$20)+D133","v":0},0,0,0,0,0,0,0,0,0,0,0,0,0,0,0,0,0,0,0,0,0,0,0,0,0,0,0,0,0]
[{"$nulls":4},{"$f":"(D134*$C$20)+D134","v":0},0,0,0,0,0,0,0,0,0,0,0,0,0,0,0,0,0,0,0,0,0,0,0,0,0,0,0,0,0]
[{"$nulls":4},{"$f":"(D135*$C$20)+D135","v":0},0,0,0,0,0,0,0,0,0,0,0,0,0,0,0,0,0,0,0,0,0,0,0,0,0,0,0,0,0]
[{"$nulls":4},{"$f":"(D136*$C$20)+D136","v":0},0,0,0,0,0,0,0,0,0,0,0,0,0,0,0,0,0,0,0,0,0,0,0,0,0,0,0,0,0]
[{"$nulls":4},{"$f":"(D137*$C$20)+D137","v":0},0,0,0,0,0,0,0,0,0,0,0,0,0,0,0,0,0,0,0,0,0,0,0,0,0,0,0,0,0]
[{"$nulls":4},{"$f":"(D138*$C$20)+D138","v":0},0,0,0,0,0,0,0,0,0,0,0,0,0,0,0,0,0,0,0,0,0,0,0,0,0,0,0,0,0]
[{"$nulls":4},{"$f":"(D139*$C$20)+D139","v":0},0,0,0,0,0,0,0,0,0,0,0,0,0,0,0,0,0,0,0,0,0,0,0,0,0,0,0,0,0]
[{"$nulls":4},{"$f":"(D140*$C$20)+D140","v":0},0,0,0,0,0,0,0,0,0,0,0,0,0,0,0,0,0,0,0,0,0,0,0,0,0,0,0,0,0]
[{"$nulls":4},{"$f":"(D141*$C$20)+D141","v":0},0,0,0,0,0,0,0,0,0,0,0,0,0,0,0,0,0,0,0,0,0,0,0,0,0,0,0,0,0]
[{"$nulls":4},{"$f":"(D142*$C$20)+D142","v":0},0,0,0,0,0,0,0,0,0,0,0,0,0,0,0,0,0,0,0,0,0,0,0,0,0,0,0,0,0]
[{"$nulls":4},{"$f":"(D143*$C$20)+D143","v":0},0,0,0,0,0,0,0,0,0,0,0,0,0,0,0,0,0,0,0,0,0,0,0,0,0,0,0,0,0]
[{"$nulls":4},{"$f":"(D144*$C$20)+D144","v":0},0,0,0,0,0,0,0,0,0,0,0,0,0,0,0,0,0,0,0,0,0,0,0,0,0,0,0,0,0]
[{"$nulls":4},{"$f":"(D145*$C$20)+D145","v":0},0,0,0,0,0,0,0,0,0,0,0,0,0,0,0,0,0,0,0,0,0,0,0,0,0,0,0,0,0]
[{"$nulls":4},{"$f":"(D146*$C$20)+D146","v":0},0,0,0,0,0,0,0,0,0,0,0,0,0,0,0,0,0,0,0,0,0,0,0,0,0,0,0,0,0]
[{"$nulls":4},{"$f":"(D147*$C$20)+D147","v":0},0,0,0,0,0,0,0,0,0,0,0,0,0,0,0,0,0,0,0,0,0,0,0,0,0,0,0,0,0]
[{"$nulls":4},{"$f":"(D148*$C$20)+D148","v":0},0,0,0,0,0,0,0,0,0,0,0,0,0,0,0,0,0,0,0,0,0,0,0,0,0,0,0,0,0]
[{"$nulls":4},{"$f":"(D149*$C$20)+D149","v":0},0,0,0,0,0,0,0,0,0,0,0,0,0,0,0,0,0,0,0,0,0,0,0,0,0,0,0,0,0]
[{"$nulls":4},{"$f":"(D150*$C$20)+D150","v":0},0,0,0,0,0,0,0,0,0,0,0,0,0,0,0,0,0,0,0,0,0,0,0,0,0,0,0,0,0]
[{"$nulls":4},{"$f":"(D151*$C$20)+D151","v":0},0,0,0,0,0,0,0,0,0,0,0,0,0,0,0,0,0,0,0,0,0,0,0,0,0,0,0,0,0]
[{"$nulls":4},{"$f":"(D152*$C$20)+D152","v":0},0,0,0,0,0,0,0,0,0,0,0,0,0,0,0,0,0,0,0,0,0,0,0,0,0,0,0,0,0]
[{"$nulls":4},{"$f":"(D153*$C$20)+D153","v":0},0,0,0,0,0,0,0,0,0,0,0,0,0,0,0,0,0,0,0,0,0,0,0,0,0,0,0,0,0]
[{"$nulls":4},{"$f":"(D154*$C$20)+D154","v":0},0,0,0,0,0,0,0,0,0,0,0,0,0,0,0,0,0,0,0,0,0,0,0,0,0,0,0,0,0]
[{"$nulls":4},{"$f":"(D155*$C$20)+D155","v":0},0,0,0,0,0,0,0,0,0,0,0,0,0,0,0,0,0,0,0,0,0,0,0,0,0,0,0,0,0]
[{"$nulls":4},{"$f":"(D156*$C$20)+D156","v":0},0,0,0,0,0,0,0,0,0,0,0,0,0,0,0,0,0,0,0,0,0,0,0,0,0,0,0,0,0]
[{"$nulls":4},{"$f":"(D157*$C$20)+D157","v":0},0,0,0,0,0,0,0,0,0,0,0,0,0,0,0,0,0,0,0,0,0,0,0,0,0,0,0,0,0]
[{"$nulls":4},{"$f":"(D158*$C$20)+D158","v":0},0,0,0,0,0,0,0,0,0,0,0,0,0,0,0,0,0,0,0,0,0,0,0,0,0,0,0,0,0]
[{"$nulls":4},{"$f":"(D159*$C$20)+D159","v":0},0,0,0,0,0,0,0,0,0,0,0,0,0,0,0,0,0,0,0,0,0,0,0,0,0,0,0,0,0]
[{"$nulls":4},{"$f":"(D160*$C$20)+D160","v":0},0,0,0,0,0,0,0,0,0,0,0,0,0,0,0,0,0,0,0,0,0,0,0,0,0,0,0,0,0]
[{"$nulls":4},{"$f":"(D161*$C$20)+D161","v":0},0,0,0,0,0,0,0,0,0,0,0,0,0,0,0,0,0,0,0,0,0,0,0,0,0,0,0,0,0]
[{"$nulls":4},{"$f":"(D162*$C$20)+D162","v":0},0,0,0,0,0,0,0,0,0,0,0,0,0,0,0,0,0,0,0,0,0,0,0,0,0,0,0,0,0]
[{"$nulls":4},{"$f":"(D163*$C$20)+D163","v":0},0,0,0,0,0,0,0,0,0,0,0,0,0,0,0,0,0,0,0,0,0,0,0,0,0,0,0,0,0]
[{"$nulls":4},{"$f":"(D164*$C$20)+D164","v":0},0,0,0,0,0,0,0,0,0,0,0,0,0,0,0,0,0,0,0,0,0,0,0,0,0,0,0,0,0]
[{"$nulls":4},{"$f":"(D165*$C$20)+D165","v":0},0,0,0,0,0,0,0,0,0,0,0,0,0,0,0,0,0,0,0,0,0,0,0,0,0,0,0,0,0]
[{"$nulls":4},{"$f":"(D166*$C$20)+D166","v":0},0,0,0,0,0,0,0,0,0,0,0,0,0,0,0,0,0,0,0,0,0,0,0,0,0,0,0,0,0]
[{"$nulls":4},{"$f":"(D167*$C$20)+D167","v":0},0,0,0,0,0,0,0,0,0,0,0,0,0,0,0,0,0,0,0,0,0,0,0,0,0,0,0,0,0]
[{"$nulls":4},{"$f":"(D168*$C$20)+D168","v":0},0,0,0,0,0,0,0,0,0,0,0,0,0,0,0,0,0,0,0,0,0,0,0,0,0,0,0,0,0]
[{"$nulls":4},{"$f":"(D169*$C$20)+D169","v":0},0,0,0,0,0,0,0,0,0,0,0,0,0,0,0,0,0,0,0,0,0,0,0,0,0,0,0,0,0]
[{"$nulls":4},{"$f":"(D170*$C$20)+D170","v":0},0,0,0,0,0,0,0,0,0,0,0,0,0,0,0,0,0,0,0,0,0,0,0,0,0,0,0,0,0]
[{"$nulls":4},{"$f":"(D171*$C$20)+D171","v":0},0,0,0,0,0,0,0,0,0,0,0,0,0,0,0,0,0,0,0,0,0,0,0,0,0,0,0,0,0]
[{"$nulls":4},{"$f":"(D172*$C$20)+D172","v":0},0,0,0,0,0,0,0,0,0,0,0,0,0,0,0,0,0,0,0,0,0,0,0,0,0,0,0,0,0]
[{"$nulls":4},{"$f":"(D173*$C$20)+D173","v":0},0,0,0,0,0,0,0,0,0,0,0,0,0,0,0,0,0,0,0,0,0,0,0,0,0,0,0,0,0]
[{"$nulls":4},{"$f":"(D174*$C$20)+D174","v":0},0,0,0,0,0,0,0,0,0,0,0,0,0,0,0,0,0,0,0,0,0,0,0,0,0,0,0,0,0]
[{"$nulls":4},{"$f":"(D175*$C$20)+D175","v":0},0,0,0,0,0,0,0,0,0,0,0,0,0,0,0,0,0,0,0,0,0,0,0,0,0,0,0,0,0]
[{"$nulls":4},{"$f":"(D176*$C$20)+D176","v":0},0,0,0,0,0,0,0,0,0,0,0,0,0,0,0,0,0,0,0,0,0,0,0,0,0,0,0,0,0]
[{"$nulls":4},{"$f":"(D177*$C$20)+D177","v":0},0,0,0,0,0,0,0,0,0,0,0,0,0,0,0,0,0,0,0,0,0,0,0,0,0,0,0,0,0]
[{"$nulls":4},{"$f":"(D178*$C$20)+D178","v":0},0,0,0,0,0,0,0,0,0,0,0,0,0,0,0,0,0,0,0,0,0,0,0,0,0,0,0,0,0]
[{"$nulls":4},{"$f":"(D179*$C$20)+D179","v":0},0,0,0,0,0,0,0,0,0,0,0,0,0,0,0,0,0,0,0,0,0,0,0,0,0,0,0,0,0]
[{"$nulls":4},{"$f":"(D180*$C$20)+D180","v":0},0,0,0,0,0,0,0,0,0,0,0,0,0,0,0,0,0,0,0,0,0,0,0,0,0,0,0,0,0]
[{"$nulls":4},{"$f":"(D181*$C$20)+D181","v":0},0,0,0,0,0,0,0,0,0,0,0,0,0,0,0,0,0,0,0,0,0,0,0,0,0,0,0,0,0]
[{"$nulls":4},{"$f":"(D182*$C$20)+D182","v":0},0,0,0,0,0,0,0,0,0,0,0,0,0,0,0,0,0,0,0,0,0,0,0,0,0,0,0,0,0]
[{"$nulls":4},{"$f":"(D183*$C$20)+D183","v":0},0,0,0,0,0,0,0,0,0,0,0,0,0,0,0,0,0,0,0,0,0,0,0,0,0,0,0,0,0]
[{"$nulls":4},{"$f":"(D184*$C$20)+D184","v":0},0,0,0,0,0,0,0,0,0,0,0,0,0,0,0,0,0,0,0,0,0,0,0,0,0,0,0,0,0]
[{"$nulls":4},{"$f":"(D185*$C$20)+D185","v":0},0,0,0,0,0,0,0,0,0,0,0,0,0,0,0,0,0,0,0,0,0,0,0,0,0,0,0,0,0]
[{"$nulls":4},{"$f":"(D186*$C$20)+D186","v":0},0,0,0,0,0,0,0,0,0,0,0,0,0,0,0,0,0,0,0,0,0,0,0,0,0,0,0,0,0]
[{"$nulls":4},{"$f":"(D187*$C$20)+D187","v":0},0,0,0,0,0,0,0,0,0,0,0,0,0,0,0,0,0,0,0,0,0,0,0,0,0,0,0,0,0]
[{"$nulls":4},{"$f":"(D188*$C$20)+D188","v":0},0,0,0,0,0,0,0,0,0,0,0,0,0,0,0,0,0,0,0,0,0,0,0,0,0,0,0,0,0]
[{"$nulls":4},{"$f":"(D189*$C$20)+D189","v":0},0,0,0,0,0,0,0,0,0,0,0,0,0,0,0,0,0,0,0,0,0,0,0,0,0,0,0,0,0]
[{"$nulls":4},{"$f":"(D190*$C$20)+D190","v":0},0,0,0,0,0,0,0,0,0,0,0,0,0,0,0,0,0,0,0,0,0,0,0,0,0,0,0,0,0]
[{"$nulls":4},{"$f":"(D191*$C$20)+D191","v":0},0,0,0,0,0,0,0,0,0,0,0,0,0,0,0,0,0,0,0,0,0,0,0,0,0,0,0,0,0]
[{"$nulls":4},{"$f":"(D192*$C$20)+D192","v":0},0,0,0,0,0,0,0,0,0,0,0,0,0,0,0,0,0,0,0,0,0,0,0,0,0,0,0,0,0]
[{"$nulls":4},{"$f":"(D193*$C$20)+D193","v":0},0,0,0,0,0,0,0,0,0,0,0,0,0,0,0,0,0,0,0,0,0,0,0,0,0,0,0,0,0]
[{"$nulls":4},{"$f":"(D194*$C$20)+D194","v":0},0,0,0,0,0,0,0,0,0,0,0,0,0,0,0,0,0,0,0,0,0,0,0,0,0,0,0,0,0]
[{"$nulls":4},{"$f":"(D195*$C$20)+D195","v":0},0,0,0,0,0,0,0,0,0,0,0,0,0,0,0,0,0,0,0,0,0,0,0,0,0,0,0,0,0]
[{"$nulls":4},{"$f":"(D196*$C$20)+D196","v":0},0,0,0,0,0,0,0,0,0,0,0,0,0,0,0,0,0,0,0,0,0,0,0,0,0,0,0,0,0]
[{"$nulls":4},{"$f":"(D197*$C$20)+D197","v":0},0,0,0,0,0,0,0,0,0,0,0,0,0,0,0,0,0,0,0,0,0,0,0,0,0,0,0,0,0]
[{"$nulls":4},{"$f":"(D198*$C$20)+D198","v":0},0,0,0,0,0,0,0,0,0,0,0,0,0,0,0,0,0,0,0,0,0,0,0,0,0,0,0,0,0]
[{"$nulls":4},{"$f":"(D199*$C$20)+D199","v":0},0,0,0,0,0,0,0,0,0,0,0,0,0,0,0,0,0,0,0,0,0,0,0,0,0,0,0,0,0]
[{"$nulls":4},{"$f":"(D200*$C$20)+D200","v":0},0,0,0,0,0,0,0,0,0,0,0,0,0,0,0,0,0,0,0,0,0,0,0,0,0,0,0,0,0]
[{"$nulls":4},{"$f":"(D201*$C$20)+D201","v":0},0,0,0,0,0,0,0,0,0,0,0,0,0,0,0,0,0,0,0,0,0,0,0,0,0,0,0,0,0]
[{"$nulls":4},{"$f":"(D202*$C$20)+D202","v":0},0,0,0,0,0,0,0,0,0,0,0,0,0,0,0,0,0,0,0,0,0,0,0,0,0,0,0,0,0]
[{"$nulls":4},{"$f":"(D203*$C$20)+D203","v":0},0,0,0,0,0,0,0,0,0,0,0,0,0,0,0,0,0,0,0,0,0,0,0,0,0,0,0,0,0]
[{"$nulls":4},{"$f":"(D204*$C$20)+D204","v":0},0,0,0,0,0,0,0,0,0,0,0,0,0,0,0,0,0,0,0,0,0,0,0,0,0,0,0,0,0]
[{"$nulls":4},{"$f":"(D205*$C$20)+D205","v":0},0,0,0,0,0,0,0,0,0,0,0,0,0,0,0,0,0,0,0,0,0,0,0,0,0,0,0,0,0]
[{"$nulls":4},{"$f":"(D206*$C$20)+D206","v":0},0,0,0,0,0,0,0,0,0,0,0,0,0,0,0,0,0,0,0,0,0,0,0,0,0,0,0,0,0]
[{"$nulls":4},{"$f":"(D207*$C$20)+D207","v":0},0,0,0,0,0,0,0,0,0,0,0,0,0,0,0,0,0,0,0,0,0,0,0,0,0,0,0,0,0]
[{"$nulls":4},{"$f":"(D208*$C$20)+D208","v":0},0,0,0,0,0,0,0,0,0,0,0,0,0,0,0,0,0,0,0,0,0,0,0,0,0,0,0,0,0]
[{"$nulls":4},{"$f":"(D209*$C$20)+D209","v":0},0,0,0,0,0,0,0,0,0,0,0,0,0,0,0,0,0,0,0,0,0,0,0,0,0,0,0,0,0]
[{"$nulls":4},{"$f":"(D210*$C$20)+D210","v":0},0,0,0,0,0,0,0,0,0,0,0,0,0,0,0,0,0,0,0,0,0,0,0,0,0,0,0,0,0]
[{"$nulls":4},{"$f":"(D211*$C$20)+D211","v":0},0,0,0,0,0,0,0,0,0,0,0,0,0,0,0,0,0,0,0,0,0,0,0,0,0,0,0,0,0]
[{"$nulls":4},{"$f":"(D212*$C$20)+D212","v":0},0,0,0,0,0,0,0,0,0,0,0,0,0,0,0,0,0,0,0,0,0,0,0,0,0,0,0,0,0]
[{"$nulls":4},{"$f":"(D213*$C$20)+D213","v":0},0,0,0,0,0,0,0,0,0,0,0,0,0,0,0,0,0,0,0,0,0,0,0,0,0,0,0,0,0]
[{"$nulls":4},{"$f":"(D214*$C$20)+D214","v":0},0,0,0,0,0,0,0,0,0,0,0,0,0,0,0,0,0,0,0,0,0,0,0,0,0,0,0,0,0]
[{"$nulls":4},{"$f":"(D215*$C$20)+D215","v":0},0,0,0,0,0,0,0,0,0,0,0,0,0,0,0,0,0,0,0,0,0,0,0,0,0,0,0,0,0]
[{"$nulls":4},{"$f":"(D216*$C$20)+D216","v":0},0,0,0,0,0,0,0,0,0,0,0,0,0,0,0,0,0,0,0,0,0,0,0,0,0,0,0,0,0]
[{"$nulls":4},{"$f":"(D217*$C$20)+D217","v":0},0,0,0,0,0,0,0,0,0,0,0,0,0,0,0,0,0,0,0,0,0,0,0,0,0,0,0,0,0]
[{"$nulls":4},{"$f":"(D218*$C$20)+D218","v":0},0,0,0,0,0,0,0,0,0,0,0,0,0,0,0,0,0,0,0,0,0,0,0,0,0,0,0,0,0]
[{"$nulls":4},{"$f":"(D219*$C$20)+D219","v":0},0,0,0,0,0,0,0,0,0,0,0,0,0,0,0,0,0,0,0,0,0,0,0,0,0,0,0,0,0]
[{"$nulls":4},{"$f":"(D220*$C$20)+D220","v":0},0,0,0,0,0,0,0,0,0,0,0,0,0,0,0,0,0,0,0,0,0,0,0,0,0,0,0,0,0]
[{"$nulls":4},{"$f":"(D221*$C$20)+D221","v":0},0,0,0,0,0,0,0,0,0,0,0,0,0,0,0,0,0,0,0,0,0,0,0,0,0,0,0,0,0]
[{"$nulls":4},{"$f":"(D222*$C$20)+D222","v":0},0,0,0,0,0,0,0,0,0,0,0,0,0,0,0,0,0,0,0,0,0,0,0,0,0,0,0,0,0]
[{"$nulls":4},{"$f":"(D223*$C$20)+D223","v":0},0,0,0,0,0,0,0,0,0,0,0,0,0,0,0,0,0,0,0,0,0,0,0,0,0,0,0,0,0]
[{"$nulls":4},{"$f":"(D224*$C$20)+D224","v":0},0,0,0,0,0,0,0,0,0,0,0,0,0,0,0,0,0,0,0,0,0,0,0,0,0,0,0,0,0]
[{"$nulls":4},{"$f":"(D225*$C$20)+D225","v":0},0,0,0,0,0,0,0,0,0,0,0,0,0,0,0,0,0,0,0,0,0,0,0,0,0,0,0,0,0]
[{"$nulls":4},{"$f":"(D226*$C$20)+D226","v":0},0,0,0,0,0,0,0,0,0,0,0,0,0,0,0,0,0,0,0,0,0,0,0,0,0,0,0,0,0]
[{"$nulls":4},{"$f":"(D227*$C$20)+D227","v":0},0,0,0,0,0,0,0,0,0,0,0,0,0,0,0,0,0,0,0,0,0,0,0,0,0,0,0,0,0]
[{"$nulls":4},{"$f":"(D228*$C$20)+D228","v":0},0,0,0,0,0,0,0,0,0,0,0,0,0,0,0,0,0,0,0,0,0,0,0,0,0,0,0,0,0]
[{"$nulls":4},{"$f":"(D229*$C$20)+D229","v":0},0,0,0,0,0,0,0,0,0,0,0,0,0,0,0,0,0,0,0,0,0,0,0,0,0,0,0,0,0]
[{"$nulls":4},{"$f":"(D230*$C$20)+D230","v":0},0,0,0,0,0,0,0,0,0,0,0,0,0,0,0,0,0,0,0,0,0,0,0,0,0,0,0,0,0]
[{"$nulls":4},{"$f":"(D231*$C$20)+D231","v":0},0,0,0,0,0,0,0,0,0,0,0,0,0,0,0,0,0,0,0,0,0,0,0,0,0,0,0,0,0]
[{"$nulls":4},{"$f":"(D232*$C$20)+D232","v":0},0,0,0,0,0,0,0,0,0,0,0,0,0,0,0,0,0,0,0,0,0,0,0,0,0,0,0,0,0]
[{"$nulls":4},{"$f":"(D233*$C$20)+D233","v":0},0,0,0,0,0,0,0,0,0,0,0,0,0,0,0,0,0,0,0,0,0,0,0,0,0,0,0,0,0]
[{"$nulls":4},{"$f":"(D234*$C$20)+D234","v":0},0,0,0,0,0,0,0,0,0,0,0,0,0,0,0,0,0,0,0,0,0,0,0,0,0,0,0,0,0]
[{"$nulls":4},{"$f":"(D235*$C$20)+D235","v":0},0,0,0,0,0,0,0,0,0,0,0,0,0,0,0,0,0,0,0,0,0,0,0,0,0,0,0,0,0]
[{"$nulls":4},{"$f":"(D236*$C$20)+D236","v":0},0,0,0,0,0,0,0,0,0,0,0,0,0,0,0,0,0,0,0,0,0,0,0,0,0,0,0,0,0]
[{"$nulls":4},{"$f":"(D237*$C$20)+D237","v":0},0,0,0,0,0,0,0,0,0,0,0,0,0,0,0,0,0,0,0,0,0,0,0,0,0,0,0,0,0]
[{"$nulls":4},{"$f":"(D238*$C$20)+D238","v":0},0,0,0,0,0,0,0,0,0,0,0,0,0,0,0,0,0,0,0,0,0,0,0,0,0,0,0,0,0]
[{"$nulls":4},{"$f":"(D239*$C$20)+D239","v":0},0,0,0,0,0,0,0,0,0,0,0,0,0,0,0,0,0,0,0,0,0,0,0,0,0,0,0,0,0]
[{"$nulls":4},{"$f":"(D240*$C$20)+D240","v":0},0,0,0,0,0,0,0,0,0,0,0,0,0,0,0,0,0,0,0,0,0,0,0,0,0,0,0,0,0]
[{"$nulls":4},{"$f":"(D241*$C$20)+D241","v":0},0,0,0,0,0,0,0,0,0,0,0,0,0,0,0,0,0,0,0,0,0,0,0,0,0,0,0,0,0]
[{"$nulls":4},{"$f":"(D242*$C$20)+D242","v":0},0,0,0,0,0,0,0,0,0,0,0,0,0,0,0,0,0,0,0,0,0,0,0,0,0,0,0,0,0]
[{"$nulls":4},{"$f":"(D243*$C$20)+D243","v":0},0,0,0,0,0,0,0,0,0,0,0,0,0,0,0,0,0,0,0,0,0,0,0,0,0,0,0,0,0]
[{"$nulls":4},{"$f":"(D244*$C$20)+D244","v":0},0,0,0,0,0,0,0,0,0,0,0,0,0,0,0,0,0,0,0,0,0,0,0,0,0,0,0,0,0]
[{"$nulls":4},{"$f":"(D245*$C$20)+D245","v":0},0,0,0,0,0,0,0,0,0,0,0,0,0,0,0,0,0,0,0,0,0,0,0,0,0,0,0,0,0]
[{"$nulls":4},{"$f":"(D246*$C$20)+D246","v":0},0,0,0,0,0,0,0,0,0,0,0,0,0,0,0,0,0,0,0,0,0,0,0,0,0,0,0,0,0]
[{"$nulls":4},{"$f":"(D247*$C$20)+D247","v":0},0,0,0,0,0,0,0,0,0,0,0,0,0,0,0,0,0,0,0,0,0,0,0,0,0,0,0,0,0]
[{"$nulls":4},{"$f":"(D248*$C$20)+D248","v":0},0,0,0,0,0,0,0,0,0,0,0,0,0,0,0,0,0,0,0,0,0,0,0,0,0,0,0,0,0]
[{"$nulls":4},{"$f":"(D249*$C$20)+D249","v":0},0,0,0,0,0,0,0,0,0,0,0,0,0,0,0,0,0,0,0,0,0,0,0,0,0,0,0,0,0]
[{"$nulls":4},{"$f":"(D250*$C$20)+D250","v":0},0,0,0,0,0,0,0,0,0,0,0,0,0,0,0,0,0,0,0,0,0,0,0,0,0,0,0,0,0]
[{"$nulls":4},{"$f":"(D251*$C$20)+D251","v":0},0,0,0,0,0,0,0,0,0,0,0,0,0,0,0,0,0,0,0,0,0,0,0,0,0,0,0,0,0]
[{"$nulls":4},{"$f":"(D252*$C$20)+D252","v":0},0,0,0,0,0,0,0,0,0,0,0,0,0,0,0,0,0,0,0,0,0,0,0,0,0,0,0,0,0]
[{"$nulls":4},{"$f":"(D253*$C$20)+D253","v":0},0,0,0,0,0,0,0,0,0,0,0,0,0,0,0,0,0,0,0,0,0,0,0,0,0,0,0,0,0]
[{"$nulls":4},{"$f":"(D254*$C$20)+D254","v":0},0,0,0,0,0,0,0,0,0,0,0,0,0,0,0,0,0,0,0,0,0,0,0,0,0,0,0,0,0]
[{"$nulls":4},{"$f":"(D255*$C$20)+D255","v":0},0,0,0,0,0,0,0,0,0,0,0,0,0,0,0,0,0,0,0,0,0,0,0,0,0,0,0,0,0]
[{"$nulls":4},{"$f":"(D256*$C$20)+D256","v":0},0,0,0,0,0,0,0,0,0,0,0,0,0,0,0,0,0,0,0,0,0,0,0,0,0,0,0,0,0]
[{"$nulls":4},{"$f":"(D257*$C$20)+D257","v":0},0,0,0,0,0,0,0,0,0,0,0,0,0,0,0,0,0,0,0,0,0,0,0,0,0,0,0,0,0]
[{"$nulls":4},{"$f":"(D258*$C$20)+D258","v":0},0,0,0,0,0,0,0,0,0,0,0,0,0,0,0,0,0,0,0,0,0,0,0,0,0,0,0,0,0]
[{"$nulls":4},{"$f":"(D259*$C$20)+D259","v":0},0,0,0,0,0,0,0,0,0,0,0,0,0,0,0,0,0,0,0,0,0,0,0,0,0,0,0,0,0]
[{"$nulls":4},{"$f":"(D260*$C$20)+D260","v":0},0,0,0,0,0,0,0,0,0,0,0,0,0,0,0,0,0,0,0,0,0,0,0,0,0,0,0,0,0]
[{"$nulls":4},{"$f":"(D261*$C$20)+D261","v":0},0,0,0,0,0,0,0,0,0,0,0,0,0,0,0,0,0,0,0,0,0,0,0,0,0,0,0,0,0]
[{"$nulls":4},{"$f":"(D262*$C$20)+D262","v":0},0,0,0,0,0,0,0,0,0,0,0,0,0,0,0,0,0,0,0,0,0,0,0,0,0,0,0,0,0]
[{"$nulls":4},{"$f":"(D263*$C$20)+D263","v":0},0,0,0,0,0,0,0,0,0,0,0,0,0,0,0,0,0,0,0,0,0,0,0,0,0,0,0,0,0]
[{"$nulls":4},{"$f":"(D264*$C$20)+D264","v":0},0,0,0,0,0,0,0,0,0,0,0,0,0,0,0,0,0,0,0,0,0,0,0,0,0,0,0,0,0]
[{"$nulls":4},{"$f":"(D265*$C$20)+D265","v":0},0,0,0,0,0,0,0,0,0,0,0,0,0,0,0,0,0,0,0,0,0,0,0,0,0,0,0,0,0]
[{"$nulls":4},{"$f":"(D266*$C$20)+D266","v":0},0,0,0,0,0,0,0,0,0,0,0,0,0,0,0,0,0,0,0,0,0,0,0,0,0,0,0,0,0]
[{"$nulls":4},{"$f":"(D267*$C$20)+D267","v":0},0,0,0,0,0,0,0,0,0,0,0,0,0,0,0,0,0,0,0,0,0,0,0,0,0,0,0,0,0]
[{"$nulls":4},{"$f":"(D268*$C$20)+D268","v":0},0,0,0,0,0,0,0,0,0,0,0,0,0,0,0,0,0,0,0,0,0,0,0,0,0,0,0,0,0]
[{"$nulls":4},{"$f":"(D269*$C$20)+D269","v":0},0,0,0,0,0,0,0,0,0,0,0,0,0,0,0,0,0,0,0,0,0,0,0,0,0,0,0,0,0]
[{"$nulls":4},{"$f":"(D270*$C$20)+D270","v":0},0,0,0,0,0,0,0,0,0,0,0,0,0,0,0,0,0,0,0,0,0,0,0,0,0,0,0,0,0]
[{"$nulls":4},{"$f":"(D271*$C$20)+D271","v":0},0,0,0,0,0,0,0,0,0,0,0,0,0,0,0,0,0,0,0,0,0,0,0,0,0,0,0,0,0]
[{"$nulls":4},{"$f":"(D272*$C$20)+D272","v":0},0,0,0,0,0,0,0,0,0,0,0,0,0,0,0,0,0,0,0,0,0,0,0,0,0,0,0,0,0]
[{"$nulls":4},{"$f":"(D273*$C$20)+D273","v":0},0,0,0,0,0,0,0,0,0,0,0,0,0,0,0,0,0,0,0,0,0,0,0,0,0,0,0,0,0]
[{"$nulls":4},{"$f":"(D274*$C$20)+D274","v":0},0,0,0,0,0,0,0,0,0,0,0,0,0,0,0,0,0,0,0,0,0,0,0,0,0,0,0,0,0]
[{"$nulls":4},{"$f":"(D275*$C$20)+D275","v":0},0,0,0,0,0,0,0,0,0,0,0,0,0,0,0,0,0,0,0,0,0,0,0,0,0,0,0,0,0]
[{"$nulls":4},{"$f":"(D276*$C$20)+D276","v":0},0,0,0,0,0,0,0,0,0,0,0,0,0,0,0,0,0,0,0,0,0,0,0,0,0,0,0,0,0]
[{"$nulls":4},{"$f":"(D277*$C$20)+D277","v":0},0,0,0,0,0,0,0,0,0,0,0,0,0,0,0,0,0,0,0,0,0,0,0,0,0,0,0,0,0]
[{"$nulls":4},{"$f":"(D278*$C$20)+D278","v":0},0,0,0,0,0,0,0,0,0,0,0,0,0,0,0,0,0,0,0,0,0,0,0,0,0,0,0,0,0]
[{"$nulls":4},{"$f":"(D279*$C$20)+D279","v":0},0,0,0,0,0,0,0,0,0,0,0,0,0,0,0,0,0,0,0,0,0,0,0,0,0,0,0,0,0]
[{"$nulls":4},{"$f":"(D280*$C$20)+D280","v":0},0,0,0,0,0,0,0,0,0,0,0,0,0,0,0,0,0,0,0,0,0,0,0,0,0,0,0,0,0]
[{"$nulls":4},{"$f":"(D281*$C$20)+D281","v":0},0,0,0,0,0,0,0,0,0,0,0,0,0,0,0,0,0,0,0,0,0,0,0,0,0,0,0,0,0]
[{"$nulls":4},{"$f":"(D282*$C$20)+D282","v":0},0,0,0,0,0,0,0,0,0,0,0,0,0,0,0,0,0,0,0,0,0,0,0,0,0,0,0,0,0]
[{"$nulls":4},{"$f":"(D283*$C$20)+D283","v":0},0,0,0,0,0,0,0,0,0,0,0,0,0,0,0,0,0,0,0,0,0,0,0,0,0,0,0,0,0]
[{"$nulls":4},{"$f":"(D284*$C$20)+D284","v":0},0,0,0,0,0,0,0,0,0,0,0,0,0,0,0,0,0,0,0,0,0,0,0,0,0,0,0,0,0]
[{"$nulls":4},{"$f":"(D285*$C$20)+D285","v":0},0,0,0,0,0,0,0,0,0,0,0,0,0,0,0,0,0,0,0,0,0,0,0,0,0,0,0,0,0]
[{"$nulls":4},{"$f":"(D286*$C$20)+D286","v":0},0,0,0,0,0,0,0,0,0,0,0,0,0,0,0,0,0,0,0,0,0,0,0,0,0,0,0,0,0]
[{"$nulls":4},{"$f":"(D287*$C$20)+D287","v":0},0,0,0,0,0,0,0,0,0,0,0,0,0,0,0,0,0,0,0,0,0,0,0,0,0,0,0,0,0]
[{"$nulls":4},{"$f":"(D288*$C$20)+D288","v":0},0,0,0,0,0,0,0,0,0,0,0,0,0,0,0,0,0,0,0,0,0,0,0,0,0,0,0,0,0]
[{"$nulls":4},{"$f":"(D289*$C$20)+D289","v":0},0,0,0,0,0,0,0,0,0,0,0,0,0,0,0,0,0,0,0,0,0,0,0,0,0,0,0,0,0]
[{"$nulls":4},{"$f":"(D290*$C$20)+D290","v":0},0,0,0,0,0,0,0,0,0,0,0,0,0,0,0,0,0,0,0,0,0,0,0,0,0,0,0,0,0]
[{"$nulls":4},{"$f":"(D291*$C$20)+D291","v":0},0,0,0,0,0,0,0,0,0,0,0,0,0,0,0,0,0,0,0,0,0,0,0,0,0,0,0,0,0]
[{"$nulls":4},{"$f":"(D292*$C$20)+D292","v":0},0,0,0,0,0,0,0,0,0,0,0,0,0,0,0,0,0,0,0,0,0,0,0,0,0,0,0,0,0]
[{"$nulls":4},{"$f":"(D293*$C$20)+D293","v":0},0,0,0,0,0,0,0,0,0,0,0,0,0,0,0,0,0,0,0,0,0,0,0,0,0,0,0,0,0]
[{"$nulls":4},{"$f":"(D294*$C$20)+D294","v":0},0,0,0,0,0,0,0,0,0,0,0,0,0,0,0,0,0,0,0,0,0,0,0,0,0,0,0,0,0]
[{"$nulls":4},{"$f":"(D295*$C$20)+D295","v":0},0,0,0,0,0,0,0,0,0,0,0,0,0,0,0,0,0,0,0,0,0,0,0,0,0,0,0,0,0]
[{"$nulls":4},{"$f":"(D296*$C$20)+D296","v":0},0,0,0,0,0,0,0,0,0,0,0,0,0,0,0,0,0,0,0,0,0,0,0,0,0,0,0,0,0]
[{"$nulls":4},{"$f":"(D297*$C$20)+D297","v":0},0,0,0,0,0,0,0,0,0,0,0,0,0,0,0,0,0,0,0,0,0,0,0,0,0,0,0,0,0]
[{"$nulls":4},{"$f":"(D298*$C$20)+D298","v":0},0,0,0,0,0,0,0,0,0,0,0,0,0,0,0,0,0,0,0,0,0,0,0,0,0,0,0,0,0]
[{"$nulls":4},{"$f":"(D299*$C$20)+D299","v":0},0,0,0,0,0,0,0,0,0,0,0,0,0,0,0,0,0,0,0,0,0,0,0,0,0,0,0,0,0]
[{"$nulls":4},{"$f":"(D300*$C$20)+D300","v":0},0,0,0,0,0,0,0,0,0,0,0,0,0,0,0,0,0,0,0,0,0,0,0,0,0,0,0,0,0]
[{"$nulls":4},{"$f":"(D301*$C$20)+D301","v":0},0,0,0,0,0,0,0,0,0,0,0,0,0,0,0,0,0,0,0,0,0,0,0,0,0,0,0,0,0]
[{"$nulls":4},{"$f":"(D302*$C$20)+D302","v":0},0,0,0,0,0,0,0,0,0,0,0,0,0,0,0,0,0,0,0,0,0,0,0,0,0,0,0,0,0]
[{"$nulls":4},{"$f":"(D303*$C$20)+D303","v":0},0,0,0,0,0,0,0,0,0,0,0,0,0,0,0,0,0,0,0,0,0,0,0,0,0,0,0,0,0]
[{"$nulls":4},{"$f":"(D304*$C$20)+D304","v":0},0,0,0,0,0,0,0,0,0,0,0,0,0,0,0,0,0,0,0,0,0,0,0,0,0,0,0,0,0]
[{"$nulls":4},{"$f":"(D305*$C$20)+D305","v":0},0,0,0,0,0,0,0,0,0,0,0,0,0,0,0,0,0,0,0,0,0,0,0,0,0,0,0,0,0]
[{"$nulls":4},{"$f":"(D306*$C$20)+D306","v":0},0,0,0,0,0,0,0,0,0,0,0,0,0,0,0,0,0,0,0,0,0,0,0,0,0,0,0,0,0]
[{"$nulls":4},{"$f":"(D307*$C$20)+D307","v":0},0,0,0,0,0,0,0,0,0,0,0,0,0,0,0,0,0,0,0,0,0,0,0,0,0,0,0,0,0]
[{"$nulls":4},{"$f":"(D308*$C$20)+D308","v":0},0,0,0,0,0,0,0,0,0,0,0,0,0,0,0,0,0,0,0,0,0,0,0,0,0,0,0,0,0]
[{"$nulls":4},{"$f":"(D309*$C$20)+D309","v":0},0,0,0,0,0,0,0,0,0,0,0,0,0,0,0,0,0,0,0,0,0,0,0,0,0,0,0,0,0]
[{"$nulls":4},{"$f":"(D310*$C$20)+D310","v":0},0,0,0,0,0,0,0,0,0,0,0,0,0,0,0,0,0,0,0,0,0,0,0,0,0,0,0,0,0]
[{"$nulls":4},{"$f":"(D311*$C$20)+D311","v":0},0,0,0,0,0,0,0,0,0,0,0,0,0,0,0,0,0,0,0,0,0,0,0,0,0,0,0,0,0]
[{"$nulls":4},{"$f":"(D312*$C$20)+D312","v":0},0,0,0,0,0,0,0,0,0,0,0,0,0,0,0,0,0,0,0,0,0,0,0,0,0,0,0,0,0]
[{"$nulls":4},{"$f":"(D313*$C$20)+D313","v":0},0,0,0,0,0,0,0,0,0,0,0,0,0,0,0,0,0,0,0,0,0,0,0,0,0,0,0,0,0]
[{"$nulls":4},{"$f":"(D314*$C$20)+D314","v":0},0,0,0,0,0,0,0,0,0,0,0,0,0,0,0,0,0,0,0,0,0,0,0,0,0,0,0,0,0]
[{"$nulls":4},{"$f":"(D315*$C$20)+D315","v":0},0,0,0,0,0,0,0,0,0,0,0,0,0,0,0,0,0,0,0,0,0,0,0,0,0,0,0,0,0]
[{"$nulls":4},{"$f":"(D316*$C$20)+D316","v":0},0,0,0,0,0,0,0,0,0,0,0,0,0,0,0,0,0,0,0,0,0,0,0,0,0,0,0,0,0]
[{"$nulls":4},{"$f":"(D317*$C$20)+D317","v":0},0,0,0,0,0,0,0,0,0,0,0,0,0,0,0,0,0,0,0,0,0,0,0,0,0,0,0,0,0]
[{"$nulls":4},{"$f":"(D318*$C$20)+D318","v":0},0,0,0,0,0,0,0,0,0,0,0,0,0,0,0,0,0,0,0,0,0,0,0,0,0,0,0,0,0]
[{"$nulls":4},{"$f":"(D319*$C$20)+D319","v":0},0,0,0,0,0,0,0,0,0,0,0,0,0,0,0,0,0,0,0,0,0,0,0,0,0,0,0,0,0]
[{"$nulls":4},{"$f":"(D320*$C$20)+D320","v":0},0,0,0,0,0,0,0,0,0,0,0,0,0,0,0,0,0,0,0,0,0,0,0,0,0,0,0,0,0]
[{"$nulls":4},{"$f":"(D321*$C$20)+D321","v":0},0,0,0,0,0,0,0,0,0,0,0,0,0,0,0,0,0,0,0,0,0,0,0,0,0,0,0,0,0]
[{"$nulls":4},{"$f":"(D322*$C$20)+D322","v":0},0,0,0,0,0,0,0,0,0,0,0,0,0,0,0,0,0,0,0,0,0,0,0,0,0,0,0,0,0]
[{"$nulls":4},{"$f":"(D323*$C$20)+D323","v":0},0,0,0,0,0,0,0,0,0,0,0,0,0,0,0,0,0,0,0,0,0,0,0,0,0,0,0,0,0]
[{"$nulls":4},{"$f":"(D324*$C$20)+D324","v":0},0,0,0,0,0,0,0,0,0,0,0,0,0,0,0,0,0,0,0,0,0,0,0,0,0,0,0,0,0]
[{"$nulls":4},{"$f":"(D325*$C$20)+D325","v":0},0,0,0,0,0,0,0,0,0,0,0,0,0,0,0,0,0,0,0,0,0,0,0,0,0,0,0,0,0]
[{"$nulls":4},{"$f":"(D326*$C$20)+D326","v":0},0,0,0,0,0,0,0,0,0,0,0,0,0,0,0,0,0,0,0,0,0,0,0,0,0,0,0,0,0]
[{"$nulls":4},{"$f":"(D327*$C$20)+D327","v":0},0,0,0,0,0,0,0,0,0,0,0,0,0,0,0,0,0,0,0,0,0,0,0,0,0,0,0,0,0]
[{"$nulls":4},{"$f":"(D328*$C$20)+D328","v":0},0,0,0,0,0,0,0,0,0,0,0,0,0,0,0,0,0,0,0,0,0,0,0,0,0,0,0,0,0]
[{"$nulls":4},{"$f":"(D329*$C$20)+D329","v":0},0,0,0,0,0,0,0,0,0,0,0,0,0,0,0,0,0,0,0,0,0,0,0,0,0,0,0,0,0]
[{"$nulls":4},{"$f":"(D330*$C$20)+D330","v":0},0,0,0,0,0,0,0,0,0,0,0,0,0,0,0,0,0,0,0,0,0,0,0,0,0,0,0,0,0]
[{"$nulls":4},{"$f":"(D331*$C$20)+D331","v":0},0,0,0,0,0,0,0,0,0,0,0,0,0,0,0,0,0,0,0,0,0,0,0,0,0,0,0,0,0]
[{"$nulls":4},{"$f":"(D332*$C$20)+D332","v":0},0,0,0,0,0,0,0,0,0,0,0,0,0,0,0,0,0,0,0,0,0,0,0,0,0,0,0,0,0]
[{"$nulls":4},{"$f":"(D333*$C$20)+D333","v":0},0,0,0,0,0,0,0,0,0,0,0,0,0,0,0,0,0,0,0,0,0,0,0,0,0,0,0,0,0]
[{"$nulls":4},{"$f":"(D334*$C$20)+D334","v":0},0,0,0,0,0,0,0,0,0,0,0,0,0,0,0,0,0,0,0,0,0,0,0,0,0,0,0,0,0]
[{"$nulls":4},{"$f":"(D335*$C$20)+D335","v":0},0,0,0,0,0,0,0,0,0,0,0,0,0,0,0,0,0,0,0,0,0,0,0,0,0,0,0,0,0]
[{"$nulls":4},{"$f":"(D336*$C$20)+D336","v":0},0,0,0,0,0,0,0,0,0,0,0,0,0,0,0,0,0,0,0,0,0,0,0,0,0,0,0,0,0]
[{"$nulls":4},{"$f":"(D337*$C$20)+D337","v":0},0,0,0,0,0,0,0,0,0,0,0,0,0,0,0,0,0,0,0,0,0,0,0,0,0,0,0,0,0]
[{"$nulls":4},{"$f":"(D338*$C$20)+D338","v":0},0,0,0,0,0,0,0,0,0,0,0,0,0,0,0,0,0,0,0,0,0,0,0,0,0,0,0,0,0]
[{"$nulls":4},{"$f":"(D339*$C$20)+D339","v":0},0,0,0,0,0,0,0,0,0,0,0,0,0,0,0,0,0,0,0,0,0,0,0,0,0,0,0,0,0]
[{"$nulls":4},{"$f":"(D340*$C$20)+D340","v":0},0,0,0,0,0,0,0,0,0,0,0,0,0,0,0,0,0,0,0,0,0,0,0,0,0,0,0,0,0]
[{"$nulls":4},{"$f":"(D341*$C$20)+D341","v":0},0,0,0,0,0,0,0,0,0,0,0,0,0,0,0,0,0,0,0,0,0,0,0,0,0,0,0,0,0]
[{"$nulls":4},{"$f":"(D342*$C$20)+D342","v":0},0,0,0,0,0,0,0,0,0,0,0,0,0,0,0,0,0,0,0,0,0,0,0,0,0,0,0,0,0]
[{"$nulls":4},{"$f":"(D343*$C$20)+D343","v":0},0,0,0,0,0,0,0,0,0,0,0,0,0,0,0,0,0,0,0,0,0,0,0,0,0,0,0,0,0]
[{"$nulls":4},{"$f":"(D344*$C$20)+D344","v":0},0,0,0,0,0,0,0,0,0,0,0,0,0,0,0,0,0,0,0,0,0,0,0,0,0,0,0,0,0]
[{"$nulls":4},{"$f":"(D345*$C$20)+D345","v":0},0,0,0,0,0,0,0,0,0,0,0,0,0,0,0,0,0,0,0,0,0,0,0,0,0,0,0,0,0]
[{"$nulls":4},{"$f":"(D346*$C$20)+D346","v":0},0,0,0,0,0,0,0,0,0,0,0,0,0,0,0,0,0,0,0,0,0,0,0,0,0,0,0,0,0]
[{"$nulls":4},{"$f":"(D347*$C$20)+D347","v":0},0,0,0,0,0,0,0,0,0,0,0,0,0,0,0,0,0,0,0,0,0,0,0,0,0,0,0,0,0]
[{"$nulls":4},{"$f":"(D348*$C$20)+D348","v":0},0,0,0,0,0,0,0,0,0,0,0,0,0,0,0,0,0,0,0,0,0,0,0,0,0,0,0,0,0]
[{"$nulls":4},{"$f":"(D349*$C$20)+D349","v":0},0,0,0,0,0,0,0,0,0,0,0,0,0,0,0,0,0,0,0,0,0,0,0,0,0,0,0,0,0]
[{"$nulls":4},{"$f":"(D350*$C$20)+D350","v":0},0,0,0,0,0,0,0,0,0,0,0,0,0,0,0,0,0,0,0,0,0,0,0,0,0,0,0,0,0]
[{"$nulls":4},{"$f":"(D351*$C$20)+D351","v":0},0,0,0,0,0,0,0,0,0,0,0,0,0,0,0,0,0,0,0,0,0,0,0,0,0,0,0,0,0]
[{"$nulls":4},{"$f":"(D352*$C$20)+D352","v":0},0,0,0,0,0,0,0,0,0,0,0,0,0,0,0,0,0,0,0,0,0,0,0,0,0,0,0,0,0]
[{"$nulls":4},{"$f":"(D353*$C$20)+D353","v":0},0,0,0,0,0,0,0,0,0,0,0,0,0,0,0,0,0,0,0,0,0,0,0,0,0,0,0,0,0]
[{"$nulls":4},{"$f":"(D354*$C$20)+D354","v":0},0,0,0,0,0,0,0,0,0,0,0,0,0,0,0,0,0,0,0,0,0,0,0,0,0,0,0,0,0]
[{"$nulls":4},{"$f":"(D355*$C$20)+D355","v":0},0,0,0,0,0,0,0,0,0,0,0,0,0,0,0,0,0,0,0,0,0,0,0,0,0,0,0,0,0]
[{"$nulls":4},{"$f":"(D356*$C$20)+D356","v":0},0,0,0,0,0,0,0,0,0,0,0,0,0,0,0,0,0,0,0,0,0,0,0,0,0,0,0,0,0]
[{"$nulls":4},{"$f":"(D357*$C$20)+D357","v":0},0,0,0,0,0,0,0,0,0,0,0,0,0,0,0,0,0,0,0,0,0,0,0,0,0,0,0,0,0]
[{"$nulls":4},{"$f":"(D358*$C$20)+D358","v":0},0,0,0,0,0,0,0,0,0,0,0,0,0,0,0,0,0,0,0,0,0,0,0,0,0,0,0,0,0]
[{"$nulls":4},{"$f":"(D359*$C$20)+D359","v":0},0,0,0,0,0,0,0,0,0,0,0,0,0,0,0,0,0,0,0,0,0,0,0,0,0,0,0,0,0]
[{"$nulls":4},{"$f":"(D360*$C$20)+D360","v":0},0,0,0,0,0,0,0,0,0,0,0,0,0,0,0,0,0,0,0,0,0,0,0,0,0,0,0,0,0]
[{"$nulls":4},{"$f":"(D361*$C$20)+D361","v":0},0,0,0,0,0,0,0,0,0,0,0,0,0,0,0,0,0,0,0,0,0,0,0,0,0,0,0,0,0]
[{"$nulls":4},{"$f":"(D362*$C$20)+D362","v":0},0,0,0,0,0,0,0,0,0,0,0,0,0,0,0,0,0,0,0,0,0,0,0,0,0,0,0,0,0]
[{"$nulls":4},{"$f":"(D363*$C$20)+D363","v":0},0,0,0,0,0,0,0,0,0,0,0,0,0,0,0,0,0,0,0,0,0,0,0,0,0,0,0,0,0]
[{"$nulls":4},{"$f":"(D364*$C$20)+D364","v":0},0,0,0,0,0,0,0,0,0,0,0,0,0,0,0,0,0,0,0,0,0,0,0,0,0,0,0,0,0]
[{"$nulls":4},{"$f":"(D365*$C$20)+D365","v":0},0,0,0,0,0,0,0,0,0,0,0,0,0,0,0,0,0,0,0,0,0,0,0,0,0,0,0,0,0]
[{"$nulls":4},{"$f":"(D366*$C$20)+D366","v":0},0,0,0,0,0,0,0,0,0,0,0,0,0,0,0,0,0,0,0,0,0,0,0,0,0,0,0,0,0]
[{"$nulls":4},{"$f":"(D367*$C$20)+D367","v":0},0,0,0,0,0,0,0,0,0,0,0,0,0,0,0,0,0,0,0,0,0,0,0,0,0,0,0,0,0]
[{"$nulls":4},{"$f":"(D368*$C$20)+D368","v":0},0,0,0,0,0,0,0,0,0,0,0,0,0,0,0,0,0,0,0,0,0,0,0,0,0,0,0,0,0]
[{"$nulls":4},{"$f":"(D369*$C$20)+D369","v":0},0,0,0,0,0,0,0,0,0,0,0,0,0,0,0,0,0,0,0,0,0,0,0,0,0,0,0,0,0]
[{"$nulls":4},{"$f":"(D370*$C$20)+D370","v":0},0,0,0,0,0,0,0,0,0,0,0,0,0,0,0,0,0,0,0,0,0,0,0,0,0,0,0,0,0]
[{"$nulls":4},{"$f":"(D371*$C$20)+D371","v":0},0,0,0,0,0,0,0,0,0,0,0,0,0,0,0,0,0,0,0,0,0,0,0,0,0,0,0,0,0]
[{"$nulls":4},{"$f":"(D372*$C$20)+D372","v":0},0,0,0,0,0,0,0,0,0,0,0,0,0,0,0,0,0,0,0,0,0,0,0,0,0,0,0,0,0]
[{"$nulls":4},{"$f":"(D373*$C$20)+D373","v":0},0,0,0,0,0,0,0,0,0,0,0,0,0,0,0,0,0,0,0,0,0,0,0,0,0,0,0,0,0]
[{"$nulls":4},{"$f":"(D374*$C$20)+D374","v":0},0,0,0,0,0,0,0,0,0,0,0,0,0,0,0,0,0,0,0,0,0,0,0,0,0,0,0,0,0]
[{"$nulls":4},{"$f":"(D375*$C$20)+D375","v":0},0,0,0,0,0,0,0,0,0,0,0,0,0,0,0,0,0,0,0,0,0,0,0,0,0,0,0,0,0]
[{"$nulls":4},{"$f":"(D376*$C$20)+D376","v":0},0,0,0,0,0,0,0,0,0,0,0,0,0,0,0,0,0,0,0,0,0,0,0,0,0,0,0,0,0]
[{"$nulls":4},{"$f":"(D377*$C$20)+D377","v":0},0,0,0,0,0,0,0,0,0,0,0,0,0,0,0,0,0,0,0,0,0,0,0,0,0,0,0,0,0]
[{"$nulls":4},{"$f":"(D378*$C$20)+D378","v":0},0,0,0,0,0,0,0,0,0,0,0,0,0,0,0,0,0,0,0,0,0,0,0,0,0,0,0,0,0]
[{"$nulls":4},{"$f":"(D379*$C$20)+D379","v":0},0,0,0,0,0,0,0,0,0,0,0,0,0,0,0,0,0,0,0,0,0,0,0,0,0,0,0,0,0]
[{"$nulls":4},{"$f":"(D380*$C$20)+D380","v":0},0,0,0,0,0,0,0,0,0,0,0,0,0,0,0,0,0,0,0,0,0,0,0,0,0,0,0,0,0]
[{"$nulls":4},{"$f":"(D381*$C$20)+D381","v":0},0,0,0,0,0,0,0,0,0,0,0,0,0,0,0,0,0,0,0,0,0,0,0,0,0,0,0,0,0]
[{"$nulls":4},{"$f":"(D382*$C$20)+D382","v":0},0,0,0,0,0,0,0,0,0,0,0,0,0,0,0,0,0,0,0,0,0,0,0,0,0,0,0,0,0]
[{"$nulls":4},{"$f":"(D383*$C$20)+D383","v":0},0,0,0,0,0,0,0,0,0,0,0,0,0,0,0,0,0,0,0,0,0,0,0,0,0,0,0,0,0]
[{"$nulls":4},{"$f":"(D384*$C$20)+D384","v":0},0,0,0,0,0,0,0,0,0,0,0,0,0,0,0,0,0,0,0,0,0,0,0,0,0,0,0,0,0]
[{"$nulls":4},{"$f":"(D385*$C$20)+D385","v":0},0,0,0,0,0,0,0,0,0,0,0,0,0,0,0,0,0,0,0,0,0,0,0,0,0,0,0,0,0]
[{"$nulls":4},{"$f":"(D386*$C$20)+D386","v":0},0,0,0,0,0,0,0,0,0,0,0,0,0,0,0,0,0,0,0,0,0,0,0,0,0,0,0,0,0]
[{"$nulls":4},{"$f":"(D387*$C$20)+D387","v":0},0,0,0,0,0,0,0,0,0,0,0,0,0,0,0,0,0,0,0,0,0,0,0,0,0,0,0,0,0]
[{"$nulls":4},{"$f":"(D388*$C$20)+D388","v":0},0,0,0,0,0,0,0,0,0,0,0,0,0,0,0,0,0,0,0,0,0,0,0,0,0,0,0,0,0]
[{"$nulls":4},{"$f":"(D389*$C$20)+D389","v":0},0,0,0,0,0,0,0,0,0,0,0,0,0,0,0,0,0,0,0,0,0,0,0,0,0,0,0,0,0]
[{"$nulls":4},{"$f":"(D390*$C$20)+D390","v":0},0,0,0,0,0,0,0,0,0,0,0,0,0,0,0,0,0,0,0,0,0,0,0,0,0,0,0,0,0]
[{"$nulls":4},{"$f":"(D391*$C$20)+D391","v":0},0,0,0,0,0,0,0,0,0,0,0,0,0,0,0,0,0,0,0,0,0,0,0,0,0,0,0,0,0]
[{"$nulls":4},{"$f":"(D392*$C$20)+D392","v":0},0,0,0,0,0,0,0,0,0,0,0,0,0,0,0,0,0,0,0,0,0,0,0,0,0,0,0,0,0]
[{"$nulls":4},{"$f":"(D393*$C$20)+D393","v":0},0,0,0,0,0,0,0,0,0,0,0,0,0,0,0,0,0,0,0,0,0,0,0,0,0,0,0,0,0]
[{"$nulls":4},{"$f":"(D394*$C$20)+D394","v":0},0,0,0,0,0,0,0,0,0,0,0,0,0,0,0,0,0,0,0,0,0,0,0,0,0,0,0,0,0]
[{"$nulls":4},{"$f":"(D395*$C$20)+D395","v":0},0,0,0,0,0,0,0,0,0,0,0,0,0,0,0,0,0,0,0,0,0,0,0,0,0,0,0,0,0]
[{"$nulls":4},{"$f":"(D396*$C$20)+D396","v":0},0,0,0,0,0,0,0,0,0,0,0,0,0,0,0,0,0,0,0,0,0,0,0,0,0,0,0,0,0]
[{"$nulls":4},{"$f":"(D397*$C$20)+D397","v":0},0,0,0,0,0,0,0,0,0,0,0,0,0,0,0,0,0,0,0,0,0,0,0,0,0,0,0,0,0]
[{"$nulls":4},{"$f":"(D398*$C$20)+D398","v":0},0,0,0,0,0,0,0,0,0,0,0,0,0,0,0,0,0,0,0,0,0,0,0,0,0,0,0,0,0]
[{"$nulls":4},{"$f":"(D399*$C$20)+D399","v":0},0,0,0,0,0,0,0,0,0,0,0,0,0,0,0,0,0,0,0,0,0,0,0,0,0,0,0,0,0]
[{"$nulls":4},{"$f":"(D400*$C$20)+D400","v":0},0,0,0,0,0,0,0,0,0,0,0,0,0,0,0,0,0,0,0,0,0,0,0,0,0,0,0,0,0]
[{"$nulls":4},{"$f":"(D401*$C$20)+D401","v":0},0,0,0,0,0,0,0,0,0,0,0,0,0,0,0,0,0,0,0,0,0,0,0,0,0,0,0,0,0]
[{"$nulls":4},{"$f":"(D402*$C$20)+D402","v":0},0,0,0,0,0,0,0,0,0,0,0,0,0,0,0,0,0,0,0,0,0,0,0,0,0,0,0,0,0]
[{"$nulls":4},{"$f":"(D403*$C$20)+D403","v":0},0,0,0,0,0,0,0,0,0,0,0,0,0,0,0,0,0,0,0,0,0,0,0,0,0,0,0,0,0]
[{"$nulls":4},{"$f":"(D404*$C$20)+D404","v":0},0,0,0,0,0,0,0,0,0,0,0,0,0,0,0,0,0,0,0,0,0,0,0,0,0,0,0,0,0]
[{"$nulls":4},{"$f":"(D405*$C$20)+D405","v":0},0,0,0,0,0,0,0,0,0,0,0,0,0,0,0,0,0,0,0,0,0,0,0,0,0,0,0,0,0]
[{"$nulls":4},{"$f":"(D406*$C$20)+D406","v":0},0,0,0,0,0,0,0,0,0,0,0,0,0,0,0,0,0,0,0,0,0,0,0,0,0,0,0,0,0]
[{"$nulls":4},{"$f":"(D407*$C$20)+D407","v":0},0,0,0,0,0,0,0,0,0,0,0,0,0,0,0,0,0,0,0,0,0,0,0,0,0,0,0,0,0]
[{"$nulls":4},{"$f":"(D408*$C$20)+D408","v":0},0,0,0,0,0,0,0,0,0,0,0,0,0,0,0,0,0,0,0,0,0,0,0,0,0,0,0,0,0]
[{"$nulls":4},{"$f":"(D409*$C$20)+D409","v":0},0,0,0,0,0,0,0,0,0,0,0,0,0,0,0,0,0,0,0,0,0,0,0,0,0,0,0,0,0]
[{"$nulls":4},{"$f":"(D410*$C$20)+D410","v":0},0,0,0,0,0,0,0,0,0,0,0,0,0,0,0,0,0,0,0,0,0,0,0,0,0,0,0,0,0]
[{"$nulls":4},{"$f":"(D411*$C$20)+D411","v":0},0,0,0,0,0,0,0,0,0,0,0,0,0,0,0,0,0,0,0,0,0,0,0,0,0,0,0,0,0]
[{"$nulls":4},{"$f":"(D412*$C$20)+D412","v":0},0,0,0,0,0,0,0,0,0,0,0,0,0,0,0,0,0,0,0,0,0,0,0,0,0,0,0,0,0]
[{"$nulls":4},{"$f":"(D413*$C$20)+D413","v":0},0,0,0,0,0,0,0,0,0,0,0,0,0,0,0,0,0,0,0,0,0,0,0,0,0,0,0,0,0]
[{"$nulls":4},{"$f":"(D414*$C$20)+D414","v":0},0,0,0,0,0,0,0,0,0,0,0,0,0,0,0,0,0,0,0,0,0,0,0,0,0,0,0,0,0]
[{"$nulls":4},{"$f":"(D415*$C$20)+D415","v":0},0,0,0,0,0,0,0,0,0,0,0,0,0,0,0,0,0,0,0,0,0,0,0,0,0,0,0,0,0]
[{"$nulls":4},{"$f":"(D416*$C$20)+D416","v":0},0,0,0,0,0,0,0,0,0,0,0,0,0,0,0,0,0,0,0,0,0,0,0,0,0,0,0,0,0]
[{"$nulls":4},{"$f":"(D417*$C$20)+D417","v":0},0,0,0,0,0,0,0,0,0,0,0,0,0,0,0,0,0,0,0,0,0,0,0,0,0,0,0,0,0]
[{"$nulls":4},{"$f":"(D418*$C$20)+D418","v":0},0,0,0,0,0,0,0,0,0,0,0,0,0,0,0,0,0,0,0,0,0,0,0,0,0,0,0,0,0]
[{"$nulls":4},{"$f":"(D419*$C$20)+D419","v":0},0,0,0,0,0,0,0,0,0,0,0,0,0,0,0,0,0,0,0,0,0,0,0,0,0,0,0,0,0]
[{"$nulls":4},{"$f":"(D420*$C$20)+D420","v":0},0,0,0,0,0,0,0,0,0,0,0,0,0,0,0,0,0,0,0,0,0,0,0,0,0,0,0,0,0]
[{"$nulls":4},{"$f":"(D421*$C$20)+D421","v":0},0,0,0,0,0,0,0,0,0,0,0,0,0,0,0,0,0,0,0,0,0,0,0,0,0,0,0,0,0]
[{"$nulls":4},{"$f":"(D422*$C$20)+D422","v":0},0,0,0,0,0,0,0,0,0,0,0,0,0,0,0,0,0,0,0,0,0,0,0,0,0,0,0,0,0]
[{"$nulls":4},{"$f":"(D423*$C$20)+D423","v":0},0,0,0,0,0,0,0,0,0,0,0,0,0,0,0,0,0,0,0,0,0,0,0,0,0,0,0,0,0]
[{"$nulls":4},{"$f":"(D424*$C$20)+D424","v":0},0,0,0,0,0,0,0,0,0,0,0,0,0,0,0,0,0,0,0,0,0,0,0,0,0,0,0,0,0]
[{"$nulls":4},{"$f":"(D425*$C$20)+D425","v":0},0,0,0,0,0,0,0,0,0,0,0,0,0,0,0,0,0,0,0,0,0,0,0,0,0,0,0,0,0]
[{"$nulls":4},{"$f":"(D426*$C$20)+D426","v":0},0,0,0,0,0,0,0,0,0,0,0,0,0,0,0,0,0,0,0,0,0,0,0,0,0,0,0,0,0]
[{"$nulls":4},{"$f":"(D427*$C$20)+D427","v":0},0,0,0,0,0,0,0,0,0,0,0,0,0,0,0,0,0,0,0,0,0,0,0,0,0,0,0,0,0]
[{"$nulls":4},{"$f":"(D428*$C$20)+D428","v":0},0,0,0,0,0,0,0,0,0,0,0,0,0,0,0,0,0,0,0,0,0,0,0,0,0,0,0,0,0]
[{"$nulls":4},{"$f":"(D429*$C$20)+D429","v":0},0,0,0,0,0,0,0,0,0,0,0,0,0,0,0,0,0,0,0,0,0,0,0,0,0,0,0,0,0]
[{"$nulls":4},{"$f":"(D430*$C$20)+D430","v":0},0,0,0,0,0,0,0,0,0,0,0,0,0,0,0,0,0,0,0,0,0,0,0,0,0,0,0,0,0]
[{"$nulls":4},{"$f":"(D431*$C$20)+D431","v":0},0,0,0,0,0,0,0,0,0,0,0,0,0,0,0,0,0,0,0,0,0,0,0,0,0,0,0,0,0]
[{"$nulls":4},{"$f":"(D432*$C$20)+D432","v":0},0,0,0,0,0,0,0,0,0,0,0,0,0,0,0,0,0,0,0,0,0,0,0,0,0,0,0,0,0]
[{"$nulls":4},{"$f":"(D433*$C$20)+D433","v":0},0,0,0,0,0,0,0,0,0,0,0,0,0,0,0,0,0,0,0,0,0,0,0,0,0,0,0,0,0]
[{"$nulls":4},{"$f":"(D434*$C$20)+D434","v":0},0,0,0,0,0,0,0,0,0,0,0,0,0,0,0,0,0,0,0,0,0,0,0,0,0,0,0,0,0]
[{"$nulls":4},{"$f":"(D435*$C$20)+D435","v":0},0,0,0,0,0,0,0,0,0,0,0,0,0,0,0,0,0,0,0,0,0,0,0,0,0,0,0,0,0]
[{"$nulls":4},{"$f":"(D436*$C$20)+D436","v":0},0,0,0,0,0,0,0,0,0,0,0,0,0,0,0,0,0,0,0,0,0,0,0,0,0,0,0,0,0]
[{"$nulls":4},{"$f":"(D437*$C$20)+D437","v":0},0,0,0,0,0,0,0,0,0,0,0,0,0,0,0,0,0,0,0,0,0,0,0,0,0,0,0,0,0]
[{"$nulls":4},{"$f":"(D438*$C$20)+D438","v":0},0,0,0,0,0,0,0,0,0,0,0,0,0,0,0,0,0,0,0,0,0,0,0,0,0,0,0,0,0]
[{"$nulls":4},{"$f":"(D439*$C$20)+D439","v":0},0,0,0,0,0,0,0,0,0,0,0,0,0,0,0,0,0,0,0,0,0,0,0,0,0,0,0,0,0]
[{"$nulls":4},{"$f":"(D440*$C$20)+D440","v":0},0,0,0,0,0,0,0,0,0,0,0,0,0,0,0,0,0,0,0,0,0,0,0,0,0,0,0,0,0]
[{"$nulls":4},{"$f":"(D441*$C$20)+D441","v":0},0,0,0,0,0,0,0,0,0,0,0,0,0,0,0,0,0,0,0,0,0,0,0,0,0,0,0,0,0]
[{"$nulls":4},{"$f":"(D442*$C$20)+D442","v":0},0,0,0,0,0,0,0,0,0,0,0,0,0,0,0,0,0,0,0,0,0,0,0,0,0,0,0,0,0]
[{"$nulls":4},{"$f":"(D443*$C$20)+D443","v":0},0,0,0,0,0,0,0,0,0,0,0,0,0,0,0,0,0,0,0,0,0,0,0,0,0,0,0,0,0]
[{"$nulls":4},{"$f":"(D444*$C$20)+D444","v":0},0,0,0,0,0,0,0,0,0,0,0,0,0,0,0,0,0,0,0,0,0,0,0,0,0,0,0,0,0]
[{"$nulls":4},{"$f":"(D445*$C$20)+D445","v":0},0,0,0,0,0,0,0,0,0,0,0,0,0,0,0,0,0,0,0,0,0,0,0,0,0,0,0,0,0]
[{"$nulls":4},{"$f":"(D446*$C$20)+D446","v":0},0,0,0,0,0,0,0,0,0,0,0,0,0,0,0,0,0,0,0,0,0,0,0,0,0,0,0,0,0]
[{"$nulls":4},{"$f":"(D447*$C$20)+D447","v":0},0,0,0,0,0,0,0,0,0,0,0,0,0,0,0,0,0,0,0,0,0,0,0,0,0,0,0,0,0]
[{"$nulls":4},{"$f":"(D448*$C$20)+D448","v":0},0,0,0,0,0,0,0,0,0,0,0,0,0,0,0,0,0,0,0,0,0,0,0,0,0,0,0,0,0]
[{"$nulls":4},{"$f":"(D449*$C$20)+D449","v":0},0,0,0,0,0,0,0,0,0,0,0,0,0,0,0,0,0,0,0,0,0,0,0,0,0,0,0,0,0]
[{"$nulls":4},{"$f":"(D450*$C$20)+D450","v":0},0,0,0,0,0,0,0,0,0,0,0,0,0,0,0,0,0,0,0,0,0,0,0,0,0,0,0,0,0]
[{"$nulls":4},{"$f":"(D451*$C$20)+D451","v":0},0,0,0,0,0,0,0,0,0,0,0,0,0,0,0,0,0,0,0,0,0,0,0,0,0,0,0,0,0]
[{"$nulls":4},{"$f":"(D452*$C$20)+D452","v":0},0,0,0,0,0,0,0,0,0,0,0,0,0,0,0,0,0,0,0,0,0,0,0,0,0,0,0,0,0]
[{"$nulls":4},{"$f":"(D453*$C$20)+D453","v":0},0,0,0,0,0,0,0,0,0,0,0,0,0,0,0,0,0,0,0,0,0,0,0,0,0,0,0,0,0]
[{"$nulls":4},{"$f":"(D454*$C$20)+D454","v":0},0,0,0,0,0,0,0,0,0,0,0,0,0,0,0,0,0,0,0,0,0,0,0,0,0,0,0,0,0]
[{"$nulls":4},{"$f":"(D455*$C$20)+D455","v":0},0,0,0,0,0,0,0,0,0,0,0,0,0,0,0,0,0,0,0,0,0,0,0,0,0,0,0,0,0]
[{"$nulls":4},{"$f":"(D456*$C$20)+D456","v":0},0,0,0,0,0,0,0,0,0,0,0,0,0,0,0,0,0,0,0,0,0,0,0,0,0,0,0,0,0]
[{"$nulls":4},{"$f":"(D457*$C$20)+D457","v":0},0,0,0,0,0,0,0,0,0,0,0,0,0,0,0,0,0,0,0,0,0,0,0,0,0,0,0,0,0]
[{"$nulls":4},{"$f":"(D458*$C$20)+D458","v":0},0,0,0,0,0,0,0,0,0,0,0,0,0,0,0,0,0,0,0,0,0,0,0,0,0,0,0,0,0]
[{"$nulls":4},{"$f":"(D459*$C$20)+D459","v":0},0,0,0,0,0,0,0,0,0,0,0,0,0,0,0,0,0,0,0,0,0,0,0,0,0,0,0,0,0]
[{"$nulls":4},{"$f":"(D460*$C$20)+D460","v":0},0,0,0,0,0,0,0,0,0,0,0,0,0,0,0,0,0,0,0,0,0,0,0,0,0,0,0,0,0]
[{"$nulls":4},{"$f":"(D461*$C$20)+D461","v":0},0,0,0,0,0,0,0,0,0,0,0,0,0,0,0,0,0,0,0,0,0,0,0,0,0,0,0,0,0]
[{"$nulls":4},{"$f":"(D462*$C$20)+D462","v":0},0,0,0,0,0,0,0,0,0,0,0,0,0,0,0,0,0,0,0,0,0,0,0,0,0,0,0,0,0]
[{"$nulls":4},{"$f":"(D463*$C$20)+D463","v":0},0,0,0,0,0,0,0,0,0,0,0,0,0,0,0,0,0,0,0,0,0,0,0,0,0,0,0,0,0]
[{"$nulls":4},{"$f":"(D464*$C$20)+D464","v":0},0,0,0,0,0,0,0,0,0,0,0,0,0,0,0,0,0,0,0,0,0,0,0,0,0,0,0,0,0]
[{"$nulls":4},{"$f":"(D465*$C$20)+D465","v":0},0,0,0,0,0,0,0,0,0,0,0,0,0,0,0,0,0,0,0,0,0,0,0,0,0,0,0,0,0]
[{"$nulls":4},{"$f":"(D466*$C$20)+D466","v":0},0,0,0,0,0,0,0,0,0,0,0,0,0,0,0,0,0,0,0,0,0,0,0,0,0,0,0,0,0]
[{"$nulls":4},{"$f":"(D467*$C$20)+D467","v":0},0,0,0,0,0,0,0,0,0,0,0,0,0,0,0,0,0,0,0,0,0,0,0,0,0,0,0,0,0]
[{"$nulls":4},{"$f":"(D468*$C$20)+D468","v":0},0,0,0,0,0,0,0,0,0,0,0,0,0,0,0,0,0,0,0,0,0,0,0,0,0,0,0,0,0]
[{"$nulls":4},{"$f":"(D469*$C$20)+D469","v":0},0,0,0,0,0,0,0,0,0,0,0,0,0,0,0,0,0,0,0,0,0,0,0,0,0,0,0,0,0]
[{"$nulls":4},{"$f":"(D470*$C$20)+D470","v":0},0,0,0,0,0,0,0,0,0,0,0,0,0,0,0,0,0,0,0,0,0,0,0,0,0,0,0,0,0]
[{"$nulls":4},{"$f":"(D471*$C$20)+D471","v":0},0,0,0,0,0,0,0,0,0,0,0,0,0,0,0,0,0,0,0,0,0,0,0,0,0,0,0,0,0]
[{"$nulls":4},{"$f":"(D472*$C$20)+D472","v":0},0,0,0,0,0,0,0,0,0,0,0,0,0,0,0,0,0,0,0,0,0,0,0,0,0,0,0,0,0]
[{"$nulls":4},{"$f":"(D473*$C$20)+D473","v":0},0,0,0,0,0,0,0,0,0,0,0,0,0,0,0,0,0,0,0,0,0,0,0,0,0,0,0,0,0]
[{"$nulls":4},{"$f":"(D474*$C$20)+D474","v":0},0,0,0,0,0,0,0,0,0,0,0,0,0,0,0,0,0,0,0,0,0,0,0,0,0,0,0,0,0]
[{"$nulls":4},{"$f":"(D475*$C$20)+D475","v":0},0,0,0,0,0,0,0,0,0,0,0,0,0,0,0,0,0,0,0,0,0,0,0,0,0,0,0,0,0]
[{"$nulls":4},{"$f":"(D476*$C$20)+D476","v":0},0,0,0,0,0,0,0,0,0,0,0,0,0,0,0,0,0,0,0,0,0,0,0,0,0,0,0,0,0]
[{"$nulls":4},{"$f":"(D477*$C$20)+D477","v":0},0,0,0,0,0,0,0,0,0,0,0,0,0,0,0,0,0,0,0,0,0,0,0,0,0,0,0,0,0]
[{"$nulls":4},{"$f":"(D478*$C$20)+D478","v":0},0,0,0,0,0,0,0,0,0,0,0,0,0,0,0,0,0,0,0,0,0,0,0,0,0,0,0,0,0]
[{"$nulls":4},{"$f":"(D479*$C$20)+D479","v":0},0,0,0,0,0,0,0,0,0,0,0,0,0,0,0,0,0,0,0,0,0,0,0,0,0,0,0,0,0]
[{"$nulls":4},{"$f":"(D480*$C$20)+D480","v":0},0,0,0,0,0,0,0,0,0,0,0,0,0,0,0,0,0,0,0,0,0,0,0,0,0,0,0,0,0]
[{"$nulls":4},{"$f":"(D481*$C$20)+D481","v":0},0,0,0,0,0,0,0,0,0,0,0,0,0,0,0,0,0,0,0,0,0,0,0,0,0,0,0,0,0]
[{"$nulls":4},{"$f":"(D482*$C$20)+D482","v":0},0,0,0,0,0,0,0,0,0,0,0,0,0,0,0,0,0,0,0,0,0,0,0,0,0,0,0,0,0]
[{"$nulls":4},{"$f":"(D483*$C$20)+D483","v":0},0,0,0,0,0,0,0,0,0,0,0,0,0,0,0,0,0,0,0,0,0,0,0,0,0,0,0,0,0]
[{"$nulls":4},{"$f":"(D484*$C$20)+D484","v":0},0,0,0,0,0,0,0,0,0,0,0,0,0,0,0,0,0,0,0,0,0,0,0,0,0,0,0,0,0]
[{"$nulls":4},{"$f":"(D485*$C$20)+D485","v":0},0,0,0,0,0,0,0,0,0,0,0,0,0,0,0,0,0,0,0,0,0,0,0,0,0,0,0,0,0]
[{"$nulls":4},{"$f":"(D486*$C$20)+D486","v":0},0,0,0,0,0,0,0,0,0,0,0,0,0,0,0,0,0,0,0,0,0,0,0,0,0,0,0,0,0]
[{"$nulls":4},{"$f":"(D487*$C$20)+D487","v":0},0,0,0,0,0,0,0,0,0,0,0,0,0,0,0,0,0,0,0,0,0,0,0,0,0,0,0,0,0]
[{"$nulls":4},{"$f":"(D488*$C$20)+D488","v":0},0,0,0,0,0,0,0,0,0,0,0,0,0,0,0,0,0,0,0,0,0,0,0,0,0,0,0,0,0]
[{"$nulls":4},{"$f":"(D489*$C$20)+D489","v":0},0,0,0,0,0,0,0,0,0,0,0,0,0,0,0,0,0,0,0,0,0,0,0,0,0,0,0,0,0]
[{"$nulls":4},{"$f":"(D490*$C$20)+D490","v":0},0,0,0,0,0,0,0,0,0,0,0,0,0,0,0,0,0,0,0,0,0,0,0,0,0,0,0,0,0]
[{"$nulls":4},{"$f":"(D491*$C$20)+D491","v":0},0,0,0,0,0,0,0,0,0,0,0,0,0,0,0,0,0,0,0,0,0,0,0,0,0,0,0,0,0]
[{"$nulls":4},{"$f":"(D492*$C$20)+D492","v":0},0,0,0,0,0,0,0,0,0,0,0,0,0,0,0,0,0,0,0,0,0,0,0,0,0,0,0,0,0]
[{"$nulls":4},{"$f":"(D493*$C$20)+D493","v":0},0,0,0,0,0,0,0,0,0,0,0,0,0,0,0,0,0,0,0,0,0,0,0,0,0,0,0,0,0]
[{"$nulls":4},{"$f":"(D494*$C$20)+D494","v":0},0,0,0,0,0,0,0,0,0,0,0,0,0,0,0,0,0,0,0,0,0,0,0,0,0,0,0,0,0]
[{"$nulls":4},{"$f":"(D495*$C$20)+D495","v":0},0,0,0,0,0,0,0,0,0,0,0,0,0,0,0,0,0,0,0,0,0,0,0,0,0,0,0,0,0]
[{"$nulls":4},{"$f":"(D496*$C$20)+D496","v":0},0,0,0,0,0,0,0,0,0,0,0,0,0,0,0,0,0,0,0,0,0,0,0,0,0,0,0,0,0]
[{"$nulls":4},{"$f":"(D497*$C$20)+D497","v":0},0,0,0,0,0,0,0,0,0,0,0,0,0,0,0,0,0,0,0,0,0,0,0,0,0,0,0,0,0]
[{"$nulls":4},{"$f":"(D498*$C$20)+D498","v":0},0,0,0,0,0,0,0,0,0,0,0,0,0,0,0,0,0,0,0,0,0,0,0,0,0,0,0,0,0]
[{"$nulls":4},{"$f":"(D499*$C$20)+D499","v":0},0,0,0,0,0,0,0,0,0,0,0,0,0,0,0,0,0,0,0,0,0,0,0,0,0,0,0,0,0]
[{"$nulls":4},{"$f":"(D500*$C$20)+D500","v":0},0,0,0,0,0,0,0,0,0,0,0,0,0,0,0,0,0,0,0,0,0,0,0,0,0,0,0,0,0]
[{"$nulls":4},{"$f":"(D501*$C$20)+D501","v":0},0,0,0,0,0,0,0,0,0,0,0,0,0,0,0,0,0,0,0,0,0,0,0,0,0,0,0,0,0]
[{"$nulls":4},{"$f":"(D502*$C$20)+D502","v":0},0,0,0,0,0,0,0,0,0,0,0,0,0,0,0,0,0,0,0,0,0,0,0,0,0,0,0,0,0]
[{"$nulls":4},{"$f":"(D503*$C$20)+D503","v":0},0,0,0,0,0,0,0,0,0,0,0,0,0,0,0,0,0,0,0,0,0,0,0,0,0,0,0,0,0]
[{"$nulls":4},{"$f":"(D504*$C$20)+D504","v":0},0,0,0,0,0,0,0,0,0,0,0,0,0,0,0,0,0,0,0,0,0,0,0,0,0,0,0,0,0]
[{"$nulls":4},{"$f":"(D505*$C$20)+D505","v":0},0,0,0,0,0,0,0,0,0,0,0,0,0,0,0,0,0,0,0,0,0,0,0,0,0,0,0,0,0]
[{"$nulls":4},{"$f":"(D506*$C$20)+D506","v":0},0,0,0,0,0,0,0,0,0,0,0,0,0,0,0,0,0,0,0,0,0,0,0,0,0,0,0,0,0]
[{"$nulls":4},{"$f":"(D507*$C$20)+D507","v":0},0,0,0,0,0,0,0,0,0,0,0,0,0,0,0,0,0,0,0,0,0,0,0,0,0,0,0,0,0]
[{"$nulls":4},{"$f":"(D508*$C$20)+D508","v":0},0,0,0,0,0,0,0,0,0,0,0,0,0,0,0,0,0,0,0,0,0,0,0,0,0,0,0,0,0]
[{"$nulls":4},{"$f":"(D509*$C$20)+D509","v":0},0,0,0,0,0,0,0,0,0,0,0,0,0,0,0,0,0,0,0,0,0,0,0,0,0,0,0,0,0]
[{"$nulls":4},{"$f":"(D510*$C$20)+D510","v":0},0,0,0,0,0,0,0,0,0,0,0,0,0,0,0,0,0,0,0,0,0,0,0,0,0,0,0,0,0]
[{"$nulls":4},{"$f":"(D511*$C$20)+D511","v":0},0,0,0,0,0,0,0,0,0,0,0,0,0,0,0,0,0,0,0,0,0,0,0,0,0,0,0,0,0]
[{"$nulls":4},{"$f":"(D512*$C$20)+D512","v":0},0,0,0,0,0,0,0,0,0,0,0,0,0,0,0,0,0,0,0,0,0,0,0,0,0,0,0,0,0]
[{"$nulls":4},{"$f":"(D513*$C$20)+D513","v":0},0,0,0,0,0,0,0,0,0,0,0,0,0,0,0,0,0,0,0,0,0,0,0,0,0,0,0,0,0]
[{"$nulls":4},{"$f":"(D514*$C$20)+D514","v":0},0,0,0,0,0,0,0,0,0,0,0,0,0,0,0,0,0,0,0,0,0,0,0,0,0,0,0,0,0]
[{"$nulls":4},{"$f":"(D515*$C$20)+D515","v":0},0,0,0,0,0,0,0,0,0,0,0,0,0,0,0,0,0,0,0,0,0,0,0,0,0,0,0,0,0]
[{"$nulls":4},{"$f":"(D516*$C$20)+D516","v":0},0,0,0,0,0,0,0,0,0,0,0,0,0,0,0,0,0,0,0,0,0,0,0,0,0,0,0,0,0]
[{"$nulls":4},{"$f":"(D517*$C$20)+D517","v":0},0,0,0,0,0,0,0,0,0,0,0,0,0,0,0,0,0,0,0,0,0,0,0,0,0,0,0,0,0]
[{"$nulls":4},{"$f":"(D518*$C$20)+D518","v":0},0,0,0,0,0,0,0,0,0,0,0,0,0,0,0,0,0,0,0,0,0,0,0,0,0,0,0,0,0]
[{"$nulls":4},{"$f":"(D519*$C$20)+D519","v":0},0,0,0,0,0,0,0,0,0,0,0,0,0,0,0,0,0,0,0,0,0,0,0,0,0,0,0,0,0]
[{"$nulls":4},{"$f":"(D520*$C$20)+D520","v":0},0,0,0,0,0,0,0,0,0,0,0,0,0,0,0,0,0,0,0,0,0,0,0,0,0,0,0,0,0]
[{"$nulls":4},{"$f":"(D521*$C$20)+D521","v":0},0,0,0,0,0,0,0,0,0,0,0,0,0,0,0,0,0,0,0,0,0,0,0,0,0,0,0,0,0]
[{"$nulls":4},{"$f":"(D522*$C$20)+D522","v":0},0,0,0,0,0,0,0,0,0,0,0,0,0,0,0,0,0,0,0,0,0,0,0,0,0,0,0,0,0]
[{"$nulls":4},{"$f":"(D523*$C$20)+D523","v":0},0,0,0,0,0,0,0,0,0,0,0,0,0,0,0,0,0,0,0,0,0,0,0,0,0,0,0,0,0]
[{"$nulls":4},{"$f":"(D524*$C$20)+D524","v":0},0,0,0,0,0,0,0,0,0,0,0,0,0,0,0,0,0,0,0,0,0,0,0,0,0,0,0,0,0]
[{"$nulls":4},{"$f":"(D525*$C$20)+D525","v":0},0,0,0,0,0,0,0,0,0,0,0,0,0,0,0,0,0,0,0,0,0,0,0,0,0,0,0,0,0]
[{"$nulls":4},{"$f":"(D526*$C$20)+D526","v":0},0,0,0,0,0,0,0,0,0,0,0,0,0,0,0,0,0,0,0,0,0,0,0,0,0,0,0,0,0]
[{"$nulls":4},{"$f":"(D527*$C$20)+D527","v":0},0,0,0,0,0,0,0,0,0,0,0,0,0,0,0,0,0,0,0,0,0,0,0,0,0,0,0,0,0]
[{"$nulls":4},{"$f":"(D528*$C$20)+D528","v":0},0,0,0,0,0,0,0,0,0,0,0,0,0,0,0,0,0,0,0,0,0,0,0,0,0,0,0,0,0]
[{"$nulls":4},{"$f":"(D529*$C$20)+D529","v":0},0,0,0,0,0,0,0,0,0,0,0,0,0,0,0,0,0,0,0,0,0,0,0,0,0,0,0,0,0]
[{"$nulls":4},{"$f":"(D530*$C$20)+D530","v":0},0,0,0,0,0,0,0,0,0,0,0,0,0,0,0,0,0,0,0,0,0,0,0,0,0,0,0,0,0]
[{"$nulls":4},{"$f":"(D531*$C$20)+D531","v":0},0,0,0,0,0,0,0,0,0,0,0,0,0,0,0,0,0,0,0,0,0,0,0,0,0,0,0,0,0]
[{"$nulls":4},{"$f":"(D532*$C$20)+D532","v":0},0,0,0,0,0,0,0,0,0,0,0,0,0,0,0,0,0,0,0,0,0,0,0,0,0,0,0,0,0]
[{"$nulls":4},{"$f":"(D533*$C$20)+D533","v":0},0,0,0,0,0,0,0,0,0,0,0,0,0,0,0,0,0,0,0,0,0,0,0,0,0,0,0,0,0]
[{"$nulls":4},{"$f":"(D534*$C$20)+D534","v":0},0,0,0,0,0,0,0,0,0,0,0,0,0,0,0,0,0,0,0,0,0,0,0,0,0,0,0,0,0]
[{"$nulls":4},{"$f":"(D535*$C$20)+D535","v":0},0,0,0,0,0,0,0,0,0,0,0,0,0,0,0,0,0,0,0,0,0,0,0,0,0,0,0,0,0]
[{"$nulls":4},{"$f":"(D536*$C$20)+D536","v":0},0,0,0,0,0,0,0,0,0,0,0,0,0,0,0,0,0,0,0,0,0,0,0,0,0,0,0,0,0]
[{"$nulls":4},{"$f":"(D537*$C$20)+D537","v":0},0,0,0,0,0,0,0,0,0,0,0,0,0,0,0,0,0,0,0,0,0,0,0,0,0,0,0,0,0]
[{"$nulls":4},{"$f":"(D538*$C$20)+D538","v":0},0,0,0,0,0,0,0,0,0,0,0,0,0,0,0,0,0,0,0,0,0,0,0,0,0,0,0,0,0]
[{"$nulls":4},{"$f":"(D539*$C$20)+D539","v":0},0,0,0,0,0,0,0,0,0,0,0,0,0,0,0,0,0,0,0,0,0,0,0,0,0,0,0,0,0]
[{"$nulls":4},{"$f":"(D540*$C$20)+D540","v":0},0,0,0,0,0,0,0,0,0,0,0,0,0,0,0,0,0,0,0,0,0,0,0,0,0,0,0,0,0]
[{"$nulls":4},{"$f":"(D541*$C$20)+D541","v":0},0,0,0,0,0,0,0,0,0,0,0,0,0,0,0,0,0,0,0,0,0,0,0,0,0,0,0,0,0]
[{"$nulls":4},{"$f":"(D542*$C$20)+D542","v":0},0,0,0,0,0,0,0,0,0,0,0,0,0,0,0,0,0,0,0,0,0,0,0,0,0,0,0,0,0]
[{"$nulls":4},{"$f":"(D543*$C$20)+D543","v":0},0,0,0,0,0,0,0,0,0,0,0,0,0,0,0,0,0,0,0,0,0,0,0,0,0,0,0,0,0]
[{"$nulls":4},{"$f":"(D544*$C$20)+D544","v":0},0,0,0,0,0,0,0,0,0,0,0,0,0,0,0,0,0,0,0,0,0,0,0,0,0,0,0,0,0]
[{"$nulls":4},{"$f":"(D545*$C$20)+D545","v":0},0,0,0,0,0,0,0,0,0,0,0,0,0,0,0,0,0,0,0,0,0,0,0,0,0,0,0,0,0]
[{"$nulls":4},{"$f":"(D546*$C$20)+D546","v":0},0,0,0,0,0,0,0,0,0,0,0,0,0,0,0,0,0,0,0,0,0,0,0,0,0,0,0,0,0]
[{"$nulls":4},{"$f":"(D547*$C$20)+D547","v":0},0,0,0,0,0,0,0,0,0,0,0,0,0,0,0,0,0,0,0,0,0,0,0,0,0,0,0,0,0]
[{"$nulls":4},{"$f":"(D548*$C$20)+D548","v":0},0,0,0,0,0,0,0,0,0,0,0,0,0,0,0,0,0,0,0,0,0,0,0,0,0,0,0,0,0]
[{"$nulls":4},{"$f":"(D549*$C$20)+D549","v":0},0,0,0,0,0,0,0,0,0,0,0,0,0,0,0,0,0,0,0,0,0,0,0,0,0,0,0,0,0]
[{"$nulls":4},{"$f":"(D550*$C$20)+D550","v":0},0,0,0,0,0,0,0,0,0,0,0,0,0,0,0,0,0,0,0,0,0,0,0,0,0,0,0,0,0]
[{"$nulls":4},{"$f":"(D551*$C$20)+D551","v":0},0,0,0,0,0,0,0,0,0,0,0,0,0,0,0,0,0,0,0,0,0,0,0,0,0,0,0,0,0]
[{"$nulls":4},{"$f":"(D552*$C$20)+D552","v":0},0,0,0,0,0,0,0,0,0,0,0,0,0,0,0,0,0,0,0,0,0,0,0,0,0,0,0,0,0]
[{"$nulls":4},{"$f":"(D553*$C$20)+D553","v":0},0,0,0,0,0,0,0,0,0,0,0,0,0,0,0,0,0,0,0,0,0,0,0,0,0,0,0,0,0]
[{"$nulls":4},{"$f":"(D554*$C$20)+D554","v":0},0,0,0,0,0,0,0,0,0,0,0,0,0,0,0,0,0,0,0,0,0,0,0,0,0,0,0,0,0]
[{"$nulls":4},{"$f":"(D555*$C$20)+D555","v":0},0,0,0,0,0,0,0,0,0,0,0,0,0,0,0,0,0,0,0,0,0,0,0,0,0,0,0,0,0]
[{"$nulls":4},{"$f":"(D556*$C$20)+D556","v":0},0,0,0,0,0,0,0,0,0,0,0,0,0,0,0,0,0,0,0,0,0,0,0,0,0,0,0,0,0]
[{"$nulls":4},{"$f":"(D557*$C$20)+D557","v":0},0,0,0,0,0,0,0,0,0,0,0,0,0,0,0,0,0,0,0,0,0,0,0,0,0,0,0,0,0]
[{"$nulls":4},{"$f":"(D558*$C$20)+D558","v":0},0,0,0,0,0,0,0,0,0,0,0,0,0,0,0,0,0,0,0,0,0,0,0,0,0,0,0,0,0]
[{"$nulls":4},{"$f":"(D559*$C$20)+D559","v":0},0,0,0,0,0,0,0,0,0,0,0,0,0,0,0,0,0,0,0,0,0,0,0,0,0,0,0,0,0]
[{"$nulls":4},{"$f":"(D560*$C$20)+D560","v":0},0,0,0,0,0,0,0,0,0,0,0,0,0,0,0,0,0,0,0,0,0,0,0,0,0,0,0,0,0]
[{"$nulls":4},{"$f":"(D561*$C$20)+D561","v":0},0,0,0,0,0,0,0,0,0,0,0,0,0,0,0,0,0,0,0,0,0,0,0,0,0,0,0,0,0]
[{"$nulls":4},{"$f":"(D562*$C$20)+D562","v":0},0,0,0,0,0,0,0,0,0,0,0,0,0,0,0,0,0,0,0,0,0,0,0,0,0,0,0,0,0]
[{"$nulls":4},{"$f":"(D563*$C$20)+D563","v":0},0,0,0,0,0,0,0,0,0,0,0,0,0,0,0,0,0,0,0,0,0,0,0,0,0,0,0,0,0]
[{"$nulls":4},{"$f":"(D564*$C$20)+D564","v":0},0,0,0,0,0,0,0,0,0,0,0,0,0,0,0,0,0,0,0,0,0,0,0,0,0,0,0,0,0]
[{"$nulls":4},{"$f":"(D565*$C$20)+D565","v":0},0,0,0,0,0,0,0,0,0,0,0,0,0,0,0,0,0,0,0,0,0,0,0,0,0,0,0,0,0]
[{"$nulls":4},{"$f":"(D566*$C$20)+D566","v":0},0,0,0,0,0,0,0,0,0,0,0,0,0,0,0,0,0,0,0,0,0,0,0,0,0,0,0,0,0]
[{"$nulls":4},{"$f":"(D567*$C$20)+D567","v":0},0,0,0,0,0,0,0,0,0,0,0,0,0,0,0,0,0,0,0,0,0,0,0,0,0,0,0,0,0]
[{"$nulls":4},{"$f":"(D568*$C$20)+D568","v":0},0,0,0,0,0,0,0,0,0,0,0,0,0,0,0,0,0,0,0,0,0,0,0,0,0,0,0,0,0]
[{"$nulls":4},{"$f":"(D569*$C$20)+D569","v":0},0,0,0,0,0,0,0,0,0,0,0,0,0,0,0,0,0,0,0,0,0,0,0,0,0,0,0,0,0]
[{"$nulls":4},{"$f":"(D570*$C$20)+D570","v":0},0,0,0,0,0,0,0,0,0,0,0,0,0,0,0,0,0,0,0,0,0,0,0,0,0,0,0,0,0]
[{"$nulls":4},{"$f":"(D571*$C$20)+D571","v":0},0,0,0,0,0,0,0,0,0,0,0,0,0,0,0,0,0,0,0,0,0,0,0,0,0,0,0,0,0]
[{"$nulls":4},{"$f":"(D572*$C$20)+D572","v":0},0,0,0,0,0,0,0,0,0,0,0,0,0,0,0,0,0,0,0,0,0,0,0,0,0,0,0,0,0]
[{"$nulls":4},{"$f":"(D573*$C$20)+D573","v":0},0,0,0,0,0,0,0,0,0,0,0,0,0,0,0,0,0,0,0,0,0,0,0,0,0,0,0,0,0]
[{"$nulls":4},{"$f":"(D574*$C$20)+D574","v":0},0,0,0,0,0,0,0,0,0,0,0,0,0,0,0,0,0,0,0,0,0,0,0,0,0,0,0,0,0]
[{"$nulls":4},{"$f":"(D575*$C$20)+D575","v":0},0,0,0,0,0,0,0,0,0,0,0,0,0,0,0,0,0,0,0,0,0,0,0,0,0,0,0,0,0]
[{"$nulls":4},{"$f":"(D576*$C$20)+D576","v":0},0,0,0,0,0,0,0,0,0,0,0,0,0,0,0,0,0,0,0,0,0,0,0,0,0,0,0,0,0]
[{"$nulls":4},{"$f":"(D577*$C$20)+D577","v":0},0,0,0,0,0,0,0,0,0,0,0,0,0,0,0,0,0,0,0,0,0,0,0,0,0,0,0,0,0]
[{"$nulls":4},{"$f":"(D578*$C$20)+D578","v":0},0,0,0,0,0,0,0,0,0,0,0,0,0,0,0,0,0,0,0,0,0,0,0,0,0,0,0,0,0]
[{"$nulls":4},{"$f":"(D579*$C$20)+D579","v":0},0,0,0,0,0,0,0,0,0,0,0,0,0,0,0,0,0,0,0,0,0,0,0,0,0,0,0,0,0]
[{"$nulls":4},{"$f":"(D580*$C$20)+D580","v":0},0,0,0,0,0,0,0,0,0,0,0,0,0,0,0,0,0,0,0,0,0,0,0,0,0,0,0,0,0]
[{"$nulls":4},{"$f":"(D581*$C$20)+D581","v":0},0,0,0,0,0,0,0,0,0,0,0,0,0,0,0,0,0,0,0,0,0,0,0,0,0,0,0,0,0]
[{"$nulls":4},{"$f":"(D582*$C$20)+D582","v":0},0,0,0,0,0,0,0,0,0,0,0,0,0,0,0,0,0,0,0,0,0,0,0,0,0,0,0,0,0]
[{"$nulls":4},{"$f":"(D583*$C$20)+D583","v":0},0,0,0,0,0,0,0,0,0,0,0,0,0,0,0,0,0,0,0,0,0,0,0,0,0,0,0,0,0]
[{"$nulls":4},{"$f":"(D584*$C$20)+D584","v":0},0,0,0,0,0,0,0,0,0,0,0,0,0,0,0,0,0,0,0,0,0,0,0,0,0,0,0,0,0]
[{"$nulls":4},{"$f":"(D585*$C$20)+D585","v":0},0,0,0,0,0,0,0,0,0,0,0,0,0,0,0,0,0,0,0,0,0,0,0,0,0,0,0,0,0]
[{"$nulls":4},{"$f":"(D586*$C$20)+D586","v":0},0,0,0,0,0,0,0,0,0,0,0,0,0,0,0,0,0,0,0,0,0,0,0,0,0,0,0,0,0]
[{"$nulls":4},{"$f":"(D587*$C$20)+D587","v":0},0,0,0,0,0,0,0,0,0,0,0,0,0,0,0,0,0,0,0,0,0,0,0,0,0,0,0,0,0]
[{"$nulls":4},{"$f":"(D588*$C$20)+D588","v":0},0,0,0,0,0,0,0,0,0,0,0,0,0,0,0,0,0,0,0,0,0,0,0,0,0,0,0,0,0]
[{"$nulls":4},{"$f":"(D589*$C$20)+D589","v":0},0,0,0,0,0,0,0,0,0,0,0,0,0,0,0,0,0,0,0,0,0,0,0,0,0,0,0,0,0]
[{"$nulls":4},{"$f":"(D590*$C$20)+D590","v":0},0,0,0,0,0,0,0,0,0,0,0,0,0,0,0,0,0,0,0,0,0,0,0,0,0,0,0,0,0]
[{"$nulls":4},{"$f":"(D591*$C$20)+D591","v":0},0,0,0,0,0,0,0,0,0,0,0,0,0,0,0,0,0,0,0,0,0,0,0,0,0,0,0,0,0]
[{"$nulls":4},{"$f":"(D592*$C$20)+D592","v":0},0,0,0,0,0,0,0,0,0,0,0,0,0,0,0,0,0,0,0,0,0,0,0,0,0,0,0,0,0]
[{"$nulls":4},{"$f":"(D593*$C$20)+D593","v":0},0,0,0,0,0,0,0,0,0,0,0,0,0,0,0,0,0,0,0,0,0,0,0,0,0,0,0,0,0]
[{"$nulls":4},{"$f":"(D594*$C$20)+D594","v":0},0,0,0,0,0,0,0,0,0,0,0,0,0,0,0,0,0,0,0,0,0,0,0,0,0,0,0,0,0]
[{"$nulls":4},{"$f":"(D595*$C$20)+D595","v":0},0,0,0,0,0,0,0,0,0,0,0,0,0,0,0,0,0,0,0,0,0,0,0,0,0,0,0,0,0]
[{"$nulls":4},{"$f":"(D596*$C$20)+D596","v":0},0,0,0,0,0,0,0,0,0,0,0,0,0,0,0,0,0,0,0,0,0,0,0,0,0,0,0,0,0]
[{"$nulls":4},{"$f":"(D597*$C$20)+D597","v":0},0,0,0,0,0,0,0,0,0,0,0,0,0,0,0,0,0,0,0,0,0,0,0,0,0,0,0,0,0]
[{"$nulls":4},{"$f":"(D598*$C$20)+D598","v":0},0,0,0,0,0,0,0,0,0,0,0,0,0,0,0,0,0,0,0,0,0,0,0,0,0,0,0,0,0]
[{"$nulls":4},{"$f":"(D599*$C$20)+D599","v":0},0,0,0,0,0,0,0,0,0,0,0,0,0,0,0,0,0,0,0,0,0,0,0,0,0,0,0,0,0]
[{"$nulls":4},{"$f":"(D600*$C$20)+D600","v":0},0,0,0,0,0,0,0,0,0,0,0,0,0,0,0,0,0,0,0,0,0,0,0,0,0,0,0,0,0]
[{"$nulls":4},{"$f":"(D601*$C$20)+D601","v":0},0,0,0,0,0,0,0,0,0,0,0,0,0,0,0,0,0,0,0,0,0,0,0,0,0,0,0,0,0]
[{"$nulls":4},{"$f":"(D602*$C$20)+D602","v":0},0,0,0,0,0,0,0,0,0,0,0,0,0,0,0,0,0,0,0,0,0,0,0,0,0,0,0,0,0]
[{"$nulls":4},{"$f":"(D603*$C$20)+D603","v":0},0,0,0,0,0,0,0,0,0,0,0,0,0,0,0,0,0,0,0,0,0,0,0,0,0,0,0,0,0]
[{"$nulls":4},{"$f":"(D604*$C$20)+D604","v":0},0,0,0,0,0,0,0,0,0,0,0,0,0,0,0,0,0,0,0,0,0,0,0,0,0,0,0,0,0]
[{"$nulls":4},{"$f":"(D605*$C$20)+D605","v":0},0,0,0,0,0,0,0,0,0,0,0,0,0,0,0,0,0,0,0,0,0,0,0,0,0,0,0,0,0]
[{"$nulls":4},{"$f":"(D606*$C$20)+D606","v":0},0,0,0,0,0,0,0,0,0,0,0,0,0,0,0,0,0,0,0,0,0,0,0,0,0,0,0,0,0]
[{"$nulls":4},{"$f":"(D607*$C$20)+D607","v":0},0,0,0,0,0,0,0,0,0,0,0,0,0,0,0,0,0,0,0,0,0,0,0,0,0,0,0,0,0]
[{"$nulls":4},{"$f":"(D608*$C$20)+D608","v":0},0,0,0,0,0,0,0,0,0,0,0,0,0,0,0,0,0,0,0,0,0,0,0,0,0,0,0,0,0]
[{"$nulls":4},{"$f":"(D609*$C$20)+D609","v":0},0,0,0,0,0,0,0,0,0,0,0,0,0,0,0,0,0,0,0,0,0,0,0,0,0,0,0,0,0]
[{"$nulls":4},{"$f":"(D610*$C$20)+D610","v":0},0,0,0,0,0,0,0,0,0,0,0,0,0,0,0,0,0,0,0,0,0,0,0,0,0,0,0,0,0]
[{"$nulls":4},{"$f":"(D611*$C$20)+D611","v":0},0,0,0,0,0,0,0,0,0,0,0,0,0,0,0,0,0,0,0,0,0,0,0,0,0,0,0,0,0]
[{"$nulls":4},{"$f":"(D612*$C$20)+D612","v":0},0,0,0,0,0,0,0,0,0,0,0,0,0,0,0,0,0,0,0,0,0,0,0,0,0,0,0,0,0]
[{"$nulls":4},{"$f":"(D613*$C$20)+D613","v":0},0,0,0,0,0,0,0,0,0,0,0,0,0,0,0,0,0,0,0,0,0,0,0,0,0,0,0,0,0]
[{"$nulls":4},{"$f":"(D614*$C$20)+D614","v":0},0,0,0,0,0,0,0,0,0,0,0,0,0,0,0,0,0,0,0,0,0,0,0,0,0,0,0,0,0]
[{"$nulls":4},{"$f":"(D615*$C$20)+D615","v":0},0,0,0,0,0,0,0,0,0,0,0,0,0,0,0,0,0,0,0,0,0,0,0,0,0,0,0,0,0]
[{"$nulls":4},{"$f":"(D616*$C$20)+D616","v":0},0,0,0,0,0,0,0,0,0,0,0,0,0,0,0,0,0,0,0,0,0,0,0,0,0,0,0,0,0]
[{"$nulls":4},{"$f":"(D617*$C$20)+D617","v":0},0,0,0,0,0,0,0,0,0,0,0,0,0,0,0,0,0,0,0,0,0,0,0,0,0,0,0,0,0]
[{"$nulls":4},{"$f":"(D618*$C$20)+D618","v":0},0,0,0,0,0,0,0,0,0,0,0,0,0,0,0,0,0,0,0,0,0,0,0,0,0,0,0,0,0]
[{"$nulls":4},{"$f":"(D619*$C$20)+D619","v":0},0,0,0,0,0,0,0,0,0,0,0,0,0,0,0,0,0,0,0,0,0,0,0,0,0,0,0,0,0]
[{"$nulls":4},{"$f":"(D620*$C$20)+D620","v":0},0,0,0,0,0,0,0,0,0,0,0,0,0,0,0,0,0,0,0,0,0,0,0,0,0,0,0,0,0]
[{"$nulls":4},{"$f":"(D621*$C$20)+D621","v":0},0,0,0,0,0,0,0,0,0,0,0,0,0,0,0,0,0,0,0,0,0,0,0,0,0,0,0,0,0]
[{"$nulls":4},{"$f":"(D622*$C$20)+D622","v":0},0,0,0,0,0,0,0,0,0,0,0,0,0,0,0,0,0,0,0,0,0,0,0,0,0,0,0,0,0]
[{"$nulls":4},{"$f":"(D623*$C$20)+D623","v":0},0,0,0,0,0,0,0,0,0,0,0,0,0,0,0,0,0,0,0,0,0,0,0,0,0,0,0,0,0]
[{"$nulls":4},{"$f":"(D624*$C$20)+D624","v":0},0,0,0,0,0,0,0,0,0,0,0,0,0,0,0,0,0,0,0,0,0,0,0,0,0,0,0,0,0]
[{"$nulls":4},{"$f":"(D625*$C$20)+D625","v":0},0,0,0,0,0,0,0,0,0,0,0,0,0,0,0,0,0,0,0,0,0,0,0,0,0,0,0,0,0]
[{"$nulls":4},{"$f":"(D626*$C$20)+D626","v":0},0,0,0,0,0,0,0,0,0,0,0,0,0,0,0,0,0,0,0,0,0,0,0,0,0,0,0,0,0]
[{"$nulls":4},{"$f":"(D627*$C$20)+D627","v":0},0,0,0,0,0,0,0,0,0,0,0,0,0,0,0,0,0,0,0,0,0,0,0,0,0,0,0,0,0]
[{"$nulls":4},{"$f":"(D628*$C$20)+D628","v":0},0,0,0,0,0,0,0,0,0,0,0,0,0,0,0,0,0,0,0,0,0,0,0,0,0,0,0,0,0]
[{"$nulls":4},{"$f":"(D629*$C$20)+D629","v":0},0,0,0,0,0,0,0,0,0,0,0,0,0,0,0,0,0,0,0,0,0,0,0,0,0,0,0,0,0]
[{"$nulls":4},{"$f":"(D630*$C$20)+D630","v":0},0,0,0,0,0,0,0,0,0,0,0,0,0,0,0,0,0,0,0,0,0,0,0,0,0,0,0,0,0]
[{"$nulls":4},{"$f":"(D631*$C$20)+D631","v":0},0,0,0,0,0,0,0,0,0,0,0,0,0,0,0,0,0,0,0,0,0,0,0,0,0,0,0,0,0]
[{"$nulls":4},{"$f":"(D632*$C$20)+D632","v":0},0,0,0,0,0,0,0,0,0,0,0,0,0,0,0,0,0,0,0,0,0,0,0,0,0,0,0,0,0]
[{"$nulls":4},{"$f":"(D633*$C$20)+D633","v":0},0,0,0,0,0,0,0,0,0,0,0,0,0,0,0,0,0,0,0,0,0,0,0,0,0,0,0,0,0]
[{"$nulls":4},{"$f":"(D634*$C$20)+D634","v":0},0,0,0,0,0,0,0,0,0,0,0,0,0,0,0,0,0,0,0,0,0,0,0,0,0,0,0,0,0]
[{"$nulls":4},{"$f":"(D635*$C$20)+D635","v":0},0,0,0,0,0,0,0,0,0,0,0,0,0,0,0,0,0,0,0,0,0,0,0,0,0,0,0,0,0]
[{"$nulls":4},{"$f":"(D636*$C$20)+D636","v":0},0,0,0,0,0,0,0,0,0,0,0,0,0,0,0,0,0,0,0,0,0,0,0,0,0,0,0,0,0]
[{"$nulls":4},{"$f":"(D637*$C$20)+D637","v":0},0,0,0,0,0,0,0,0,0,0,0,0,0,0,0,0,0,0,0,0,0,0,0,0,0,0,0,0,0]
[{"$nulls":4},{"$f":"(D638*$C$20)+D638","v":0},0,0,0,0,0,0,0,0,0,0,0,0,0,0,0,0,0,0,0,0,0,0,0,0,0,0,0,0,0]
[{"$nulls":4},{"$f":"(D639*$C$20)+D639","v":0},0,0,0,0,0,0,0,0,0,0,0,0,0,0,0,0,0,0,0,0,0,0,0,0,0,0,0,0,0]
[{"$nulls":4},{"$f":"(D640*$C$20)+D640","v":0},0,0,0,0,0,0,0,0,0,0,0,0,0,0,0,0,0,0,0,0,0,0,0,0,0,0,0,0,0]
[{"$nulls":4},{"$f":"(D641*$C$20)+D641","v":0},0,0,0,0,0,0,0,0,0,0,0,0,0,0,0,0,0,0,0,0,0,0,0,0,0,0,0,0,0]
[{"$nulls":4},{"$f":"(D642*$C$20)+D642","v":0},0,0,0,0,0,0,0,0,0,0,0,0,0,0,0,0,0,0,0,0,0,0,0,0,0,0,0,0,0]
[{"$nulls":4},{"$f":"(D643*$C$20)+D643","v":0},0,0,0,0,0,0,0,0,0,0,0,0,0,0,0,0,0,0,0,0,0,0,0,0,0,0,0,0,0]
[{"$nulls":4},{"$f":"(D644*$C$20)+D644","v":0},0,0,0,0,0,0,0,0,0,0,0,0,0,0,0,0,0,0,0,0,0,0,0,0,0,0,0,0,0]
[{"$nulls":4},{"$f":"(D645*$C$20)+D645","v":0},0,0,0,0,0,0,0,0,0,0,0,0,0,0,0,0,0,0,0,0,0,0,0,0,0,0,0,0,0]
[{"$nulls":4},{"$f":"(D646*$C$20)+D646","v":0},0,0,0,0,0,0,0,0,0,0,0,0,0,0,0,0,0,0,0,0,0,0,0,0,0,0,0,0,0]
[{"$nulls":4},{"$f":"(D647*$C$20)+D647","v":0},0,0,0,0,0,0,0,0,0,0,0,0,0,0,0,0,0,0,0,0,0,0,0,0,0,0,0,0,0]
[{"$nulls":4},{"$f":"(D648*$C$20)+D648","v":0},0,0,0,0,0,0,0,0,0,0,0,0,0,0,0,0,0,0,0,0,0,0,0,0,0,0,0,0,0]
[{"$nulls":4},{"$f":"(D649*$C$20)+D649","v":0},0,0,0,0,0,0,0,0,0,0,0,0,0,0,0,0,0,0,0,0,0,0,0,0,0,0,0,0,0]
[{"$nulls":4},{"$f":"(D650*$C$20)+D650","v":0},0,0,0,0,0,0,0,0,0,0,0,0,0,0,0,0,0,0,0,0,0,0,0,0,0,0,0,0,0]
[{"$nulls":4},{"$f":"(D651*$C$20)+D651","v":0},0,0,0,0,0,0,0,0,0,0,0,0,0,0,0,0,0,0,0,0,0,0,0,0,0,0,0,0,0]
[{"$nulls":4},{"$f":"(D652*$C$20)+D652","v":0},0,0,0,0,0,0,0,0,0,0,0,0,0,0,0,0,0,0,0,0,0,0,0,0,0,0,0,0,0]
[{"$nulls":4},{"$f":"(D653*$C$20)+D653","v":0},0,0,0,0,0,0,0,0,0,0,0,0,0,0,0,0,0,0,0,0,0,0,0,0,0,0,0,0,0]
[{"$nulls":4},{"$f":"(D654*$C$20)+D654","v":0},0,0,0,0,0,0,0,0,0,0,0,0,0,0,0,0,0,0,0,0,0,0,0,0,0,0,0,0,0]
[{"$nulls":4},{"$f":"(D655*$C$20)+D655","v":0},0,0,0,0,0,0,0,0,0,0,0,0,0,0,0,0,0,0,0,0,0,0,0,0,0,0,0,0,0]
[{"$nulls":4},{"$f":"(D656*$C$20)+D656","v":0},0,0,0,0,0,0,0,0,0,0,0,0,0,0,0,0,0,0,0,0,0,0,0,0,0,0,0,0,0]
[{"$nulls":4},{"$f":"(D657*$C$20)+D657","v":0},0,0,0,0,0,0,0,0,0,0,0,0,0,0,0,0,0,0,0,0,0,0,0,0,0,0,0,0,0]
[{"$nulls":4},{"$f":"(D658*$C$20)+D658","v":0},0,0,0,0,0,0,0,0,0,0,0,0,0,0,0,0,0,0,0,0,0,0,0,0,0,0,0,0,0]
[{"$nulls":4},{"$f":"(D659*$C$20)+D659","v":0},0,0,0,0,0,0,0,0,0,0,0,0,0,0,0,0,0,0,0,0,0,0,0,0,0,0,0,0,0]
[{"$nulls":4},{"$f":"(D660*$C$20)+D660","v":0},0,0,0,0,0,0,0,0,0,0,0,0,0,0,0,0,0,0,0,0,0,0,0,0,0,0,0,0,0]
[{"$nulls":4},{"$f":"(D661*$C$20)+D661","v":0},0,0,0,0,0,0,0,0,0,0,0,0,0,0,0,0,0,0,0,0,0,0,0,0,0,0,0,0,0]
[{"$nulls":4},{"$f":"(D662*$C$20)+D662","v":0},0,0,0,0,0,0,0,0,0,0,0,0,0,0,0,0,0,0,0,0,0,0,0,0,0,0,0,0,0]
[{"$nulls":4},{"$f":"(D663*$C$20)+D663","v":0},0,0,0,0,0,0,0,0,0,0,0,0,0,0,0,0,0,0,0,0,0,0,0,0,0,0,0,0,0]
[{"$nulls":4},{"$f":"(D664*$C$20)+D664","v":0},0,0,0,0,0,0,0,0,0,0,0,0,0,0,0,0,0,0,0,0,0,0,0,0,0,0,0,0,0]
[{"$nulls":4},{"$f":"(D665*$C$20)+D665","v":0},0,0,0,0,0,0,0,0,0,0,0,0,0,0,0,0,0,0,0,0,0,0,0,0,0,0,0,0,0]
[{"$nulls":4},{"$f":"(D666*$C$20)+D666","v":0},0,0,0,0,0,0,0,0,0,0,0,0,0,0,0,0,0,0,0,0,0,0,0,0,0,0,0,0,0]
[{"$nulls":4},{"$f":"(D667*$C$20)+D667","v":0},0,0,0,0,0,0,0,0,0,0,0,0,0,0,0,0,0,0,0,0,0,0,0,0,0,0,0,0,0]
[{"$nulls":4},{"$f":"(D668*$C$20)+D668","v":0},0,0,0,0,0,0,0,0,0,0,0,0,0,0,0,0,0,0,0,0,0,0,0,0,0,0,0,0,0]
[{"$nulls":4},{"$f":"(D669*$C$20)+D669","v":0},0,0,0,0,0,0,0,0,0,0,0,0,0,0,0,0,0,0,0,0,0,0,0,0,0,0,0,0,0]
[{"$nulls":4},{"$f":"(D670*$C$20)+D670","v":0},0,0,0,0,0,0,0,0,0,0,0,0,0,0,0,0,0,0,0,0,0,0,0,0,0,0,0,0,0]
[{"$nulls":4},{"$f":"(D671*$C$20)+D671","v":0},0,0,0,0,0,0,0,0,0,0,0,0,0,0,0,0,0,0,0,0,0,0,0,0,0,0,0,0,0]
[{"$nulls":4},{"$f":"(D672*$C$20)+D672","v":0},0,0,0,0,0,0,0,0,0,0,0,0,0,0,0,0,0,0,0,0,0,0,0,0,0,0,0,0,0]
[{"$nulls":4},{"$f":"(D673*$C$20)+D673","v":0},0,0,0,0,0,0,0,0,0,0,0,0,0,0,0,0,0,0,0,0,0,0,0,0,0,0,0,0,0]
[{"$nulls":4},{"$f":"(D674*$C$20)+D674","v":0},0,0,0,0,0,0,0,0,0,0,0,0,0,0,0,0,0,0,0,0,0,0,0,0,0,0,0,0,0]
[{"$nulls":4},{"$f":"(D675*$C$20)+D675","v":0},0,0,0,0,0,0,0,0,0,0,0,0,0,0,0,0,0,0,0,0,0,0,0,0,0,0,0,0,0]
[{"$nulls":4},{"$f":"(D676*$C$20)+D676","v":0},0,0,0,0,0,0,0,0,0,0,0,0,0,0,0,0,0,0,0,0,0,0,0,0,0,0,0,0,0]
[{"$nulls":4},{"$f":"(D677*$C$20)+D677","v":0},0,0,0,0,0,0,0,0,0,0,0,0,0,0,0,0,0,0,0,0,0,0,0,0,0,0,0,0,0]
[{"$nulls":4},{"$f":"(D678*$C$20)+D678","v":0},0,0,0,0,0,0,0,0,0,0,0,0,0,0,0,0,0,0,0,0,0,0,0,0,0,0,0,0,0]
[{"$nulls":4},{"$f":"(D679*$C$20)+D679","v":0},0,0,0,0,0,0,0,0,0,0,0,0,0,0,0,0,0,0,0,0,0,0,0,0,0,0,0,0,0]
[{"$nulls":4},{"$f":"(D680*$C$20)+D680","v":0},0,0,0,0,0,0,0,0,0,0,0,0,0,0,0,0,0,0,0,0,0,0,0,0,0,0,0,0,0]
[{"$nulls":4},{"$f":"(D681*$C$20)+D681","v":0},0,0,0,0,0,0,0,0,0,0,0,0,0,0,0,0,0,0,0,0,0,0,0,0,0,0,0,0,0]
[{"$nulls":4},{"$f":"(D682*$C$20)+D682","v":0},0,0,0,0,0,0,0,0,0,0,0,0,0,0,0,0,0,0,0,0,0,0,0,0,0,0,0,0,0]
[{"$nulls":4},{"$f":"(D683*$C$20)+D683","v":0},0,0,0,0,0,0,0,0,0,0,0,0,0,0,0,0,0,0,0,0,0,0,0,0,0,0,0,0,0]
[{"$nulls":4},{"$f":"(D684*$C$20)+D684","v":0},0,0,0,0,0,0,0,0,0,0,0,0,0,0,0,0,0,0,0,0,0,0,0,0,0,0,0,0,0]
[{"$nulls":4},{"$f":"(D685*$C$20)+D685","v":0},0,0,0,0,0,0,0,0,0,0,0,0,0,0,0,0,0,0,0,0,0,0,0,0,0,0,0,0,0]
[{"$nulls":4},{"$f":"(D686*$C$20)+D686","v":0},0,0,0,0,0,0,0,0,0,0,0,0,0,0,0,0,0,0,0,0,0,0,0,0,0,0,0,0,0]
[{"$nulls":4},{"$f":"(D687*$C$20)+D687","v":0},0,0,0,0,0,0,0,0,0,0,0,0,0,0,0,0,0,0,0,0,0,0,0,0,0,0,0,0,0]
[{"$nulls":4},{"$f":"(D688*$C$20)+D688","v":0},0,0,0,0,0,0,0,0,0,0,0,0,0,0,0,0,0,0,0,0,0,0,0,0,0,0,0,0,0]
[{"$nulls":4},{"$f":"(D689*$C$20)+D689","v":0},0,0,0,0,0,0,0,0,0,0,0,0,0,0,0,0,0,0,0,0,0,0,0,0,0,0,0,0,0]
[{"$nulls":4},{"$f":"(D690*$C$20)+D690","v":0},0,0,0,0,0,0,0,0,0,0,0,0,0,0,0,0,0,0,0,0,0,0,0,0,0,0,0,0,0]
[{"$nulls":4},{"$f":"(D691*$C$20)+D691","v":0},0,0,0,0,0,0,0,0,0,0,0,0,0,0,0,0,0,0,0,0,0,0,0,0,0,0,0,0,0]
[{"$nulls":4},{"$f":"(D692*$C$20)+D692","v":0},0,0,0,0,0,0,0,0,0,0,0,0,0,0,0,0,0,0,0,0,0,0,0,0,0,0,0,0,0]
[{"$nulls":4},{"$f":"(D693*$C$20)+D693","v":0},0,0,0,0,0,0,0,0,0,0,0,0,0,0,0,0,0,0,0,0,0,0,0,0,0,0,0,0,0]
[{"$nulls":4},{"$f":"(D694*$C$20)+D694","v":0},0,0,0,0,0,0,0,0,0,0,0,0,0,0,0,0,0,0,0,0,0,0,0,0,0,0,0,0,0]
[{"$nulls":4},{"$f":"(D695*$C$20)+D695","v":0},0,0,0,0,0,0,0,0,0,0,0,0,0,0,0,0,0,0,0,0,0,0,0,0,0,0,0,0,0]
[{"$nulls":4},{"$f":"(D696*$C$20)+D696","v":0},0,0,0,0,0,0,0,0,0,0,0,0,0,0,0,0,0,0,0,0,0,0,0,0,0,0,0,0,0]
[{"$nulls":4},{"$f":"(D697*$C$20)+D697","v":0},0,0,0,0,0,0,0,0,0,0,0,0,0,0,0,0,0,0,0,0,0,0,0,0,0,0,0,0,0]
[{"$nulls":4},{"$f":"(D698*$C$20)+D698","v":0},0,0,0,0,0,0,0,0,0,0,0,0,0,0,0,0,0,0,0,0,0,0,0,0,0,0,0,0,0]
[{"$nulls":4},{"$f":"(D699*$C$20)+D699","v":0},0,0,0,0,0,0,0,0,0,0,0,0,0,0,0,0,0,0,0,0,0,0,0,0,0,0,0,0,0]
[{"$nulls":4},{"$f":"(D700*$C$20)+D700","v":0},0,0,0,0,0,0,0,0,0,0,0,0,0,0,0,0,0,0,0,0,0,0,0,0,0,0,0,0,0]
[{"$nulls":4},{"$f":"(D701*$C$20)+D701","v":0},0,0,0,0,0,0,0,0,0,0,0,0,0,0,0,0,0,0,0,0,0,0,0,0,0,0,0,0,0]
[{"$nulls":4},{"$f":"(D702*$C$20)+D702","v":0},0,0,0,0,0,0,0,0,0,0,0,0,0,0,0,0,0,0,0,0,0,0,0,0,0,0,0,0,0]
[{"$nulls":4},{"$f":"(D703*$C$20)+D703","v":0},0,0,0,0,0,0,0,0,0,0,0,0,0,0,0,0,0,0,0,0,0,0,0,0,0,0,0,0,0]
[{"$nulls":4},{"$f":"(D704*$C$20)+D704","v":0},0,0,0,0,0,0,0,0,0,0,0,0,0,0,0,0,0,0,0,0,0,0,0,0,0,0,0,0,0]
[{"$nulls":4},{"$f":"(D705*$C$20)+D705","v":0},0,0,0,0,0,0,0,0,0,0,0,0,0,0,0,0,0,0,0,0,0,0,0,0,0,0,0,0,0]
[{"$nulls":4},{"$f":"(D706*$C$20)+D706","v":0},0,0,0,0,0,0,0,0,0,0,0,0,0,0,0,0,0,0,0,0,0,0,0,0,0,0,0,0,0]
[{"$nulls":4},{"$f":"(D707*$C$20)+D707","v":0},0,0,0,0,0,0,0,0,0,0,0,0,0,0,0,0,0,0,0,0,0,0,0,0,0,0,0,0,0]
[{"$nulls":4},{"$f":"(D708*$C$20)+D708","v":0},0,0,0,0,0,0,0,0,0,0,0,0,0,0,0,0,0,0,0,0,0,0,0,0,0,0,0,0,0]
[{"$nulls":4},{"$f":"(D709*$C$20)+D709","v":0},0,0,0,0,0,0,0,0,0,0,0,0,0,0,0,0,0,0,0,0,0,0,0,0,0,0,0,0,0]
[{"$nulls":4},{"$f":"(D710*$C$20)+D710","v":0},0,0,0,0,0,0,0,0,0,0,0,0,0,0,0,0,0,0,0,0,0,0,0,0,0,0,0,0,0]
[{"$nulls":4},{"$f":"(D711*$C$20)+D711","v":0},0,0,0,0,0,0,0,0,0,0,0,0,0,0,0,0,0,0,0,0,0,0,0,0,0,0,0,0,0]
[{"$nulls":4},{"$f":"(D712*$C$20)+D712","v":0},0,0,0,0,0,0,0,0,0,0,0,0,0,0,0,0,0,0,0,0,0,0,0,0,0,0,0,0,0]
[{"$nulls":4},{"$f":"(D713*$C$20)+D713","v":0},0,0,0,0,0,0,0,0,0,0,0,0,0,0,0,0,0,0,0,0,0,0,0,0,0,0,0,0,0]
[{"$nulls":4},{"$f":"(D714*$C$20)+D714","v":0},0,0,0,0,0,0,0,0,0,0,0,0,0,0,0,0,0,0,0,0,0,0,0,0,0,0,0,0,0]
[{"$nulls":4},{"$f":"(D715*$C$20)+D715","v":0},0,0,0,0,0,0,0,0,0,0,0,0,0,0,0,0,0,0,0,0,0,0,0,0,0,0,0,0,0]
[{"$nulls":4},{"$f":"(D716*$C$20)+D716","v":0},0,0,0,0,0,0,0,0,0,0,0,0,0,0,0,0,0,0,0,0,0,0,0,0,0,0,0,0,0]
[{"$nulls":4},{"$f":"(D717*$C$20)+D717","v":0},0,0,0,0,0,0,0,0,0,0,0,0,0,0,0,0,0,0,0,0,0,0,0,0,0,0,0,0,0]
[{"$nulls":4},{"$f":"(D718*$C$20)+D718","v":0},0,0,0,0,0,0,0,0,0,0,0,0,0,0,0,0,0,0,0,0,0,0,0,0,0,0,0,0,0]
[{"$nulls":4},{"$f":"(D719*$C$20)+D719","v":0},0,0,0,0,0,0,0,0,0,0,0,0,0,0,0,0,0,0,0,0,0,0,0,0,0,0,0,0,0]
[{"$nulls":4},{"$f":"(D720*$C$20)+D720","v":0},0,0,0,0,0,0,0,0,0,0,0,0,0,0,0,0,0,0,0,0,0,0,0,0,0,0,0,0,0]
[{"$nulls":4},{"$f":"(D721*$C$20)+D721","v":0},0,0,0,0,0,0,0,0,0,0,0,0,0,0,0,0,0,0,0,0,0,0,0,0,0,0,0,0,0]
[{"$nulls":4},{"$f":"(D722*$C$20)+D722","v":0},0,0,0,0,0,0,0,0,0,0,0,0,0,0,0,0,0,0,0,0,0,0,0,0,0,0,0,0,0]
[{"$nulls":4},{"$f":"(D723*$C$20)+D723","v":0},0,0,0,0,0,0,0,0,0,0,0,0,0,0,0,0,0,0,0,0,0,0,0,0,0,0,0,0,0]
[{"$nulls":4},{"$f":"(D724*$C$20)+D724","v":0},0,0,0,0,0,0,0,0,0,0,0,0,0,0,0,0,0,0,0,0,0,0,0,0,0,0,0,0,0]
[{"$nulls":4},{"$f":"(D725*$C$20)+D725","v":0},0,0,0,0,0,0,0,0,0,0,0,0,0,0,0,0,0,0,0,0,0,0,0,0,0,0,0,0,0]
[{"$nulls":4},{"$f":"(D726*$C$20)+D726","v":0},0,0,0,0,0,0,0,0,0,0,0,0,0,0,0,0,0,0,0,0,0,0,0,0,0,0,0,0,0]
[{"$nulls":4},{"$f":"(D727*$C$20)+D727","v":0},0,0,0,0,0,0,0,0,0,0,0,0,0,0,0,0,0,0,0,0,0,0,0,0,0,0,0,0,0]
[{"$nulls":4},{"$f":"(D728*$C$20)+D728","v":0},0,0,0,0,0,0,0,0,0,0,0,0,0,0,0,0,0,0,0,0,0,0,0,0,0,0,0,0,0]
[{"$nulls":4},{"$f":"(D729*$C$20)+D729","v":0},0,0,0,0,0,0,0,0,0,0,0,0,0,0,0,0,0,0,0,0,0,0,0,0,0,0,0,0,0]
[{"$nulls":4},{"$f":"(D730*$C$20)+D730","v":0},0,0,0,0,0,0,0,0,0,0,0,0,0,0,0,0,0,0,0,0,0,0,0,0,0,0,0,0,0]
[{"$nulls":4},{"$f":"(D731*$C$20)+D731","v":0},0,0,0,0,0,0,0,0,0,0,0,0,0,0,0,0,0,0,0,0,0,0,0,0,0,0,0,0,0]
[{"$nulls":4},{"$f":"(D732*$C$20)+D732","v":0},0,0,0,0,0,0,0,0,0,0,0,0,0,0,0,0,0,0,0,0,0,0,0,0,0,0,0,0,0]
[{"$nulls":4},{"$f":"(D733*$C$20)+D733","v":0},0,0,0,0,0,0,0,0,0,0,0,0,0,0,0,0,0,0,0,0,0,0,0,0,0,0,0,0,0]
[{"$nulls":4},{"$f":"(D734*$C$20)+D734","v":0},0,0,0,0,0,0,0,0,0,0,0,0,0,0,0,0,0,0,0,0,0,0,0,0,0,0,0,0,0]
[{"$nulls":4},{"$f":"(D735*$C$20)+D735","v":0},0,0,0,0,0,0,0,0,0,0,0,0,0,0,0,0,0,0,0,0,0,0,0,0,0,0,0,0,0]
[{"$nulls":4},{"$f":"(D736*$C$20)+D736","v":0},0,0,0,0,0,0,0,0,0,0,0,0,0,0,0,0,0,0,0,0,0,0,0,0,0,0,0,0,0]
[{"$nulls":4},{"$f":"(D737*$C$20)+D737","v":0},0,0,0,0,0,0,0,0,0,0,0,0,0,0,0,0,0,0,0,0,0,0,0,0,0,0,0,0,0]
[{"$nulls":4},{"$f":"(D738*$C$20)+D738","v":0},0,0,0,0,0,0,0,0,0,0,0,0,0,0,0,0,0,0,0,0,0,0,0,0,0,0,0,0,0]
[{"$nulls":4},{"$f":"(D739*$C$20)+D739","v":0},0,0,0,0,0,0,0,0,0,0,0,0,0,0,0,0,0,0,0,0,0,0,0,0,0,0,0,0,0]
[{"$nulls":4},{"$f":"(D740*$C$20)+D740","v":0},0,0,0,0,0,0,0,0,0,0,0,0,0,0,0,0,0,0,0,0,0,0,0,0,0,0,0,0,0]
[{"$nulls":4},{"$f":"(D741*$C$20)+D741","v":0},0,0,0,0,0,0,0,0,0,0,0,0,0,0,0,0,0,0,0,0,0,0,0,0,0,0,0,0,0]
[{"$nulls":4},{"$f":"(D742*$C$20)+D742","v":0},0,0,0,0,0,0,0,0,0,0,0,0,0,0,0,0,0,0,0,0,0,0,0,0,0,0,0,0,0]
[{"$nulls":4},{"$f":"(D743*$C$20)+D743","v":0},0,0,0,0,0,0,0,0,0,0,0,0,0,0,0,0,0,0,0,0,0,0,0,0,0,0,0,0,0]
[{"$nulls":4},{"$f":"(D744*$C$20)+D744","v":0},0,0,0,0,0,0,0,0,0,0,0,0,0,0,0,0,0,0,0,0,0,0,0,0,0,0,0,0,0]
[{"$nulls":4},{"$f":"(D745*$C$20)+D745","v":0},0,0,0,0,0,0,0,0,0,0,0,0,0,0,0,0,0,0,0,0,0,0,0,0,0,0,0,0,0]
[{"$nulls":4},{"$f":"(D746*$C$20)+D746","v":0},0,0,0,0,0,0,0,0,0,0,0,0,0,0,0,0,0,0,0,0,0,0,0,0,0,0,0,0,0]
[{"$nulls":4},{"$f":"(D747*$C$20)+D747","v":0},0,0,0,0,0,0,0,0,0,0,0,0,0,0,0,0,0,0,0,0,0,0,0,0,0,0,0,0,0]
[{"$nulls":4},{"$f":"(D748*$C$20)+D748","v":0},0,0,0,0,0,0,0,0,0,0,0,0,0,0,0,0,0,0,0,0,0,0,0,0,0,0,0,0,0]
[{"$nulls":4},{"$f":"(D749*$C$20)+D749","v":0},0,0,0,0,0,0,0,0,0,0,0,0,0,0,0,0,0,0,0,0,0,0,0,0,0,0,0,0,0]
[{"$nulls":4},{"$f":"(D750*$C$20)+D750","v":0},0,0,0,0,0,0,0,0,0,0,0,0,0,0,0,0,0,0,0,0,0,0,0,0,0,0,0,0,0]
[{"$nulls":4},{"$f":"(D751*$C$20)+D751","v":0},0,0,0,0,0,0,0,0,0,0,0,0,0,0,0,0,0,0,0,0,0,0,0,0,0,0,0,0,0]
[{"$nulls":4},{"$f":"(D752*$C$20)+D752","v":0},0,0,0,0,0,0,0,0,0,0,0,0,0,0,0,0,0,0,0,0,0,0,0,0,0,0,0,0,0]
[{"$nulls":4},{"$f":"(D753*$C$20)+D753","v":0},0,0,0,0,0,0,0,0,0,0,0,0,0,0,0,0,0,0,0,0,0,0,0,0,0,0,0,0,0]
[{"$nulls":4},{"$f":"(D754*$C$20)+D754","v":0},0,0,0,0,0,0,0,0,0,0,0,0,0,0,0,0,0,0,0,0,0,0,0,0,0,0,0,0,0]
[{"$nulls":4},{"$f":"(D755*$C$20)+D755","v":0},0,0,0,0,0,0,0,0,0,0,0,0,0,0,0,0,0,0,0,0,0,0,0,0,0,0,0,0,0]
[{"$nulls":4},{"$f":"(D756*$C$20)+D756","v":0},0,0,0,0,0,0,0,0,0,0,0,0,0,0,0,0,0,0,0,0,0,0,0,0,0,0,0,0,0]
[{"$nulls":4},{"$f":"(D757*$C$20)+D757","v":0},0,0,0,0,0,0,0,0,0,0,0,0,0,0,0,0,0,0,0,0,0,0,0,0,0,0,0,0,0]
[{"$nulls":4},{"$f":"(D758*$C$20)+D758","v":0},0,0,0,0,0,0,0,0,0,0,0,0,0,0,0,0,0,0,0,0,0,0,0,0,0,0,0,0,0]
[{"$nulls":4},{"$f":"(D759*$C$20)+D759","v":0},0,0,0,0,0,0,0,0,0,0,0,0,0,0,0,0,0,0,0,0,0,0,0,0,0,0,0,0,0]
[{"$nulls":4},{"$f":"(D760*$C$20)+D760","v":0},0,0,0,0,0,0,0,0,0,0,0,0,0,0,0,0,0,0,0,0,0,0,0,0,0,0,0,0,0]
[{"$nulls":4},{"$f":"(D761*$C$20)+D761","v":0},0,0,0,0,0,0,0,0,0,0,0,0,0,0,0,0,0,0,0,0,0,0,0,0,0,0,0,0,0]
[{"$nulls":4},{"$f":"(D762*$C$20)+D762","v":0},0,0,0,0,0,0,0,0,0,0,0,0,0,0,0,0,0,0,0,0,0,0,0,0,0,0,0,0,0]
[{"$nulls":4},{"$f":"(D763*$C$20)+D763","v":0},0,0,0,0,0,0,0,0,0,0,0,0,0,0,0,0,0,0,0,0,0,0,0,0,0,0,0,0,0]
[{"$nulls":4},{"$f":"(D764*$C$20)+D764","v":0},0,0,0,0,0,0,0,0,0,0,0,0,0,0,0,0,0,0,0,0,0,0,0,0,0,0,0,0,0]
[{"$nulls":4},{"$f":"(D765*$C$20)+D765","v":0},0,0,0,0,0,0,0,0,0,0,0,0,0,0,0,0,0,0,0,0,0,0,0,0,0,0,0,0,0]
[{"$nulls":4},{"$f":"(D766*$C$20)+D766","v":0},0,0,0,0,0,0,0,0,0,0,0,0,0,0,0,0,0,0,0,0,0,0,0,0,0,0,0,0,0]
[{"$nulls":4},{"$f":"(D767*$C$20)+D767","v":0},0,0,0,0,0,0,0,0,0,0,0,0,0,0,0,0,0,0,0,0,0,0,0,0,0,0,0,0,0]
[{"$nulls":4},{"$f":"(D768*$C$20)+D768","v":0},0,0,0,0,0,0,0,0,0,0,0,0,0,0,0,0,0,0,0,0,0,0,0,0,0,0,0,0,0]
[{"$nulls":4},{"$f":"(D769*$C$20)+D769","v":0},0,0,0,0,0,0,0,0,0,0,0,0,0,0,0,0,0,0,0,0,0,0,0,0,0,0,0,0,0]
[{"$nulls":4},{"$f":"(D770*$C$20)+D770","v":0},0,0,0,0,0,0,0,0,0,0,0,0,0,0,0,0,0,0,0,0,0,0,0,0,0,0,0,0,0]
[{"$nulls":4},{"$f":"(D771*$C$20)+D771","v":0},0,0,0,0,0,0,0,0,0,0,0,0,0,0,0,0,0,0,0,0,0,0,0,0,0,0,0,0,0]
[{"$nulls":4},{"$f":"(D772*$C$20)+D772","v":0},0,0,0,0,0,0,0,0,0,0,0,0,0,0,0,0,0,0,0,0,0,0,0,0,0,0,0,0,0]
[{"$nulls":4},{"$f":"(D773*$C$20)+D773","v":0},0,0,0,0,0,0,0,0,0,0,0,0,0,0,0,0,0,0,0,0,0,0,0,0,0,0,0,0,0]
[{"$nulls":4},{"$f":"(D774*$C$20)+D774","v":0},0,0,0,0,0,0,0,0,0,0,0,0,0,0,0,0,0,0,0,0,0,0,0,0,0,0,0,0,0]
[{"$nulls":4},{"$f":"(D775*$C$20)+D775","v":0},0,0,0,0,0,0,0,0,0,0,0,0,0,0,0,0,0,0,0,0,0,0,0,0,0,0,0,0,0]
[{"$nulls":4},{"$f":"(D776*$C$20)+D776","v":0},0,0,0,0,0,0,0,0,0,0,0,0,0,0,0,0,0,0,0,0,0,0,0,0,0,0,0,0,0]
[{"$nulls":4},{"$f":"(D777*$C$20)+D777","v":0},0,0,0,0,0,0,0,0,0,0,0,0,0,0,0,0,0,0,0,0,0,0,0,0,0,0,0,0,0]
[{"$nulls":4},{"$f":"(D778*$C$20)+D778","v":0},0,0,0,0,0,0,0,0,0,0,0,0,0,0,0,0,0,0,0,0,0,0,0,0,0,0,0,0,0]
[{"$nulls":4},{"$f":"(D779*$C$20)+D779","v":0},0,0,0,0,0,0,0,0,0,0,0,0,0,0,0,0,0,0,0,0,0,0,0,0,0,0,0,0,0]
[{"$nulls":4},{"$f":"(D780*$C$20)+D780","v":0},0,0,0,0,0,0,0,0,0,0,0,0,0,0,0,0,0,0,0,0,0,0,0,0,0,0,0,0,0]
[{"$nulls":4},{"$f":"(D781*$C$20)+D781","v":0},0,0,0,0,0,0,0,0,0,0,0,0,0,0,0,0,0,0,0,0,0,0,0,0,0,0,0,0,0]
[{"$nulls":4},{"$f":"(D782*$C$20)+D782","v":0},0,0,0,0,0,0,0,0,0,0,0,0,0,0,0,0,0,0,0,0,0,0,0,0,0,0,0,0,0]
[{"$nulls":4},{"$f":"(D783*$C$20)+D783","v":0},0,0,0,0,0,0,0,0,0,0,0,0,0,0,0,0,0,0,0,0,0,0,0,0,0,0,0,0,0]
[{"$nulls":4},{"$f":"(D784*$C$20)+D784","v":0},0,0,0,0,0,0,0,0,0,0,0,0,0,0,0,0,0,0,0,0,0,0,0,0,0,0,0,0,0]
[{"$nulls":4},{"$f":"(D785*$C$20)+D785","v":0},0,0,0,0,0,0,0,0,0,0,0,0,0,0,0,0,0,0,0,0,0,0,0,0,0,0,0,0,0]
[{"$nulls":4},{"$f":"(D786*$C$20)+D786","v":0},0,0,0,0,0,0,0,0,0,0,0,0,0,0,0,0,0,0,0,0,0,0,0,0,0,0,0,0,0]
[{"$nulls":4},{"$f":"(D787*$C$20)+D787","v":0},0,0,0,0,0,0,0,0,0,0,0,0,0,0,0,0,0,0,0,0,0,0,0,0,0,0,0,0,0]
[{"$nulls":4},{"$f":"(D788*$C$20)+D788","v":0},0,0,0,0,0,0,0,0,0,0,0,0,0,0,0,0,0,0,0,0,0,0,0,0,0,0,0,0,0]
[{"$nulls":4},{"$f":"(D789*$C$20)+D789","v":0},0,0,0,0,0,0,0,0,0,0,0,0,0,0,0,0,0,0,0,0,0,0,0,0,0,0,0,0,0]
[{"$nulls":4},{"$f":"(D790*$C$20)+D790","v":0},0,0,0,0,0,0,0,0,0,0,0,0,0,0,0,0,0,0,0,0,0,0,0,0,0,0,0,0,0]
[{"$nulls":4},{"$f":"(D791*$C$20)+D791","v":0},0,0,0,0,0,0,0,0,0,0,0,0,0,0,0,0,0,0,0,0,0,0,0,0,0,0,0,0,0]
[{"$nulls":4},{"$f":"(D792*$C$20)+D792","v":0},0,0,0,0,0,0,0,0,0,0,0,0,0,0,0,0,0,0,0,0,0,0,0,0,0,0,0,0,0]
[{"$nulls":4},{"$f":"(D793*$C$20)+D793","v":0},0,0,0,0,0,0,0,0,0,0,0,0,0,0,0,0,0,0,0,0,0,0,0,0,0,0,0,0,0]
[{"$nulls":4},{"$f":"(D794*$C$20)+D794","v":0},0,0,0,0,0,0,0,0,0,0,0,0,0,0,0,0,0,0,0,0,0,0,0,0,0,0,0,0,0]
[{"$nulls":4},{"$f":"(D795*$C$20)+D795","v":0},0,0,0,0,0,0,0,0,0,0,0,0,0,0,0,0,0,0,0,0,0,0,0,0,0,0,0,0,0]
[{"$nulls":4},{"$f":"(D796*$C$20)+D796","v":0},0,0,0,0,0,0,0,0,0,0,0,0,0,0,0,0,0,0,0,0,0,0,0,0,0,0,0,0,0]
[{"$nulls":4},{"$f":"(D797*$C$20)+D797","v":0},0,0,0,0,0,0,0,0,0,0,0,0,0,0,0,0,0,0,0,0,0,0,0,0,0,0,0,0,0]
[{"$nulls":4},{"$f":"(D798*$C$20)+D798","v":0},0,0,0,0,0,0,0,0,0,0,0,0,0,0,0,0,0,0,0,0,0,0,0,0,0,0,0,0,0]
[{"$nulls":4},{"$f":"(D799*$C$20)+D799","v":0},0,0,0,0,0,0,0,0,0,0,0,0,0,0,0,0,0,0,0,0,0,0,0,0,0,0,0,0,0]
[{"$nulls":4},{"$f":"(D800*$C$20)+D800","v":0},0,0,0,0,0,0,0,0,0,0,0,0,0,0,0,0,0,0,0,0,0,0,0,0,0,0,0,0,0]
[{"$nulls":4},{"$f":"(D801*$C$20)+D801","v":0},0,0,0,0,0,0,0,0,0,0,0,0,0,0,0,0,0,0,0,0,0,0,0,0,0,0,0,0,0]
[{"$nulls":4},{"$f":"(D802*$C$20)+D802","v":0},0,0,0,0,0,0,0,0,0,0,0,0,0,0,0,0,0,0,0,0,0,0,0,0,0,0,0,0,0]
[{"$nulls":4},{"$f":"(D803*$C$20)+D803","v":0},0,0,0,0,0,0,0,0,0,0,0,0,0,0,0,0,0,0,0,0,0,0,0,0,0,0,0,0,0]
[{"$nulls":4},{"$f":"(D804*$C$20)+D804","v":0},0,0,0,0,0,0,0,0,0,0,0,0,0,0,0,0,0,0,0,0,0,0,0,0,0,0,0,0,0]
[{"$nulls":4},{"$f":"(D805*$C$20)+D805","v":0},0,0,0,0,0,0,0,0,0,0,0,0,0,0,0,0,0,0,0,0,0,0,0,0,0,0,0,0,0]
[{"$nulls":4},{"$f":"(D806*$C$20)+D806","v":0},0,0,0,0,0,0,0,0,0,0,0,0,0,0,0,0,0,0,0,0,0,0,0,0,0,0,0,0,0]
[{"$nulls":4},{"$f":"(D807*$C$20)+D807","v":0},0,0,0,0,0,0,0,0,0,0,0,0,0,0,0,0,0,0,0,0,0,0,0,0,0,0,0,0,0]
[{"$nulls":4},{"$f":"(D808*$C$20)+D808","v":0},0,0,0,0,0,0,0,0,0,0,0,0,0,0,0,0,0,0,0,0,0,0,0,0,0,0,0,0,0]
[{"$nulls":4},{"$f":"(D809*$C$20)+D809","v":0},0,0,0,0,0,0,0,0,0,0,0,0,0,0,0,0,0,0,0,0,0,0,0,0,0,0,0,0,0]
[{"$nulls":4},{"$f":"(D810*$C$20)+D810","v":0},0,0,0,0,0,0,0,0,0,0,0,0,0,0,0,0,0,0,0,0,0,0,0,0,0,0,0,0,0]
[{"$nulls":4},{"$f":"(D811*$C$20)+D811","v":0},0,0,0,0,0,0,0,0,0,0,0,0,0,0,0,0,0,0,0,0,0,0,0,0,0,0,0,0,0]
[{"$nulls":4},{"$f":"(D812*$C$20)+D812","v":0},0,0,0,0,0,0,0,0,0,0,0,0,0,0,0,0,0,0,0,0,0,0,0,0,0,0,0,0,0]
[{"$nulls":4},{"$f":"(D813*$C$20)+D813","v":0},0,0,0,0,0,0,0,0,0,0,0,0,0,0,0,0,0,0,0,0,0,0,0,0,0,0,0,0,0]
[{"$nulls":4},{"$f":"(D814*$C$20)+D814","v":0},0,0,0,0,0,0,0,0,0,0,0,0,0,0,0,0,0,0,0,0,0,0,0,0,0,0,0,0,0]
[{"$nulls":4},{"$f":"(D815*$C$20)+D815","v":0},0,0,0,0,0,0,0,0,0,0,0,0,0,0,0,0,0,0,0,0,0,0,0,0,0,0,0,0,0]
[{"$nulls":4},{"$f":"(D816*$C$20)+D816","v":0},0,0,0,0,0,0,0,0,0,0,0,0,0,0,0,0,0,0,0,0,0,0,0,0,0,0,0,0,0]
[{"$nulls":4},{"$f":"(D817*$C$20)+D817","v":0},0,0,0,0,0,0,0,0,0,0,0,0,0,0,0,0,0,0,0,0,0,0,0,0,0,0,0,0,0]
[{"$nulls":4},{"$f":"(D818*$C$20)+D818","v":0},0,0,0,0,0,0,0,0,0,0,0,0,0,0,0,0,0,0,0,0,0,0,0,0,0,0,0,0,0]
[{"$nulls":4},{"$f":"(D819*$C$20)+D819","v":0},0,0,0,0,0,0,0,0,0,0,0,0,0,0,0,0,0,0,0,0,0,0,0,0,0,0,0,0,0]
[{"$nulls":4},{"$f":"(D820*$C$20)+D820","v":0},0,0,0,0,0,0,0,0,0,0,0,0,0,0,0,0,0,0,0,0,0,0,0,0,0,0,0,0,0]
[{"$nulls":4},{"$f":"(D821*$C$20)+D821","v":0},0,0,0,0,0,0,0,0,0,0,0,0,0,0,0,0,0,0,0,0,0,0,0,0,0,0,0,0,0]
[{"$nulls":4},{"$f":"(D822*$C$20)+D822","v":0},0,0,0,0,0,0,0,0,0,0,0,0,0,0,0,0,0,0,0,0,0,0,0,0,0,0,0,0,0]
[{"$nulls":4},{"$f":"(D823*$C$20)+D823","v":0},0,0,0,0,0,0,0,0,0,0,0,0,0,0,0,0,0,0,0,0,0,0,0,0,0,0,0,0,0]
[{"$nulls":4},{"$f":"(D824*$C$20)+D824","v":0},0,0,0,0,0,0,0,0,0,0,0,0,0,0,0,0,0,0,0,0,0,0,0,0,0,0,0,0,0]
[{"$nulls":4},{"$f":"(D825*$C$20)+D825","v":0},0,0,0,0,0,0,0,0,0,0,0,0,0,0,0,0,0,0,0,0,0,0,0,0,0,0,0,0,0]
[{"$nulls":4},{"$f":"(D826*$C$20)+D826","v":0},0,0,0,0,0,0,0,0,0,0,0,0,0,0,0,0,0,0,0,0,0,0,0,0,0,0,0,0,0]
[{"$nulls":4},{"$f":"(D827*$C$20)+D827","v":0},0,0,0,0,0,0,0,0,0,0,0,0,0,0,0,0,0,0,0,0,0,0,0,0,0,0,0,0,0]
[{"$nulls":4},{"$f":"(D828*$C$20)+D828","v":0},0,0,0,0,0,0,0,0,0,0,0,0,0,0,0,0,0,0,0,0,0,0,0,0,0,0,0,0,0]
[{"$nulls":4},{"$f":"(D829*$C$20)+D829","v":0},0,0,0,0,0,0,0,0,0,0,0,0,0,0,0,0,0,0,0,0,0,0,0,0,0,0,0,0,0]
[{"$nulls":4},{"$f":"(D830*$C$20)+D830","v":0},0,0,0,0,0,0,0,0,0,0,0,0,0,0,0,0,0,0,0,0,0,0,0,0,0,0,0,0,0]
[{"$nulls":4},{"$f":"(D831*$C$20)+D831","v":0},0,0,0,0,0,0,0,0,0,0,0,0,0,0,0,0,0,0,0,0,0,0,0,0,0,0,0,0,0]
[{"$nulls":4},{"$f":"(D832*$C$20)+D832","v":0},0,0,0,0,0,0,0,0,0,0,0,0,0,0,0,0,0,0,0,0,0,0,0,0,0,0,0,0,0]
[{"$nulls":4},{"$f":"(D833*$C$20)+D833","v":0},0,0,0,0,0,0,0,0,0,0,0,0,0,0,0,0,0,0,0,0,0,0,0,0,0,0,0,0,0]
[{"$nulls":4},{"$f":"(D834*$C$20)+D834","v":0},0,0,0,0,0,0,0,0,0,0,0,0,0,0,0,0,0,0,0,0,0,0,0,0,0,0,0,0,0]
[{"$nulls":4},{"$f":"(D835*$C$20)+D835","v":0},0,0,0,0,0,0,0,0,0,0,0,0,0,0,0,0,0,0,0,0,0,0,0,0,0,0,0,0,0]
[{"$nulls":4},{"$f":"(D836*$C$20)+D836","v":0},0,0,0,0,0,0,0,0,0,0,0,0,0,0,0,0,0,0,0,0,0,0,0,0,0,0,0,0,0]
[{"$nulls":4},{"$f":"(D837*$C$20)+D837","v":0},0,0,0,0,0,0,0,0,0,0,0,0,0,0,0,0,0,0,0,0,0,0,0,0,0,0,0,0,0]
[{"$nulls":4},{"$f":"(D838*$C$20)+D838","v":0},0,0,0,0,0,0,0,0,0,0,0,0,0,0,0,0,0,0,0,0,0,0,0,0,0,0,0,0,0]
[{"$nulls":4},{"$f":"(D839*$C$20)+D839","v":0},0,0,0,0,0,0,0,0,0,0,0,0,0,0,0,0,0,0,0,0,0,0,0,0,0,0,0,0,0]
[{"$nulls":4},{"$f":"(D840*$C$20)+D840","v":0},0,0,0,0,0,0,0,0,0,0,0,0,0,0,0,0,0,0,0,0,0,0,0,0,0,0,0,0,0]
[{"$nulls":4},{"$f":"(D841*$C$20)+D841","v":0},0,0,0,0,0,0,0,0,0,0,0,0,0,0,0,0,0,0,0,0,0,0,0,0,0,0,0,0,0]
[{"$nulls":4},{"$f":"(D842*$C$20)+D842","v":0},0,0,0,0,0,0,0,0,0,0,0,0,0,0,0,0,0,0,0,0,0,0,0,0,0,0,0,0,0]
[{"$nulls":4},{"$f":"(D843*$C$20)+D843","v":0},0,0,0,0,0,0,0,0,0,0,0,0,0,0,0,0,0,0,0,0,0,0,0,0,0,0,0,0,0]
[{"$nulls":4},{"$f":"(D844*$C$20)+D844","v":0},0,0,0,0,0,0,0,0,0,0,0,0,0,0,0,0,0,0,0,0,0,0,0,0,0,0,0,0,0]
[{"$nulls":4},{"$f":"(D845*$C$20)+D845","v":0},0,0,0,0,0,0,0,0,0,0,0,0,0,0,0,0,0,0,0,0,0,0,0,0,0,0,0,0,0]
[{"$nulls":4},{"$f":"(D846*$C$20)+D846","v":0},0,0,0,0,0,0,0,0,0,0,0,0,0,0,0,0,0,0,0,0,0,0,0,0,0,0,0,0,0]
[{"$nulls":4},{"$f":"(D847*$C$20)+D847","v":0},0,0,0,0,0,0,0,0,0,0,0,0,0,0,0,0,0,0,0,0,0,0,0,0,0,0,0,0,0]
[{"$nulls":4},{"$f":"(D848*$C$20)+D848","v":0},0,0,0,0,0,0,0,0,0,0,0,0,0,0,0,0,0,0,0,0,0,0,0,0,0,0,0,0,0]
[{"$nulls":4},{"$f":"(D849*$C$20)+D849","v":0},0,0,0,0,0,0,0,0,0,0,0,0,0,0,0,0,0,0,0,0,0,0,0,0,0,0,0,0,0]
[{"$nulls":4},{"$f":"(D850*$C$20)+D850","v":0},0,0,0,0,0,0,0,0,0,0,0,0,0,0,0,0,0,0,0,0,0,0,0,0,0,0,0,0,0]
[{"$nulls":4},{"$f":"(D851*$C$20)+D851","v":0},0,0,0,0,0,0,0,0,0,0,0,0,0,0,0,0,0,0,0,0,0,0,0,0,0,0,0,0,0]
[{"$nulls":4},{"$f":"(D852*$C$20)+D852","v":0},0,0,0,0,0,0,0,0,0,0,0,0,0,0,0,0,0,0,0,0,0,0,0,0,0,0,0,0,0]
[{"$nulls":4},{"$f":"(D853*$C$20)+D853","v":0},0,0,0,0,0,0,0,0,0,0,0,0,0,0,0,0,0,0,0,0,0,0,0,0,0,0,0,0,0]
[{"$nulls":4},{"$f":"(D854*$C$20)+D854","v":0},0,0,0,0,0,0,0,0,0,0,0,0,0,0,0,0,0,0,0,0,0,0,0,0,0,0,0,0,0]
[{"$nulls":4},{"$f":"(D855*$C$20)+D855","v":0},0,0,0,0,0,0,0,0,0,0,0,0,0,0,0,0,0,0,0,0,0,0,0,0,0,0,0,0,0]
[{"$nulls":4},{"$f":"(D856*$C$20)+D856","v":0},0,0,0,0,0,0,0,0,0,0,0,0,0,0,0,0,0,0,0,0,0,0,0,0,0,0,0,0,0]
[{"$nulls":4},{"$f":"(D857*$C$20)+D857","v":0},0,0,0,0,0,0,0,0,0,0,0,0,0,0,0,0,0,0,0,0,0,0,0,0,0,0,0,0,0]
[{"$nulls":4},{"$f":"(D858*$C$20)+D858","v":0},0,0,0,0,0,0,0,0,0,0,0,0,0,0,0,0,0,0,0,0,0,0,0,0,0,0,0,0,0]
[{"$nulls":4},{"$f":"(D859*$C$20)+D859","v":0},0,0,0,0,0,0,0,0,0,0,0,0,0,0,0,0,0,0,0,0,0,0,0,0,0,0,0,0,0]
[{"$nulls":4},{"$f":"(D860*$C$20)+D860","v":0},0,0,0,0,0,0,0,0,0,0,0,0,0,0,0,0,0,0,0,0,0,0,0,0,0,0,0,0,0]
[{"$nulls":4},{"$f":"(D861*$C$20)+D861","v":0},0,0,0,0,0,0,0,0,0,0,0,0,0,0,0,0,0,0,0,0,0,0,0,0,0,0,0,0,0]
[{"$nulls":4},{"$f":"(D862*$C$20)+D862","v":0},0,0,0,0,0,0,0,0,0,0,0,0,0,0,0,0,0,0,0,0,0,0,0,0,0,0,0,0,0]
[{"$nulls":4},{"$f":"(D863*$C$20)+D863","v":0},0,0,0,0,0,0,0,0,0,0,0,0,0,0,0,0,0,0,0,0,0,0,0,0,0,0,0,0,0]
[{"$nulls":4},{"$f":"(D864*$C$20)+D864","v":0},0,0,0,0,0,0,0,0,0,0,0,0,0,0,0,0,0,0,0,0,0,0,0,0,0,0,0,0,0]
[{"$nulls":4},{"$f":"(D865*$C$20)+D865","v":0},0,0,0,0,0,0,0,0,0,0,0,0,0,0,0,0,0,0,0,0,0,0,0,0,0,0,0,0,0]
[{"$nulls":4},{"$f":"(D866*$C$20)+D866","v":0},0,0,0,0,0,0,0,0,0,0,0,0,0,0,0,0,0,0,0,0,0,0,0,0,0,0,0,0,0]
[{"$nulls":4},{"$f":"(D867*$C$20)+D867","v":0},0,0,0,0,0,0,0,0,0,0,0,0,0,0,0,0,0,0,0,0,0,0,0,0,0,0,0,0,0]
[{"$nulls":4},{"$f":"(D868*$C$20)+D868","v":0},0,0,0,0,0,0,0,0,0,0,0,0,0,0,0,0,0,0,0,0,0,0,0,0,0,0,0,0,0]
[{"$nulls":4},{"$f":"(D869*$C$20)+D869","v":0},0,0,0,0,0,0,0,0,0,0,0,0,0,0,0,0,0,0,0,0,0,0,0,0,0,0,0,0,0]
[{"$nulls":4},{"$f":"(D870*$C$20)+D870","v":0},0,0,0,0,0,0,0,0,0,0,0,0,0,0,0,0,0,0,0,0,0,0,0,0,0,0,0,0,0]
[{"$nulls":4},{"$f":"(D871*$C$20)+D871","v":0},0,0,0,0,0,0,0,0,0,0,0,0,0,0,0,0,0,0,0,0,0,0,0,0,0,0,0,0,0]
[{"$nulls":4},{"$f":"(D872*$C$20)+D872","v":0},0,0,0,0,0,0,0,0,0,0,0,0,0,0,0,0,0,0,0,0,0,0,0,0,0,0,0,0,0]
[{"$nulls":4},{"$f":"(D873*$C$20)+D873","v":0},0,0,0,0,0,0,0,0,0,0,0,0,0,0,0,0,0,0,0,0,0,0,0,0,0,0,0,0,0]
[{"$nulls":4},{"$f":"(D874*$C$20)+D874","v":0},0,0,0,0,0,0,0,0,0,0,0,0,0,0,0,0,0,0,0,0,0,0,0,0,0,0,0,0,0]
[{"$nulls":4},{"$f":"(D875*$C$20)+D875","v":0},0,0,0,0,0,0,0,0,0,0,0,0,0,0,0,0,0,0,0,0,0,0,0,0,0,0,0,0,0]
[{"$nulls":4},{"$f":"(D876*$C$20)+D876","v":0},0,0,0,0,0,0,0,0,0,0,0,0,0,0,0,0,0,0,0,0,0,0,0,0,0,0,0,0,0]
[{"$nulls":4},{"$f":"(D877*$C$20)+D877","v":0},0,0,0,0,0,0,0,0,0,0,0,0,0,0,0,0,0,0,0,0,0,0,0,0,0,0,0,0,0]
[{"$nulls":4},{"$f":"(D878*$C$20)+D878","v":0},0,0,0,0,0,0,0,0,0,0,0,0,0,0,0,0,0,0,0,0,0,0,0,0,0,0,0,0,0]
[{"$nulls":4},{"$f":"(D879*$C$20)+D879","v":0},0,0,0,0,0,0,0,0,0,0,0,0,0,0,0,0,0,0,0,0,0,0,0,0,0,0,0,0,0]
[{"$nulls":4},{"$f":"(D880*$C$20)+D880","v":0},0,0,0,0,0,0,0,0,0,0,0,0,0,0,0,0,0,0,0,0,0,0,0,0,0,0,0,0,0]
[{"$nulls":4},{"$f":"(D881*$C$20)+D881","v":0},0,0,0,0,0,0,0,0,0,0,0,0,0,0,0,0,0,0,0,0,0,0,0,0,0,0,0,0,0]
[{"$nulls":4},{"$f":"(D882*$C$20)+D882","v":0},0,0,0,0,0,0,0,0,0,0,0,0,0,0,0,0,0,0,0,0,0,0,0,0,0,0,0,0,0]
[{"$nulls":4},{"$f":"(D883*$C$20)+D883","v":0},0,0,0,0,0,0,0,0,0,0,0,0,0,0,0,0,0,0,0,0,0,0,0,0,0,0,0,0,0]
[{"$nulls":4},{"$f":"(D884*$C$20)+D884","v":0},0,0,0,0,0,0,0,0,0,0,0,0,0,0,0,0,0,0,0,0,0,0,0,0,0,0,0,0,0]
[{"$nulls":4},{"$f":"(D885*$C$20)+D885","v":0},0,0,0,0,0,0,0,0,0,0,0,0,0,0,0,0,0,0,0,0,0,0,0,0,0,0,0,0,0]
[{"$nulls":4},{"$f":"(D886*$C$20)+D886","v":0},0,0,0,0,0,0,0,0,0,0,0,0,0,0,0,0,0,0,0,0,0,0,0,0,0,0,0,0,0]
[{"$nulls":4},{"$f":"(D887*$C$20)+D887","v":0},0,0,0,0,0,0,0,0,0,0,0,0,0,0,0,0,0,0,0,0,0,0,0,0,0,0,0,0,0]
[{"$nulls":4},{"$f":"(D888*$C$20)+D888","v":0},0,0,0,0,0,0,0,0,0,0,0,0,0,0,0,0,0,0,0,0,0,0,0,0,0,0,0,0,0]
[{"$nulls":4},{"$f":"(D889*$C$20)+D889","v":0},0,0,0,0,0,0,0,0,0,0,0,0,0,0,0,0,0,0,0,0,0,0,0,0,0,0,0,0,0]
[{"$nulls":4},{"$f":"(D890*$C$20)+D890","v":0},0,0,0,0,0,0,0,0,0,0,0,0,0,0,0,0,0,0,0,0,0,0,0,0,0,0,0,0,0]
[{"$nulls":4},{"$f":"(D891*$C$20)+D891","v":0},0,0,0,0,0,0,0,0,0,0,0,0,0,0,0,0,0,0,0,0,0,0,0,0,0,0,0,0,0]
[{"$nulls":4},{"$f":"(D892*$C$20)+D892","v":0},0,0,0,0,0,0,0,0,0,0,0,0,0,0,0,0,0,0,0,0,0,0,0,0,0,0,0,0,0]
[{"$nulls":4},{"$f":"(D893*$C$20)+D893","v":0},0,0,0,0,0,0,0,0,0,0,0,0,0,0,0,0,0,0,0,0,0,0,0,0,0,0,0,0,0]
[{"$nulls":4},{"$f":"(D894*$C$20)+D894","v":0},0,0,0,0,0,0,0,0,0,0,0,0,0,0,0,0,0,0,0,0,0,0,0,0,0,0,0,0,0]
[{"$nulls":4},{"$f":"(D895*$C$20)+D895","v":0},0,0,0,0,0,0,0,0,0,0,0,0,0,0,0,0,0,0,0,0,0,0,0,0,0,0,0,0,0]
[{"$nulls":4},{"$f":"(D896*$C$20)+D896","v":0},0,0,0,0,0,0,0,0,0,0,0,0,0,0,0,0,0,0,0,0,0,0,0,0,0,0,0,0,0]
[{"$nulls":4},{"$f":"(D897*$C$20)+D897","v":0},0,0,0,0,0,0,0,0,0,0,0,0,0,0,0,0,0,0,0,0,0,0,0,0,0,0,0,0,0]
[{"$nulls":4},{"$f":"(D898*$C$20)+D898","v":0},0,0,0,0,0,0,0,0,0,0,0,0,0,0,0,0,0,0,0,0,0,0,0,0,0,0,0,0,0]
[{"$nulls":4},{"$f":"(D899*$C$20)+D899","v":0},0,0,0,0,0,0,0,0,0,0,0,0,0,0,0,0,0,0,0,0,0,0,0,0,0,0,0,0,0]
[{"$nulls":4},{"$f":"(D900*$C$20)+D900","v":0},0,0,0,0,0,0,0,0,0,0,0,0,0,0,0,0,0,0,0,0,0,0,0,0,0,0,0,0,0]
[{"$nulls":4},{"$f":"(D901*$C$20)+D901","v":0},0,0,0,0,0,0,0,0,0,0,0,0,0,0,0,0,0,0,0,0,0,0,0,0,0,0,0,0,0]
[{"$nulls":4},{"$f":"(D902*$C$20)+D902","v":0},0,0,0,0,0,0,0,0,0,0,0,0,0,0,0,0,0,0,0,0,0,0,0,0,0,0,0,0,0]
[{"$nulls":4},{"$f":"(D903*$C$20)+D903","v":0},0,0,0,0,0,0,0,0,0,0,0,0,0,0,0,0,0,0,0,0,0,0,0,0,0,0,0,0,0]
[{"$nulls":4},{"$f":"(D904*$C$20)+D904","v":0},0,0,0,0,0,0,0,0,0,0,0,0,0,0,0,0,0,0,0,0,0,0,0,0,0,0,0,0,0]
[{"$nulls":4},{"$f":"(D905*$C$20)+D905","v":0},0,0,0,0,0,0,0,0,0,0,0,0,0,0,0,0,0,0,0,0,0,0,0,0,0,0,0,0,0]
[{"$nulls":4},{"$f":"(D906*$C$20)+D906","v":0},0,0,0,0,0,0,0,0,0,0,0,0,0,0,0,0,0,0,0,0,0,0,0,0,0,0,0,0,0]
[{"$nulls":4},{"$f":"(D907*$C$20)+D907","v":0},0,0,0,0,0,0,0,0,0,0,0,0,0,0,0,0,0,0,0,0,0,0,0,0,0,0,0,0,0]
[{"$nulls":4},{"$f":"(D908*$C$20)+D908","v":0},0,0,0,0,0,0,0,0,0,0,0,0,0,0,0,0,0,0,0,0,0,0,0,0,0,0,0,0,0]
[{"$nulls":4},{"$f":"(D909*$C$20)+D909","v":0},0,0,0,0,0,0,0,0,0,0,0,0,0,0,0,0,0,0,0,0,0,0,0,0,0,0,0,0,0]
[{"$nulls":4},{"$f":"(D910*$C$20)+D910","v":0},0,0,0,0,0,0,0,0,0,0,0,0,0,0,0,0,0,0,0,0,0,0,0,0,0,0,0,0,0]
[{"$nulls":4},{"$f":"(D911*$C$20)+D911","v":0},0,0,0,0,0,0,0,0,0,0,0,0,0,0,0,0,0,0,0,0,0,0,0,0,0,0,0,0,0]
[{"$nulls":4},{"$f":"(D912*$C$20)+D912","v":0},0,0,0,0,0,0,0,0,0,0,0,0,0,0,0,0,0,0,0,0,0,0,0,0,0,0,0,0,0]
[{"$nulls":4},{"$f":"(D913*$C$20)+D913","v":0},0,0,0,0,0,0,0,0,0,0,0,0,0,0,0,0,0,0,0,0,0,0,0,0,0,0,0,0,0]
[{"$nulls":4},{"$f":"(D914*$C$20)+D914","v":0},0,0,0,0,0,0,0,0,0,0,0,0,0,0,0,0,0,0,0,0,0,0,0,0,0,0,0,0,0]
[{"$nulls":4},{"$f":"(D915*$C$20)+D915","v":0},0,0,0,0,0,0,0,0,0,0,0,0,0,0,0,0,0,0,0,0,0,0,0,0,0,0,0,0,0]
[{"$nulls":4},{"$f":"(D916*$C$20)+D916","v":0},0,0,0,0,0,0,0,0,0,0,0,0,0,0,0,0,0,0,0,0,0,0,0,0,0,0,0,0,0]
[{"$nulls":4},{"$f":"(D917*$C$20)+D917","v":0},0,0,0,0,0,0,0,0,0,0,0,0,0,0,0,0,0,0,0,0,0,0,0,0,0,0,0,0,0]
[{"$nulls":4},{"$f":"(D918*$C$20)+D918","v":0},0,0,0,0,0,0,0,0,0,0,0,0,0,0,0,0,0,0,0,0,0,0,0,0,0,0,0,0,0]
[{"$nulls":4},{"$f":"(D919*$C$20)+D919","v":0},0,0,0,0,0,0,0,0,0,0,0,0,0,0,0,0,0,0,0,0,0,0,0,0,0,0,0,0,0]
[{"$nulls":4},{"$f":"(D920*$C$20)+D920","v":0},0,0,0,0,0,0,0,0,0,0,0,0,0,0,0,0,0,0,0,0,0,0,0,0,0,0,0,0,0]
[{"$nulls":4},{"$f":"(D921*$C$20)+D921","v":0},0,0,0,0,0,0,0,0,0,0,0,0,0,0,0,0,0,0,0,0,0,0,0,0,0,0,0,0,0]
[{"$nulls":4},{"$f":"(D922*$C$20)+D922","v":0},0,0,0,0,0,0,0,0,0,0,0,0,0,0,0,0,0,0,0,0,0,0,0,0,0,0,0,0,0]
[{"$nulls":4},{"$f":"(D923*$C$20)+D923","v":0},0,0,0,0,0,0,0,0,0,0,0,0,0,0,0,0,0,0,0,0,0,0,0,0,0,0,0,0,0]
[{"$nulls":4},{"$f":"(D924*$C$20)+D924","v":0},0,0,0,0,0,0,0,0,0,0,0,0,0,0,0,0,0,0,0,0,0,0,0,0,0,0,0,0,0]
[{"$nulls":4},{"$f":"(D925*$C$20)+D925","v":0},0,0,0,0,0,0,0,0,0,0,0,0,0,0,0,0,0,0,0,0,0,0,0,0,0,0,0,0,0]
[{"$nulls":4},{"$f":"(D926*$C$20)+D926","v":0},0,0,0,0,0,0,0,0,0,0,0,0,0,0,0,0,0,0,0,0,0,0,0,0,0,0,0,0,0]
[{"$nulls":4},{"$f":"(D927*$C$20)+D927","v":0},0,0,0,0,0,0,0,0,0,0,0,0,0,0,0,0,0,0,0,0,0,0,0,0,0,0,0,0,0]
[{"$nulls":4},{"$f":"(D928*$C$20)+D928","v":0},0,0,0,0,0,0,0,0,0,0,0,0,0,0,0,0,0,0,0,0,0,0,0,0,0,0,0,0,0]
[{"$nulls":4},{"$f":"(D929*$C$20)+D929","v":0},0,0,0,0,0,0,0,0,0,0,0,0,0,0,0,0,0,0,0,0,0,0,0,0,0,0,0,0,0]
[{"$nulls":4},{"$f":"(D930*$C$20)+D930","v":0},0,0,0,0,0,0,0,0,0,0,0,0,0,0,0,0,0,0,0,0,0,0,0,0,0,0,0,0,0]
[{"$nulls":4},{"$f":"(D931*$C$20)+D931","v":0},0,0,0,0,0,0,0,0,0,0,0,0,0,0,0,0,0,0,0,0,0,0,0,0,0,0,0,0,0]
[{"$nulls":4},{"$f":"(D932*$C$20)+D932","v":0},0,0,0,0,0,0,0,0,0,0,0,0,0,0,0,0,0,0,0,0,0,0,0,0,0,0,0,0,0]
[{"$nulls":4},{"$f":"(D933*$C$20)+D933","v":0},0,0,0,0,0,0,0,0,0,0,0,0,0,0,0,0,0,0,0,0,0,0,0,0,0,0,0,0,0]
[{"$nulls":4},{"$f":"(D934*$C$20)+D934","v":0},0,0,0,0,0,0,0,0,0,0,0,0,0,0,0,0,0,0,0,0,0,0,0,0,0,0,0,0,0]
[{"$nulls":4},{"$f":"(D935*$C$20)+D935","v":0},0,0,0,0,0,0,0,0,0,0,0,0,0,0,0,0,0,0,0,0,0,0,0,0,0,0,0,0,0]
[{"$nulls":4},{"$f":"(D936*$C$20)+D936","v":0},0,0,0,0,0,0,0,0,0,0,0,0,0,0,0,0,0,0,0,0,0,0,0,0,0,0,0,0,0]
[{"$nulls":4},{"$f":"(D937*$C$20)+D937","v":0},0,0,0,0,0,0,0,0,0,0,0,0,0,0,0,0,0,0,0,0,0,0,0,0,0,0,0,0,0]
[{"$nulls":4},{"$f":"(D938*$C$20)+D938","v":0},0,0,0,0,0,0,0,0,0,0,0,0,0,0,0,0,0,0,0,0,0,0,0,0,0,0,0,0,0]
[{"$nulls":4},{"$f":"(D939*$C$20)+D939","v":0},0,0,0,0,0,0,0,0,0,0,0,0,0,0,0,0,0,0,0,0,0,0,0,0,0,0,0,0,0]
[{"$nulls":4},{"$f":"(D940*$C$20)+D940","v":0},0,0,0,0,0,0,0,0,0,0,0,0,0,0,0,0,0,0,0,0,0,0,0,0,0,0,0,0,0]
[{"$nulls":4},{"$f":"(D941*$C$20)+D941","v":0},0,0,0,0,0,0,0,0,0,0,0,0,0,0,0,0,0,0,0,0,0,0,0,0,0,0,0,0,0]
[{"$nulls":4},{"$f":"(D942*$C$20)+D942","v":0},0,0,0,0,0,0,0,0,0,0,0,0,0,0,0,0,0,0,0,0,0,0,0,0,0,0,0,0,0]
[{"$nulls":4},{"$f":"(D943*$C$20)+D943","v":0},0,0,0,0,0,0,0,0,0,0,0,0,0,0,0,0,0,0,0,0,0,0,0,0,0,0,0,0,0]
[{"$nulls":4},{"$f":"(D944*$C$20)+D944","v":0},0,0,0,0,0,0,0,0,0,0,0,0,0,0,0,0,0,0,0,0,0,0,0,0,0,0,0,0,0]
[{"$nulls":4},{"$f":"(D945*$C$20)+D945","v":0},0,0,0,0,0,0,0,0,0,0,0,0,0,0,0,0,0,0,0,0,0,0,0,0,0,0,0,0,0]
[{"$nulls":4},{"$f":"(D946*$C$20)+D946","v":0},0,0,0,0,0,0,0,0,0,0,0,0,0,0,0,0,0,0,0,0,0,0,0,0,0,0,0,0,0]
[{"$nulls":4},{"$f":"(D947*$C$20)+D947","v":0},0,0,0,0,0,0,0,0,0,0,0,0,0,0,0,0,0,0,0,0,0,0,0,0,0,0,0,0,0]
[{"$nulls":4},{"$f":"(D948*$C$20)+D948","v":0},0,0,0,0,0,0,0,0,0,0,0,0,0,0,0,0,0,0,0,0,0,0,0,0,0,0,0,0,0]
[{"$nulls":4},{"$f":"(D949*$C$20)+D949","v":0},0,0,0,0,0,0,0,0,0,0,0,0,0,0,0,0,0,0,0,0,0,0,0,0,0,0,0,0,0]
[{"$nulls":4},{"$f":"(D950*$C$20)+D950","v":0},0,0,0,0,0,0,0,0,0,0,0,0,0,0,0,0,0,0,0,0,0,0,0,0,0,0,0,0,0]
[{"$nulls":4},{"$f":"(D951*$C$20)+D951","v":0},0,0,0,0,0,0,0,0,0,0,0,0,0,0,0,0,0,0,0,0,0,0,0,0,0,0,0,0,0]
[{"$nulls":4},{"$f":"(D952*$C$20)+D952","v":0},0,0,0,0,0,0,0,0,0,0,0,0,0,0,0,0,0,0,0,0,0,0,0,0,0,0,0,0,0]
[{"$nulls":4},{"$f":"(D953*$C$20)+D953","v":0},0,0,0,0,0,0,0,0,0,0,0,0,0,0,0,0,0,0,0,0,0,0,0,0,0,0,0,0,0]
[{"$nulls":4},{"$f":"(D954*$C$20)+D954","v":0},0,0,0,0,0,0,0,0,0,0,0,0,0,0,0,0,0,0,0,0,0,0,0,0,0,0,0,0,0]
[{"$nulls":4},{"$f":"(D955*$C$20)+D955","v":0},0,0,0,0,0,0,0,0,0,0,0,0,0,0,0,0,0,0,0,0,0,0,0,0,0,0,0,0,0]
[{"$nulls":4},{"$f":"(D956*$C$20)+D956","v":0},0,0,0,0,0,0,0,0,0,0,0,0,0,0,0,0,0,0,0,0,0,0,0,0,0,0,0,0,0]
[{"$nulls":4},{"$f":"(D957*$C$20)+D957","v":0},0,0,0,0,0,0,0,0,0,0,0,0,0,0,0,0,0,0,0,0,0,0,0,0,0,0,0,0,0]
[{"$nulls":4},{"$f":"(D958*$C$20)+D958","v":0},0,0,0,0,0,0,0,0,0,0,0,0,0,0,0,0,0,0,0,0,0,0,0,0,0,0,0,0,0]
[{"$nulls":4},{"$f":"(D959*$C$20)+D959","v":0},0,0,0,0,0,0,0,0,0,0,0,0,0,0,0,0,0,0,0,0,0,0,0,0,0,0,0,0,0]
[{"$nulls":4},{"$f":"(D960*$C$20)+D960","v":0},0,0,0,0,0,0,0,0,0,0,0,0,0,0,0,0,0,0,0,0,0,0,0,0,0,0,0,0,0]
[{"$nulls":4},{"$f":"(D961*$C$20)+D961","v":0},0,0,0,0,0,0,0,0,0,0,0,0,0,0,0,0,0,0,0,0,0,0,0,0,0,0,0,0,0]
[{"$nulls":4},{"$f":"(D962*$C$20)+D962","v":0},0,0,0,0,0,0,0,0,0,0,0,0,0,0,0,0,0,0,0,0,0,0,0,0,0,0,0,0,0]
[{"$nulls":4},{"$f":"(D963*$C$20)+D963","v":0},0,0,0,0,0,0,0,0,0,0,0,0,0,0,0,0,0,0,0,0,0,0,0,0,0,0,0,0,0]
[{"$nulls":4},{"$f":"(D964*$C$20)+D964","v":0},0,0,0,0,0,0,0,0,0,0,0,0,0,0,0,0,0,0,0,0,0,0,0,0,0,0,0,0,0]
[{"$nulls":4},{"$f":"(D965*$C$20)+D965","v":0},0,0,0,0,0,0,0,0,0,0,0,0,0,0,0,0,0,0,0,0,0,0,0,0,0,0,0,0,0]
[{"$nulls":4},{"$f":"(D966*$C$20)+D966","v":0},0,0,0,0,0,0,0,0,0,0,0,0,0,0,0,0,0,0,0,0,0,0,0,0,0,0,0,0,0]
[{"$nulls":4},{"$f":"(D967*$C$20)+D967","v":0},0,0,0,0,0,0,0,0,0,0,0,0,0,0,0,0,0,0,0,0,0,0,0,0,0,0,0,0,0]
[{"$nulls":4},{"$f":"(D968*$C$20)+D968","v":0},0,0,0,0,0,0,0,0,0,0,0,0,0,0,0,0,0,0,0,0,0,0,0,0,0,0,0,0,0]
[{"$nulls":4},{"$f":"(D969*$C$20)+D969","v":0},0,0,0,0,0,0,0,0,0,0,0,0,0,0,0,0,0,0,0,0,0,0,0,0,0,0,0,0,0]
[{"$nulls":4},{"$f":"(D970*$C$20)+D970","v":0},0,0,0,0,0,0,0,0,0,0,0,0,0,0,0,0,0,0,0,0,0,0,0,0,0,0,0,0,0]
[{"$nulls":4},{"$f":"(D971*$C$20)+D971","v":0},0,0,0,0,0,0,0,0,0,0,0,0,0,0,0,0,0,0,0,0,0,0,0,0,0,0,0,0,0]
[{"$nulls":4},{"$f":"(D972*$C$20)+D972","v":0},0,0,0,0,0,0,0,0,0,0,0,0,0,0,0,0,0,0,0,0,0,0,0,0,0,0,0,0,0]
[{"$nulls":4},{"$f":"(D973*$C$20)+D973","v":0},0,0,0,0,0,0,0,0,0,0,0,0,0,0,0,0,0,0,0,0,0,0,0,0,0,0,0,0,0]
[{"$nulls":4},{"$f":"(D974*$C$20)+D974","v":0},0,0,0,0,0,0,0,0,0,0,0,0,0,0,0,0,0,0,0,0,0,0,0,0,0,0,0,0,0]
[{"$nulls":4},{"$f":"(D975*$C$20)+D975","v":0},0,0,0,0,0,0,0,0,0,0,0,0,0,0,0,0,0,0,0,0,0,0,0,0,0,0,0,0,0]
[{"$nulls":4},{"$f":"(D976*$C$20)+D976","v":0},0,0,0,0,0,0,0,0,0,0,0,0,0,0,0,0,0,0,0,0,0,0,0,0,0,0,0,0,0]
[{"$nulls":4},{"$f":"(D977*$C$20)+D977","v":0},0,0,0,0,0,0,0,0,0,0,0,0,0,0,0,0,0,0,0,0,0,0,0,0,0,0,0,0,0]
[{"$nulls":4},{"$f":"(D978*$C$20)+D978","v":0},0,0,0,0,0,0,0,0,0,0,0,0,0,0,0,0,0,0,0,0,0,0,0,0,0,0,0,0,0]
[{"$nulls":4},{"$f":"(D979*$C$20)+D979","v":0},0,0,0,0,0,0,0,0,0,0,0,0,0,0,0,0,0,0,0,0,0,0,0,0,0,0,0,0,0]
[{"$nulls":4},{"$f":"(D980*$C$20)+D980","v":0},0,0,0,0,0,0,0,0,0,0,0,0,0,0,0,0,0,0,0,0,0,0,0,0,0,0,0,0,0]
[{"$nulls":4},{"$f":"(D981*$C$20)+D981","v":0},0,0,0,0,0,0,0,0,0,0,0,0,0,0,0,0,0,0,0,0,0,0,0,0,0,0,0,0,0]
[{"$nulls":4},{"$f":"(D982*$C$20)+D982","v":0},0,0,0,0,0,0,0,0,0,0,0,0,0,0,0,0,0,0,0,0,0,0,0,0,0,0,0,0,0]
[{"$nulls":4},{"$f":"(D983*$C$20)+D983","v":0},0,0,0,0,0,0,0,0,0,0,0,0,0,0,0,0,0,0,0,0,0,0,0,0,0,0,0,0,0]
[{"$nulls":4},{"$f":"(D984*$C$20)+D984","v":0},0,0,0,0,0,0,0,0,0,0,0,0,0,0,0,0,0,0,0,0,0,0,0,0,0,0,0,0,0]
[{"$nulls":4},{"$f":"(D985*$C$20)+D985","v":0},0,0,0,0,0,0,0,0,0,0,0,0,0,0,0,0,0,0,0,0,0,0,0,0,0,0,0,0,0]
[{"$nulls":4},{"$f":"(D986*$C$20)+D986","v":0},0,0,0,0,0,0,0,0,0,0,0,0,0,0,0,0,0,0,0,0,0,0,0,0,0,0,0,0,0]
[{"$nulls":4},{"$f":"(D987*$C$20)+D987","v":0},0,0,0,0,0,0,0,0,0,0,0,0,0,0,0,0,0,0,0,0,0,0,0,0,0,0,0,0,0]
[{"$nulls":4},{"$f":"(D988*$C$20)+D988","v":0},0,0,0,0,0,0,0,0,0,0,0,0,0,0,0,0,0,0,0,0,0,0,0,0,0,0,0,0,0]
[{"$nulls":4},{"$f":"(D989*$C$20)+D989","v":0},0,0,0,0,0,0,0,0,0,0,0,0,0,0,0,0,0,0,0,0,0,0,0,0,0,0,0,0,0]
[{"$nulls":4},{"$f":"(D990*$C$20)+D990","v":0},0,0,0,0,0,0,0,0,0,0,0,0,0,0,0,0,0,0,0,0,0,0,0,0,0,0,0,0,0]
[{"$nulls":4},{"$f":"(D991*$C$20)+D991","v":0},0,0,0,0,0,0,0,0,0,0,0,0,0,0,0,0,0,0,0,0,0,0,0,0,0,0,0,0,0]
[{"$nulls":4},{"$f":"(D992*$C$20)+D992","v":0},0,0,0,0,0,0,0,0,0,0,0,0,0,0,0,0,0,0,0,0,0,0,0,0,0,0,0,0,0]
[{"$nulls":4},{"$f":"(D993*$C$20)+D993","v":0},0,0,0,0,0,0,0,0,0,0,0,0,0,0,0,0,0,0,0,0,0,0,0,0,0,0,0,0,0]
[{"$nulls":4},{"$f":"(D994*$C$20)+D994","v":0},0,0,0,0,0,0,0,0,0,0,0,0,0,0,0,0,0,0,0,0,0,0,0,0,0,0,0,0,0]
[{"$nulls":4},{"$f":"(D995*$C$20)+D995","v":0},0,0,0,0,0,0,0,0,0,0,0,0,0,0,0,0,0,0,0,0,0,0,0,0,0,0,0,0,0]
[{"$nulls":4},{"$f":"(D996*$C$20)+D996","v":0},0,0,0,0,0,0,0,0,0,0,0,0,0,0,0,0,0,0,0,0,0,0,0,0,0,0,0,0,0]
[{"$nulls":4},{"$f":"(D997*$C$20)+D997","v":0},0,0,0,0,0,0,0,0,0,0,0,0,0,0,0,0,0,0,0,0,0,0,0,0,0,0,0,0,0]
[{"$nulls":4},{"$f":"(D998*$C$20)+D998","v":0},0,0,0,0,0,0,0,0,0,0,0,0,0,0,0,0,0,0,0,0,0,0,0,0,0,0,0,0,0]
[{"$nulls":4},{"$f":"(D999*$C$20)+D999","v":0},0,0,0,0,0,0,0,0,0,0,0,0,0,0,0,0,0,0,0,0,0,0,0,0,0,0,0,0,0]
[{"$nulls":4},{"$f":"(D1000*$C$20)+D1000","v":0},0,0,0,0,0,0,0,0,0,0,0,0,0,0,0,0,0,0,0,0,0,0,0,0,0,0,0,0,0]
[{"$nulls":4},{"$f":"(D1001*$C$20)+D1001","v":0},0,0,0,0,0,0,0,0,0,0,0,0,0,0,0,0,0,0,0,0,0,0,0,0,0,0,0,0,0]
[{"$nulls":4},{"$f":"(D1002*$C$20)+D1002","v":0},0,0,0,0,0,0,0,0,0,0,0,0,0,0,0,0,0,0,0,0,0,0,0,0,0,0,0,0,0]
[{"$nulls":4},{"$f":"(D1003*$C$20)+D1003","v":0},0,0,0,0,0,0,0,0,0,0,0,0,0,0,0,0,0,0,0,0,0,0,0,0,0,0,0,0,0]
[{"$nulls":4},{"$f":"(D1004*$C$20)+D1004","v":0},0,0,0,0,0,0,0,0,0,0,0,0,0,0,0,0,0,0,0,0,0,0,0,0,0,0,0,0,0]
[{"$nulls":4},{"$f":"(D1005*$C$20)+D1005","v":0},0,0,0,0,0,0,0,0,0,0,0,0,0,0,0,0,0,0,0,0,0,0,0,0,0,0,0,0,0]
[{"$nulls":4},{"$f":"(D1006*$C$20)+D1006","v":0},0,0,0,0,0,0,0,0,0,0,0,0,0,0,0,0,0,0,0,0,0,0,0,0,0,0,0,0,0]
[{"$nulls":4},{"$f":"(D1007*$C$20)+D1007","v":0},0,0,0,0,0,0,0,0,0,0,0,0,0,0,0,0,0,0,0,0,0,0,0,0,0,0,0,0,0]
[{"$nulls":4},{"$f":"(D1008*$C$20)+D1008","v":0},0,0,0,0,0,0,0,0,0,0,0,0,0,0,0,0,0,0,0,0,0,0,0,0,0,0,0,0,0]
[{"$nulls":4},{"$f":"(D1009*$C$20)+D1009","v":0},0,0,0,0,0,0,0,0,0,0,0,0,0,0,0,0,0,0,0,0,0,0,0,0,0,0,0,0,0]
[{"$nulls":4},{"$f":"(D1010*$C$20)+D1010","v":0},0,0,0,0,0,0,0,0,0,0,0,0,0,0,0,0,0,0,0,0,0,0,0,0,0,0,0,0,0]
[{"$nulls":4},{"$f":"(D1011*$C$20)+D1011","v":0},0,0,0,0,0,0,0,0,0,0,0,0,0,0,0,0,0,0,0,0,0,0,0,0,0,0,0,0,0]
[{"$nulls":4},{"$f":"(D1012*$C$20)+D1012","v":0},0,0,0,0,0,0,0,0,0,0,0,0,0,0,0,0,0,0,0,0,0,0,0,0,0,0,0,0,0]
[{"$nulls":4},{"$f":"(D1013*$C$20)+D1013","v":0},0,0,0,0,0,0,0,0,0,0,0,0,0,0,0,0,0,0,0,0,0,0,0,0,0,0,0,0,0]
[{"$nulls":4},{"$f":"(D1014*$C$20)+D1014","v":0},0,0,0,0,0,0,0,0,0,0,0,0,0,0,0,0,0,0,0,0,0,0,0,0,0,0,0,0,0]
[{"$nulls":4},{"$f":"(D1015*$C$20)+D1015","v":0},0,0,0,0,0,0,0,0,0,0,0,0,0,0,0,0,0,0,0,0,0,0,0,0,0,0,0,0,0]
[{"$nulls":4},{"$f":"(D1016*$C$20)+D1016","v":0},0,0,0,0,0,0,0,0,0,0,0,0,0,0,0,0,0,0,0,0,0,0,0,0,0,0,0,0,0]
[{"$nulls":4},{"$f":"(D1017*$C$20)+D1017","v":0},0,0,0,0,0,0,0,0,0,0,0,0,0,0,0,0,0,0,0,0,0,0,0,0,0,0,0,0,0]
[{"$nulls":4},{"$f":"(D1018*$C$20)+D1018","v":0},0,0,0,0,0,0,0,0,0,0,0,0,0,0,0,0,0,0,0,0,0,0,0,0,0,0,0,0,0]
[{"$nulls":4},{"$f":"(D1019*$C$20)+D1019","v":0},0,0,0,0,0,0,0,0,0,0,0,0,0,0,0,0,0,0,0,0,0,0,0,0,0,0,0,0,0]
[{"$nulls":4},{"$f":"(D1020*$C$20)+D1020","v":0},0,0,0,0,0,0,0,0,0,0,0,0,0,0,0,0,0,0,0,0,0,0,0,0,0,0,0,0,0]
[{"$nulls":4},{"$f":"(D1021*$C$20)+D1021","v":0},0,0,0,0,0,0,0,0,0,0,0,0,0,0,0,0,0,0,0,0,0,0,0,0,0,0,0,0,0]
[{"$nulls":4},{"$f":"(D1022*$C$20)+D1022","v":0},0,0,0,0,0,0,0,0,0,0,0,0,0,0,0,0,0,0,0,0,0,0,0,0,0,0,0,0,0]
[{"$nulls":4},{"$f":"(D1023*$C$20)+D1023","v":0},0,0,0,0,0,0,0,0,0,0,0,0,0,0,0,0,0,0,0,0,0,0,0,0,0,0,0,0,0]
[{"$nulls":4},{"$f":"(D1024*$C$20)+D1024","v":0},0,0,0,0,0,0,0,0,0,0,0,0,0,0,0,0,0,0,0,0,0,0,0,0,0,0,0,0,0]
[{"$nulls":4},{"$f":"(D1025*$C$20)+D1025","v":0},0,0,0,0,0,0,0,0,0,0,0,0,0,0,0,0,0,0,0,0,0,0,0,0,0,0,0,0,0]
[{"$nulls":4},{"$f":"(D1026*$C$20)+D1026","v":0},0,0,0,0,0,0,0,0,0,0,0,0,0,0,0,0,0,0,0,0,0,0,0,0,0,0,0,0,0]
[{"$nulls":4},{"$f":"(D1027*$C$20)+D1027","v":0},0,0,0,0,0,0,0,0,0,0,0,0,0,0,0,0,0,0,0,0,0,0,0,0,0,0,0,0,0]
[{"$nulls":4},{"$f":"(D1028*$C$20)+D1028","v":0},0,0,0,0,0,0,0,0,0,0,0,0,0,0,0,0,0,0,0,0,0,0,0,0,0,0,0,0,0]
[{"$nulls":4},{"$f":"(D1029*$C$20)+D1029","v":0},0,0,0,0,0,0,0,0,0,0,0,0,0,0,0,0,0,0,0,0,0,0,0,0,0,0,0,0,0]
[{"$nulls":4},{"$f":"(D1030*$C$20)+D1030","v":0},0,0,0,0,0,0,0,0,0,0,0,0,0,0,0,0,0,0,0,0,0,0,0,0,0,0,0,0,0]
[{"$nulls":4},{"$f":"(D1031*$C$20)+D1031","v":0},0,0,0,0,0,0,0,0,0,0,0,0,0,0,0,0,0,0,0,0,0,0,0,0,0,0,0,0,0]
[{"$nulls":4},{"$f":"(D1032*$C$20)+D1032","v":0},0,0,0,0,0,0,0,0,0,0,0,0,0,0,0,0,0,0,0,0,0,0,0,0,0,0,0,0,0]
[{"$nulls":4},{"$f":"(D1033*$C$20)+D1033","v":0},0,0,0,0,0,0,0,0,0,0,0,0,0,0,0,0,0,0,0,0,0,0,0,0,0,0,0,0,0]
[{"$nulls":4},{"$f":"(D1034*$C$20)+D1034","v":0},0,0,0,0,0,0,0,0,0,0,0,0,0,0,0,0,0,0,0,0,0,0,0,0,0,0,0,0,0]
[{"$nulls":4},{"$f":"(D1035*$C$20)+D1035","v":0},0,0,0,0,0,0,0,0,0,0,0,0,0,0,0,0,0,0,0,0,0,0,0,0,0,0,0,0,0]
[{"$nulls":4},{"$f":"(D1036*$C$20)+D1036","v":0},0,0,0,0,0,0,0,0,0,0,0,0,0,0,0,0,0,0,0,0,0,0,0,0,0,0,0,0,0]
[{"$nulls":4},{"$f":"(D1037*$C$20)+D1037","v":0},0,0,0,0,0,0,0,0,0,0,0,0,0,0,0,0,0,0,0,0,0,0,0,0,0,0,0,0,0]
[{"$nulls":4},{"$f":"(D1038*$C$20)+D1038","v":0},0,0,0,0,0,0,0,0,0,0,0,0,0,0,0,0,0,0,0,0,0,0,0,0,0,0,0,0,0]
[{"$nulls":4},{"$f":"(D1039*$C$20)+D1039","v":0},0,0,0,0,0,0,0,0,0,0,0,0,0,0,0,0,0,0,0,0,0,0,0,0,0,0,0,0,0]
[{"$nulls":4},{"$f":"(D1040*$C$20)+D1040","v":0},0,0,0,0,0,0,0,0,0,0,0,0,0,0,0,0,0,0,0,0,0,0,0,0,0,0,0,0,0]
[{"$nulls":4},{"$f":"(D1041*$C$20)+D1041","v":0},0,0,0,0,0,0,0,0,0,0,0,0,0,0,0,0,0,0,0,0,0,0,0,0,0,0,0,0,0]
[{"$nulls":4},{"$f":"(D1042*$C$20)+D1042","v":0},0,0,0,0,0,0,0,0,0,0,0,0,0,0,0,0,0,0,0,0,0,0,0,0,0,0,0,0,0]
[{"$nulls":4},{"$f":"(D1043*$C$20)+D1043","v":0},0,0,0,0,0,0,0,0,0,0,0,0,0,0,0,0,0,0,0,0,0,0,0,0,0,0,0,0,0]
[{"$nulls":4},{"$f":"(D1044*$C$20)+D1044","v":0},0,0,0,0,0,0,0,0,0,0,0,0,0,0,0,0,0,0,0,0,0,0,0,0,0,0,0,0,0]
[{"$nulls":4},{"$f":"(D1045*$C$20)+D1045","v":0},0,0,0,0,0,0,0,0,0,0,0,0,0,0,0,0,0,0,0,0,0,0,0,0,0,0,0,0,0]
[{"$nulls":4},{"$f":"(D1046*$C$20)+D1046","v":0},0,0,0,0,0,0,0,0,0,0,0,0,0,0,0,0,0,0,0,0,0,0,0,0,0,0,0,0,0]
[{"$nulls":4},{"$f":"(D1047*$C$20)+D1047","v":0},0,0,0,0,0,0,0,0,0,0,0,0,0,0,0,0,0,0,0,0,0,0,0,0,0,0,0,0,0]
[{"$nulls":4},{"$f":"(D1048*$C$20)+D1048","v":0},0,0,0,0,0,0,0,0,0,0,0,0,0,0,0,0,0,0,0,0,0,0,0,0,0,0,0,0,0]
[{"$nulls":4},{"$f":"(D1049*$C$20)+D1049","v":0},0,0,0,0,0,0,0,0,0,0,0,0,0,0,0,0,0,0,0,0,0,0,0,0,0,0,0,0,0]
[{"$nulls":4},{"$f":"(D1050*$C$20)+D1050","v":0},0,0,0,0,0,0,0,0,0,0,0,0,0,0,0,0,0,0,0,0,0,0,0,0,0,0,0,0,0]
[{"$nulls":4},{"$f":"(D1051*$C$20)+D1051","v":0},0,0,0,0,0,0,0,0,0,0,0,0,0,0,0,0,0,0,0,0,0,0,0,0,0,0,0,0,0]
[{"$nulls":4},{"$f":"(D1052*$C$20)+D1052","v":0},0,0,0,0,0,0,0,0,0,0,0,0,0,0,0,0,0,0,0,0,0,0,0,0,0,0,0,0,0]
[{"$nulls":4},{"$f":"(D1053*$C$20)+D1053","v":0},0,0,0,0,0,0,0,0,0,0,0,0,0,0,0,0,0,0,0,0,0,0,0,0,0,0,0,0,0]
[{"$nulls":4},{"$f":"(D1054*$C$20)+D1054","v":0},0,0,0,0,0,0,0,0,0,0,0,0,0,0,0,0,0,0,0,0,0,0,0,0,0,0,0,0,0]
[{"$nulls":4},{"$f":"(D1055*$C$20)+D1055","v":0},0,0,0,0,0,0,0,0,0,0,0,0,0,0,0,0,0,0,0,0,0,0,0,0,0,0,0,0,0]
[{"$nulls":4},{"$f":"(D1056*$C$20)+D1056","v":0},0,0,0,0,0,0,0,0,0,0,0,0,0,0,0,0,0,0,0,0,0,0,0,0,0,0,0,0,0]
[{"$nulls":4},{"$f":"(D1057*$C$20)+D1057","v":0},0,0,0,0,0,0,0,0,0,0,0,0,0,0,0,0,0,0,0,0,0,0,0,0,0,0,0,0,0]
[{"$nulls":4},{"$f":"(D1058*$C$20)+D1058","v":0},0,0,0,0,0,0,0,0,0,0,0,0,0,0,0,0,0,0,0,0,0,0,0,0,0,0,0,0,0]
[{"$nulls":4},{"$f":"(D1059*$C$20)+D1059","v":0},0,0,0,0,0,0,0,0,0,0,0,0,0,0,0,0,0,0,0,0,0,0,0,0,0,0,0,0,0]
[{"$nulls":4},{"$f":"(D1060*$C$20)+D1060","v":0},0,0,0,0,0,0,0,0,0,0,0,0,0,0,0,0,0,0,0,0,0,0,0,0,0,0,0,0,0]
[{"$nulls":4},{"$f":"(D1061*$C$20)+D1061","v":0},0,0,0,0,0,0,0,0,0,0,0,0,0,0,0,0,0,0,0,0,0,0,0,0,0,0,0,0,0]
[{"$nulls":4},{"$f":"(D1062*$C$20)+D1062","v":0},0,0,0,0,0,0,0,0,0,0,0,0,0,0,0,0,0,0,0,0,0,0,0,0,0,0,0,0,0]
[{"$nulls":4},{"$f":"(D1063*$C$20)+D1063","v":0},0,0,0,0,0,0,0,0,0,0,0,0,0,0,0,0,0,0,0,0,0,0,0,0,0,0,0,0,0]
[{"$nulls":4},{"$f":"(D1064*$C$20)+D1064","v":0},0,0,0,0,0,0,0,0,0,0,0,0,0,0,0,0,0,0,0,0,0,0,0,0,0,0,0,0,0]
[{"$nulls":4},{"$f":"(D1065*$C$20)+D1065","v":0},0,0,0,0,0,0,0,0,0,0,0,0,0,0,0,0,0,0,0,0,0,0,0,0,0,0,0,0,0]
[{"$nulls":4},{"$f":"(D1066*$C$20)+D1066","v":0},0,0,0,0,0,0,0,0,0,0,0,0,0,0,0,0,0,0,0,0,0,0,0,0,0,0,0,0,0]
[{"$nulls":4},{"$f":"(D1067*$C$20)+D1067","v":0},0,0,0,0,0,0,0,0,0,0,0,0,0,0,0,0,0,0,0,0,0,0,0,0,0,0,0,0,0]
[{"$nulls":4},{"$f":"(D1068*$C$20)+D1068","v":0},0,0,0,0,0,0,0,0,0,0,0,0,0,0,0,0,0,0,0,0,0,0,0,0,0,0,0,0,0]
[{"$nulls":4},{"$f":"(D1069*$C$20)+D1069","v":0},0,0,0,0,0,0,0,0,0,0,0,0,0,0,0,0,0,0,0,0,0,0,0,0,0,0,0,0,0]
[{"$nulls":4},{"$f":"(D1070*$C$20)+D1070","v":0},0,0,0,0,0,0,0,0,0,0,0,0,0,0,0,0,0,0,0,0,0,0,0,0,0,0,0,0,0]
[{"$nulls":4},{"$f":"(D1071*$C$20)+D1071","v":0},0,0,0,0,0,0,0,0,0,0,0,0,0,0,0,0,0,0,0,0,0,0,0,0,0,0,0,0,0]
[{"$nulls":4},{"$f":"(D1072*$C$20)+D1072","v":0},0,0,0,0,0,0,0,0,0,0,0,0,0,0,0,0,0,0,0,0,0,0,0,0,0,0,0,0,0]
[{"$nulls":4},{"$f":"(D1073*$C$20)+D1073","v":0},0,0,0,0,0,0,0,0,0,0,0,0,0,0,0,0,0,0,0,0,0,0,0,0,0,0,0,0,0]
[{"$nulls":4},{"$f":"(D1074*$C$20)+D1074","v":0},0,0,0,0,0,0,0,0,0,0,0,0,0,0,0,0,0,0,0,0,0,0,0,0,0,0,0,0,0]
[{"$nulls":4},{"$f":"(D1075*$C$20)+D1075","v":0},0,0,0,0,0,0,0,0,0,0,0,0,0,0,0,0,0,0,0,0,0,0,0,0,0,0,0,0,0]
[{"$nulls":4},{"$f":"(D1076*$C$20)+D1076","v":0},0,0,0,0,0,0,0,0,0,0,0,0,0,0,0,0,0,0,0,0,0,0,0,0,0,0,0,0,0]
[{"$nulls":4},{"$f":"(D1077*$C$5)+D1077","v":0},0,0,0,0,0,0,0,0,0,0,0,0,0,0,0,0,0,0,0,0,0,0,0,0,0,0,0,0,0]

{"sheet":"Total Reserve & Operating","index":2,"n_rows":40,"n_cols":34,"rows_kept":40,"merged":[[2,2,2,20]]}
{"$rows_empty":7}
[{"$nulls":19}," "]
{"$rows_empty":28}
[{"$nulls":4},{"$f":"Import!I10","v":2022},{"$f":"Import!J10","v":2023},{"$f":"Import!K10","v":2024},{"$f":"Import!L10","v":2025},{"$f":"Import!M10","v":2026},{"$f":"Import!N10","v":2027},{"$f":"Import!O10","v":2028},{"$f":"Import!P10","v":2029},{"$f":"Import!Q10","v":2030},{"$f":"Import!R10","v":2031},{"$f":"Import!S10","v":2032},{"$f":"Import!T10","v":2033},{"$f":"Import!U10","v":2034},{"$f":"Import!V10","v":2035},{"$f":"Import!W10","v":2036},{"$f":"Import!X10","v":2037},{"$f":"Import!Y10","v":2038},{"$f":"Import!Z10","v":2039},{"$f":"Import!AA10","v":2040},{"$f":"Import!AB10","v":2041},{"$f":"Import!AC10","v":2042},{"$f":"Import!AD10","v":2043},{"$f":"Import!AE10","v":2044},{"$f":"Import!AF10","v":2045},{"$f":"Import!AG10","v":2046},{"$f":"Import!AH10","v":2047},{"$f":"Import!AI10","v":2048},{"$f":"Import!AJ10","v":2049},{"$f":"Import!AK10","v":2050},{"$f":"Import!AL10","v":2051}]
[null,"Annual Projected Reserve Expenditures",null,null,{"$f":"'Reserve Account Scenarios'!E40:AH40","v":{"v":91118,"d":"$91,118"}},{"$f":"'Reserve Account Scenarios'!F40:AI40","v":{"v":1448,"d":"$1,448"}},{"$f":"'Reserve Account Scenarios'!G40:AJ40","v":{"v":3240,"d":"$3,240"}},{"$f":"'Reserve Account Scenarios'!H40:AK40","v":{"v":35737,"d":"$35,737"}},{"$f":"'Reserve Account Scenarios'!I40:AL40","v":{"v":36371,"d":"$36,371"}},{"$f":"'Reserve Account Scenarios'!J40:AM40","v":{"v":143512,"d":"$143,512"}},{"$f":"'Reserve Account Scenarios'!K40:AN40","v":{"v":3242,"d":"$3,242"}},{"$f":"'Reserve Account Scenarios'!L40:AO40","v":{"v":1729,"d":"$1,729"}},{"$f":"'Reserve Account Scenarios'!M40:AP40","v":{"v":23738,"d":"$23,738"}},{"$f":"'Reserve Account Scenarios'!N40:AQ40","v":{"v":3543,"d":"$3,543"}},{"$f":"'Reserve Account Scenarios'!O40:AR40","v":{"v":140460,"d":"$140,460"}},{"$f":"'Reserve Account Scenarios'!P40:AS40","v":{"v":11359,"d":"$11,359"}},{"$f":"'Reserve Account Scenarios'!Q40:AT40","v":{"v":3872,"d":"$3,872"}},{"$f":"'Reserve Account Scenarios'!R40:AU40","v":{"v":2065,"d":"$2,065"}},{"$f":"'Reserve Account Scenarios'!S40:AV40","v":{"v":4620,"d":"$4,620"}},{"$f":"'Reserve Account Scenarios'!T40:AW40","v":{"v":171970,"d":"$171,970"}},{"$f":"'Reserve Account Scenarios'!U40:AX40","v":{"v":2257,"d":"$2,257"}},{"$f":"'Reserve Account Scenarios'!V40:AY40","v":{"v":7886,"d":"$7,886"}},{"$f":"'Reserve Account Scenarios'!W40:AZ40","v":{"v":31973,"d":"$31,973"}},{"$f":"'Reserve Account Scenarios'!X40:BA40","v":{"v":240380,"d":"$240,380"}},{"$f":"'Reserve Account Scenarios'!Y40:BB40","v":{"v":207825,"d":"$207,825"}},{"$f":"'Reserve Account Scenarios'!Z40:BC40","v":{"v":5051,"d":"$5,051"}},{"$f":"'Reserve Account Scenarios'!AA40:BD40","v":{"v":2694,"d":"$2,694"}},{"$f":"'Reserve Account Scenarios'!AB40:BE40","v":{"v":36983,"d":"$36,983"}},{"$f":"'Reserve Account Scenarios'!AC40:BF40","v":{"v":101345,"d":"$101,345"}},{"$f":"'Reserve Account Scenarios'!AD40:BG40","v":{"v":185431,"d":"$185,431"}},{"$f":"'Reserve Account Scenarios'!AE40:BH40","v":{"v":6587,"d":"$6,587"}},{"$f":"'Reserve Account Scenarios'!AF40:BI40","v":{"v":6032,"d":"$6,032"}},{"$f":"'Reserve Account Scenarios'!AG40:BJ40","v":{"v":211194,"d":"$211,194"}},{"$f":"'Reserve Account Scenarios'!AH40:BK40","v":{"v":7198,"d":"$7,198"}}]
[null,"Annual Projected Operating Account Expenditures",null,null,{"$f":"'Operating Account Projections'!E32","v":{"v":0,"d":"$0"}},{"$f":"'Operating Account Projections'!F32","v":{"v":0,"d":"$0"}},{"$f":"'Operating Account Projections'!G32","v":{"v":0,"d":"$0"}},{"$f":"'Operating Account Projections'!H32","v":{"v":0,"d":"$0"}},{"$f":"'Operating Account Projections'!I32","v":{"v":0,"d":"$0"}},{"$f":"'Operating Account Projections'!J32","v":{"v":0,"d":"$0"}},{"$f":"'Operating Account Projections'!K32","v":{"v":0,"d":"$0"}},{"$f":"'Operating Account Projections'!L32","v":{"v":0,"d":"$0"}},{"$f":"'Operating Account Projections'!M32","v":{"v":0,"d":"$0"}},{"$f":"'Operating Account Projections'!N32","v":{"v":0,"d":"$0"}},{"$f":"'Operating Account Projections'!O32","v":{"v":0,"d":"$0"}},{"$f":"'Operating Account Projections'!P32","v":{"v":0,"d":"$0"}},{"$f":"'Operating Account Projections'!Q32","v":{"v":0,"d":"$0"}},{"$f":"'Operating Account Projections'!R32","v":{"v":0,"d":"$0"}},{"$f":"'Operating Account Projections'!S32","v":{"v":0,"d":"$0"}},{"$f":"'Operating Account Projections'!T32","v":{"v":0,"d":"$0"}},{"$f":"'Operating Account Projections'!U32","v":{"v":0,"d":"$0"}},{"$f":"'Operating Account Projections'!V32","v":{"v":0,"d":"$0"}},{"$f":"'Operating Account Projections'!W32","v":{"v":0,"d":"$0"}},{"$f":"'Operating Account Projections'!X32","v":{"v":0,"d":"$0"}},{"$f":"'Operating Account Projections'!Y32","v":{"v":0,"d":"$0"}},{"$f":"'Operating Account Projections'!Z32","v":{"v":0,"d":"$0"}},{"$f":"'Operating Account Projections'!AA32","v":{"v":0,"d":"$0"}},{"$f":"'Operating Account Projections'!AB32","v":{"v":0,"d":"$0"}},{"$f":"'Operating Account Projections'!AC32","v":{"v":0,"d":"$0"}},{"$f":"'Operating Account Projections'!AD32","v":{"v":0,"d":"$0"}},{"$f":"'Operating Account Projections'!AE32","v":{"v":0,"d":"$0"}},{"$f":"'Operating Account Projections'!AF32","v":{"v":0,"d":"$0"}},{"$f":"'Operating Account Projections'!AG32","v":{"v":0,"d":"$0"}},{"$f":"'Operating Account Projections'!AH32","v":{"v":0,"d":"$0"}}]
[null,"Total Projected Annual Expenditures",null,null,{"$f":"E38+E39","v":{"v":91118,"d":"$91,118"}},{"v":1448,"d":"$1,448"},{"v":3240,"d":"$3,240"},{"v":35737,"d":"$35,737"},{"v":36371,"d":"$36,371"},{"v":143512,"d":"$143,512"},{"v":3242,"d":"$3,242"},{"v":1729,"d":"$1,729"},{"v":23738,"d":"$23,738"},{"v":3543,"d":"$3,543"},{"v":140460,"d":"$140,460"},{"v":11359,"d":"$11,359"},{"v":3872,"d":"$3,872"},{"v":2065,"d":"$2,065"},{"v":4620,"d":"$4,620"},{"v":171970,"d":"$171,970"},{"v":2257,"d":"$2,257"},{"v":7886,"d":"$7,886"},{"v":31973,"d":"$31,973"},{"v":240380,"d":"$240,380"},{"v":207825,"d":"$207,825"},{"v":5051,"d":"$5,051"},{"v":2694,"d":"$2,694"},{"v":36983,"d":"$36,983"},{"v":101345,"d":"$101,345"},{"v":185431,"d":"$185,431"},{"v":6587,"d":"$6,587"},{"v":6032,"d":"$6,032"},{"v":211194,"d":"$211,194"},{"v":7198,"d":"$7,198"}]

{"sheet":"Assessment Per % Ownership","index":3,"n_rows":302,"n_cols":13,"rows_kept":302,"merged":[[0,4,0,12],[2,1,2,2],[5,4,5,6],[7,1,7,2]]}
[]
[]
[null,"*Enter total annual assessments to populate the following linked fields"]
[null,"Total Annual Dues Collected*",{"v":0,"d":"$0"}]
[null,"Bi-Annual Dues Collected",{"$f":"C4/2","v":{"v":0,"d":"$0"}}]
[null,"Quarterly Dues Collected",{"$f":"C4/4","v":{"v":0,"d":"$0"}},null,"*Enter percentage ownership for each Member / Unit Description"]
[null,"Monthly Dues Collected",{"$f":"C4/12","v":{"v":0,"d":"$0"}},null,"Totals",null,{"$f":"SUM(G9:G302)","v":0},{"$f":"SUM(H9:H3002)","v":{"v":0,"d":"0.000%"}},null,{"$f":"SUM(J9:J302)","v":{"v":0,"d":"$0.00"}},{"$f":"SUM(K9:K302)","v":{"v":0,"d":"$0.00"}},{"$f":"SUM(L9:L302)","v":{"v":0,"d":"$0.00"}},{"$f":"SUM(M9:M302)","v":{"v":0,"d":"$0.00"}}]
[null,"*Green cells are Master cells that are editable and populate the table",null,null,"Member / Unit Description"," Per Member / Unit Ownership %","Member / Unit Count (this type of Unit)","Total Member / Unit Ownership %","Per Member / Unit Monthly Dues","Total Annual Dues ","Total Bi-Annual Dues","Total Quarterly Dues","Total Monthly  Dues"]
[{"$nulls":7},{"$f":"G9*F9","v":{"v":0,"d":"0.000%"}},{"$f":"($C$4*F9/12)","v":{"v":0,"d":"$0.000"}},{"$f":"($C$4*F9)*PerMemberAssess[[#This Row],[Member / Unit Count (this type of Unit)]]","v":{"v":0,"d":"$0.00"}},{"$f":"($C$4*F9/2)*PerMemberAssess[[#This Row],[Member / Unit Count (this type of Unit)]]","v":{"v":0,"d":"$0.00"}},{"$f":"($C$4*F9/4)*PerMemberAssess[[#This Row],[Member / Unit Count (this type of Unit)]]","v":{"v":0,"d":"$0.00"}},{"$f":"($C$4*F9/12)*PerMemberAssess[[#This Row],[Member / Unit Count (this type of Unit)]]","v":{"v":0,"d":"$0.00"}}]
[{"$nulls":7},{"v":0,"d":"0.000%"},{"v":0,"d":"$0.000"},{"$f":"($C$4*F10)*PerMemberAssess[[#This Row],[Member / Unit Count (this type of Unit)]]","v":{"v":0,"d":"$0.00"}},{"$f":"($C$4*F10/2)*PerMemberAssess[[#This Row],[Member / Unit Count (this type of Unit)]]","v":{"v":0,"d":"$0.00"}},{"$f":"($C$4*F10/4)*PerMemberAssess[[#This Row],[Member / Unit Count (this type of Unit)]]","v":{"v":0,"d":"$0.00"}},{"$f":"($C$4*F10/12)*PerMemberAssess[[#This Row],[Member / Unit Count (this type of Unit)]]","v":{"v":0,"d":"$0.00"}}]
[{"$nulls":7},{"v":0,"d":"0.000%"},{"v":0,"d":"$0.000"},{"$f":"($C$4*F11)*PerMemberAssess[[#This Row],[Member / Unit Count (this type of Unit)]]","v":{"v":0,"d":"$0.00"}},{"$f":"($C$4*F11/2)*PerMemberAssess[[#This Row],[Member / Unit Count (this type of Unit)]]","v":{"v":0,"d":"$0.00"}},{"$f":"($C$4*F11/4)*PerMemberAssess[[#This Row],[Member / Unit Count (this type of Unit)]]","v":{"v":0,"d":"$0.00"}},{"$f":"($C$4*F11/12)*PerMemberAssess[[#This Row],[Member / Unit Count (this type of Unit)]]","v":{"v":0,"d":"$0.00"}}]
[{"$nulls":7},{"v":0,"d":"0.000%"},{"v":0,"d":"$0.000"},{"$f":"($C$4*F12)*PerMemberAssess[[#This Row],[Member / Unit Count (this type of Unit)]]","v":{"v":0,"d":"$0.00"}},{"$f":"($C$4*F12/2)*PerMemberAssess[[#This Row],[Member / Unit Count (this type of Unit)]]","v":{"v":0,"d":"$0.00"}},{"$f":"($C$4*F12/4)*PerMemberAssess[[#This Row],[Member / Unit Count (this type of Unit)]]","v":{"v":0,"d":"$0.00"}},{"$f":"($C$4*F12/12)*PerMemberAssess[[#This Row],[Member / Unit Count (this type of Unit)]]","v":{"v":0,"d":"$0.00"}}]
[{"$nulls":7},{"v":0,"d":"0.000%"},{"v":0,"d":"$0.000"},{"$f":"($C$4*F13)*PerMemberAssess[[#This Row],[Member / Unit Count (this type of Unit)]]","v":{"v":0,"d":"$0.00"}},{"$f":"($C$4*F13/2)*PerMemberAssess[[#This Row],[Member / Unit Count (this type of Unit)]]","v":{"v":0,"d":"$0.00"}},{"$f":"($C$4*F13/4)*PerMemberAssess[[#This Row],[Member / Unit Count (this type of Unit)]]","v":{"v":0,"d":"$0.00"}},{"$f":"($C$4*F13/12)*PerMemberAssess[[#This Row],[Member / Unit Count (this type of Unit)]]","v":{"v":0,"d":"$0.00"}}]
[{"$nulls":7},{"v":0,"d":"0.000%"},{"v":0,"d":"$0.000"},{"$f":"($C$4*F14)*PerMemberAssess[[#This Row],[Member / Unit Count (this type of Unit)]]","v":{"v":0,"d":"$0.00"}},{"$f":"($C$4*F14/2)*PerMemberAssess[[#This Row],[Member / Unit Count (this type of Unit)]]","v":{"v":0,"d":"$0.00"}},{"$f":"($C$4*F14/4)*PerMemberAssess[[#This Row],[Member / Unit Count (this type of Unit)]]","v":{"v":0,"d":"$0.00"}},{"$f":"($C$4*F14/12)*PerMemberAssess[[#This Row],[Member / Unit Count (this type of Unit)]]","v":{"v":0,"d":"$0.00"}}]
[{"$nulls":7},{"v":0,"d":"0.000%"},{"v":0,"d":"$0.000"},{"$f":"($C$4*F15)*PerMemberAssess[[#This Row],[Member / Unit Count (this type of Unit)]]","v":{"v":0,"d":"$0.00"}},{"$f":"($C$4*F15/2)*PerMemberAssess[[#This Row],[Member / Unit Count (this type of Unit)]]","v":{"v":0,"d":"$0.00"}},{"$f":"($C$4*F15/4)*PerMemberAssess[[#This Row],[Member / Unit Count (this type of Unit)]]","v":{"v":0,"d":"$0.00"}},{"$f":"($C$4*F15/12)*PerMemberAssess[[#This Row],[Member / Unit Count (this type of Unit)]]","v":{"v":0,"d":"$0.00"}}]
[{"$nulls":7},{"v":0,"d":"0.000%"},{"v":0,"d":"$0.000"},{"$f":"($C$4*F16)*PerMemberAssess[[#This Row],[Member / Unit Count (this type of Unit)]]","v":{"v":0,"d":"$0.00"}},{"$f":"($C$4*F16/2)*PerMemberAssess[[#This Row],[Member / Unit Count (this type of Unit)]]","v":{"v":0,"d":"$0.00"}},{"$f":"($C$4*F16/4)*PerMemberAssess[[#This Row],[Member / Unit Count (this type of Unit)]]","v":{"v":0,"d":"$0.00"}},{"$f":"($C$4*F16/12)*PerMemberAssess[[#This Row],[Member / Unit Count (this type of Unit)]]","v":{"v":0,"d":"$0.00"}}]
[{"$nulls":7},{"v":0,"d":"0.000%"},{"v":0,"d":"$0.000"},{"$f":"($C$4*F17)*PerMemberAssess[[#This Row],[Member / Unit Count (this type of Unit)]]","v":{"v":0,"d":"$0.00"}},{"$f":"($C$4*F17/2)*PerMemberAssess[[#This Row],[Member / Unit Count (this type of Unit)]]","v":{"v":0,"d":"$0.00"}},{"$f":"($C$4*F17/4)*PerMemberAssess[[#This Row],[Member / Unit Count (this type of Unit)]]","v":{"v":0,"d":"$0.00"}},{"$f":"($C$4*F17/12)*PerMemberAssess[[#This Row],[Member / Unit Count (this type of Unit)]]","v":{"v":0,"d":"$0.00"}}]
[{"$nulls":7},{"v":0,"d":"0.000%"},{"v":0,"d":"$0.000"},{"$f":"($C$4*F18)*PerMemberAssess[[#This Row],[Member / Unit Count (this type of Unit)]]","v":{"v":0,"d":"$0.00"}},{"$f":"($C$4*F18/2)*PerMemberAssess[[#This Row],[Member / Unit Count (this type of Unit)]]","v":{"v":0,"d":"$0.00"}},{"$f":"($C$4*F18/4)*PerMemberAssess[[#This Row],[Member / Unit Count (this type of Unit)]]","v":{"v":0,"d":"$0.00"}},{"$f":"($C$4*F18/12)*PerMemberAssess[[#This Row],[Member / Unit Count (this type of Unit)]]","v":{"v":0,"d":"$0.00"}}]
[{"$nulls":7},{"v":0,"d":"0.000%"},{"v":0,"d":"$0.000"},{"$f":"($C$4*F19)*PerMemberAssess[[#This Row],[Member / Unit Count (this type of Unit)]]","v":{"v":0,"d":"$0.00"}},{"$f":"($C$4*F19/2)*PerMemberAssess[[#This Row],[Member / Unit Count (this type of Unit)]]","v":{"v":0,"d":"$0.00"}},{"$f":"($C$4*F19/4)*PerMemberAssess[[#This Row],[Member / Unit Count (this type of Unit)]]","v":{"v":0,"d":"$0.00"}},{"$f":"($C$4*F19/12)*PerMemberAssess[[#This Row],[Member / Unit Count (this type of Unit)]]","v":{"v":0,"d":"$0.00"}}]
[{"$nulls":7},{"v":0,"d":"0.000%"},{"v":0,"d":"$0.000"},{"$f":"($C$4*F20)*PerMemberAssess[[#This Row],[Member / Unit Count (this type of Unit)]]","v":{"v":0,"d":"$0.00"}},{"$f":"($C$4*F20/2)*PerMemberAssess[[#This Row],[Member / Unit Count (this type of Unit)]]","v":{"v":0,"d":"$0.00"}},{"$f":"($C$4*F20/4)*PerMemberAssess[[#This Row],[Member / Unit Count (this type of Unit)]]","v":{"v":0,"d":"$0.00"}},{"$f":"($C$4*F20/12)*PerMemberAssess[[#This Row],[Member / Unit Count (this type of Unit)]]","v":{"v":0,"d":"$0.00"}}]
[{"$nulls":7},{"v":0,"d":"0.000%"},{"v":0,"d":"$0.000"},{"$f":"($C$4*F21)*PerMemberAssess[[#This Row],[Member / Unit Count (this type of Unit)]]","v":{"v":0,"d":"$0.00"}},{"$f":"($C$4*F21/2)*PerMemberAssess[[#This Row],[Member / Unit Count (this type of Unit)]]","v":{"v":0,"d":"$0.00"}},{"$f":"($C$4*F21/4)*PerMemberAssess[[#This Row],[Member / Unit Count (this type of Unit)]]","v":{"v":0,"d":"$0.00"}},{"$f":"($C$4*F21/12)*PerMemberAssess[[#This Row],[Member / Unit Count (this type of Unit)]]","v":{"v":0,"d":"$0.00"}}]
[{"$nulls":7},{"v":0,"d":"0.000%"},{"v":0,"d":"$0.000"},{"$f":"($C$4*F22)*PerMemberAssess[[#This Row],[Member / Unit Count (this type of Unit)]]","v":{"v":0,"d":"$0.00"}},{"$f":"($C$4*F22/2)*PerMemberAssess[[#This Row],[Member / Unit Count (this type of Unit)]]","v":{"v":0,"d":"$0.00"}},{"$f":"($C$4*F22/4)*PerMemberAssess[[#This Row],[Member / Unit Count (this type of Unit)]]","v":{"v":0,"d":"$0.00"}},{"$f":"($C$4*F22/12)*PerMemberAssess[[#This Row],[Member / Unit Count (this type of Unit)]]","v":{"v":0,"d":"$0.00"}}]
[{"$nulls":7},{"v":0,"d":"0.000%"},{"v":0,"d":"$0.000"},{"$f":"($C$4*F23)*PerMemberAssess[[#This Row],[Member / Unit Count (this type of Unit)]]","v":{"v":0,"d":"$0.00"}},{"$f":"($C$4*F23/2)*PerMemberAssess[[#This Row],[Member / Unit Count (this type of Unit)]]","v":{"v":0,"d":"$0.00"}},{"$f":"($C$4*F23/4)*PerMemberAssess[[#This Row],[Member / Unit Count (this type of Unit)]]","v":{"v":0,"d":"$0.00"}},{"$f":"($C$4*F23/12)*PerMemberAssess[[#This Row],[Member / Unit Count (this type of Unit)]]","v":{"v":0,"d":"$0.00"}}]
[{"$nulls":7},{"v":0,"d":"0.000%"},{"v":0,"d":"$0.000"},{"$f":"($C$4*F24)*PerMemberAssess[[#This Row],[Member / Unit Count (this type of Unit)]]","v":{"v":0,"d":"$0.00"}},{"$f":"($C$4*F24/2)*PerMemberAssess[[#This Row],[Member / Unit Count (this type of Unit)]]","v":{"v":0,"d":"$0.00"}},{"$f":"($C$4*F24/4)*PerMemberAssess[[#This Row],[Member / Unit Count (this type of Unit)]]","v":{"v":0,"d":"$0.00"}},{"$f":"($C$4*F24/12)*PerMemberAssess[[#This Row],[Member / Unit Count (this type of Unit)]]","v":{"v":0,"d":"$0.00"}}]
[{"$nulls":7},{"v":0,"d":"0.000%"},{"v":0,"d":"$0.000"},{"$f":"($C$4*F25)*PerMemberAssess[[#This Row],[Member / Unit Count (this type of Unit)]]","v":{"v":0,"d":"$0.00"}},{"$f":"($C$4*F25/2)*PerMemberAssess[[#This Row],[Member / Unit Count (this type of Unit)]]","v":{"v":0,"d":"$0.00"}},{"$f":"($C$4*F25/4)*PerMemberAssess[[#This Row],[Member / Unit Count (this type of Unit)]]","v":{"v":0,"d":"$0.00"}},{"$f":"($C$4*F25/12)*PerMemberAssess[[#This Row],[Member / Unit Count (this type of Unit)]]","v":{"v":0,"d":"$0.00"}}]
[{"$nulls":7},{"v":0,"d":"0.000%"},{"v":0,"d":"$0.000"},{"$f":"($C$4*F26)*PerMemberAssess[[#This Row],[Member / Unit Count (this type of Unit)]]","v":{"v":0,"d":"$0.00"}},{"$f":"($C$4*F26/2)*PerMemberAssess[[#This Row],[Member / Unit Count (this type of Unit)]]","v":{"v":0,"d":"$0.00"}},{"$f":"($C$4*F26/4)*PerMemberAssess[[#This Row],[Member / Unit Count (this type of Unit)]]","v":{"v":0,"d":"$0.00"}},{"$f":"($C$4*F26/12)*PerMemberAssess[[#This Row],[Member / Unit Count (this type of Unit)]]","v":{"v":0,"d":"$0.00"}}]
[{"$nulls":7},{"v":0,"d":"0.000%"},{"v":0,"d":"$0.000"},{"$f":"($C$4*F27)*PerMemberAssess[[#This Row],[Member / Unit Count (this type of Unit)]]","v":{"v":0,"d":"$0.00"}},{"$f":"($C$4*F27/2)*PerMemberAssess[[#This Row],[Member / Unit Count (this type of Unit)]]","v":{"v":0,"d":"$0.00"}},{"$f":"($C$4*F27/4)*PerMemberAssess[[#This Row],[Member / Unit Count (this type of Unit)]]","v":{"v":0,"d":"$0.00"}},{"$f":"($C$4*F27/12)*PerMemberAssess[[#This Row],[Member / Unit Count (this type of Unit)]]","v":{"v":0,"d":"$0.00"}}]
[{"$nulls":7},{"v":0,"d":"0.000%"},{"v":0,"d":"$0.000"},{"$f":"($C$4*F28)*PerMemberAssess[[#This Row],[Member / Unit Count (this type of Unit)]]","v":{"v":0,"d":"$0.00"}},{"$f":"($C$4*F28/2)*PerMemberAssess[[#This Row],[Member / Unit Count (this type of Unit)]]","v":{"v":0,"d":"$0.00"}},{"$f":"($C$4*F28/4)*PerMemberAssess[[#This Row],[Member / Unit Count (this type of Unit)]]","v":{"v":0,"d":"$0.00"}},{"$f":"($C$4*F28/12)*PerMemberAssess[[#This Row],[Member / Unit Count (this type of Unit)]]","v":{"v":0,"d":"$0.00"}}]
[{"$nulls":7},{"v":0,"d":"0.000%"},{"v":0,"d":"$0.000"},{"$f":"($C$4*F29)*PerMemberAssess[[#This Row],[Member / Unit Count (this type of Unit)]]","v":{"v":0,"d":"$0.00"}},{"$f":"($C$4*F29/2)*PerMemberAssess[[#This Row],[Member / Unit Count (this type of Unit)]]","v":{"v":0,"d":"$0.00"}},{"$f":"($C$4*F29/4)*PerMemberAssess[[#This Row],[Member / Unit Count (this type of Unit)]]","v":{"v":0,"d":"$0.00"}},{"$f":"($C$4*F29/12)*PerMemberAssess[[#This Row],[Member / Unit Count (this type of Unit)]]","v":{"v":0,"d":"$0.00"}}]
[{"$nulls":7},{"v":0,"d":"0.000%"},{"v":0,"d":"$0.000"},{"$f":"($C$4*F30)*PerMemberAssess[[#This Row],[Member / Unit Count (this type of Unit)]]","v":{"v":0,"d":"$0.00"}},{"$f":"($C$4*F30/2)*PerMemberAssess[[#This Row],[Member / Unit Count (this type of Unit)]]","v":{"v":0,"d":"$0.00"}},{"$f":"($C$4*F30/4)*PerMemberAssess[[#This Row],[Member / Unit Count (this type of Unit)]]","v":{"v":0,"d":"$0.00"}},{"$f":"($C$4*F30/12)*PerMemberAssess[[#This Row],[Member / Unit Count (this type of Unit)]]","v":{"v":0,"d":"$0.00"}}]
[{"$nulls":7},{"v":0,"d":"0.000%"},{"v":0,"d":"$0.000"},{"$f":"($C$4*F31)*PerMemberAssess[[#This Row],[Member / Unit Count (this type of Unit)]]","v":{"v":0,"d":"$0.00"}},{"$f":"($C$4*F31/2)*PerMemberAssess[[#This Row],[Member / Unit Count (this type of Unit)]]","v":{"v":0,"d":"$0.00"}},{"$f":"($C$4*F31/4)*PerMemberAssess[[#This Row],[Member / Unit Count (this type of Unit)]]","v":{"v":0,"d":"$0.00"}},{"$f":"($C$4*F31/12)*PerMemberAssess[[#This Row],[Member / Unit Count (this type of Unit)]]","v":{"v":0,"d":"$0.00"}}]
[{"$nulls":7},{"v":0,"d":"0.000%"},{"v":0,"d":"$0.000"},{"$f":"($C$4*F32)*PerMemberAssess[[#This Row],[Member / Unit Count (this type of Unit)]]","v":{"v":0,"d":"$0.00"}},{"$f":"($C$4*F32/2)*PerMemberAssess[[#This Row],[Member / Unit Count (this type of Unit)]]","v":{"v":0,"d":"$0.00"}},{"$f":"($C$4*F32/4)*PerMemberAssess[[#This Row],[Member / Unit Count (this type of Unit)]]","v":{"v":0,"d":"$0.00"}},{"$f":"($C$4*F32/12)*PerMemberAssess[[#This Row],[Member / Unit Count (this type of Unit)]]","v":{"v":0,"d":"$0.00"}}]
[{"$nulls":7},{"v":0,"d":"0.000%"},{"v":0,"d":"$0.000"},{"$f":"($C$4*F33)*PerMemberAssess[[#This Row],[Member / Unit Count (this type of Unit)]]","v":{"v":0,"d":"$0.00"}},{"$f":"($C$4*F33/2)*PerMemberAssess[[#This Row],[Member / Unit Count (this type of Unit)]]","v":{"v":0,"d":"$0.00"}},{"$f":"($C$4*F33/4)*PerMemberAssess[[#This Row],[Member / Unit Count (this type of Unit)]]","v":{"v":0,"d":"$0.00"}},{"$f":"($C$4*F33/12)*PerMemberAssess[[#This Row],[Member / Unit Count (this type of Unit)]]","v":{"v":0,"d":"$0.00"}}]
[{"$nulls":7},{"v":0,"d":"0.000%"},{"v":0,"d":"$0.000"},{"$f":"($C$4*F34)*PerMemberAssess[[#This Row],[Member / Unit Count (this type of Unit)]]","v":{"v":0,"d":"$0.00"}},{"$f":"($C$4*F34/2)*PerMemberAssess[[#This Row],[Member / Unit Count (this type of Unit)]]","v":{"v":0,"d":"$0.00"}},{"$f":"($C$4*F34/4)*PerMemberAssess[[#This Row],[Member / Unit Count (this type of Unit)]]","v":{"v":0,"d":"$0.00"}},{"$f":"($C$4*F34/12)*PerMemberAssess[[#This Row],[Member / Unit Count (this type of Unit)]]","v":{"v":0,"d":"$0.00"}}]
[{"$nulls":7},{"v":0,"d":"0.000%"},{"v":0,"d":"$0.000"},{"$f":"($C$4*F35)*PerMemberAssess[[#This Row],[Member / Unit Count (this type of Unit)]]","v":{"v":0,"d":"$0.00"}},{"$f":"($C$4*F35/2)*PerMemberAssess[[#This Row],[Member / Unit Count (this type of Unit)]]","v":{"v":0,"d":"$0.00"}},{"$f":"($C$4*F35/4)*PerMemberAssess[[#This Row],[Member / Unit Count (this type of Unit)]]","v":{"v":0,"d":"$0.00"}},{"$f":"($C$4*F35/12)*PerMemberAssess[[#This Row],[Member / Unit Count (this type of Unit)]]","v":{"v":0,"d":"$0.00"}}]
[{"$nulls":7},{"v":0,"d":"0.000%"},{"v":0,"d":"$0.000"},{"$f":"($C$4*F36)*PerMemberAssess[[#This Row],[Member / Unit Count (this type of Unit)]]","v":{"v":0,"d":"$0.00"}},{"$f":"($C$4*F36/2)*PerMemberAssess[[#This Row],[Member / Unit Count (this type of Unit)]]","v":{"v":0,"d":"$0.00"}},{"$f":"($C$4*F36/4)*PerMemberAssess[[#This Row],[Member / Unit Count (this type of Unit)]]","v":{"v":0,"d":"$0.00"}},{"$f":"($C$4*F36/12)*PerMemberAssess[[#This Row],[Member / Unit Count (this type of Unit)]]","v":{"v":0,"d":"$0.00"}}]
[{"$nulls":7},{"v":0,"d":"0.000%"},{"v":0,"d":"$0.000"},{"$f":"($C$4*F37)*PerMemberAssess[[#This Row],[Member / Unit Count (this type of Unit)]]","v":{"v":0,"d":"$0.00"}},{"$f":"($C$4*F37/2)*PerMemberAssess[[#This Row],[Member / Unit Count (this type of Unit)]]","v":{"v":0,"d":"$0.00"}},{"$f":"($C$4*F37/4)*PerMemberAssess[[#This Row],[Member / Unit Count (this type of Unit)]]","v":{"v":0,"d":"$0.00"}},{"$f":"($C$4*F37/12)*PerMemberAssess[[#This Row],[Member / Unit Count (this type of Unit)]]","v":{"v":0,"d":"$0.00"}}]
[{"$nulls":7},{"v":0,"d":"0.000%"},{"v":0,"d":"$0.000"},{"$f":"($C$4*F38)*PerMemberAssess[[#This Row],[Member / Unit Count (this type of Unit)]]","v":{"v":0,"d":"$0.00"}},{"$f":"($C$4*F38/2)*PerMemberAssess[[#This Row],[Member / Unit Count (this type of Unit)]]","v":{"v":0,"d":"$0.00"}},{"$f":"($C$4*F38/4)*PerMemberAssess[[#This Row],[Member / Unit Count (this type of Unit)]]","v":{"v":0,"d":"$0.00"}},{"$f":"($C$4*F38/12)*PerMemberAssess[[#This Row],[Member / Unit Count (this type of Unit)]]","v":{"v":0,"d":"$0.00"}}]
[{"$nulls":7},{"v":0,"d":"0.000%"},{"v":0,"d":"$0.000"},{"$f":"($C$4*F39)*PerMemberAssess[[#This Row],[Member / Unit Count (this type of Unit)]]","v":{"v":0,"d":"$0.00"}},{"$f":"($C$4*F39/2)*PerMemberAssess[[#This Row],[Member / Unit Count (this type of Unit)]]","v":{"v":0,"d":"$0.00"}},{"$f":"($C$4*F39/4)*PerMemberAssess[[#This Row],[Member / Unit Count (this type of Unit)]]","v":{"v":0,"d":"$0.00"}},{"$f":"($C$4*F39/12)*PerMemberAssess[[#This Row],[Member / Unit Count (this type of Unit)]]","v":{"v":0,"d":"$0.00"}}]
[{"$nulls":7},{"v":0,"d":"0.000%"},{"v":0,"d":"$0.000"},{"$f":"($C$4*F40)*PerMemberAssess[[#This Row],[Member / Unit Count (this type of Unit)]]","v":{"v":0,"d":"$0.00"}},{"$f":"($C$4*F40/2)*PerMemberAssess[[#This Row],[Member / Unit Count (this type of Unit)]]","v":{"v":0,"d":"$0.00"}},{"$f":"($C$4*F40/4)*PerMemberAssess[[#This Row],[Member / Unit Count (this type of Unit)]]","v":{"v":0,"d":"$0.00"}},{"$f":"($C$4*F40/12)*PerMemberAssess[[#This Row],[Member / Unit Count (this type of Unit)]]","v":{"v":0,"d":"$0.00"}}]
[{"$nulls":7},{"v":0,"d":"0.000%"},{"$f":"($C$4*F41/12)","v":{"v":0,"d":"$0.000"}},{"$f":"($C$4*F41)*PerMemberAssess[[#This Row],[Member / Unit Count (this type of Unit)]]","v":{"v":0,"d":"$0.00"}},{"$f":"($C$4*F41/2)*PerMemberAssess[[#This Row],[Member / Unit Count (this type of Unit)]]","v":{"v":0,"d":"$0.00"}},{"$f":"($C$4*F41/4)*PerMemberAssess[[#This Row],[Member / Unit Count (this type of Unit)]]","v":{"v":0,"d":"$0.00"}},{"$f":"($C$4*F41/12)*PerMemberAssess[[#This Row],[Member / Unit Count (this type of Unit)]]","v":{"v":0,"d":"$0.00"}}]
[{"$nulls":7},{"v":0,"d":"0.000%"},{"v":0,"d":"$0.000"},{"$f":"($C$4*F42)*PerMemberAssess[[#This Row],[Member / Unit Count (this type of Unit)]]","v":{"v":0,"d":"$0.00"}},{"$f":"($C$4*F42/2)*PerMemberAssess[[#This Row],[Member / Unit Count (this type of Unit)]]","v":{"v":0,"d":"$0.00"}},{"$f":"($C$4*F42/4)*PerMemberAssess[[#This Row],[Member / Unit Count (this type of Unit)]]","v":{"v":0,"d":"$0.00"}},{"$f":"($C$4*F42/12)*PerMemberAssess[[#This Row],[Member / Unit Count (this type of Unit)]]","v":{"v":0,"d":"$0.00"}}]
[{"$nulls":7},{"v":0,"d":"0.000%"},{"v":0,"d":"$0.000"},{"$f":"($C$4*F43)*PerMemberAssess[[#This Row],[Member / Unit Count (this type of Unit)]]","v":{"v":0,"d":"$0.00"}},{"$f":"($C$4*F43/2)*PerMemberAssess[[#This Row],[Member / Unit Count (this type of Unit)]]","v":{"v":0,"d":"$0.00"}},{"$f":"($C$4*F43/4)*PerMemberAssess[[#This Row],[Member / Unit Count (this type of Unit)]]","v":{"v":0,"d":"$0.00"}},{"$f":"($C$4*F43/12)*PerMemberAssess[[#This Row],[Member / Unit Count (this type of Unit)]]","v":{"v":0,"d":"$0.00"}}]
[{"$nulls":7},{"v":0,"d":"0.000%"},{"v":0,"d":"$0.000"},{"$f":"($C$4*F44)*PerMemberAssess[[#This Row],[Member / Unit Count (this type of Unit)]]","v":{"v":0,"d":"$0.00"}},{"$f":"($C$4*F44/2)*PerMemberAssess[[#This Row],[Member / Unit Count (this type of Unit)]]","v":{"v":0,"d":"$0.00"}},{"$f":"($C$4*F44/4)*PerMemberAssess[[#This Row],[Member / Unit Count (this type of Unit)]]","v":{"v":0,"d":"$0.00"}},{"$f":"($C$4*F44/12)*PerMemberAssess[[#This Row],[Member / Unit Count (this type of Unit)]]","v":{"v":0,"d":"$0.00"}}]
[{"$nulls":7},{"v":0,"d":"0.000%"},{"v":0,"d":"$0.000"},{"$f":"($C$4*F45)*PerMemberAssess[[#This Row],[Member / Unit Count (this type of Unit)]]","v":{"v":0,"d":"$0.00"}},{"$f":"($C$4*F45/2)*PerMemberAssess[[#This Row],[Member / Unit Count (this type of Unit)]]","v":{"v":0,"d":"$0.00"}},{"$f":"($C$4*F45/4)*PerMemberAssess[[#This Row],[Member / Unit Count (this type of Unit)]]","v":{"v":0,"d":"$0.00"}},{"$f":"($C$4*F45/12)*PerMemberAssess[[#This Row],[Member / Unit Count (this type of Unit)]]","v":{"v":0,"d":"$0.00"}}]
[{"$nulls":7},{"v":0,"d":"0.000%"},{"v":0,"d":"$0.000"},{"$f":"($C$4*F46)*PerMemberAssess[[#This Row],[Member / Unit Count (this type of Unit)]]","v":{"v":0,"d":"$0.00"}},{"$f":"($C$4*F46/2)*PerMemberAssess[[#This Row],[Member / Unit Count (this type of Unit)]]","v":{"v":0,"d":"$0.00"}},{"$f":"($C$4*F46/4)*PerMemberAssess[[#This Row],[Member / Unit Count (this type of Unit)]]","v":{"v":0,"d":"$0.00"}},{"$f":"($C$4*F46/12)*PerMemberAssess[[#This Row],[Member / Unit Count (this type of Unit)]]","v":{"v":0,"d":"$0.00"}}]
[{"$nulls":7},{"v":0,"d":"0.000%"},{"v":0,"d":"$0.000"},{"$f":"($C$4*F47)*PerMemberAssess[[#This Row],[Member / Unit Count (this type of Unit)]]","v":{"v":0,"d":"$0.00"}},{"$f":"($C$4*F47/2)*PerMemberAssess[[#This Row],[Member / Unit Count (this type of Unit)]]","v":{"v":0,"d":"$0.00"}},{"$f":"($C$4*F47/4)*PerMemberAssess[[#This Row],[Member / Unit Count (this type of Unit)]]","v":{"v":0,"d":"$0.00"}},{"$f":"($C$4*F47/12)*PerMemberAssess[[#This Row],[Member / Unit Count (this type of Unit)]]","v":{"v":0,"d":"$0.00"}}]
[{"$nulls":7},{"v":0,"d":"0.000%"},{"v":0,"d":"$0.000"},{"$f":"($C$4*F48)*PerMemberAssess[[#This Row],[Member / Unit Count (this type of Unit)]]","v":{"v":0,"d":"$0.00"}},{"$f":"($C$4*F48/2)*PerMemberAssess[[#This Row],[Member / Unit Count (this type of Unit)]]","v":{"v":0,"d":"$0.00"}},{"$f":"($C$4*F48/4)*PerMemberAssess[[#This Row],[Member / Unit Count (this type of Unit)]]","v":{"v":0,"d":"$0.00"}},{"$f":"($C$4*F48/12)*PerMemberAssess[[#This Row],[Member / Unit Count (this type of Unit)]]","v":{"v":0,"d":"$0.00"}}]
[{"$nulls":7},{"v":0,"d":"0.000%"},{"v":0,"d":"$0.000"},{"$f":"($C$4*F49)*PerMemberAssess[[#This Row],[Member / Unit Count (this type of Unit)]]","v":{"v":0,"d":"$0.00"}},{"$f":"($C$4*F49/2)*PerMemberAssess[[#This Row],[Member / Unit Count (this type of Unit)]]","v":{"v":0,"d":"$0.00"}},{"$f":"($C$4*F49/4)*PerMemberAssess[[#This Row],[Member / Unit Count (this type of Unit)]]","v":{"v":0,"d":"$0.00"}},{"$f":"($C$4*F49/12)*PerMemberAssess[[#This Row],[Member / Unit Count (this type of Unit)]]","v":{"v":0,"d":"$0.00"}}]
[{"$nulls":7},{"v":0,"d":"0.000%"},{"v":0,"d":"$0.000"},{"$f":"($C$4*F50)*PerMemberAssess[[#This Row],[Member / Unit Count (this type of Unit)]]","v":{"v":0,"d":"$0.00"}},{"$f":"($C$4*F50/2)*PerMemberAssess[[#This Row],[Member / Unit Count (this type of Unit)]]","v":{"v":0,"d":"$0.00"}},{"$f":"($C$4*F50/4)*PerMemberAssess[[#This Row],[Member / Unit Count (this type of Unit)]]","v":{"v":0,"d":"$0.00"}},{"$f":"($C$4*F50/12)*PerMemberAssess[[#This Row],[Member / Unit Count (this type of Unit)]]","v":{"v":0,"d":"$0.00"}}]
[{"$nulls":7},{"v":0,"d":"0.000%"},{"v":0,"d":"$0.000"},{"$f":"($C$4*F51)*PerMemberAssess[[#This Row],[Member / Unit Count (this type of Unit)]]","v":{"v":0,"d":"$0.00"}},{"$f":"($C$4*F51/2)*PerMemberAssess[[#This Row],[Member / Unit Count (this type of Unit)]]","v":{"v":0,"d":"$0.00"}},{"$f":"($C$4*F51/4)*PerMemberAssess[[#This Row],[Member / Unit Count (this type of Unit)]]","v":{"v":0,"d":"$0.00"}},{"$f":"($C$4*F51/12)*PerMemberAssess[[#This Row],[Member / Unit Count (this type of Unit)]]","v":{"v":0,"d":"$0.00"}}]
[{"$nulls":7},{"v":0,"d":"0.000%"},{"v":0,"d":"$0.000"},{"$f":"($C$4*F52)*PerMemberAssess[[#This Row],[Member / Unit Count (this type of Unit)]]","v":{"v":0,"d":"$0.00"}},{"$f":"($C$4*F52/2)*PerMemberAssess[[#This Row],[Member / Unit Count (this type of Unit)]]","v":{"v":0,"d":"$0.00"}},{"$f":"($C$4*F52/4)*PerMemberAssess[[#This Row],[Member / Unit Count (this type of Unit)]]","v":{"v":0,"d":"$0.00"}},{"$f":"($C$4*F52/12)*PerMemberAssess[[#This Row],[Member / Unit Count (this type of Unit)]]","v":{"v":0,"d":"$0.00"}}]
[{"$nulls":7},{"v":0,"d":"0.000%"},{"v":0,"d":"$0.000"},{"$f":"($C$4*F53)*PerMemberAssess[[#This Row],[Member / Unit Count (this type of Unit)]]","v":{"v":0,"d":"$0.00"}},{"$f":"($C$4*F53/2)*PerMemberAssess[[#This Row],[Member / Unit Count (this type of Unit)]]","v":{"v":0,"d":"$0.00"}},{"$f":"($C$4*F53/4)*PerMemberAssess[[#This Row],[Member / Unit Count (this type of Unit)]]","v":{"v":0,"d":"$0.00"}},{"$f":"($C$4*F53/12)*PerMemberAssess[[#This Row],[Member / Unit Count (this type of Unit)]]","v":{"v":0,"d":"$0.00"}}]
[{"$nulls":7},{"v":0,"d":"0.000%"},{"v":0,"d":"$0.000"},{"$f":"($C$4*F54)*PerMemberAssess[[#This Row],[Member / Unit Count (this type of Unit)]]","v":{"v":0,"d":"$0.00"}},{"$f":"($C$4*F54/2)*PerMemberAssess[[#This Row],[Member / Unit Count (this type of Unit)]]","v":{"v":0,"d":"$0.00"}},{"$f":"($C$4*F54/4)*PerMemberAssess[[#This Row],[Member / Unit Count (this type of Unit)]]","v":{"v":0,"d":"$0.00"}},{"$f":"($C$4*F54/12)*PerMemberAssess[[#This Row],[Member / Unit Count (this type of Unit)]]","v":{"v":0,"d":"$0.00"}}]
[{"$nulls":7},{"v":0,"d":"0.000%"},{"v":0,"d":"$0.000"},{"$f":"($C$4*F55)*PerMemberAssess[[#This Row],[Member / Unit Count (this type of Unit)]]","v":{"v":0,"d":"$0.00"}},{"$f":"($C$4*F55/2)*PerMemberAssess[[#This Row],[Member / Unit Count (this type of Unit)]]","v":{"v":0,"d":"$0.00"}},{"$f":"($C$4*F55/4)*PerMemberAssess[[#This Row],[Member / Unit Count (this type of Unit)]]","v":{"v":0,"d":"$0.00"}},{"$f":"($C$4*F55/12)*PerMemberAssess[[#This Row],[Member / Unit Count (this type of Unit)]]","v":{"v":0,"d":"$0.00"}}]
[{"$nulls":7},{"v":0,"d":"0.000%"},{"v":0,"d":"$0.000"},{"$f":"($C$4*F56)*PerMemberAssess[[#This Row],[Member / Unit Count (this type of Unit)]]","v":{"v":0,"d":"$0.00"}},{"$f":"($C$4*F56/2)*PerMemberAssess[[#This Row],[Member / Unit Count (this type of Unit)]]","v":{"v":0,"d":"$0.00"}},{"$f":"($C$4*F56/4)*PerMemberAssess[[#This Row],[Member / Unit Count (this type of Unit)]]","v":{"v":0,"d":"$0.00"}},{"$f":"($C$4*F56/12)*PerMemberAssess[[#This Row],[Member / Unit Count (this type of Unit)]]","v":{"v":0,"d":"$0.00"}}]
[{"$nulls":7},{"v":0,"d":"0.000%"},{"v":0,"d":"$0.000"},{"$f":"($C$4*F57)*PerMemberAssess[[#This Row],[Member / Unit Count (this type of Unit)]]","v":{"v":0,"d":"$0.00"}},{"$f":"($C$4*F57/2)*PerMemberAssess[[#This Row],[Member / Unit Count (this type of Unit)]]","v":{"v":0,"d":"$0.00"}},{"$f":"($C$4*F57/4)*PerMemberAssess[[#This Row],[Member / Unit Count (this type of Unit)]]","v":{"v":0,"d":"$0.00"}},{"$f":"($C$4*F57/12)*PerMemberAssess[[#This Row],[Member / Unit Count (this type of Unit)]]","v":{"v":0,"d":"$0.00"}}]
[{"$nulls":7},{"v":0,"d":"0.000%"},{"v":0,"d":"$0.000"},{"$f":"($C$4*F58)*PerMemberAssess[[#This Row],[Member / Unit Count (this type of Unit)]]","v":{"v":0,"d":"$0.00"}},{"$f":"($C$4*F58/2)*PerMemberAssess[[#This Row],[Member / Unit Count (this type of Unit)]]","v":{"v":0,"d":"$0.00"}},{"$f":"($C$4*F58/4)*PerMemberAssess[[#This Row],[Member / Unit Count (this type of Unit)]]","v":{"v":0,"d":"$0.00"}},{"$f":"($C$4*F58/12)*PerMemberAssess[[#This Row],[Member / Unit Count (this type of Unit)]]","v":{"v":0,"d":"$0.00"}}]
[{"$nulls":7},{"v":0,"d":"0.000%"},{"v":0,"d":"$0.000"},{"$f":"($C$4*F59)*PerMemberAssess[[#This Row],[Member / Unit Count (this type of Unit)]]","v":{"v":0,"d":"$0.00"}},{"$f":"($C$4*F59/2)*PerMemberAssess[[#This Row],[Member / Unit Count (this type of Unit)]]","v":{"v":0,"d":"$0.00"}},{"$f":"($C$4*F59/4)*PerMemberAssess[[#This Row],[Member / Unit Count (this type of Unit)]]","v":{"v":0,"d":"$0.00"}},{"$f":"($C$4*F59/12)*PerMemberAssess[[#This Row],[Member / Unit Count (this type of Unit)]]","v":{"v":0,"d":"$0.00"}}]
[{"$nulls":7},{"v":0,"d":"0.000%"},{"v":0,"d":"$0.000"},{"$f":"($C$4*F60)*PerMemberAssess[[#This Row],[Member / Unit Count (this type of Unit)]]","v":{"v":0,"d":"$0.00"}},{"$f":"($C$4*F60/2)*PerMemberAssess[[#This Row],[Member / Unit Count (this type of Unit)]]","v":{"v":0,"d":"$0.00"}},{"$f":"($C$4*F60/4)*PerMemberAssess[[#This Row],[Member / Unit Count (this type of Unit)]]","v":{"v":0,"d":"$0.00"}},{"$f":"($C$4*F60/12)*PerMemberAssess[[#This Row],[Member / Unit Count (this type of Unit)]]","v":{"v":0,"d":"$0.00"}}]
[{"$nulls":7},{"v":0,"d":"0.000%"},{"v":0,"d":"$0.000"},{"$f":"($C$4*F61)*PerMemberAssess[[#This Row],[Member / Unit Count (this type of Unit)]]","v":{"v":0,"d":"$0.00"}},{"$f":"($C$4*F61/2)*PerMemberAssess[[#This Row],[Member / Unit Count (this type of Unit)]]","v":{"v":0,"d":"$0.00"}},{"$f":"($C$4*F61/4)*PerMemberAssess[[#This Row],[Member / Unit Count (this type of Unit)]]","v":{"v":0,"d":"$0.00"}},{"$f":"($C$4*F61/12)*PerMemberAssess[[#This Row],[Member / Unit Count (this type of Unit)]]","v":{"v":0,"d":"$0.00"}}]
[{"$nulls":7},{"v":0,"d":"0.000%"},{"v":0,"d":"$0.000"},{"$f":"($C$4*F62)*PerMemberAssess[[#This Row],[Member / Unit Count (this type of Unit)]]","v":{"v":0,"d":"$0.00"}},{"$f":"($C$4*F62/2)*PerMemberAssess[[#This Row],[Member / Unit Count (this type of Unit)]]","v":{"v":0,"d":"$0.00"}},{"$f":"($C$4*F62/4)*PerMemberAssess[[#This Row],[Member / Unit Count (this type of Unit)]]","v":{"v":0,"d":"$0.00"}},{"$f":"($C$4*F62/12)*PerMemberAssess[[#This Row],[Member / Unit Count (this type of Unit)]]","v":{"v":0,"d":"$0.00"}}]
[{"$nulls":7},{"v":0,"d":"0.000%"},{"v":0,"d":"$0.000"},{"$f":"($C$4*F63)*PerMemberAssess[[#This Row],[Member / Unit Count (this type of Unit)]]","v":{"v":0,"d":"$0.00"}},{"$f":"($C$4*F63/2)*PerMemberAssess[[#This Row],[Member / Unit Count (this type of Unit)]]","v":{"v":0,"d":"$0.00"}},{"$f":"($C$4*F63/4)*PerMemberAssess[[#This Row],[Member / Unit Count (this type of Unit)]]","v":{"v":0,"d":"$0.00"}},{"$f":"($C$4*F63/12)*PerMemberAssess[[#This Row],[Member / Unit Count (this type of Unit)]]","v":{"v":0,"d":"$0.00"}}]
[{"$nulls":7},{"v":0,"d":"0.000%"},{"v":0,"d":"$0.000"},{"$f":"($C$4*F64)*PerMemberAssess[[#This Row],[Member / Unit Count (this type of Unit)]]","v":{"v":0,"d":"$0.00"}},{"$f":"($C$4*F64/2)*PerMemberAssess[[#This Row],[Member / Unit Count (this type of Unit)]]","v":{"v":0,"d":"$0.00"}},{"$f":"($C$4*F64/4)*PerMemberAssess[[#This Row],[Member / Unit Count (this type of Unit)]]","v":{"v":0,"d":"$0.00"}},{"$f":"($C$4*F64/12)*PerMemberAssess[[#This Row],[Member / Unit Count (this type of Unit)]]","v":{"v":0,"d":"$0.00"}}]
[{"$nulls":7},{"v":0,"d":"0.000%"},{"v":0,"d":"$0.000"},{"$f":"($C$4*F65)*PerMemberAssess[[#This Row],[Member / Unit Count (this type of Unit)]]","v":{"v":0,"d":"$0.00"}},{"$f":"($C$4*F65/2)*PerMemberAssess[[#This Row],[Member / Unit Count (this type of Unit)]]","v":{"v":0,"d":"$0.00"}},{"$f":"($C$4*F65/4)*PerMemberAssess[[#This Row],[Member / Unit Count (this type of Unit)]]","v":{"v":0,"d":"$0.00"}},{"$f":"($C$4*F65/12)*PerMemberAssess[[#This Row],[Member / Unit Count (this type of Unit)]]","v":{"v":0,"d":"$0.00"}}]
[{"$nulls":7},{"v":0,"d":"0.000%"},{"v":0,"d":"$0.000"},{"$f":"($C$4*F66)*PerMemberAssess[[#This Row],[Member / Unit Count (this type of Unit)]]","v":{"v":0,"d":"$0.00"}},{"$f":"($C$4*F66/2)*PerMemberAssess[[#This Row],[Member / Unit Count (this type of Unit)]]","v":{"v":0,"d":"$0.00"}},{"$f":"($C$4*F66/4)*PerMemberAssess[[#This Row],[Member / Unit Count (this type of Unit)]]","v":{"v":0,"d":"$0.00"}},{"$f":"($C$4*F66/12)*PerMemberAssess[[#This Row],[Member / Unit Count (this type of Unit)]]","v":{"v":0,"d":"$0.00"}}]
[{"$nulls":7},{"v":0,"d":"0.000%"},{"v":0,"d":"$0.000"},{"$f":"($C$4*F67)*PerMemberAssess[[#This Row],[Member / Unit Count (this type of Unit)]]","v":{"v":0,"d":"$0.00"}},{"$f":"($C$4*F67/2)*PerMemberAssess[[#This Row],[Member / Unit Count (this type of Unit)]]","v":{"v":0,"d":"$0.00"}},{"$f":"($C$4*F67/4)*PerMemberAssess[[#This Row],[Member / Unit Count (this type of Unit)]]","v":{"v":0,"d":"$0.00"}},{"$f":"($C$4*F67/12)*PerMemberAssess[[#This Row],[Member / Unit Count (this type of Unit)]]","v":{"v":0,"d":"$0.00"}}]
[{"$nulls":7},{"v":0,"d":"0.000%"},{"v":0,"d":"$0.000"},{"$f":"($C$4*F68)*PerMemberAssess[[#This Row],[Member / Unit Count (this type of Unit)]]","v":{"v":0,"d":"$0.00"}},{"$f":"($C$4*F68/2)*PerMemberAssess[[#This Row],[Member / Unit Count (this type of Unit)]]","v":{"v":0,"d":"$0.00"}},{"$f":"($C$4*F68/4)*PerMemberAssess[[#This Row],[Member / Unit Count (this type of Unit)]]","v":{"v":0,"d":"$0.00"}},{"$f":"($C$4*F68/12)*PerMemberAssess[[#This Row],[Member / Unit Count (this type of Unit)]]","v":{"v":0,"d":"$0.00"}}]
[{"$nulls":7},{"v":0,"d":"0.000%"},{"v":0,"d":"$0.000"},{"$f":"($C$4*F69)*PerMemberAssess[[#This Row],[Member / Unit Count (this type of Unit)]]","v":{"v":0,"d":"$0.00"}},{"$f":"($C$4*F69/2)*PerMemberAssess[[#This Row],[Member / Unit Count (this type of Unit)]]","v":{"v":0,"d":"$0.00"}},{"$f":"($C$4*F69/4)*PerMemberAssess[[#This Row],[Member / Unit Count (this type of Unit)]]","v":{"v":0,"d":"$0.00"}},{"$f":"($C$4*F69/12)*PerMemberAssess[[#This Row],[Member / Unit Count (this type of Unit)]]","v":{"v":0,"d":"$0.00"}}]
[{"$nulls":7},{"v":0,"d":"0.000%"},{"v":0,"d":"$0.000"},{"$f":"($C$4*F70)*PerMemberAssess[[#This Row],[Member / Unit Count (this type of Unit)]]","v":{"v":0,"d":"$0.00"}},{"$f":"($C$4*F70/2)*PerMemberAssess[[#This Row],[Member / Unit Count (this type of Unit)]]","v":{"v":0,"d":"$0.00"}},{"$f":"($C$4*F70/4)*PerMemberAssess[[#This Row],[Member / Unit Count (this type of Unit)]]","v":{"v":0,"d":"$0.00"}},{"$f":"($C$4*F70/12)*PerMemberAssess[[#This Row],[Member / Unit Count (this type of Unit)]]","v":{"v":0,"d":"$0.00"}}]
[{"$nulls":7},{"v":0,"d":"0.000%"},{"v":0,"d":"$0.000"},{"$f":"($C$4*F71)*PerMemberAssess[[#This Row],[Member / Unit Count (this type of Unit)]]","v":{"v":0,"d":"$0.00"}},{"$f":"($C$4*F71/2)*PerMemberAssess[[#This Row],[Member / Unit Count (this type of Unit)]]","v":{"v":0,"d":"$0.00"}},{"$f":"($C$4*F71/4)*PerMemberAssess[[#This Row],[Member / Unit Count (this type of Unit)]]","v":{"v":0,"d":"$0.00"}},{"$f":"($C$4*F71/12)*PerMemberAssess[[#This Row],[Member / Unit Count (this type of Unit)]]","v":{"v":0,"d":"$0.00"}}]
[{"$nulls":7},{"v":0,"d":"0.000%"},{"v":0,"d":"$0.000"},{"$f":"($C$4*F72)*PerMemberAssess[[#This Row],[Member / Unit Count (this type of Unit)]]","v":{"v":0,"d":"$0.00"}},{"$f":"($C$4*F72/2)*PerMemberAssess[[#This Row],[Member / Unit Count (this type of Unit)]]","v":{"v":0,"d":"$0.00"}},{"$f":"($C$4*F72/4)*PerMemberAssess[[#This Row],[Member / Unit Count (this type of Unit)]]","v":{"v":0,"d":"$0.00"}},{"$f":"($C$4*F72/12)*PerMemberAssess[[#This Row],[Member / Unit Count (this type of Unit)]]","v":{"v":0,"d":"$0.00"}}]
[{"$nulls":7},{"$f":"G73*F73","v":{"v":0,"d":"0.000%"}},{"$f":"($C$4*F73/12)","v":{"v":0,"d":"$0.000"}},{"$f":"($C$4*F73)*PerMemberAssess[[#This Row],[Member / Unit Count (this type of Unit)]]","v":{"v":0,"d":"$0.00"}},{"$f":"($C$4*F73/2)*PerMemberAssess[[#This Row],[Member / Unit Count (this type of Unit)]]","v":{"v":0,"d":"$0.00"}},{"$f":"($C$4*F73/4)*PerMemberAssess[[#This Row],[Member / Unit Count (this type of Unit)]]","v":{"v":0,"d":"$0.00"}},{"$f":"($C$4*F73/12)*PerMemberAssess[[#This Row],[Member / Unit Count (this type of Unit)]]","v":{"v":0,"d":"$0.00"}}]
[{"$nulls":7},{"v":0,"d":"0.000%"},{"v":0,"d":"$0.000"},{"$f":"($C$4*F74)*PerMemberAssess[[#This Row],[Member / Unit Count (this type of Unit)]]","v":{"v":0,"d":"$0.00"}},{"$f":"($C$4*F74/2)*PerMemberAssess[[#This Row],[Member / Unit Count (this type of Unit)]]","v":{"v":0,"d":"$0.00"}},{"$f":"($C$4*F74/4)*PerMemberAssess[[#This Row],[Member / Unit Count (this type of Unit)]]","v":{"v":0,"d":"$0.00"}},{"$f":"($C$4*F74/12)*PerMemberAssess[[#This Row],[Member / Unit Count (this type of Unit)]]","v":{"v":0,"d":"$0.00"}}]
[{"$nulls":7},{"v":0,"d":"0.000%"},{"v":0,"d":"$0.000"},{"$f":"($C$4*F75)*PerMemberAssess[[#This Row],[Member / Unit Count (this type of Unit)]]","v":{"v":0,"d":"$0.00"}},{"$f":"($C$4*F75/2)*PerMemberAssess[[#This Row],[Member / Unit Count (this type of Unit)]]","v":{"v":0,"d":"$0.00"}},{"$f":"($C$4*F75/4)*PerMemberAssess[[#This Row],[Member / Unit Count (this type of Unit)]]","v":{"v":0,"d":"$0.00"}},{"$f":"($C$4*F75/12)*PerMemberAssess[[#This Row],[Member / Unit Count (this type of Unit)]]","v":{"v":0,"d":"$0.00"}}]
[{"$nulls":7},{"v":0,"d":"0.000%"},{"v":0,"d":"$0.000"},{"$f":"($C$4*F76)*PerMemberAssess[[#This Row],[Member / Unit Count (this type of Unit)]]","v":{"v":0,"d":"$0.00"}},{"$f":"($C$4*F76/2)*PerMemberAssess[[#This Row],[Member / Unit Count (this type of Unit)]]","v":{"v":0,"d":"$0.00"}},{"$f":"($C$4*F76/4)*PerMemberAssess[[#This Row],[Member / Unit Count (this type of Unit)]]","v":{"v":0,"d":"$0.00"}},{"$f":"($C$4*F76/12)*PerMemberAssess[[#This Row],[Member / Unit Count (this type of Unit)]]","v":{"v":0,"d":"$0.00"}}]
[{"$nulls":7},{"v":0,"d":"0.000%"},{"v":0,"d":"$0.000"},{"$f":"($C$4*F77)*PerMemberAssess[[#This Row],[Member / Unit Count (this type of Unit)]]","v":{"v":0,"d":"$0.00"}},{"$f":"($C$4*F77/2)*PerMemberAssess[[#This Row],[Member / Unit Count (this type of Unit)]]","v":{"v":0,"d":"$0.00"}},{"$f":"($C$4*F77/4)*PerMemberAssess[[#This Row],[Member / Unit Count (this type of Unit)]]","v":{"v":0,"d":"$0.00"}},{"$f":"($C$4*F77/12)*PerMemberAssess[[#This Row],[Member / Unit Count (this type of Unit)]]","v":{"v":0,"d":"$0.00"}}]
[{"$nulls":7},{"v":0,"d":"0.000%"},{"v":0,"d":"$0.000"},{"$f":"($C$4*F78)*PerMemberAssess[[#This Row],[Member / Unit Count (this type of Unit)]]","v":{"v":0,"d":"$0.00"}},{"$f":"($C$4*F78/2)*PerMemberAssess[[#This Row],[Member / Unit Count (this type of Unit)]]","v":{"v":0,"d":"$0.00"}},{"$f":"($C$4*F78/4)*PerMemberAssess[[#This Row],[Member / Unit Count (this type of Unit)]]","v":{"v":0,"d":"$0.00"}},{"$f":"($C$4*F78/12)*PerMemberAssess[[#This Row],[Member / Unit Count (this type of Unit)]]","v":{"v":0,"d":"$0.00"}}]
[{"$nulls":7},{"v":0,"d":"0.000%"},{"v":0,"d":"$0.000"},{"$f":"($C$4*F79)*PerMemberAssess[[#This Row],[Member / Unit Count (this type of Unit)]]","v":{"v":0,"d":"$0.00"}},{"$f":"($C$4*F79/2)*PerMemberAssess[[#This Row],[Member / Unit Count (this type of Unit)]]","v":{"v":0,"d":"$0.00"}},{"$f":"($C$4*F79/4)*PerMemberAssess[[#This Row],[Member / Unit Count (this type of Unit)]]","v":{"v":0,"d":"$0.00"}},{"$f":"($C$4*F79/12)*PerMemberAssess[[#This Row],[Member / Unit Count (this type of Unit)]]","v":{"v":0,"d":"$0.00"}}]
[{"$nulls":7},{"v":0,"d":"0.000%"},{"v":0,"d":"$0.000"},{"$f":"($C$4*F80)*PerMemberAssess[[#This Row],[Member / Unit Count (this type of Unit)]]","v":{"v":0,"d":"$0.00"}},{"$f":"($C$4*F80/2)*PerMemberAssess[[#This Row],[Member / Unit Count (this type of Unit)]]","v":{"v":0,"d":"$0.00"}},{"$f":"($C$4*F80/4)*PerMemberAssess[[#This Row],[Member / Unit Count (this type of Unit)]]","v":{"v":0,"d":"$0.00"}},{"$f":"($C$4*F80/12)*PerMemberAssess[[#This Row],[Member / Unit Count (this type of Unit)]]","v":{"v":0,"d":"$0.00"}}]
[{"$nulls":7},{"v":0,"d":"0.000%"},{"v":0,"d":"$0.000"},{"$f":"($C$4*F81)*PerMemberAssess[[#This Row],[Member / Unit Count (this type of Unit)]]","v":{"v":0,"d":"$0.00"}},{"$f":"($C$4*F81/2)*PerMemberAssess[[#This Row],[Member / Unit Count (this type of Unit)]]","v":{"v":0,"d":"$0.00"}},{"$f":"($C$4*F81/4)*PerMemberAssess[[#This Row],[Member / Unit Count (this type of Unit)]]","v":{"v":0,"d":"$0.00"}},{"$f":"($C$4*F81/12)*PerMemberAssess[[#This Row],[Member / Unit Count (this type of Unit)]]","v":{"v":0,"d":"$0.00"}}]
[{"$nulls":7},{"v":0,"d":"0.000%"},{"v":0,"d":"$0.000"},{"$f":"($C$4*F82)*PerMemberAssess[[#This Row],[Member / Unit Count (this type of Unit)]]","v":{"v":0,"d":"$0.00"}},{"$f":"($C$4*F82/2)*PerMemberAssess[[#This Row],[Member / Unit Count (this type of Unit)]]","v":{"v":0,"d":"$0.00"}},{"$f":"($C$4*F82/4)*PerMemberAssess[[#This Row],[Member / Unit Count (this type of Unit)]]","v":{"v":0,"d":"$0.00"}},{"$f":"($C$4*F82/12)*PerMemberAssess[[#This Row],[Member / Unit Count (this type of Unit)]]","v":{"v":0,"d":"$0.00"}}]
[{"$nulls":7},{"v":0,"d":"0.000%"},{"v":0,"d":"$0.000"},{"$f":"($C$4*F83)*PerMemberAssess[[#This Row],[Member / Unit Count (this type of Unit)]]","v":{"v":0,"d":"$0.00"}},{"$f":"($C$4*F83/2)*PerMemberAssess[[#This Row],[Member / Unit Count (this type of Unit)]]","v":{"v":0,"d":"$0.00"}},{"$f":"($C$4*F83/4)*PerMemberAssess[[#This Row],[Member / Unit Count (this type of Unit)]]","v":{"v":0,"d":"$0.00"}},{"$f":"($C$4*F83/12)*PerMemberAssess[[#This Row],[Member / Unit Count (this type of Unit)]]","v":{"v":0,"d":"$0.00"}}]
[{"$nulls":7},{"v":0,"d":"0.000%"},{"v":0,"d":"$0.000"},{"$f":"($C$4*F84)*PerMemberAssess[[#This Row],[Member / Unit Count (this type of Unit)]]","v":{"v":0,"d":"$0.00"}},{"$f":"($C$4*F84/2)*PerMemberAssess[[#This Row],[Member / Unit Count (this type of Unit)]]","v":{"v":0,"d":"$0.00"}},{"$f":"($C$4*F84/4)*PerMemberAssess[[#This Row],[Member / Unit Count (this type of Unit)]]","v":{"v":0,"d":"$0.00"}},{"$f":"($C$4*F84/12)*PerMemberAssess[[#This Row],[Member / Unit Count (this type of Unit)]]","v":{"v":0,"d":"$0.00"}}]
[{"$nulls":7},{"v":0,"d":"0.000%"},{"v":0,"d":"$0.000"},{"$f":"($C$4*F85)*PerMemberAssess[[#This Row],[Member / Unit Count (this type of Unit)]]","v":{"v":0,"d":"$0.00"}},{"$f":"($C$4*F85/2)*PerMemberAssess[[#This Row],[Member / Unit Count (this type of Unit)]]","v":{"v":0,"d":"$0.00"}},{"$f":"($C$4*F85/4)*PerMemberAssess[[#This Row],[Member / Unit Count (this type of Unit)]]","v":{"v":0,"d":"$0.00"}},{"$f":"($C$4*F85/12)*PerMemberAssess[[#This Row],[Member / Unit Count (this type of Unit)]]","v":{"v":0,"d":"$0.00"}}]
[{"$nulls":7},{"v":0,"d":"0.000%"},{"v":0,"d":"$0.000"},{"$f":"($C$4*F86)*PerMemberAssess[[#This Row],[Member / Unit Count (this type of Unit)]]","v":{"v":0,"d":"$0.00"}},{"$f":"($C$4*F86/2)*PerMemberAssess[[#This Row],[Member / Unit Count (this type of Unit)]]","v":{"v":0,"d":"$0.00"}},{"$f":"($C$4*F86/4)*PerMemberAssess[[#This Row],[Member / Unit Count (this type of Unit)]]","v":{"v":0,"d":"$0.00"}},{"$f":"($C$4*F86/12)*PerMemberAssess[[#This Row],[Member / Unit Count (this type of Unit)]]","v":{"v":0,"d":"$0.00"}}]
[{"$nulls":7},{"v":0,"d":"0.000%"},{"v":0,"d":"$0.000"},{"$f":"($C$4*F87)*PerMemberAssess[[#This Row],[Member / Unit Count (this type of Unit)]]","v":{"v":0,"d":"$0.00"}},{"$f":"($C$4*F87/2)*PerMemberAssess[[#This Row],[Member / Unit Count (this type of Unit)]]","v":{"v":0,"d":"$0.00"}},{"$f":"($C$4*F87/4)*PerMemberAssess[[#This Row],[Member / Unit Count (this type of Unit)]]","v":{"v":0,"d":"$0.00"}},{"$f":"($C$4*F87/12)*PerMemberAssess[[#This Row],[Member / Unit Count (this type of Unit)]]","v":{"v":0,"d":"$0.00"}}]
[{"$nulls":7},{"v":0,"d":"0.000%"},{"v":0,"d":"$0.000"},{"$f":"($C$4*F88)*PerMemberAssess[[#This Row],[Member / Unit Count (this type of Unit)]]","v":{"v":0,"d":"$0.00"}},{"$f":"($C$4*F88/2)*PerMemberAssess[[#This Row],[Member / Unit Count (this type of Unit)]]","v":{"v":0,"d":"$0.00"}},{"$f":"($C$4*F88/4)*PerMemberAssess[[#This Row],[Member / Unit Count (this type of Unit)]]","v":{"v":0,"d":"$0.00"}},{"$f":"($C$4*F88/12)*PerMemberAssess[[#This Row],[Member / Unit Count (this type of Unit)]]","v":{"v":0,"d":"$0.00"}}]
[{"$nulls":7},{"v":0,"d":"0.000%"},{"v":0,"d":"$0.000"},{"$f":"($C$4*F89)*PerMemberAssess[[#This Row],[Member / Unit Count (this type of Unit)]]","v":{"v":0,"d":"$0.00"}},{"$f":"($C$4*F89/2)*PerMemberAssess[[#This Row],[Member / Unit Count (this type of Unit)]]","v":{"v":0,"d":"$0.00"}},{"$f":"($C$4*F89/4)*PerMemberAssess[[#This Row],[Member / Unit Count (this type of Unit)]]","v":{"v":0,"d":"$0.00"}},{"$f":"($C$4*F89/12)*PerMemberAssess[[#This Row],[Member / Unit Count (this type of Unit)]]","v":{"v":0,"d":"$0.00"}}]
[{"$nulls":7},{"v":0,"d":"0.000%"},{"v":0,"d":"$0.000"},{"$f":"($C$4*F90)*PerMemberAssess[[#This Row],[Member / Unit Count (this type of Unit)]]","v":{"v":0,"d":"$0.00"}},{"$f":"($C$4*F90/2)*PerMemberAssess[[#This Row],[Member / Unit Count (this type of Unit)]]","v":{"v":0,"d":"$0.00"}},{"$f":"($C$4*F90/4)*PerMemberAssess[[#This Row],[Member / Unit Count (this type of Unit)]]","v":{"v":0,"d":"$0.00"}},{"$f":"($C$4*F90/12)*PerMemberAssess[[#This Row],[Member / Unit Count (this type of Unit)]]","v":{"v":0,"d":"$0.00"}}]
[{"$nulls":7},{"v":0,"d":"0.000%"},{"v":0,"d":"$0.000"},{"$f":"($C$4*F91)*PerMemberAssess[[#This Row],[Member / Unit Count (this type of Unit)]]","v":{"v":0,"d":"$0.00"}},{"$f":"($C$4*F91/2)*PerMemberAssess[[#This Row],[Member / Unit Count (this type of Unit)]]","v":{"v":0,"d":"$0.00"}},{"$f":"($C$4*F91/4)*PerMemberAssess[[#This Row],[Member / Unit Count (this type of Unit)]]","v":{"v":0,"d":"$0.00"}},{"$f":"($C$4*F91/12)*PerMemberAssess[[#This Row],[Member / Unit Count (this type of Unit)]]","v":{"v":0,"d":"$0.00"}}]
[{"$nulls":7},{"v":0,"d":"0.000%"},{"v":0,"d":"$0.000"},{"$f":"($C$4*F92)*PerMemberAssess[[#This Row],[Member / Unit Count (this type of Unit)]]","v":{"v":0,"d":"$0.00"}},{"$f":"($C$4*F92/2)*PerMemberAssess[[#This Row],[Member / Unit Count (this type of Unit)]]","v":{"v":0,"d":"$0.00"}},{"$f":"($C$4*F92/4)*PerMemberAssess[[#This Row],[Member / Unit Count (this type of Unit)]]","v":{"v":0,"d":"$0.00"}},{"$f":"($C$4*F92/12)*PerMemberAssess[[#This Row],[Member / Unit Count (this type of Unit)]]","v":{"v":0,"d":"$0.00"}}]
[{"$nulls":7},{"v":0,"d":"0.000%"},{"v":0,"d":"$0.000"},{"$f":"($C$4*F93)*PerMemberAssess[[#This Row],[Member / Unit Count (this type of Unit)]]","v":{"v":0,"d":"$0.00"}},{"$f":"($C$4*F93/2)*PerMemberAssess[[#This Row],[Member / Unit Count (this type of Unit)]]","v":{"v":0,"d":"$0.00"}},{"$f":"($C$4*F93/4)*PerMemberAssess[[#This Row],[Member / Unit Count (this type of Unit)]]","v":{"v":0,"d":"$0.00"}},{"$f":"($C$4*F93/12)*PerMemberAssess[[#This Row],[Member / Unit Count (this type of Unit)]]","v":{"v":0,"d":"$0.00"}}]
[{"$nulls":7},{"v":0,"d":"0.000%"},{"v":0,"d":"$0.000"},{"$f":"($C$4*F94)*PerMemberAssess[[#This Row],[Member / Unit Count (this type of Unit)]]","v":{"v":0,"d":"$0.00"}},{"$f":"($C$4*F94/2)*PerMemberAssess[[#This Row],[Member / Unit Count (this type of Unit)]]","v":{"v":0,"d":"$0.00"}},{"$f":"($C$4*F94/4)*PerMemberAssess[[#This Row],[Member / Unit Count (this type of Unit)]]","v":{"v":0,"d":"$0.00"}},{"$f":"($C$4*F94/12)*PerMemberAssess[[#This Row],[Member / Unit Count (this type of Unit)]]","v":{"v":0,"d":"$0.00"}}]
[{"$nulls":7},{"v":0,"d":"0.000%"},{"v":0,"d":"$0.000"},{"$f":"($C$4*F95)*PerMemberAssess[[#This Row],[Member / Unit Count (this type of Unit)]]","v":{"v":0,"d":"$0.00"}},{"$f":"($C$4*F95/2)*PerMemberAssess[[#This Row],[Member / Unit Count (this type of Unit)]]","v":{"v":0,"d":"$0.00"}},{"$f":"($C$4*F95/4)*PerMemberAssess[[#This Row],[Member / Unit Count (this type of Unit)]]","v":{"v":0,"d":"$0.00"}},{"$f":"($C$4*F95/12)*PerMemberAssess[[#This Row],[Member / Unit Count (this type of Unit)]]","v":{"v":0,"d":"$0.00"}}]
[{"$nulls":7},{"v":0,"d":"0.000%"},{"v":0,"d":"$0.000"},{"$f":"($C$4*F96)*PerMemberAssess[[#This Row],[Member / Unit Count (this type of Unit)]]","v":{"v":0,"d":"$0.00"}},{"$f":"($C$4*F96/2)*PerMemberAssess[[#This Row],[Member / Unit Count (this type of Unit)]]","v":{"v":0,"d":"$0.00"}},{"$f":"($C$4*F96/4)*PerMemberAssess[[#This Row],[Member / Unit Count (this type of Unit)]]","v":{"v":0,"d":"$0.00"}},{"$f":"($C$4*F96/12)*PerMemberAssess[[#This Row],[Member / Unit Count (this type of Unit)]]","v":{"v":0,"d":"$0.00"}}]
[{"$nulls":7},{"v":0,"d":"0.000%"},{"v":0,"d":"$0.000"},{"$f":"($C$4*F97)*PerMemberAssess[[#This Row],[Member / Unit Count (this type of Unit)]]","v":{"v":0,"d":"$0.00"}},{"$f":"($C$4*F97/2)*PerMemberAssess[[#This Row],[Member / Unit Count (this type of Unit)]]","v":{"v":0,"d":"$0.00"}},{"$f":"($C$4*F97/4)*PerMemberAssess[[#This Row],[Member / Unit Count (this type of Unit)]]","v":{"v":0,"d":"$0.00"}},{"$f":"($C$4*F97/12)*PerMemberAssess[[#This Row],[Member / Unit Count (this type of Unit)]]","v":{"v":0,"d":"$0.00"}}]
[{"$nulls":7},{"v":0,"d":"0.000%"},{"v":0,"d":"$0.000"},{"$f":"($C$4*F98)*PerMemberAssess[[#This Row],[Member / Unit Count (this type of Unit)]]","v":{"v":0,"d":"$0.00"}},{"$f":"($C$4*F98/2)*PerMemberAssess[[#This Row],[Member / Unit Count (this type of Unit)]]","v":{"v":0,"d":"$0.00"}},{"$f":"($C$4*F98/4)*PerMemberAssess[[#This Row],[Member / Unit Count (this type of Unit)]]","v":{"v":0,"d":"$0.00"}},{"$f":"($C$4*F98/12)*PerMemberAssess[[#This Row],[Member / Unit Count (this type of Unit)]]","v":{"v":0,"d":"$0.00"}}]
[{"$nulls":7},{"v":0,"d":"0.000%"},{"v":0,"d":"$0.000"},{"$f":"($C$4*F99)*PerMemberAssess[[#This Row],[Member / Unit Count (this type of Unit)]]","v":{"v":0,"d":"$0.00"}},{"$f":"($C$4*F99/2)*PerMemberAssess[[#This Row],[Member / Unit Count (this type of Unit)]]","v":{"v":0,"d":"$0.00"}},{"$f":"($C$4*F99/4)*PerMemberAssess[[#This Row],[Member / Unit Count (this type of Unit)]]","v":{"v":0,"d":"$0.00"}},{"$f":"($C$4*F99/12)*PerMemberAssess[[#This Row],[Member / Unit Count (this type of Unit)]]","v":{"v":0,"d":"$0.00"}}]
[{"$nulls":7},{"v":0,"d":"0.000%"},{"v":0,"d":"$0.000"},{"$f":"($C$4*F100)*PerMemberAssess[[#This Row],[Member / Unit Count (this type of Unit)]]","v":{"v":0,"d":"$0.00"}},{"$f":"($C$4*F100/2)*PerMemberAssess[[#This Row],[Member / Unit Count (this type of Unit)]]","v":{"v":0,"d":"$0.00"}},{"$f":"($C$4*F100/4)*PerMemberAssess[[#This Row],[Member / Unit Count (this type of Unit)]]","v":{"v":0,"d":"$0.00"}},{"$f":"($C$4*F100/12)*PerMemberAssess[[#This Row],[Member / Unit Count (this type of Unit)]]","v":{"v":0,"d":"$0.00"}}]
[{"$nulls":7},{"v":0,"d":"0.000%"},{"v":0,"d":"$0.000"},{"$f":"($C$4*F101)*PerMemberAssess[[#This Row],[Member / Unit Count (this type of Unit)]]","v":{"v":0,"d":"$0.00"}},{"$f":"($C$4*F101/2)*PerMemberAssess[[#This Row],[Member / Unit Count (this type of Unit)]]","v":{"v":0,"d":"$0.00"}},{"$f":"($C$4*F101/4)*PerMemberAssess[[#This Row],[Member / Unit Count (this type of Unit)]]","v":{"v":0,"d":"$0.00"}},{"$f":"($C$4*F101/12)*PerMemberAssess[[#This Row],[Member / Unit Count (this type of Unit)]]","v":{"v":0,"d":"$0.00"}}]
[{"$nulls":7},{"v":0,"d":"0.000%"},{"v":0,"d":"$0.000"},{"$f":"($C$4*F102)*PerMemberAssess[[#This Row],[Member / Unit Count (this type of Unit)]]","v":{"v":0,"d":"$0.00"}},{"$f":"($C$4*F102/2)*PerMemberAssess[[#This Row],[Member / Unit Count (this type of Unit)]]","v":{"v":0,"d":"$0.00"}},{"$f":"($C$4*F102/4)*PerMemberAssess[[#This Row],[Member / Unit Count (this type of Unit)]]","v":{"v":0,"d":"$0.00"}},{"$f":"($C$4*F102/12)*PerMemberAssess[[#This Row],[Member / Unit Count (this type of Unit)]]","v":{"v":0,"d":"$0.00"}}]
[{"$nulls":7},{"v":0,"d":"0.000%"},{"v":0,"d":"$0.000"},{"$f":"($C$4*F103)*PerMemberAssess[[#This Row],[Member / Unit Count (this type of Unit)]]","v":{"v":0,"d":"$0.00"}},{"$f":"($C$4*F103/2)*PerMemberAssess[[#This Row],[Member / Unit Count (this type of Unit)]]","v":{"v":0,"d":"$0.00"}},{"$f":"($C$4*F103/4)*PerMemberAssess[[#This Row],[Member / Unit Count (this type of Unit)]]","v":{"v":0,"d":"$0.00"}},{"$f":"($C$4*F103/12)*PerMemberAssess[[#This Row],[Member / Unit Count (this type of Unit)]]","v":{"v":0,"d":"$0.00"}}]
[{"$nulls":7},{"v":0,"d":"0.000%"},{"v":0,"d":"$0.000"},{"$f":"($C$4*F104)*PerMemberAssess[[#This Row],[Member / Unit Count (this type of Unit)]]","v":{"v":0,"d":"$0.00"}},{"$f":"($C$4*F104/2)*PerMemberAssess[[#This Row],[Member / Unit Count (this type of Unit)]]","v":{"v":0,"d":"$0.00"}},{"$f":"($C$4*F104/4)*PerMemberAssess[[#This Row],[Member / Unit Count (this type of Unit)]]","v":{"v":0,"d":"$0.00"}},{"$f":"($C$4*F104/12)*PerMemberAssess[[#This Row],[Member / Unit Count (this type of Unit)]]","v":{"v":0,"d":"$0.00"}}]
[{"$nulls":7},{"v":0,"d":"0.000%"},{"v":0,"d":"$0.000"},{"$f":"($C$4*F105)*PerMemberAssess[[#This Row],[Member / Unit Count (this type of Unit)]]","v":{"v":0,"d":"$0.00"}},{"$f":"($C$4*F105/2)*PerMemberAssess[[#This Row],[Member / Unit Count (this type of Unit)]]","v":{"v":0,"d":"$0.00"}},{"$f":"($C$4*F105/4)*PerMemberAssess[[#This Row],[Member / Unit Count (this type of Unit)]]","v":{"v":0,"d":"$0.00"}},{"$f":"($C$4*F105/12)*PerMemberAssess[[#This Row],[Member / Unit Count (this type of Unit)]]","v":{"v":0,"d":"$0.00"}}]
[{"$nulls":7},{"v":0,"d":"0.000%"},{"v":0,"d":"$0.000"},{"$f":"($C$4*F106)*PerMemberAssess[[#This Row],[Member / Unit Count (this type of Unit)]]","v":{"v":0,"d":"$0.00"}},{"$f":"($C$4*F106/2)*PerMemberAssess[[#This Row],[Member / Unit Count (this type of Unit)]]","v":{"v":0,"d":"$0.00"}},{"$f":"($C$4*F106/4)*PerMemberAssess[[#This Row],[Member / Unit Count (this type of Unit)]]","v":{"v":0,"d":"$0.00"}},{"$f":"($C$4*F106/12)*PerMemberAssess[[#This Row],[Member / Unit Count (this type of Unit)]]","v":{"v":0,"d":"$0.00"}}]
[{"$nulls":7},{"v":0,"d":"0.000%"},{"v":0,"d":"$0.000"},{"$f":"($C$4*F107)*PerMemberAssess[[#This Row],[Member / Unit Count (this type of Unit)]]","v":{"v":0,"d":"$0.00"}},{"$f":"($C$4*F107/2)*PerMemberAssess[[#This Row],[Member / Unit Count (this type of Unit)]]","v":{"v":0,"d":"$0.00"}},{"$f":"($C$4*F107/4)*PerMemberAssess[[#This Row],[Member / Unit Count (this type of Unit)]]","v":{"v":0,"d":"$0.00"}},{"$f":"($C$4*F107/12)*PerMemberAssess[[#This Row],[Member / Unit Count (this type of Unit)]]","v":{"v":0,"d":"$0.00"}}]
[{"$nulls":7},{"v":0,"d":"0.000%"},{"v":0,"d":"$0.000"},{"$f":"($C$4*F108)*PerMemberAssess[[#This Row],[Member / Unit Count (this type of Unit)]]","v":{"v":0,"d":"$0.00"}},{"$f":"($C$4*F108/2)*PerMemberAssess[[#This Row],[Member / Unit Count (this type of Unit)]]","v":{"v":0,"d":"$0.00"}},{"$f":"($C$4*F108/4)*PerMemberAssess[[#This Row],[Member / Unit Count (this type of Unit)]]","v":{"v":0,"d":"$0.00"}},{"$f":"($C$4*F108/12)*PerMemberAssess[[#This Row],[Member / Unit Count (this type of Unit)]]","v":{"v":0,"d":"$0.00"}}]
[{"$nulls":7},{"v":0,"d":"0.000%"},{"v":0,"d":"$0.000"},{"$f":"($C$4*F109)*PerMemberAssess[[#This Row],[Member / Unit Count (this type of Unit)]]","v":{"v":0,"d":"$0.00"}},{"$f":"($C$4*F109/2)*PerMemberAssess[[#This Row],[Member / Unit Count (this type of Unit)]]","v":{"v":0,"d":"$0.00"}},{"$f":"($C$4*F109/4)*PerMemberAssess[[#This Row],[Member / Unit Count (this type of Unit)]]","v":{"v":0,"d":"$0.00"}},{"$f":"($C$4*F109/12)*PerMemberAssess[[#This Row],[Member / Unit Count (this type of Unit)]]","v":{"v":0,"d":"$0.00"}}]
[{"$nulls":7},{"v":0,"d":"0.000%"},{"v":0,"d":"$0.000"},{"$f":"($C$4*F110)*PerMemberAssess[[#This Row],[Member / Unit Count (this type of Unit)]]","v":{"v":0,"d":"$0.00"}},{"$f":"($C$4*F110/2)*PerMemberAssess[[#This Row],[Member / Unit Count (this type of Unit)]]","v":{"v":0,"d":"$0.00"}},{"$f":"($C$4*F110/4)*PerMemberAssess[[#This Row],[Member / Unit Count (this type of Unit)]]","v":{"v":0,"d":"$0.00"}},{"$f":"($C$4*F110/12)*PerMemberAssess[[#This Row],[Member / Unit Count (this type of Unit)]]","v":{"v":0,"d":"$0.00"}}]
[{"$nulls":7},{"v":0,"d":"0.000%"},{"v":0,"d":"$0.000"},{"$f":"($C$4*F111)*PerMemberAssess[[#This Row],[Member / Unit Count (this type of Unit)]]","v":{"v":0,"d":"$0.00"}},{"$f":"($C$4*F111/2)*PerMemberAssess[[#This Row],[Member / Unit Count (this type of Unit)]]","v":{"v":0,"d":"$0.00"}},{"$f":"($C$4*F111/4)*PerMemberAssess[[#This Row],[Member / Unit Count (this type of Unit)]]","v":{"v":0,"d":"$0.00"}},{"$f":"($C$4*F111/12)*PerMemberAssess[[#This Row],[Member / Unit Count (this type of Unit)]]","v":{"v":0,"d":"$0.00"}}]
[{"$nulls":7},{"v":0,"d":"0.000%"},{"v":0,"d":"$0.000"},{"$f":"($C$4*F112)*PerMemberAssess[[#This Row],[Member / Unit Count (this type of Unit)]]","v":{"v":0,"d":"$0.00"}},{"$f":"($C$4*F112/2)*PerMemberAssess[[#This Row],[Member / Unit Count (this type of Unit)]]","v":{"v":0,"d":"$0.00"}},{"$f":"($C$4*F112/4)*PerMemberAssess[[#This Row],[Member / Unit Count (this type of Unit)]]","v":{"v":0,"d":"$0.00"}},{"$f":"($C$4*F112/12)*PerMemberAssess[[#This Row],[Member / Unit Count (this type of Unit)]]","v":{"v":0,"d":"$0.00"}}]
[{"$nulls":7},{"v":0,"d":"0.000%"},{"v":0,"d":"$0.000"},{"$f":"($C$4*F113)*PerMemberAssess[[#This Row],[Member / Unit Count (this type of Unit)]]","v":{"v":0,"d":"$0.00"}},{"$f":"($C$4*F113/2)*PerMemberAssess[[#This Row],[Member / Unit Count (this type of Unit)]]","v":{"v":0,"d":"$0.00"}},{"$f":"($C$4*F113/4)*PerMemberAssess[[#This Row],[Member / Unit Count (this type of Unit)]]","v":{"v":0,"d":"$0.00"}},{"$f":"($C$4*F113/12)*PerMemberAssess[[#This Row],[Member / Unit Count (this type of Unit)]]","v":{"v":0,"d":"$0.00"}}]
[{"$nulls":7},{"v":0,"d":"0.000%"},{"v":0,"d":"$0.000"},{"$f":"($C$4*F114)*PerMemberAssess[[#This Row],[Member / Unit Count (this type of Unit)]]","v":{"v":0,"d":"$0.00"}},{"$f":"($C$4*F114/2)*PerMemberAssess[[#This Row],[Member / Unit Count (this type of Unit)]]","v":{"v":0,"d":"$0.00"}},{"$f":"($C$4*F114/4)*PerMemberAssess[[#This Row],[Member / Unit Count (this type of Unit)]]","v":{"v":0,"d":"$0.00"}},{"$f":"($C$4*F114/12)*PerMemberAssess[[#This Row],[Member / Unit Count (this type of Unit)]]","v":{"v":0,"d":"$0.00"}}]
[{"$nulls":7},{"v":0,"d":"0.000%"},{"v":0,"d":"$0.000"},{"$f":"($C$4*F115)*PerMemberAssess[[#This Row],[Member / Unit Count (this type of Unit)]]","v":{"v":0,"d":"$0.00"}},{"$f":"($C$4*F115/2)*PerMemberAssess[[#This Row],[Member / Unit Count (this type of Unit)]]","v":{"v":0,"d":"$0.00"}},{"$f":"($C$4*F115/4)*PerMemberAssess[[#This Row],[Member / Unit Count (this type of Unit)]]","v":{"v":0,"d":"$0.00"}},{"$f":"($C$4*F115/12)*PerMemberAssess[[#This Row],[Member / Unit Count (this type of Unit)]]","v":{"v":0,"d":"$0.00"}}]
[{"$nulls":7},{"v":0,"d":"0.000%"},{"v":0,"d":"$0.000"},{"$f":"($C$4*F116)*PerMemberAssess[[#This Row],[Member / Unit Count (this type of Unit)]]","v":{"v":0,"d":"$0.00"}},{"$f":"($C$4*F116/2)*PerMemberAssess[[#This Row],[Member / Unit Count (this type of Unit)]]","v":{"v":0,"d":"$0.00"}},{"$f":"($C$4*F116/4)*PerMemberAssess[[#This Row],[Member / Unit Count (this type of Unit)]]","v":{"v":0,"d":"$0.00"}},{"$f":"($C$4*F116/12)*PerMemberAssess[[#This Row],[Member / Unit Count (this type of Unit)]]","v":{"v":0,"d":"$0.00"}}]
[{"$nulls":7},{"v":0,"d":"0.000%"},{"v":0,"d":"$0.000"},{"$f":"($C$4*F117)*PerMemberAssess[[#This Row],[Member / Unit Count (this type of Unit)]]","v":{"v":0,"d":"$0.00"}},{"$f":"($C$4*F117/2)*PerMemberAssess[[#This Row],[Member / Unit Count (this type of Unit)]]","v":{"v":0,"d":"$0.00"}},{"$f":"($C$4*F117/4)*PerMemberAssess[[#This Row],[Member / Unit Count (this type of Unit)]]","v":{"v":0,"d":"$0.00"}},{"$f":"($C$4*F117/12)*PerMemberAssess[[#This Row],[Member / Unit Count (this type of Unit)]]","v":{"v":0,"d":"$0.00"}}]
[{"$nulls":7},{"v":0,"d":"0.000%"},{"v":0,"d":"$0.000"},{"$f":"($C$4*F118)*PerMemberAssess[[#This Row],[Member / Unit Count (this type of Unit)]]","v":{"v":0,"d":"$0.00"}},{"$f":"($C$4*F118/2)*PerMemberAssess[[#This Row],[Member / Unit Count (this type of Unit)]]","v":{"v":0,"d":"$0.00"}},{"$f":"($C$4*F118/4)*PerMemberAssess[[#This Row],[Member / Unit Count (this type of Unit)]]","v":{"v":0,"d":"$0.00"}},{"$f":"($C$4*F118/12)*PerMemberAssess[[#This Row],[Member / Unit Count (this type of Unit)]]","v":{"v":0,"d":"$0.00"}}]
[{"$nulls":7},{"v":0,"d":"0.000%"},{"v":0,"d":"$0.000"},{"$f":"($C$4*F119)*PerMemberAssess[[#This Row],[Member / Unit Count (this type of Unit)]]","v":{"v":0,"d":"$0.00"}},{"$f":"($C$4*F119/2)*PerMemberAssess[[#This Row],[Member / Unit Count (this type of Unit)]]","v":{"v":0,"d":"$0.00"}},{"$f":"($C$4*F119/4)*PerMemberAssess[[#This Row],[Member / Unit Count (this type of Unit)]]","v":{"v":0,"d":"$0.00"}},{"$f":"($C$4*F119/12)*PerMemberAssess[[#This Row],[Member / Unit Count (this type of Unit)]]","v":{"v":0,"d":"$0.00"}}]
[{"$nulls":7},{"v":0,"d":"0.000%"},{"v":0,"d":"$0.000"},{"$f":"($C$4*F120)*PerMemberAssess[[#This Row],[Member / Unit Count (this type of Unit)]]","v":{"v":0,"d":"$0.00"}},{"$f":"($C$4*F120/2)*PerMemberAssess[[#This Row],[Member / Unit Count (this type of Unit)]]","v":{"v":0,"d":"$0.00"}},{"$f":"($C$4*F120/4)*PerMemberAssess[[#This Row],[Member / Unit Count (this type of Unit)]]","v":{"v":0,"d":"$0.00"}},{"$f":"($C$4*F120/12)*PerMemberAssess[[#This Row],[Member / Unit Count (this type of Unit)]]","v":{"v":0,"d":"$0.00"}}]
[{"$nulls":7},{"v":0,"d":"0.000%"},{"v":0,"d":"$0.000"},{"$f":"($C$4*F121)*PerMemberAssess[[#This Row],[Member / Unit Count (this type of Unit)]]","v":{"v":0,"d":"$0.00"}},{"$f":"($C$4*F121/2)*PerMemberAssess[[#This Row],[Member / Unit Count (this type of Unit)]]","v":{"v":0,"d":"$0.00"}},{"$f":"($C$4*F121/4)*PerMemberAssess[[#This Row],[Member / Unit Count (this type of Unit)]]","v":{"v":0,"d":"$0.00"}},{"$f":"($C$4*F121/12)*PerMemberAssess[[#This Row],[Member / Unit Count (this type of Unit)]]","v":{"v":0,"d":"$0.00"}}]
[{"$nulls":7},{"v":0,"d":"0.000%"},{"v":0,"d":"$0.000"},{"$f":"($C$4*F122)*PerMemberAssess[[#This Row],[Member / Unit Count (this type of Unit)]]","v":{"v":0,"d":"$0.00"}},{"$f":"($C$4*F122/2)*PerMemberAssess[[#This Row],[Member / Unit Count (this type of Unit)]]","v":{"v":0,"d":"$0.00"}},{"$f":"($C$4*F122/4)*PerMemberAssess[[#This Row],[Member / Unit Count (this type of Unit)]]","v":{"v":0,"d":"$0.00"}},{"$f":"($C$4*F122/12)*PerMemberAssess[[#This Row],[Member / Unit Count (this type of Unit)]]","v":{"v":0,"d":"$0.00"}}]
[{"$nulls":7},{"v":0,"d":"0.000%"},{"v":0,"d":"$0.000"},{"$f":"($C$4*F123)*PerMemberAssess[[#This Row],[Member / Unit Count (this type of Unit)]]","v":{"v":0,"d":"$0.00"}},{"$f":"($C$4*F123/2)*PerMemberAssess[[#This Row],[Member / Unit Count (this type of Unit)]]","v":{"v":0,"d":"$0.00"}},{"$f":"($C$4*F123/4)*PerMemberAssess[[#This Row],[Member / Unit Count (this type of Unit)]]","v":{"v":0,"d":"$0.00"}},{"$f":"($C$4*F123/12)*PerMemberAssess[[#This Row],[Member / Unit Count (this type of Unit)]]","v":{"v":0,"d":"$0.00"}}]
[{"$nulls":7},{"v":0,"d":"0.000%"},{"v":0,"d":"$0.000"},{"$f":"($C$4*F124)*PerMemberAssess[[#This Row],[Member / Unit Count (this type of Unit)]]","v":{"v":0,"d":"$0.00"}},{"$f":"($C$4*F124/2)*PerMemberAssess[[#This Row],[Member / Unit Count (this type of Unit)]]","v":{"v":0,"d":"$0.00"}},{"$f":"($C$4*F124/4)*PerMemberAssess[[#This Row],[Member / Unit Count (this type of Unit)]]","v":{"v":0,"d":"$0.00"}},{"$f":"($C$4*F124/12)*PerMemberAssess[[#This Row],[Member / Unit Count (this type of Unit)]]","v":{"v":0,"d":"$0.00"}}]
[{"$nulls":7},{"v":0,"d":"0.000%"},{"v":0,"d":"$0.000"},{"$f":"($C$4*F125)*PerMemberAssess[[#This Row],[Member / Unit Count (this type of Unit)]]","v":{"v":0,"d":"$0.00"}},{"$f":"($C$4*F125/2)*PerMemberAssess[[#This Row],[Member / Unit Count (this type of Unit)]]","v":{"v":0,"d":"$0.00"}},{"$f":"($C$4*F125/4)*PerMemberAssess[[#This Row],[Member / Unit Count (this type of Unit)]]","v":{"v":0,"d":"$0.00"}},{"$f":"($C$4*F125/12)*PerMemberAssess[[#This Row],[Member / Unit Count (this type of Unit)]]","v":{"v":0,"d":"$0.00"}}]
[{"$nulls":7},{"v":0,"d":"0.000%"},{"v":0,"d":"$0.000"},{"$f":"($C$4*F126)*PerMemberAssess[[#This Row],[Member / Unit Count (this type of Unit)]]","v":{"v":0,"d":"$0.00"}},{"$f":"($C$4*F126/2)*PerMemberAssess[[#This Row],[Member / Unit Count (this type of Unit)]]","v":{"v":0,"d":"$0.00"}},{"$f":"($C$4*F126/4)*PerMemberAssess[[#This Row],[Member / Unit Count (this type of Unit)]]","v":{"v":0,"d":"$0.00"}},{"$f":"($C$4*F126/12)*PerMemberAssess[[#This Row],[Member / Unit Count (this type of Unit)]]","v":{"v":0,"d":"$0.00"}}]
[{"$nulls":7},{"v":0,"d":"0.000%"},{"v":0,"d":"$0.000"},{"$f":"($C$4*F127)*PerMemberAssess[[#This Row],[Member / Unit Count (this type of Unit)]]","v":{"v":0,"d":"$0.00"}},{"$f":"($C$4*F127/2)*PerMemberAssess[[#This Row],[Member / Unit Count (this type of Unit)]]","v":{"v":0,"d":"$0.00"}},{"$f":"($C$4*F127/4)*PerMemberAssess[[#This Row],[Member / Unit Count (this type of Unit)]]","v":{"v":0,"d":"$0.00"}},{"$f":"($C$4*F127/12)*PerMemberAssess[[#This Row],[Member / Unit Count (this type of Unit)]]","v":{"v":0,"d":"$0.00"}}]
[{"$nulls":7},{"v":0,"d":"0.000%"},{"v":0,"d":"$0.000"},{"$f":"($C$4*F128)*PerMemberAssess[[#This Row],[Member / Unit Count (this type of Unit)]]","v":{"v":0,"d":"$0.00"}},{"$f":"($C$4*F128/2)*PerMemberAssess[[#This Row],[Member / Unit Count (this type of Unit)]]","v":{"v":0,"d":"$0.00"}},{"$f":"($C$4*F128/4)*PerMemberAssess[[#This Row],[Member / Unit Count (this type of Unit)]]","v":{"v":0,"d":"$0.00"}},{"$f":"($C$4*F128/12)*PerMemberAssess[[#This Row],[Member / Unit Count (this type of Unit)]]","v":{"v":0,"d":"$0.00"}}]
[{"$nulls":7},{"v":0,"d":"0.000%"},{"v":0,"d":"$0.000"},{"$f":"($C$4*F129)*PerMemberAssess[[#This Row],[Member / Unit Count (this type of Unit)]]","v":{"v":0,"d":"$0.00"}},{"$f":"($C$4*F129/2)*PerMemberAssess[[#This Row],[Member / Unit Count (this type of Unit)]]","v":{"v":0,"d":"$0.00"}},{"$f":"($C$4*F129/4)*PerMemberAssess[[#This Row],[Member / Unit Count (this type of Unit)]]","v":{"v":0,"d":"$0.00"}},{"$f":"($C$4*F129/12)*PerMemberAssess[[#This Row],[Member / Unit Count (this type of Unit)]]","v":{"v":0,"d":"$0.00"}}]
[{"$nulls":7},{"v":0,"d":"0.000%"},{"v":0,"d":"$0.000"},{"$f":"($C$4*F130)*PerMemberAssess[[#This Row],[Member / Unit Count (this type of Unit)]]","v":{"v":0,"d":"$0.00"}},{"$f":"($C$4*F130/2)*PerMemberAssess[[#This Row],[Member / Unit Count (this type of Unit)]]","v":{"v":0,"d":"$0.00"}},{"$f":"($C$4*F130/4)*PerMemberAssess[[#This Row],[Member / Unit Count (this type of Unit)]]","v":{"v":0,"d":"$0.00"}},{"$f":"($C$4*F130/12)*PerMemberAssess[[#This Row],[Member / Unit Count (this type of Unit)]]","v":{"v":0,"d":"$0.00"}}]
[{"$nulls":7},{"v":0,"d":"0.000%"},{"v":0,"d":"$0.000"},{"$f":"($C$4*F131)*PerMemberAssess[[#This Row],[Member / Unit Count (this type of Unit)]]","v":{"v":0,"d":"$0.00"}},{"$f":"($C$4*F131/2)*PerMemberAssess[[#This Row],[Member / Unit Count (this type of Unit)]]","v":{"v":0,"d":"$0.00"}},{"$f":"($C$4*F131/4)*PerMemberAssess[[#This Row],[Member / Unit Count (this type of Unit)]]","v":{"v":0,"d":"$0.00"}},{"$f":"($C$4*F131/12)*PerMemberAssess[[#This Row],[Member / Unit Count (this type of Unit)]]","v":{"v":0,"d":"$0.00"}}]
[{"$nulls":7},{"v":0,"d":"0.000%"},{"v":0,"d":"$0.000"},{"$f":"($C$4*F132)*PerMemberAssess[[#This Row],[Member / Unit Count (this type of Unit)]]","v":{"v":0,"d":"$0.00"}},{"$f":"($C$4*F132/2)*PerMemberAssess[[#This Row],[Member / Unit Count (this type of Unit)]]","v":{"v":0,"d":"$0.00"}},{"$f":"($C$4*F132/4)*PerMemberAssess[[#This Row],[Member / Unit Count (this type of Unit)]]","v":{"v":0,"d":"$0.00"}},{"$f":"($C$4*F132/12)*PerMemberAssess[[#This Row],[Member / Unit Count (this type of Unit)]]","v":{"v":0,"d":"$0.00"}}]
[{"$nulls":7},{"v":0,"d":"0.000%"},{"v":0,"d":"$0.000"},{"$f":"($C$4*F133)*PerMemberAssess[[#This Row],[Member / Unit Count (this type of Unit)]]","v":{"v":0,"d":"$0.00"}},{"$f":"($C$4*F133/2)*PerMemberAssess[[#This Row],[Member / Unit Count (this type of Unit)]]","v":{"v":0,"d":"$0.00"}},{"$f":"($C$4*F133/4)*PerMemberAssess[[#This Row],[Member / Unit Count (this type of Unit)]]","v":{"v":0,"d":"$0.00"}},{"$f":"($C$4*F133/12)*PerMemberAssess[[#This Row],[Member / Unit Count (this type of Unit)]]","v":{"v":0,"d":"$0.00"}}]
[{"$nulls":7},{"v":0,"d":"0.000%"},{"v":0,"d":"$0.000"},{"$f":"($C$4*F134)*PerMemberAssess[[#This Row],[Member / Unit Count (this type of Unit)]]","v":{"v":0,"d":"$0.00"}},{"$f":"($C$4*F134/2)*PerMemberAssess[[#This Row],[Member / Unit Count (this type of Unit)]]","v":{"v":0,"d":"$0.00"}},{"$f":"($C$4*F134/4)*PerMemberAssess[[#This Row],[Member / Unit Count (this type of Unit)]]","v":{"v":0,"d":"$0.00"}},{"$f":"($C$4*F134/12)*PerMemberAssess[[#This Row],[Member / Unit Count (this type of Unit)]]","v":{"v":0,"d":"$0.00"}}]
[{"$nulls":7},{"v":0,"d":"0.000%"},{"v":0,"d":"$0.000"},{"$f":"($C$4*F135)*PerMemberAssess[[#This Row],[Member / Unit Count (this type of Unit)]]","v":{"v":0,"d":"$0.00"}},{"$f":"($C$4*F135/2)*PerMemberAssess[[#This Row],[Member / Unit Count (this type of Unit)]]","v":{"v":0,"d":"$0.00"}},{"$f":"($C$4*F135/4)*PerMemberAssess[[#This Row],[Member / Unit Count (this type of Unit)]]","v":{"v":0,"d":"$0.00"}},{"$f":"($C$4*F135/12)*PerMemberAssess[[#This Row],[Member / Unit Count (this type of Unit)]]","v":{"v":0,"d":"$0.00"}}]
[{"$nulls":7},{"v":0,"d":"0.000%"},{"v":0,"d":"$0.000"},{"$f":"($C$4*F136)*PerMemberAssess[[#This Row],[Member / Unit Count (this type of Unit)]]","v":{"v":0,"d":"$0.00"}},{"$f":"($C$4*F136/2)*PerMemberAssess[[#This Row],[Member / Unit Count (this type of Unit)]]","v":{"v":0,"d":"$0.00"}},{"$f":"($C$4*F136/4)*PerMemberAssess[[#This Row],[Member / Unit Count (this type of Unit)]]","v":{"v":0,"d":"$0.00"}},{"$f":"($C$4*F136/12)*PerMemberAssess[[#This Row],[Member / Unit Count (this type of Unit)]]","v":{"v":0,"d":"$0.00"}}]
[{"$nulls":7},{"$f":"G137*F137","v":{"v":0,"d":"0.000%"}},{"$f":"($C$4*F137/12)","v":{"v":0,"d":"$0.000"}},{"$f":"($C$4*F137)*PerMemberAssess[[#This Row],[Member / Unit Count (this type of Unit)]]","v":{"v":0,"d":"$0.00"}},{"$f":"($C$4*F137/2)*PerMemberAssess[[#This Row],[Member / Unit Count (this type of Unit)]]","v":{"v":0,"d":"$0.00"}},{"$f":"($C$4*F137/4)*PerMemberAssess[[#This Row],[Member / Unit Count (this type of Unit)]]","v":{"v":0,"d":"$0.00"}},{"$f":"($C$4*F137/12)*PerMemberAssess[[#This Row],[Member / Unit Count (this type of Unit)]]","v":{"v":0,"d":"$0.00"}}]
[{"$nulls":7},{"v":0,"d":"0.000%"},{"v":0,"d":"$0.000"},{"$f":"($C$4*F138)*PerMemberAssess[[#This Row],[Member / Unit Count (this type of Unit)]]","v":{"v":0,"d":"$0.00"}},{"$f":"($C$4*F138/2)*PerMemberAssess[[#This Row],[Member / Unit Count (this type of Unit)]]","v":{"v":0,"d":"$0.00"}},{"$f":"($C$4*F138/4)*PerMemberAssess[[#This Row],[Member / Unit Count (this type of Unit)]]","v":{"v":0,"d":"$0.00"}},{"$f":"($C$4*F138/12)*PerMemberAssess[[#This Row],[Member / Unit Count (this type of Unit)]]","v":{"v":0,"d":"$0.00"}}]
[{"$nulls":7},{"v":0,"d":"0.000%"},{"v":0,"d":"$0.000"},{"$f":"($C$4*F139)*PerMemberAssess[[#This Row],[Member / Unit Count (this type of Unit)]]","v":{"v":0,"d":"$0.00"}},{"$f":"($C$4*F139/2)*PerMemberAssess[[#This Row],[Member / Unit Count (this type of Unit)]]","v":{"v":0,"d":"$0.00"}},{"$f":"($C$4*F139/4)*PerMemberAssess[[#This Row],[Member / Unit Count (this type of Unit)]]","v":{"v":0,"d":"$0.00"}},{"$f":"($C$4*F139/12)*PerMemberAssess[[#This Row],[Member / Unit Count (this type of Unit)]]","v":{"v":0,"d":"$0.00"}}]
[{"$nulls":7},{"v":0,"d":"0.000%"},{"v":0,"d":"$0.000"},{"$f":"($C$4*F140)*PerMemberAssess[[#This Row],[Member / Unit Count (this type of Unit)]]","v":{"v":0,"d":"$0.00"}},{"$f":"($C$4*F140/2)*PerMemberAssess[[#This Row],[Member / Unit Count (this type of Unit)]]","v":{"v":0,"d":"$0.00"}},{"$f":"($C$4*F140/4)*PerMemberAssess[[#This Row],[Member / Unit Count (this type of Unit)]]","v":{"v":0,"d":"$0.00"}},{"$f":"($C$4*F140/12)*PerMemberAssess[[#This Row],[Member / Unit Count (this type of Unit)]]","v":{"v":0,"d":"$0.00"}}]
[{"$nulls":7},{"v":0,"d":"0.000%"},{"v":0,"d":"$0.000"},{"$f":"($C$4*F141)*PerMemberAssess[[#This Row],[Member / Unit Count (this type of Unit)]]","v":{"v":0,"d":"$0.00"}},{"$f":"($C$4*F141/2)*PerMemberAssess[[#This Row],[Member / Unit Count (this type of Unit)]]","v":{"v":0,"d":"$0.00"}},{"$f":"($C$4*F141/4)*PerMemberAssess[[#This Row],[Member / Unit Count (this type of Unit)]]","v":{"v":0,"d":"$0.00"}},{"$f":"($C$4*F141/12)*PerMemberAssess[[#This Row],[Member / Unit Count (this type of Unit)]]","v":{"v":0,"d":"$0.00"}}]
[{"$nulls":7},{"v":0,"d":"0.000%"},{"v":0,"d":"$0.000"},{"$f":"($C$4*F142)*PerMemberAssess[[#This Row],[Member / Unit Count (this type of Unit)]]","v":{"v":0,"d":"$0.00"}},{"$f":"($C$4*F142/2)*PerMemberAssess[[#This Row],[Member / Unit Count (this type of Unit)]]","v":{"v":0,"d":"$0.00"}},{"$f":"($C$4*F142/4)*PerMemberAssess[[#This Row],[Member / Unit Count (this type of Unit)]]","v":{"v":0,"d":"$0.00"}},{"$f":"($C$4*F142/12)*PerMemberAssess[[#This Row],[Member / Unit Count (this type of Unit)]]","v":{"v":0,"d":"$0.00"}}]
[{"$nulls":7},{"v":0,"d":"0.000%"},{"v":0,"d":"$0.000"},{"$f":"($C$4*F143)*PerMemberAssess[[#This Row],[Member / Unit Count (this type of Unit)]]","v":{"v":0,"d":"$0.00"}},{"$f":"($C$4*F143/2)*PerMemberAssess[[#This Row],[Member / Unit Count (this type of Unit)]]","v":{"v":0,"d":"$0.00"}},{"$f":"($C$4*F143/4)*PerMemberAssess[[#This Row],[Member / Unit Count (this type of Unit)]]","v":{"v":0,"d":"$0.00"}},{"$f":"($C$4*F143/12)*PerMemberAssess[[#This Row],[Member / Unit Count (this type of Unit)]]","v":{"v":0,"d":"$0.00"}}]
[{"$nulls":7},{"v":0,"d":"0.000%"},{"v":0,"d":"$0.000"},{"$f":"($C$4*F144)*PerMemberAssess[[#This Row],[Member / Unit Count (this type of Unit)]]","v":{"v":0,"d":"$0.00"}},{"$f":"($C$4*F144/2)*PerMemberAssess[[#This Row],[Member / Unit Count (this type of Unit)]]","v":{"v":0,"d":"$0.00"}},{"$f":"($C$4*F144/4)*PerMemberAssess[[#This Row],[Member / Unit Count (this type of Unit)]]","v":{"v":0,"d":"$0.00"}},{"$f":"($C$4*F144/12)*PerMemberAssess[[#This Row],[Member / Unit Count (this type of Unit)]]","v":{"v":0,"d":"$0.00"}}]
[{"$nulls":7},{"v":0,"d":"0.000%"},{"v":0,"d":"$0.000"},{"$f":"($C$4*F145)*PerMemberAssess[[#This Row],[Member / Unit Count (this type of Unit)]]","v":{"v":0,"d":"$0.00"}},{"$f":"($C$4*F145/2)*PerMemberAssess[[#This Row],[Member / Unit Count (this type of Unit)]]","v":{"v":0,"d":"$0.00"}},{"$f":"($C$4*F145/4)*PerMemberAssess[[#This Row],[Member / Unit Count (this type of Unit)]]","v":{"v":0,"d":"$0.00"}},{"$f":"($C$4*F145/12)*PerMemberAssess[[#This Row],[Member / Unit Count (this type of Unit)]]","v":{"v":0,"d":"$0.00"}}]
[{"$nulls":7},{"v":0,"d":"0.000%"},{"v":0,"d":"$0.000"},{"$f":"($C$4*F146)*PerMemberAssess[[#This Row],[Member / Unit Count (this type of Unit)]]","v":{"v":0,"d":"$0.00"}},{"$f":"($C$4*F146/2)*PerMemberAssess[[#This Row],[Member / Unit Count (this type of Unit)]]","v":{"v":0,"d":"$0.00"}},{"$f":"($C$4*F146/4)*PerMemberAssess[[#This Row],[Member / Unit Count (this type of Unit)]]","v":{"v":0,"d":"$0.00"}},{"$f":"($C$4*F146/12)*PerMemberAssess[[#This Row],[Member / Unit Count (this type of Unit)]]","v":{"v":0,"d":"$0.00"}}]
[{"$nulls":7},{"v":0,"d":"0.000%"},{"v":0,"d":"$0.000"},{"$f":"($C$4*F147)*PerMemberAssess[[#This Row],[Member / Unit Count (this type of Unit)]]","v":{"v":0,"d":"$0.00"}},{"$f":"($C$4*F147/2)*PerMemberAssess[[#This Row],[Member / Unit Count (this type of Unit)]]","v":{"v":0,"d":"$0.00"}},{"$f":"($C$4*F147/4)*PerMemberAssess[[#This Row],[Member / Unit Count (this type of Unit)]]","v":{"v":0,"d":"$0.00"}},{"$f":"($C$4*F147/12)*PerMemberAssess[[#This Row],[Member / Unit Count (this type of Unit)]]","v":{"v":0,"d":"$0.00"}}]
[{"$nulls":7},{"v":0,"d":"0.000%"},{"v":0,"d":"$0.000"},{"$f":"($C$4*F148)*PerMemberAssess[[#This Row],[Member / Unit Count (this type of Unit)]]","v":{"v":0,"d":"$0.00"}},{"$f":"($C$4*F148/2)*PerMemberAssess[[#This Row],[Member / Unit Count (this type of Unit)]]","v":{"v":0,"d":"$0.00"}},{"$f":"($C$4*F148/4)*PerMemberAssess[[#This Row],[Member / Unit Count (this type of Unit)]]","v":{"v":0,"d":"$0.00"}},{"$f":"($C$4*F148/12)*PerMemberAssess[[#This Row],[Member / Unit Count (this type of Unit)]]","v":{"v":0,"d":"$0.00"}}]
[{"$nulls":7},{"v":0,"d":"0.000%"},{"v":0,"d":"$0.000"},{"$f":"($C$4*F149)*PerMemberAssess[[#This Row],[Member / Unit Count (this type of Unit)]]","v":{"v":0,"d":"$0.00"}},{"$f":"($C$4*F149/2)*PerMemberAssess[[#This Row],[Member / Unit Count (this type of Unit)]]","v":{"v":0,"d":"$0.00"}},{"$f":"($C$4*F149/4)*PerMemberAssess[[#This Row],[Member / Unit Count (this type of Unit)]]","v":{"v":0,"d":"$0.00"}},{"$f":"($C$4*F149/12)*PerMemberAssess[[#This Row],[Member / Unit Count (this type of Unit)]]","v":{"v":0,"d":"$0.00"}}]
[{"$nulls":7},{"v":0,"d":"0.000%"},{"v":0,"d":"$0.000"},{"$f":"($C$4*F150)*PerMemberAssess[[#This Row],[Member / Unit Count (this type of Unit)]]","v":{"v":0,"d":"$0.00"}},{"$f":"($C$4*F150/2)*PerMemberAssess[[#This Row],[Member / Unit Count (this type of Unit)]]","v":{"v":0,"d":"$0.00"}},{"$f":"($C$4*F150/4)*PerMemberAssess[[#This Row],[Member / Unit Count (this type of Unit)]]","v":{"v":0,"d":"$0.00"}},{"$f":"($C$4*F150/12)*PerMemberAssess[[#This Row],[Member / Unit Count (this type of Unit)]]","v":{"v":0,"d":"$0.00"}}]
[{"$nulls":7},{"v":0,"d":"0.000%"},{"v":0,"d":"$0.000"},{"$f":"($C$4*F151)*PerMemberAssess[[#This Row],[Member / Unit Count (this type of Unit)]]","v":{"v":0,"d":"$0.00"}},{"$f":"($C$4*F151/2)*PerMemberAssess[[#This Row],[Member / Unit Count (this type of Unit)]]","v":{"v":0,"d":"$0.00"}},{"$f":"($C$4*F151/4)*PerMemberAssess[[#This Row],[Member / Unit Count (this type of Unit)]]","v":{"v":0,"d":"$0.00"}},{"$f":"($C$4*F151/12)*PerMemberAssess[[#This Row],[Member / Unit Count (this type of Unit)]]","v":{"v":0,"d":"$0.00"}}]
[{"$nulls":7},{"v":0,"d":"0.000%"},{"v":0,"d":"$0.000"},{"$f":"($C$4*F152)*PerMemberAssess[[#This Row],[Member / Unit Count (this type of Unit)]]","v":{"v":0,"d":"$0.00"}},{"$f":"($C$4*F152/2)*PerMemberAssess[[#This Row],[Member / Unit Count (this type of Unit)]]","v":{"v":0,"d":"$0.00"}},{"$f":"($C$4*F152/4)*PerMemberAssess[[#This Row],[Member / Unit Count (this type of Unit)]]","v":{"v":0,"d":"$0.00"}},{"$f":"($C$4*F152/12)*PerMemberAssess[[#This Row],[Member / Unit Count (this type of Unit)]]","v":{"v":0,"d":"$0.00"}}]
[{"$nulls":7},{"v":0,"d":"0.000%"},{"v":0,"d":"$0.000"},{"$f":"($C$4*F153)*PerMemberAssess[[#This Row],[Member / Unit Count (this type of Unit)]]","v":{"v":0,"d":"$0.00"}},{"$f":"($C$4*F153/2)*PerMemberAssess[[#This Row],[Member / Unit Count (this type of Unit)]]","v":{"v":0,"d":"$0.00"}},{"$f":"($C$4*F153/4)*PerMemberAssess[[#This Row],[Member / Unit Count (this type of Unit)]]","v":{"v":0,"d":"$0.00"}},{"$f":"($C$4*F153/12)*PerMemberAssess[[#This Row],[Member / Unit Count (this type of Unit)]]","v":{"v":0,"d":"$0.00"}}]
[{"$nulls":7},{"v":0,"d":"0.000%"},{"v":0,"d":"$0.000"},{"$f":"($C$4*F154)*PerMemberAssess[[#This Row],[Member / Unit Count (this type of Unit)]]","v":{"v":0,"d":"$0.00"}},{"$f":"($C$4*F154/2)*PerMemberAssess[[#This Row],[Member / Unit Count (this type of Unit)]]","v":{"v":0,"d":"$0.00"}},{"$f":"($C$4*F154/4)*PerMemberAssess[[#This Row],[Member / Unit Count (this type of Unit)]]","v":{"v":0,"d":"$0.00"}},{"$f":"($C$4*F154/12)*PerMemberAssess[[#This Row],[Member / Unit Count (this type of Unit)]]","v":{"v":0,"d":"$0.00"}}]
[{"$nulls":7},{"v":0,"d":"0.000%"},{"v":0,"d":"$0.000"},{"$f":"($C$4*F155)*PerMemberAssess[[#This Row],[Member / Unit Count (this type of Unit)]]","v":{"v":0,"d":"$0.00"}},{"$f":"($C$4*F155/2)*PerMemberAssess[[#This Row],[Member / Unit Count (this type of Unit)]]","v":{"v":0,"d":"$0.00"}},{"$f":"($C$4*F155/4)*PerMemberAssess[[#This Row],[Member / Unit Count (this type of Unit)]]","v":{"v":0,"d":"$0.00"}},{"$f":"($C$4*F155/12)*PerMemberAssess[[#This Row],[Member / Unit Count (this type of Unit)]]","v":{"v":0,"d":"$0.00"}}]
[{"$nulls":7},{"v":0,"d":"0.000%"},{"v":0,"d":"$0.000"},{"$f":"($C$4*F156)*PerMemberAssess[[#This Row],[Member / Unit Count (this type of Unit)]]","v":{"v":0,"d":"$0.00"}},{"$f":"($C$4*F156/2)*PerMemberAssess[[#This Row],[Member / Unit Count (this type of Unit)]]","v":{"v":0,"d":"$0.00"}},{"$f":"($C$4*F156/4)*PerMemberAssess[[#This Row],[Member / Unit Count (this type of Unit)]]","v":{"v":0,"d":"$0.00"}},{"$f":"($C$4*F156/12)*PerMemberAssess[[#This Row],[Member / Unit Count (this type of Unit)]]","v":{"v":0,"d":"$0.00"}}]
[{"$nulls":7},{"v":0,"d":"0.000%"},{"v":0,"d":"$0.000"},{"$f":"($C$4*F157)*PerMemberAssess[[#This Row],[Member / Unit Count (this type of Unit)]]","v":{"v":0,"d":"$0.00"}},{"$f":"($C$4*F157/2)*PerMemberAssess[[#This Row],[Member / Unit Count (this type of Unit)]]","v":{"v":0,"d":"$0.00"}},{"$f":"($C$4*F157/4)*PerMemberAssess[[#This Row],[Member / Unit Count (this type of Unit)]]","v":{"v":0,"d":"$0.00"}},{"$f":"($C$4*F157/12)*PerMemberAssess[[#This Row],[Member / Unit Count (this type of Unit)]]","v":{"v":0,"d":"$0.00"}}]
[{"$nulls":7},{"v":0,"d":"0.000%"},{"v":0,"d":"$0.000"},{"$f":"($C$4*F158)*PerMemberAssess[[#This Row],[Member / Unit Count (this type of Unit)]]","v":{"v":0,"d":"$0.00"}},{"$f":"($C$4*F158/2)*PerMemberAssess[[#This Row],[Member / Unit Count (this type of Unit)]]","v":{"v":0,"d":"$0.00"}},{"$f":"($C$4*F158/4)*PerMemberAssess[[#This Row],[Member / Unit Count (this type of Unit)]]","v":{"v":0,"d":"$0.00"}},{"$f":"($C$4*F158/12)*PerMemberAssess[[#This Row],[Member / Unit Count (this type of Unit)]]","v":{"v":0,"d":"$0.00"}}]
[{"$nulls":7},{"v":0,"d":"0.000%"},{"v":0,"d":"$0.000"},{"$f":"($C$4*F159)*PerMemberAssess[[#This Row],[Member / Unit Count (this type of Unit)]]","v":{"v":0,"d":"$0.00"}},{"$f":"($C$4*F159/2)*PerMemberAssess[[#This Row],[Member / Unit Count (this type of Unit)]]","v":{"v":0,"d":"$0.00"}},{"$f":"($C$4*F159/4)*PerMemberAssess[[#This Row],[Member / Unit Count (this type of Unit)]]","v":{"v":0,"d":"$0.00"}},{"$f":"($C$4*F159/12)*PerMemberAssess[[#This Row],[Member / Unit Count (this type of Unit)]]","v":{"v":0,"d":"$0.00"}}]
[{"$nulls":7},{"v":0,"d":"0.000%"},{"v":0,"d":"$0.000"},{"$f":"($C$4*F160)*PerMemberAssess[[#This Row],[Member / Unit Count (this type of Unit)]]","v":{"v":0,"d":"$0.00"}},{"$f":"($C$4*F160/2)*PerMemberAssess[[#This Row],[Member / Unit Count (this type of Unit)]]","v":{"v":0,"d":"$0.00"}},{"$f":"($C$4*F160/4)*PerMemberAssess[[#This Row],[Member / Unit Count (this type of Unit)]]","v":{"v":0,"d":"$0.00"}},{"$f":"($C$4*F160/12)*PerMemberAssess[[#This Row],[Member / Unit Count (this type of Unit)]]","v":{"v":0,"d":"$0.00"}}]
[{"$nulls":7},{"v":0,"d":"0.000%"},{"v":0,"d":"$0.000"},{"$f":"($C$4*F161)*PerMemberAssess[[#This Row],[Member / Unit Count (this type of Unit)]]","v":{"v":0,"d":"$0.00"}},{"$f":"($C$4*F161/2)*PerMemberAssess[[#This Row],[Member / Unit Count (this type of Unit)]]","v":{"v":0,"d":"$0.00"}},{"$f":"($C$4*F161/4)*PerMemberAssess[[#This Row],[Member / Unit Count (this type of Unit)]]","v":{"v":0,"d":"$0.00"}},{"$f":"($C$4*F161/12)*PerMemberAssess[[#This Row],[Member / Unit Count (this type of Unit)]]","v":{"v":0,"d":"$0.00"}}]
[{"$nulls":7},{"v":0,"d":"0.000%"},{"v":0,"d":"$0.000"},{"$f":"($C$4*F162)*PerMemberAssess[[#This Row],[Member / Unit Count (this type of Unit)]]","v":{"v":0,"d":"$0.00"}},{"$f":"($C$4*F162/2)*PerMemberAssess[[#This Row],[Member / Unit Count (this type of Unit)]]","v":{"v":0,"d":"$0.00"}},{"$f":"($C$4*F162/4)*PerMemberAssess[[#This Row],[Member / Unit Count (this type of Unit)]]","v":{"v":0,"d":"$0.00"}},{"$f":"($C$4*F162/12)*PerMemberAssess[[#This Row],[Member / Unit Count (this type of Unit)]]","v":{"v":0,"d":"$0.00"}}]
[{"$nulls":7},{"v":0,"d":"0.000%"},{"v":0,"d":"$0.000"},{"$f":"($C$4*F163)*PerMemberAssess[[#This Row],[Member / Unit Count (this type of Unit)]]","v":{"v":0,"d":"$0.00"}},{"$f":"($C$4*F163/2)*PerMemberAssess[[#This Row],[Member / Unit Count (this type of Unit)]]","v":{"v":0,"d":"$0.00"}},{"$f":"($C$4*F163/4)*PerMemberAssess[[#This Row],[Member / Unit Count (this type of Unit)]]","v":{"v":0,"d":"$0.00"}},{"$f":"($C$4*F163/12)*PerMemberAssess[[#This Row],[Member / Unit Count (this type of Unit)]]","v":{"v":0,"d":"$0.00"}}]
[{"$nulls":7},{"v":0,"d":"0.000%"},{"v":0,"d":"$0.000"},{"$f":"($C$4*F164)*PerMemberAssess[[#This Row],[Member / Unit Count (this type of Unit)]]","v":{"v":0,"d":"$0.00"}},{"$f":"($C$4*F164/2)*PerMemberAssess[[#This Row],[Member / Unit Count (this type of Unit)]]","v":{"v":0,"d":"$0.00"}},{"$f":"($C$4*F164/4)*PerMemberAssess[[#This Row],[Member / Unit Count (this type of Unit)]]","v":{"v":0,"d":"$0.00"}},{"$f":"($C$4*F164/12)*PerMemberAssess[[#This Row],[Member / Unit Count (this type of Unit)]]","v":{"v":0,"d":"$0.00"}}]
[{"$nulls":7},{"v":0,"d":"0.000%"},{"v":0,"d":"$0.000"},{"$f":"($C$4*F165)*PerMemberAssess[[#This Row],[Member / Unit Count (this type of Unit)]]","v":{"v":0,"d":"$0.00"}},{"$f":"($C$4*F165/2)*PerMemberAssess[[#This Row],[Member / Unit Count (this type of Unit)]]","v":{"v":0,"d":"$0.00"}},{"$f":"($C$4*F165/4)*PerMemberAssess[[#This Row],[Member / Unit Count (this type of Unit)]]","v":{"v":0,"d":"$0.00"}},{"$f":"($C$4*F165/12)*PerMemberAssess[[#This Row],[Member / Unit Count (this type of Unit)]]","v":{"v":0,"d":"$0.00"}}]
[{"$nulls":7},{"v":0,"d":"0.000%"},{"v":0,"d":"$0.000"},{"$f":"($C$4*F166)*PerMemberAssess[[#This Row],[Member / Unit Count (this type of Unit)]]","v":{"v":0,"d":"$0.00"}},{"$f":"($C$4*F166/2)*PerMemberAssess[[#This Row],[Member / Unit Count (this type of Unit)]]","v":{"v":0,"d":"$0.00"}},{"$f":"($C$4*F166/4)*PerMemberAssess[[#This Row],[Member / Unit Count (this type of Unit)]]","v":{"v":0,"d":"$0.00"}},{"$f":"($C$4*F166/12)*PerMemberAssess[[#This Row],[Member / Unit Count (this type of Unit)]]","v":{"v":0,"d":"$0.00"}}]
[{"$nulls":7},{"v":0,"d":"0.000%"},{"v":0,"d":"$0.000"},{"$f":"($C$4*F167)*PerMemberAssess[[#This Row],[Member / Unit Count (this type of Unit)]]","v":{"v":0,"d":"$0.00"}},{"$f":"($C$4*F167/2)*PerMemberAssess[[#This Row],[Member / Unit Count (this type of Unit)]]","v":{"v":0,"d":"$0.00"}},{"$f":"($C$4*F167/4)*PerMemberAssess[[#This Row],[Member / Unit Count (this type of Unit)]]","v":{"v":0,"d":"$0.00"}},{"$f":"($C$4*F167/12)*PerMemberAssess[[#This Row],[Member / Unit Count (this type of Unit)]]","v":{"v":0,"d":"$0.00"}}]
[{"$nulls":7},{"v":0,"d":"0.000%"},{"v":0,"d":"$0.000"},{"$f":"($C$4*F168)*PerMemberAssess[[#This Row],[Member / Unit Count (this type of Unit)]]","v":{"v":0,"d":"$0.00"}},{"$f":"($C$4*F168/2)*PerMemberAssess[[#This Row],[Member / Unit Count (this type of Unit)]]","v":{"v":0,"d":"$0.00"}},{"$f":"($C$4*F168/4)*PerMemberAssess[[#This Row],[Member / Unit Count (this type of Unit)]]","v":{"v":0,"d":"$0.00"}},{"$f":"($C$4*F168/12)*PerMemberAssess[[#This Row],[Member / Unit Count (this type of Unit)]]","v":{"v":0,"d":"$0.00"}}]
[{"$nulls":7},{"v":0,"d":"0.000%"},{"v":0,"d":"$0.000"},{"$f":"($C$4*F169)*PerMemberAssess[[#This Row],[Member / Unit Count (this type of Unit)]]","v":{"v":0,"d":"$0.00"}},{"$f":"($C$4*F169/2)*PerMemberAssess[[#This Row],[Member / Unit Count (this type of Unit)]]","v":{"v":0,"d":"$0.00"}},{"$f":"($C$4*F169/4)*PerMemberAssess[[#This Row],[Member / Unit Count (this type of Unit)]]","v":{"v":0,"d":"$0.00"}},{"$f":"($C$4*F169/12)*PerMemberAssess[[#This Row],[Member / Unit Count (this type of Unit)]]","v":{"v":0,"d":"$0.00"}}]
[{"$nulls":7},{"v":0,"d":"0.000%"},{"v":0,"d":"$0.000"},{"$f":"($C$4*F170)*PerMemberAssess[[#This Row],[Member / Unit Count (this type of Unit)]]","v":{"v":0,"d":"$0.00"}},{"$f":"($C$4*F170/2)*PerMemberAssess[[#This Row],[Member / Unit Count (this type of Unit)]]","v":{"v":0,"d":"$0.00"}},{"$f":"($C$4*F170/4)*PerMemberAssess[[#This Row],[Member / Unit Count (this type of Unit)]]","v":{"v":0,"d":"$0.00"}},{"$f":"($C$4*F170/12)*PerMemberAssess[[#This Row],[Member / Unit Count (this type of Unit)]]","v":{"v":0,"d":"$0.00"}}]
[{"$nulls":7},{"v":0,"d":"0.000%"},{"v":0,"d":"$0.000"},{"$f":"($C$4*F171)*PerMemberAssess[[#This Row],[Member / Unit Count (this type of Unit)]]","v":{"v":0,"d":"$0.00"}},{"$f":"($C$4*F171/2)*PerMemberAssess[[#This Row],[Member / Unit Count (this type of Unit)]]","v":{"v":0,"d":"$0.00"}},{"$f":"($C$4*F171/4)*PerMemberAssess[[#This Row],[Member / Unit Count (this type of Unit)]]","v":{"v":0,"d":"$0.00"}},{"$f":"($C$4*F171/12)*PerMemberAssess[[#This Row],[Member / Unit Count (this type of Unit)]]","v":{"v":0,"d":"$0.00"}}]
[{"$nulls":7},{"v":0,"d":"0.000%"},{"v":0,"d":"$0.000"},{"$f":"($C$4*F172)*PerMemberAssess[[#This Row],[Member / Unit Count (this type of Unit)]]","v":{"v":0,"d":"$0.00"}},{"$f":"($C$4*F172/2)*PerMemberAssess[[#This Row],[Member / Unit Count (this type of Unit)]]","v":{"v":0,"d":"$0.00"}},{"$f":"($C$4*F172/4)*PerMemberAssess[[#This Row],[Member / Unit Count (this type of Unit)]]","v":{"v":0,"d":"$0.00"}},{"$f":"($C$4*F172/12)*PerMemberAssess[[#This Row],[Member / Unit Count (this type of Unit)]]","v":{"v":0,"d":"$0.00"}}]
[{"$nulls":7},{"v":0,"d":"0.000%"},{"v":0,"d":"$0.000"},{"$f":"($C$4*F173)*PerMemberAssess[[#This Row],[Member / Unit Count (this type of Unit)]]","v":{"v":0,"d":"$0.00"}},{"$f":"($C$4*F173/2)*PerMemberAssess[[#This Row],[Member / Unit Count (this type of Unit)]]","v":{"v":0,"d":"$0.00"}},{"$f":"($C$4*F173/4)*PerMemberAssess[[#This Row],[Member / Unit Count (this type of Unit)]]","v":{"v":0,"d":"$0.00"}},{"$f":"($C$4*F173/12)*PerMemberAssess[[#This Row],[Member / Unit Count (this type of Unit)]]","v":{"v":0,"d":"$0.00"}}]
[{"$nulls":7},{"v":0,"d":"0.000%"},{"v":0,"d":"$0.000"},{"$f":"($C$4*F174)*PerMemberAssess[[#This Row],[Member / Unit Count (this type of Unit)]]","v":{"v":0,"d":"$0.00"}},{"$f":"($C$4*F174/2)*PerMemberAssess[[#This Row],[Member / Unit Count (this type of Unit)]]","v":{"v":0,"d":"$0.00"}},{"$f":"($C$4*F174/4)*PerMemberAssess[[#This Row],[Member / Unit Count (this type of Unit)]]","v":{"v":0,"d":"$0.00"}},{"$f":"($C$4*F174/12)*PerMemberAssess[[#This Row],[Member / Unit Count (this type of Unit)]]","v":{"v":0,"d":"$0.00"}}]
[{"$nulls":7},{"v":0,"d":"0.000%"},{"v":0,"d":"$0.000"},{"$f":"($C$4*F175)*PerMemberAssess[[#This Row],[Member / Unit Count (this type of Unit)]]","v":{"v":0,"d":"$0.00"}},{"$f":"($C$4*F175/2)*PerMemberAssess[[#This Row],[Member / Unit Count (this type of Unit)]]","v":{"v":0,"d":"$0.00"}},{"$f":"($C$4*F175/4)*PerMemberAssess[[#This Row],[Member / Unit Count (this type of Unit)]]","v":{"v":0,"d":"$0.00"}},{"$f":"($C$4*F175/12)*PerMemberAssess[[#This Row],[Member / Unit Count (this type of Unit)]]","v":{"v":0,"d":"$0.00"}}]
[{"$nulls":7},{"v":0,"d":"0.000%"},{"v":0,"d":"$0.000"},{"$f":"($C$4*F176)*PerMemberAssess[[#This Row],[Member / Unit Count (this type of Unit)]]","v":{"v":0,"d":"$0.00"}},{"$f":"($C$4*F176/2)*PerMemberAssess[[#This Row],[Member / Unit Count (this type of Unit)]]","v":{"v":0,"d":"$0.00"}},{"$f":"($C$4*F176/4)*PerMemberAssess[[#This Row],[Member / Unit Count (this type of Unit)]]","v":{"v":0,"d":"$0.00"}},{"$f":"($C$4*F176/12)*PerMemberAssess[[#This Row],[Member / Unit Count (this type of Unit)]]","v":{"v":0,"d":"$0.00"}}]
[{"$nulls":7},{"v":0,"d":"0.000%"},{"v":0,"d":"$0.000"},{"$f":"($C$4*F177)*PerMemberAssess[[#This Row],[Member / Unit Count (this type of Unit)]]","v":{"v":0,"d":"$0.00"}},{"$f":"($C$4*F177/2)*PerMemberAssess[[#This Row],[Member / Unit Count (this type of Unit)]]","v":{"v":0,"d":"$0.00"}},{"$f":"($C$4*F177/4)*PerMemberAssess[[#This Row],[Member / Unit Count (this type of Unit)]]","v":{"v":0,"d":"$0.00"}},{"$f":"($C$4*F177/12)*PerMemberAssess[[#This Row],[Member / Unit Count (this type of Unit)]]","v":{"v":0,"d":"$0.00"}}]
[{"$nulls":7},{"v":0,"d":"0.000%"},{"v":0,"d":"$0.000"},{"$f":"($C$4*F178)*PerMemberAssess[[#This Row],[Member / Unit Count (this type of Unit)]]","v":{"v":0,"d":"$0.00"}},{"$f":"($C$4*F178/2)*PerMemberAssess[[#This Row],[Member / Unit Count (this type of Unit)]]","v":{"v":0,"d":"$0.00"}},{"$f":"($C$4*F178/4)*PerMemberAssess[[#This Row],[Member / Unit Count (this type of Unit)]]","v":{"v":0,"d":"$0.00"}},{"$f":"($C$4*F178/12)*PerMemberAssess[[#This Row],[Member / Unit Count (this type of Unit)]]","v":{"v":0,"d":"$0.00"}}]
[{"$nulls":7},{"v":0,"d":"0.000%"},{"v":0,"d":"$0.000"},{"$f":"($C$4*F179)*PerMemberAssess[[#This Row],[Member / Unit Count (this type of Unit)]]","v":{"v":0,"d":"$0.00"}},{"$f":"($C$4*F179/2)*PerMemberAssess[[#This Row],[Member / Unit Count (this type of Unit)]]","v":{"v":0,"d":"$0.00"}},{"$f":"($C$4*F179/4)*PerMemberAssess[[#This Row],[Member / Unit Count (this type of Unit)]]","v":{"v":0,"d":"$0.00"}},{"$f":"($C$4*F179/12)*PerMemberAssess[[#This Row],[Member / Unit Count (this type of Unit)]]","v":{"v":0,"d":"$0.00"}}]
[{"$nulls":7},{"v":0,"d":"0.000%"},{"v":0,"d":"$0.000"},{"$f":"($C$4*F180)*PerMemberAssess[[#This Row],[Member / Unit Count (this type of Unit)]]","v":{"v":0,"d":"$0.00"}},{"$f":"($C$4*F180/2)*PerMemberAssess[[#This Row],[Member / Unit Count (this type of Unit)]]","v":{"v":0,"d":"$0.00"}},{"$f":"($C$4*F180/4)*PerMemberAssess[[#This Row],[Member / Unit Count (this type of Unit)]]","v":{"v":0,"d":"$0.00"}},{"$f":"($C$4*F180/12)*PerMemberAssess[[#This Row],[Member / Unit Count (this type of Unit)]]","v":{"v":0,"d":"$0.00"}}]
[{"$nulls":7},{"v":0,"d":"0.000%"},{"v":0,"d":"$0.000"},{"$f":"($C$4*F181)*PerMemberAssess[[#This Row],[Member / Unit Count (this type of Unit)]]","v":{"v":0,"d":"$0.00"}},{"$f":"($C$4*F181/2)*PerMemberAssess[[#This Row],[Member / Unit Count (this type of Unit)]]","v":{"v":0,"d":"$0.00"}},{"$f":"($C$4*F181/4)*PerMemberAssess[[#This Row],[Member / Unit Count (this type of Unit)]]","v":{"v":0,"d":"$0.00"}},{"$f":"($C$4*F181/12)*PerMemberAssess[[#This Row],[Member / Unit Count (this type of Unit)]]","v":{"v":0,"d":"$0.00"}}]
[{"$nulls":7},{"v":0,"d":"0.000%"},{"v":0,"d":"$0.000"},{"$f":"($C$4*F182)*PerMemberAssess[[#This Row],[Member / Unit Count (this type of Unit)]]","v":{"v":0,"d":"$0.00"}},{"$f":"($C$4*F182/2)*PerMemberAssess[[#This Row],[Member / Unit Count (this type of Unit)]]","v":{"v":0,"d":"$0.00"}},{"$f":"($C$4*F182/4)*PerMemberAssess[[#This Row],[Member / Unit Count (this type of Unit)]]","v":{"v":0,"d":"$0.00"}},{"$f":"($C$4*F182/12)*PerMemberAssess[[#This Row],[Member / Unit Count (this type of Unit)]]","v":{"v":0,"d":"$0.00"}}]
[{"$nulls":7},{"v":0,"d":"0.000%"},{"v":0,"d":"$0.000"},{"$f":"($C$4*F183)*PerMemberAssess[[#This Row],[Member / Unit Count (this type of Unit)]]","v":{"v":0,"d":"$0.00"}},{"$f":"($C$4*F183/2)*PerMemberAssess[[#This Row],[Member / Unit Count (this type of Unit)]]","v":{"v":0,"d":"$0.00"}},{"$f":"($C$4*F183/4)*PerMemberAssess[[#This Row],[Member / Unit Count (this type of Unit)]]","v":{"v":0,"d":"$0.00"}},{"$f":"($C$4*F183/12)*PerMemberAssess[[#This Row],[Member / Unit Count (this type of Unit)]]","v":{"v":0,"d":"$0.00"}}]
[{"$nulls":7},{"v":0,"d":"0.000%"},{"v":0,"d":"$0.000"},{"$f":"($C$4*F184)*PerMemberAssess[[#This Row],[Member / Unit Count (this type of Unit)]]","v":{"v":0,"d":"$0.00"}},{"$f":"($C$4*F184/2)*PerMemberAssess[[#This Row],[Member / Unit Count (this type of Unit)]]","v":{"v":0,"d":"$0.00"}},{"$f":"($C$4*F184/4)*PerMemberAssess[[#This Row],[Member / Unit Count (this type of Unit)]]","v":{"v":0,"d":"$0.00"}},{"$f":"($C$4*F184/12)*PerMemberAssess[[#This Row],[Member / Unit Count (this type of Unit)]]","v":{"v":0,"d":"$0.00"}}]
[{"$nulls":7},{"v":0,"d":"0.000%"},{"v":0,"d":"$0.000"},{"$f":"($C$4*F185)*PerMemberAssess[[#This Row],[Member / Unit Count (this type of Unit)]]","v":{"v":0,"d":"$0.00"}},{"$f":"($C$4*F185/2)*PerMemberAssess[[#This Row],[Member / Unit Count (this type of Unit)]]","v":{"v":0,"d":"$0.00"}},{"$f":"($C$4*F185/4)*PerMemberAssess[[#This Row],[Member / Unit Count (this type of Unit)]]","v":{"v":0,"d":"$0.00"}},{"$f":"($C$4*F185/12)*PerMemberAssess[[#This Row],[Member / Unit Count (this type of Unit)]]","v":{"v":0,"d":"$0.00"}}]
[{"$nulls":7},{"v":0,"d":"0.000%"},{"v":0,"d":"$0.000"},{"$f":"($C$4*F186)*PerMemberAssess[[#This Row],[Member / Unit Count (this type of Unit)]]","v":{"v":0,"d":"$0.00"}},{"$f":"($C$4*F186/2)*PerMemberAssess[[#This Row],[Member / Unit Count (this type of Unit)]]","v":{"v":0,"d":"$0.00"}},{"$f":"($C$4*F186/4)*PerMemberAssess[[#This Row],[Member / Unit Count (this type of Unit)]]","v":{"v":0,"d":"$0.00"}},{"$f":"($C$4*F186/12)*PerMemberAssess[[#This Row],[Member / Unit Count (this type of Unit)]]","v":{"v":0,"d":"$0.00"}}]
[{"$nulls":7},{"v":0,"d":"0.000%"},{"v":0,"d":"$0.000"},{"$f":"($C$4*F187)*PerMemberAssess[[#This Row],[Member / Unit Count (this type of Unit)]]","v":{"v":0,"d":"$0.00"}},{"$f":"($C$4*F187/2)*PerMemberAssess[[#This Row],[Member / Unit Count (this type of Unit)]]","v":{"v":0,"d":"$0.00"}},{"$f":"($C$4*F187/4)*PerMemberAssess[[#This Row],[Member / Unit Count (this type of Unit)]]","v":{"v":0,"d":"$0.00"}},{"$f":"($C$4*F187/12)*PerMemberAssess[[#This Row],[Member / Unit Count (this type of Unit)]]","v":{"v":0,"d":"$0.00"}}]
[{"$nulls":7},{"v":0,"d":"0.000%"},{"v":0,"d":"$0.000"},{"$f":"($C$4*F188)*PerMemberAssess[[#This Row],[Member / Unit Count (this type of Unit)]]","v":{"v":0,"d":"$0.00"}},{"$f":"($C$4*F188/2)*PerMemberAssess[[#This Row],[Member / Unit Count (this type of Unit)]]","v":{"v":0,"d":"$0.00"}},{"$f":"($C$4*F188/4)*PerMemberAssess[[#This Row],[Member / Unit Count (this type of Unit)]]","v":{"v":0,"d":"$0.00"}},{"$f":"($C$4*F188/12)*PerMemberAssess[[#This Row],[Member / Unit Count (this type of Unit)]]","v":{"v":0,"d":"$0.00"}}]
[{"$nulls":7},{"v":0,"d":"0.000%"},{"v":0,"d":"$0.000"},{"$f":"($C$4*F189)*PerMemberAssess[[#This Row],[Member / Unit Count (this type of Unit)]]","v":{"v":0,"d":"$0.00"}},{"$f":"($C$4*F189/2)*PerMemberAssess[[#This Row],[Member / Unit Count (this type of Unit)]]","v":{"v":0,"d":"$0.00"}},{"$f":"($C$4*F189/4)*PerMemberAssess[[#This Row],[Member / Unit Count (this type of Unit)]]","v":{"v":0,"d":"$0.00"}},{"$f":"($C$4*F189/12)*PerMemberAssess[[#This Row],[Member / Unit Count (this type of Unit)]]","v":{"v":0,"d":"$0.00"}}]
[{"$nulls":7},{"v":0,"d":"0.000%"},{"v":0,"d":"$0.000"},{"$f":"($C$4*F190)*PerMemberAssess[[#This Row],[Member / Unit Count (this type of Unit)]]","v":{"v":0,"d":"$0.00"}},{"$f":"($C$4*F190/2)*PerMemberAssess[[#This Row],[Member / Unit Count (this type of Unit)]]","v":{"v":0,"d":"$0.00"}},{"$f":"($C$4*F190/4)*PerMemberAssess[[#This Row],[Member / Unit Count (this type of Unit)]]","v":{"v":0,"d":"$0.00"}},{"$f":"($C$4*F190/12)*PerMemberAssess[[#This Row],[Member / Unit Count (this type of Unit)]]","v":{"v":0,"d":"$0.00"}}]
[{"$nulls":7},{"v":0,"d":"0.000%"},{"v":0,"d":"$0.000"},{"$f":"($C$4*F191)*PerMemberAssess[[#This Row],[Member / Unit Count (this type of Unit)]]","v":{"v":0,"d":"$0.00"}},{"$f":"($C$4*F191/2)*PerMemberAssess[[#This Row],[Member / Unit Count (this type of Unit)]]","v":{"v":0,"d":"$0.00"}},{"$f":"($C$4*F191/4)*PerMemberAssess[[#This Row],[Member / Unit Count (this type of Unit)]]","v":{"v":0,"d":"$0.00"}},{"$f":"($C$4*F191/12)*PerMemberAssess[[#This Row],[Member / Unit Count (this type of Unit)]]","v":{"v":0,"d":"$0.00"}}]
[{"$nulls":7},{"v":0,"d":"0.000%"},{"v":0,"d":"$0.000"},{"$f":"($C$4*F192)*PerMemberAssess[[#This Row],[Member / Unit Count (this type of Unit)]]","v":{"v":0,"d":"$0.00"}},{"$f":"($C$4*F192/2)*PerMemberAssess[[#This Row],[Member / Unit Count (this type of Unit)]]","v":{"v":0,"d":"$0.00"}},{"$f":"($C$4*F192/4)*PerMemberAssess[[#This Row],[Member / Unit Count (this type of Unit)]]","v":{"v":0,"d":"$0.00"}},{"$f":"($C$4*F192/12)*PerMemberAssess[[#This Row],[Member / Unit Count (this type of Unit)]]","v":{"v":0,"d":"$0.00"}}]
[{"$nulls":7},{"v":0,"d":"0.000%"},{"v":0,"d":"$0.000"},{"$f":"($C$4*F193)*PerMemberAssess[[#This Row],[Member / Unit Count (this type of Unit)]]","v":{"v":0,"d":"$0.00"}},{"$f":"($C$4*F193/2)*PerMemberAssess[[#This Row],[Member / Unit Count (this type of Unit)]]","v":{"v":0,"d":"$0.00"}},{"$f":"($C$4*F193/4)*PerMemberAssess[[#This Row],[Member / Unit Count (this type of Unit)]]","v":{"v":0,"d":"$0.00"}},{"$f":"($C$4*F193/12)*PerMemberAssess[[#This Row],[Member / Unit Count (this type of Unit)]]","v":{"v":0,"d":"$0.00"}}]
[{"$nulls":7},{"v":0,"d":"0.000%"},{"v":0,"d":"$0.000"},{"$f":"($C$4*F194)*PerMemberAssess[[#This Row],[Member / Unit Count (this type of Unit)]]","v":{"v":0,"d":"$0.00"}},{"$f":"($C$4*F194/2)*PerMemberAssess[[#This Row],[Member / Unit Count (this type of Unit)]]","v":{"v":0,"d":"$0.00"}},{"$f":"($C$4*F194/4)*PerMemberAssess[[#This Row],[Member / Unit Count (this type of Unit)]]","v":{"v":0,"d":"$0.00"}},{"$f":"($C$4*F194/12)*PerMemberAssess[[#This Row],[Member / Unit Count (this type of Unit)]]","v":{"v":0,"d":"$0.00"}}]
[{"$nulls":7},{"v":0,"d":"0.000%"},{"v":0,"d":"$0.000"},{"$f":"($C$4*F195)*PerMemberAssess[[#This Row],[Member / Unit Count (this type of Unit)]]","v":{"v":0,"d":"$0.00"}},{"$f":"($C$4*F195/2)*PerMemberAssess[[#This Row],[Member / Unit Count (this type of Unit)]]","v":{"v":0,"d":"$0.00"}},{"$f":"($C$4*F195/4)*PerMemberAssess[[#This Row],[Member / Unit Count (this type of Unit)]]","v":{"v":0,"d":"$0.00"}},{"$f":"($C$4*F195/12)*PerMemberAssess[[#This Row],[Member / Unit Count (this type of Unit)]]","v":{"v":0,"d":"$0.00"}}]
[{"$nulls":7},{"v":0,"d":"0.000%"},{"v":0,"d":"$0.000"},{"$f":"($C$4*F196)*PerMemberAssess[[#This Row],[Member / Unit Count (this type of Unit)]]","v":{"v":0,"d":"$0.00"}},{"$f":"($C$4*F196/2)*PerMemberAssess[[#This Row],[Member / Unit Count (this type of Unit)]]","v":{"v":0,"d":"$0.00"}},{"$f":"($C$4*F196/4)*PerMemberAssess[[#This Row],[Member / Unit Count (this type of Unit)]]","v":{"v":0,"d":"$0.00"}},{"$f":"($C$4*F196/12)*PerMemberAssess[[#This Row],[Member / Unit Count (this type of Unit)]]","v":{"v":0,"d":"$0.00"}}]
[{"$nulls":7},{"v":0,"d":"0.000%"},{"v":0,"d":"$0.000"},{"$f":"($C$4*F197)*PerMemberAssess[[#This Row],[Member / Unit Count (this type of Unit)]]","v":{"v":0,"d":"$0.00"}},{"$f":"($C$4*F197/2)*PerMemberAssess[[#This Row],[Member / Unit Count (this type of Unit)]]","v":{"v":0,"d":"$0.00"}},{"$f":"($C$4*F197/4)*PerMemberAssess[[#This Row],[Member / Unit Count (this type of Unit)]]","v":{"v":0,"d":"$0.00"}},{"$f":"($C$4*F197/12)*PerMemberAssess[[#This Row],[Member / Unit Count (this type of Unit)]]","v":{"v":0,"d":"$0.00"}}]
[{"$nulls":7},{"v":0,"d":"0.000%"},{"v":0,"d":"$0.000"},{"$f":"($C$4*F198)*PerMemberAssess[[#This Row],[Member / Unit Count (this type of Unit)]]","v":{"v":0,"d":"$0.00"}},{"$f":"($C$4*F198/2)*PerMemberAssess[[#This Row],[Member / Unit Count (this type of Unit)]]","v":{"v":0,"d":"$0.00"}},{"$f":"($C$4*F198/4)*PerMemberAssess[[#This Row],[Member / Unit Count (this type of Unit)]]","v":{"v":0,"d":"$0.00"}},{"$f":"($C$4*F198/12)*PerMemberAssess[[#This Row],[Member / Unit Count (this type of Unit)]]","v":{"v":0,"d":"$0.00"}}]
[{"$nulls":7},{"v":0,"d":"0.000%"},{"v":0,"d":"$0.000"},{"$f":"($C$4*F199)*PerMemberAssess[[#This Row],[Member / Unit Count (this type of Unit)]]","v":{"v":0,"d":"$0.00"}},{"$f":"($C$4*F199/2)*PerMemberAssess[[#This Row],[Member / Unit Count (this type of Unit)]]","v":{"v":0,"d":"$0.00"}},{"$f":"($C$4*F199/4)*PerMemberAssess[[#This Row],[Member / Unit Count (this type of Unit)]]","v":{"v":0,"d":"$0.00"}},{"$f":"($C$4*F199/12)*PerMemberAssess[[#This Row],[Member / Unit Count (this type of Unit)]]","v":{"v":0,"d":"$0.00"}}]
[{"$nulls":7},{"v":0,"d":"0.000%"},{"v":0,"d":"$0.000"},{"$f":"($C$4*F200)*PerMemberAssess[[#This Row],[Member / Unit Count (this type of Unit)]]","v":{"v":0,"d":"$0.00"}},{"$f":"($C$4*F200/2)*PerMemberAssess[[#This Row],[Member / Unit Count (this type of Unit)]]","v":{"v":0,"d":"$0.00"}},{"$f":"($C$4*F200/4)*PerMemberAssess[[#This Row],[Member / Unit Count (this type of Unit)]]","v":{"v":0,"d":"$0.00"}},{"$f":"($C$4*F200/12)*PerMemberAssess[[#This Row],[Member / Unit Count (this type of Unit)]]","v":{"v":0,"d":"$0.00"}}]
[{"$nulls":7},{"$f":"G201*F201","v":{"v":0,"d":"0.000%"}},{"$f":"($C$4*F201/12)","v":{"v":0,"d":"$0.000"}},{"$f":"($C$4*F201)*PerMemberAssess[[#This Row],[Member / Unit Count (this type of Unit)]]","v":{"v":0,"d":"$0.00"}},{"$f":"($C$4*F201/2)*PerMemberAssess[[#This Row],[Member / Unit Count (this type of Unit)]]","v":{"v":0,"d":"$0.00"}},{"$f":"($C$4*F201/4)*PerMemberAssess[[#This Row],[Member / Unit Count (this type of Unit)]]","v":{"v":0,"d":"$0.00"}},{"$f":"($C$4*F201/12)*PerMemberAssess[[#This Row],[Member / Unit Count (this type of Unit)]]","v":{"v":0,"d":"$0.00"}}]
[{"$nulls":7},{"v":0,"d":"0.000%"},{"v":0,"d":"$0.000"},{"$f":"($C$4*F202)*PerMemberAssess[[#This Row],[Member / Unit Count (this type of Unit)]]","v":{"v":0,"d":"$0.00"}},{"$f":"($C$4*F202/2)*PerMemberAssess[[#This Row],[Member / Unit Count (this type of Unit)]]","v":{"v":0,"d":"$0.00"}},{"$f":"($C$4*F202/4)*PerMemberAssess[[#This Row],[Member / Unit Count (this type of Unit)]]","v":{"v":0,"d":"$0.00"}},{"$f":"($C$4*F202/12)*PerMemberAssess[[#This Row],[Member / Unit Count (this type of Unit)]]","v":{"v":0,"d":"$0.00"}}]
[{"$nulls":7},{"v":0,"d":"0.000%"},{"v":0,"d":"$0.000"},{"$f":"($C$4*F203)*PerMemberAssess[[#This Row],[Member / Unit Count (this type of Unit)]]","v":{"v":0,"d":"$0.00"}},{"$f":"($C$4*F203/2)*PerMemberAssess[[#This Row],[Member / Unit Count (this type of Unit)]]","v":{"v":0,"d":"$0.00"}},{"$f":"($C$4*F203/4)*PerMemberAssess[[#This Row],[Member / Unit Count (this type of Unit)]]","v":{"v":0,"d":"$0.00"}},{"$f":"($C$4*F203/12)*PerMemberAssess[[#This Row],[Member / Unit Count (this type of Unit)]]","v":{"v":0,"d":"$0.00"}}]
[{"$nulls":7},{"v":0,"d":"0.000%"},{"v":0,"d":"$0.000"},{"$f":"($C$4*F204)*PerMemberAssess[[#This Row],[Member / Unit Count (this type of Unit)]]","v":{"v":0,"d":"$0.00"}},{"$f":"($C$4*F204/2)*PerMemberAssess[[#This Row],[Member / Unit Count (this type of Unit)]]","v":{"v":0,"d":"$0.00"}},{"$f":"($C$4*F204/4)*PerMemberAssess[[#This Row],[Member / Unit Count (this type of Unit)]]","v":{"v":0,"d":"$0.00"}},{"$f":"($C$4*F204/12)*PerMemberAssess[[#This Row],[Member / Unit Count (this type of Unit)]]","v":{"v":0,"d":"$0.00"}}]
[{"$nulls":7},{"v":0,"d":"0.000%"},{"v":0,"d":"$0.000"},{"$f":"($C$4*F205)*PerMemberAssess[[#This Row],[Member / Unit Count (this type of Unit)]]","v":{"v":0,"d":"$0.00"}},{"$f":"($C$4*F205/2)*PerMemberAssess[[#This Row],[Member / Unit Count (this type of Unit)]]","v":{"v":0,"d":"$0.00"}},{"$f":"($C$4*F205/4)*PerMemberAssess[[#This Row],[Member / Unit Count (this type of Unit)]]","v":{"v":0,"d":"$0.00"}},{"$f":"($C$4*F205/12)*PerMemberAssess[[#This Row],[Member / Unit Count (this type of Unit)]]","v":{"v":0,"d":"$0.00"}}]
[{"$nulls":7},{"v":0,"d":"0.000%"},{"v":0,"d":"$0.000"},{"$f":"($C$4*F206)*PerMemberAssess[[#This Row],[Member / Unit Count (this type of Unit)]]","v":{"v":0,"d":"$0.00"}},{"$f":"($C$4*F206/2)*PerMemberAssess[[#This Row],[Member / Unit Count (this type of Unit)]]","v":{"v":0,"d":"$0.00"}},{"$f":"($C$4*F206/4)*PerMemberAssess[[#This Row],[Member / Unit Count (this type of Unit)]]","v":{"v":0,"d":"$0.00"}},{"$f":"($C$4*F206/12)*PerMemberAssess[[#This Row],[Member / Unit Count (this type of Unit)]]","v":{"v":0,"d":"$0.00"}}]
[{"$nulls":7},{"v":0,"d":"0.000%"},{"v":0,"d":"$0.000"},{"$f":"($C$4*F207)*PerMemberAssess[[#This Row],[Member / Unit Count (this type of Unit)]]","v":{"v":0,"d":"$0.00"}},{"$f":"($C$4*F207/2)*PerMemberAssess[[#This Row],[Member / Unit Count (this type of Unit)]]","v":{"v":0,"d":"$0.00"}},{"$f":"($C$4*F207/4)*PerMemberAssess[[#This Row],[Member / Unit Count (this type of Unit)]]","v":{"v":0,"d":"$0.00"}},{"$f":"($C$4*F207/12)*PerMemberAssess[[#This Row],[Member / Unit Count (this type of Unit)]]","v":{"v":0,"d":"$0.00"}}]
[{"$nulls":7},{"v":0,"d":"0.000%"},{"v":0,"d":"$0.000"},{"$f":"($C$4*F208)*PerMemberAssess[[#This Row],[Member / Unit Count (this type of Unit)]]","v":{"v":0,"d":"$0.00"}},{"$f":"($C$4*F208/2)*PerMemberAssess[[#This Row],[Member / Unit Count (this type of Unit)]]","v":{"v":0,"d":"$0.00"}},{"$f":"($C$4*F208/4)*PerMemberAssess[[#This Row],[Member / Unit Count (this type of Unit)]]","v":{"v":0,"d":"$0.00"}},{"$f":"($C$4*F208/12)*PerMemberAssess[[#This Row],[Member / Unit Count (this type of Unit)]]","v":{"v":0,"d":"$0.00"}}]
[{"$nulls":7},{"v":0,"d":"0.000%"},{"v":0,"d":"$0.000"},{"$f":"($C$4*F209)*PerMemberAssess[[#This Row],[Member / Unit Count (this type of Unit)]]","v":{"v":0,"d":"$0.00"}},{"$f":"($C$4*F209/2)*PerMemberAssess[[#This Row],[Member / Unit Count (this type of Unit)]]","v":{"v":0,"d":"$0.00"}},{"$f":"($C$4*F209/4)*PerMemberAssess[[#This Row],[Member / Unit Count (this type of Unit)]]","v":{"v":0,"d":"$0.00"}},{"$f":"($C$4*F209/12)*PerMemberAssess[[#This Row],[Member / Unit Count (this type of Unit)]]","v":{"v":0,"d":"$0.00"}}]
[{"$nulls":7},{"v":0,"d":"0.000%"},{"v":0,"d":"$0.000"},{"$f":"($C$4*F210)*PerMemberAssess[[#This Row],[Member / Unit Count (this type of Unit)]]","v":{"v":0,"d":"$0.00"}},{"$f":"($C$4*F210/2)*PerMemberAssess[[#This Row],[Member / Unit Count (this type of Unit)]]","v":{"v":0,"d":"$0.00"}},{"$f":"($C$4*F210/4)*PerMemberAssess[[#This Row],[Member / Unit Count (this type of Unit)]]","v":{"v":0,"d":"$0.00"}},{"$f":"($C$4*F210/12)*PerMemberAssess[[#This Row],[Member / Unit Count (this type of Unit)]]","v":{"v":0,"d":"$0.00"}}]
[{"$nulls":7},{"v":0,"d":"0.000%"},{"v":0,"d":"$0.000"},{"$f":"($C$4*F211)*PerMemberAssess[[#This Row],[Member / Unit Count (this type of Unit)]]","v":{"v":0,"d":"$0.00"}},{"$f":"($C$4*F211/2)*PerMemberAssess[[#This Row],[Member / Unit Count (this type of Unit)]]","v":{"v":0,"d":"$0.00"}},{"$f":"($C$4*F211/4)*PerMemberAssess[[#This Row],[Member / Unit Count (this type of Unit)]]","v":{"v":0,"d":"$0.00"}},{"$f":"($C$4*F211/12)*PerMemberAssess[[#This Row],[Member / Unit Count (this type of Unit)]]","v":{"v":0,"d":"$0.00"}}]
[{"$nulls":7},{"v":0,"d":"0.000%"},{"v":0,"d":"$0.000"},{"$f":"($C$4*F212)*PerMemberAssess[[#This Row],[Member / Unit Count (this type of Unit)]]","v":{"v":0,"d":"$0.00"}},{"$f":"($C$4*F212/2)*PerMemberAssess[[#This Row],[Member / Unit Count (this type of Unit)]]","v":{"v":0,"d":"$0.00"}},{"$f":"($C$4*F212/4)*PerMemberAssess[[#This Row],[Member / Unit Count (this type of Unit)]]","v":{"v":0,"d":"$0.00"}},{"$f":"($C$4*F212/12)*PerMemberAssess[[#This Row],[Member / Unit Count (this type of Unit)]]","v":{"v":0,"d":"$0.00"}}]
[{"$nulls":7},{"v":0,"d":"0.000%"},{"v":0,"d":"$0.000"},{"$f":"($C$4*F213)*PerMemberAssess[[#This Row],[Member / Unit Count (this type of Unit)]]","v":{"v":0,"d":"$0.00"}},{"$f":"($C$4*F213/2)*PerMemberAssess[[#This Row],[Member / Unit Count (this type of Unit)]]","v":{"v":0,"d":"$0.00"}},{"$f":"($C$4*F213/4)*PerMemberAssess[[#This Row],[Member / Unit Count (this type of Unit)]]","v":{"v":0,"d":"$0.00"}},{"$f":"($C$4*F213/12)*PerMemberAssess[[#This Row],[Member / Unit Count (this type of Unit)]]","v":{"v":0,"d":"$0.00"}}]
[{"$nulls":7},{"v":0,"d":"0.000%"},{"v":0,"d":"$0.000"},{"$f":"($C$4*F214)*PerMemberAssess[[#This Row],[Member / Unit Count (this type of Unit)]]","v":{"v":0,"d":"$0.00"}},{"$f":"($C$4*F214/2)*PerMemberAssess[[#This Row],[Member / Unit Count (this type of Unit)]]","v":{"v":0,"d":"$0.00"}},{"$f":"($C$4*F214/4)*PerMemberAssess[[#This Row],[Member / Unit Count (this type of Unit)]]","v":{"v":0,"d":"$0.00"}},{"$f":"($C$4*F214/12)*PerMemberAssess[[#This Row],[Member / Unit Count (this type of Unit)]]","v":{"v":0,"d":"$0.00"}}]
[{"$nulls":7},{"v":0,"d":"0.000%"},{"v":0,"d":"$0.000"},{"$f":"($C$4*F215)*PerMemberAssess[[#This Row],[Member / Unit Count (this type of Unit)]]","v":{"v":0,"d":"$0.00"}},{"$f":"($C$4*F215/2)*PerMemberAssess[[#This Row],[Member / Unit Count (this type of Unit)]]","v":{"v":0,"d":"$0.00"}},{"$f":"($C$4*F215/4)*PerMemberAssess[[#This Row],[Member / Unit Count (this type of Unit)]]","v":{"v":0,"d":"$0.00"}},{"$f":"($C$4*F215/12)*PerMemberAssess[[#This Row],[Member / Unit Count (this type of Unit)]]","v":{"v":0,"d":"$0.00"}}]
[{"$nulls":7},{"v":0,"d":"0.000%"},{"v":0,"d":"$0.000"},{"$f":"($C$4*F216)*PerMemberAssess[[#This Row],[Member / Unit Count (this type of Unit)]]","v":{"v":0,"d":"$0.00"}},{"$f":"($C$4*F216/2)*PerMemberAssess[[#This Row],[Member / Unit Count (this type of Unit)]]","v":{"v":0,"d":"$0.00"}},{"$f":"($C$4*F216/4)*PerMemberAssess[[#This Row],[Member / Unit Count (this type of Unit)]]","v":{"v":0,"d":"$0.00"}},{"$f":"($C$4*F216/12)*PerMemberAssess[[#This Row],[Member / Unit Count (this type of Unit)]]","v":{"v":0,"d":"$0.00"}}]
[{"$nulls":7},{"v":0,"d":"0.000%"},{"v":0,"d":"$0.000"},{"$f":"($C$4*F217)*PerMemberAssess[[#This Row],[Member / Unit Count (this type of Unit)]]","v":{"v":0,"d":"$0.00"}},{"$f":"($C$4*F217/2)*PerMemberAssess[[#This Row],[Member / Unit Count (this type of Unit)]]","v":{"v":0,"d":"$0.00"}},{"$f":"($C$4*F217/4)*PerMemberAssess[[#This Row],[Member / Unit Count (this type of Unit)]]","v":{"v":0,"d":"$0.00"}},{"$f":"($C$4*F217/12)*PerMemberAssess[[#This Row],[Member / Unit Count (this type of Unit)]]","v":{"v":0,"d":"$0.00"}}]
[{"$nulls":7},{"v":0,"d":"0.000%"},{"v":0,"d":"$0.000"},{"$f":"($C$4*F218)*PerMemberAssess[[#This Row],[Member / Unit Count (this type of Unit)]]","v":{"v":0,"d":"$0.00"}},{"$f":"($C$4*F218/2)*PerMemberAssess[[#This Row],[Member / Unit Count (this type of Unit)]]","v":{"v":0,"d":"$0.00"}},{"$f":"($C$4*F218/4)*PerMemberAssess[[#This Row],[Member / Unit Count (this type of Unit)]]","v":{"v":0,"d":"$0.00"}},{"$f":"($C$4*F218/12)*PerMemberAssess[[#This Row],[Member / Unit Count (this type of Unit)]]","v":{"v":0,"d":"$0.00"}}]
[{"$nulls":7},{"v":0,"d":"0.000%"},{"v":0,"d":"$0.000"},{"$f":"($C$4*F219)*PerMemberAssess[[#This Row],[Member / Unit Count (this type of Unit)]]","v":{"v":0,"d":"$0.00"}},{"$f":"($C$4*F219/2)*PerMemberAssess[[#This Row],[Member / Unit Count (this type of Unit)]]","v":{"v":0,"d":"$0.00"}},{"$f":"($C$4*F219/4)*PerMemberAssess[[#This Row],[Member / Unit Count (this type of Unit)]]","v":{"v":0,"d":"$0.00"}},{"$f":"($C$4*F219/12)*PerMemberAssess[[#This Row],[Member / Unit Count (this type of Unit)]]","v":{"v":0,"d":"$0.00"}}]
[{"$nulls":7},{"v":0,"d":"0.000%"},{"v":0,"d":"$0.000"},{"$f":"($C$4*F220)*PerMemberAssess[[#This Row],[Member / Unit Count (this type of Unit)]]","v":{"v":0,"d":"$0.00"}},{"$f":"($C$4*F220/2)*PerMemberAssess[[#This Row],[Member / Unit Count (this type of Unit)]]","v":{"v":0,"d":"$0.00"}},{"$f":"($C$4*F220/4)*PerMemberAssess[[#This Row],[Member / Unit Count (this type of Unit)]]","v":{"v":0,"d":"$0.00"}},{"$f":"($C$4*F220/12)*PerMemberAssess[[#This Row],[Member / Unit Count (this type of Unit)]]","v":{"v":0,"d":"$0.00"}}]
[{"$nulls":7},{"v":0,"d":"0.000%"},{"v":0,"d":"$0.000"},{"$f":"($C$4*F221)*PerMemberAssess[[#This Row],[Member / Unit Count (this type of Unit)]]","v":{"v":0,"d":"$0.00"}},{"$f":"($C$4*F221/2)*PerMemberAssess[[#This Row],[Member / Unit Count (this type of Unit)]]","v":{"v":0,"d":"$0.00"}},{"$f":"($C$4*F221/4)*PerMemberAssess[[#This Row],[Member / Unit Count (this type of Unit)]]","v":{"v":0,"d":"$0.00"}},{"$f":"($C$4*F221/12)*PerMemberAssess[[#This Row],[Member / Unit Count (this type of Unit)]]","v":{"v":0,"d":"$0.00"}}]
[{"$nulls":7},{"v":0,"d":"0.000%"},{"v":0,"d":"$0.000"},{"$f":"($C$4*F222)*PerMemberAssess[[#This Row],[Member / Unit Count (this type of Unit)]]","v":{"v":0,"d":"$0.00"}},{"$f":"($C$4*F222/2)*PerMemberAssess[[#This Row],[Member / Unit Count (this type of Unit)]]","v":{"v":0,"d":"$0.00"}},{"$f":"($C$4*F222/4)*PerMemberAssess[[#This Row],[Member / Unit Count (this type of Unit)]]","v":{"v":0,"d":"$0.00"}},{"$f":"($C$4*F222/12)*PerMemberAssess[[#This Row],[Member / Unit Count (this type of Unit)]]","v":{"v":0,"d":"$0.00"}}]
[{"$nulls":7},{"v":0,"d":"0.000%"},{"v":0,"d":"$0.000"},{"$f":"($C$4*F223)*PerMemberAssess[[#This Row],[Member / Unit Count (this type of Unit)]]","v":{"v":0,"d":"$0.00"}},{"$f":"($C$4*F223/2)*PerMemberAssess[[#This Row],[Member / Unit Count (this type of Unit)]]","v":{"v":0,"d":"$0.00"}},{"$f":"($C$4*F223/4)*PerMemberAssess[[#This Row],[Member / Unit Count (this type of Unit)]]","v":{"v":0,"d":"$0.00"}},{"$f":"($C$4*F223/12)*PerMemberAssess[[#This Row],[Member / Unit Count (this type of Unit)]]","v":{"v":0,"d":"$0.00"}}]
[{"$nulls":7},{"v":0,"d":"0.000%"},{"v":0,"d":"$0.000"},{"$f":"($C$4*F224)*PerMemberAssess[[#This Row],[Member / Unit Count (this type of Unit)]]","v":{"v":0,"d":"$0.00"}},{"$f":"($C$4*F224/2)*PerMemberAssess[[#This Row],[Member / Unit Count (this type of Unit)]]","v":{"v":0,"d":"$0.00"}},{"$f":"($C$4*F224/4)*PerMemberAssess[[#This Row],[Member / Unit Count (this type of Unit)]]","v":{"v":0,"d":"$0.00"}},{"$f":"($C$4*F224/12)*PerMemberAssess[[#This Row],[Member / Unit Count (this type of Unit)]]","v":{"v":0,"d":"$0.00"}}]
[{"$nulls":7},{"v":0,"d":"0.000%"},{"v":0,"d":"$0.000"},{"$f":"($C$4*F225)*PerMemberAssess[[#This Row],[Member / Unit Count (this type of Unit)]]","v":{"v":0,"d":"$0.00"}},{"$f":"($C$4*F225/2)*PerMemberAssess[[#This Row],[Member / Unit Count (this type of Unit)]]","v":{"v":0,"d":"$0.00"}},{"$f":"($C$4*F225/4)*PerMemberAssess[[#This Row],[Member / Unit Count (this type of Unit)]]","v":{"v":0,"d":"$0.00"}},{"$f":"($C$4*F225/12)*PerMemberAssess[[#This Row],[Member / Unit Count (this type of Unit)]]","v":{"v":0,"d":"$0.00"}}]
[{"$nulls":7},{"v":0,"d":"0.000%"},{"v":0,"d":"$0.000"},{"$f":"($C$4*F226)*PerMemberAssess[[#This Row],[Member / Unit Count (this type of Unit)]]","v":{"v":0,"d":"$0.00"}},{"$f":"($C$4*F226/2)*PerMemberAssess[[#This Row],[Member / Unit Count (this type of Unit)]]","v":{"v":0,"d":"$0.00"}},{"$f":"($C$4*F226/4)*PerMemberAssess[[#This Row],[Member / Unit Count (this type of Unit)]]","v":{"v":0,"d":"$0.00"}},{"$f":"($C$4*F226/12)*PerMemberAssess[[#This Row],[Member / Unit Count (this type of Unit)]]","v":{"v":0,"d":"$0.00"}}]
[{"$nulls":7},{"v":0,"d":"0.000%"},{"v":0,"d":"$0.000"},{"$f":"($C$4*F227)*PerMemberAssess[[#This Row],[Member / Unit Count (this type of Unit)]]","v":{"v":0,"d":"$0.00"}},{"$f":"($C$4*F227/2)*PerMemberAssess[[#This Row],[Member / Unit Count (this type of Unit)]]","v":{"v":0,"d":"$0.00"}},{"$f":"($C$4*F227/4)*PerMemberAssess[[#This Row],[Member / Unit Count (this type of Unit)]]","v":{"v":0,"d":"$0.00"}},{"$f":"($C$4*F227/12)*PerMemberAssess[[#This Row],[Member / Unit Count (this type of Unit)]]","v":{"v":0,"d":"$0.00"}}]
[{"$nulls":7},{"v":0,"d":"0.000%"},{"v":0,"d":"$0.000"},{"$f":"($C$4*F228)*PerMemberAssess[[#This Row],[Member / Unit Count (this type of Unit)]]","v":{"v":0,"d":"$0.00"}},{"$f":"($C$4*F228/2)*PerMemberAssess[[#This Row],[Member / Unit Count (this type of Unit)]]","v":{"v":0,"d":"$0.00"}},{"$f":"($C$4*F228/4)*PerMemberAssess[[#This Row],[Member / Unit Count (this type of Unit)]]","v":{"v":0,"d":"$0.00"}},{"$f":"($C$4*F228/12)*PerMemberAssess[[#This Row],[Member / Unit Count (this type of Unit)]]","v":{"v":0,"d":"$0.00"}}]
[{"$nulls":7},{"v":0,"d":"0.000%"},{"v":0,"d":"$0.000"},{"$f":"($C$4*F229)*PerMemberAssess[[#This Row],[Member / Unit Count (this type of Unit)]]","v":{"v":0,"d":"$0.00"}},{"$f":"($C$4*F229/2)*PerMemberAssess[[#This Row],[Member / Unit Count (this type of Unit)]]","v":{"v":0,"d":"$0.00"}},{"$f":"($C$4*F229/4)*PerMemberAssess[[#This Row],[Member / Unit Count (this type of Unit)]]","v":{"v":0,"d":"$0.00"}},{"$f":"($C$4*F229/12)*PerMemberAssess[[#This Row],[Member / Unit Count (this type of Unit)]]","v":{"v":0,"d":"$0.00"}}]
[{"$nulls":7},{"v":0,"d":"0.000%"},{"v":0,"d":"$0.000"},{"$f":"($C$4*F230)*PerMemberAssess[[#This Row],[Member / Unit Count (this type of Unit)]]","v":{"v":0,"d":"$0.00"}},{"$f":"($C$4*F230/2)*PerMemberAssess[[#This Row],[Member / Unit Count (this type of Unit)]]","v":{"v":0,"d":"$0.00"}},{"$f":"($C$4*F230/4)*PerMemberAssess[[#This Row],[Member / Unit Count (this type of Unit)]]","v":{"v":0,"d":"$0.00"}},{"$f":"($C$4*F230/12)*PerMemberAssess[[#This Row],[Member / Unit Count (this type of Unit)]]","v":{"v":0,"d":"$0.00"}}]
[{"$nulls":7},{"v":0,"d":"0.000%"},{"v":0,"d":"$0.000"},{"$f":"($C$4*F231)*PerMemberAssess[[#This Row],[Member / Unit Count (this type of Unit)]]","v":{"v":0,"d":"$0.00"}},{"$f":"($C$4*F231/2)*PerMemberAssess[[#This Row],[Member / Unit Count (this type of Unit)]]","v":{"v":0,"d":"$0.00"}},{"$f":"($C$4*F231/4)*PerMemberAssess[[#This Row],[Member / Unit Count (this type of Unit)]]","v":{"v":0,"d":"$0.00"}},{"$f":"($C$4*F231/12)*PerMemberAssess[[#This Row],[Member / Unit Count (this type of Unit)]]","v":{"v":0,"d":"$0.00"}}]
[{"$nulls":7},{"v":0,"d":"0.000%"},{"v":0,"d":"$0.000"},{"$f":"($C$4*F232)*PerMemberAssess[[#This Row],[Member / Unit Count (this type of Unit)]]","v":{"v":0,"d":"$0.00"}},{"$f":"($C$4*F232/2)*PerMemberAssess[[#This Row],[Member / Unit Count (this type of Unit)]]","v":{"v":0,"d":"$0.00"}},{"$f":"($C$4*F232/4)*PerMemberAssess[[#This Row],[Member / Unit Count (this type of Unit)]]","v":{"v":0,"d":"$0.00"}},{"$f":"($C$4*F232/12)*PerMemberAssess[[#This Row],[Member / Unit Count (this type of Unit)]]","v":{"v":0,"d":"$0.00"}}]
[{"$nulls":7},{"v":0,"d":"0.000%"},{"v":0,"d":"$0.000"},{"$f":"($C$4*F233)*PerMemberAssess[[#This Row],[Member / Unit Count (this type of Unit)]]","v":{"v":0,"d":"$0.00"}},{"$f":"($C$4*F233/2)*PerMemberAssess[[#This Row],[Member / Unit Count (this type of Unit)]]","v":{"v":0,"d":"$0.00"}},{"$f":"($C$4*F233/4)*PerMemberAssess[[#This Row],[Member / Unit Count (this type of Unit)]]","v":{"v":0,"d":"$0.00"}},{"$f":"($C$4*F233/12)*PerMemberAssess[[#This Row],[Member / Unit Count (this type of Unit)]]","v":{"v":0,"d":"$0.00"}}]
[{"$nulls":7},{"v":0,"d":"0.000%"},{"v":0,"d":"$0.000"},{"$f":"($C$4*F234)*PerMemberAssess[[#This Row],[Member / Unit Count (this type of Unit)]]","v":{"v":0,"d":"$0.00"}},{"$f":"($C$4*F234/2)*PerMemberAssess[[#This Row],[Member / Unit Count (this type of Unit)]]","v":{"v":0,"d":"$0.00"}},{"$f":"($C$4*F234/4)*PerMemberAssess[[#This Row],[Member / Unit Count (this type of Unit)]]","v":{"v":0,"d":"$0.00"}},{"$f":"($C$4*F234/12)*PerMemberAssess[[#This Row],[Member / Unit Count (this type of Unit)]]","v":{"v":0,"d":"$0.00"}}]
[{"$nulls":7},{"v":0,"d":"0.000%"},{"v":0,"d":"$0.000"},{"$f":"($C$4*F235)*PerMemberAssess[[#This Row],[Member / Unit Count (this type of Unit)]]","v":{"v":0,"d":"$0.00"}},{"$f":"($C$4*F235/2)*PerMemberAssess[[#This Row],[Member / Unit Count (this type of Unit)]]","v":{"v":0,"d":"$0.00"}},{"$f":"($C$4*F235/4)*PerMemberAssess[[#This Row],[Member / Unit Count (this type of Unit)]]","v":{"v":0,"d":"$0.00"}},{"$f":"($C$4*F235/12)*PerMemberAssess[[#This Row],[Member / Unit Count (this type of Unit)]]","v":{"v":0,"d":"$0.00"}}]
[{"$nulls":7},{"v":0,"d":"0.000%"},{"v":0,"d":"$0.000"},{"$f":"($C$4*F236)*PerMemberAssess[[#This Row],[Member / Unit Count (this type of Unit)]]","v":{"v":0,"d":"$0.00"}},{"$f":"($C$4*F236/2)*PerMemberAssess[[#This Row],[Member / Unit Count (this type of Unit)]]","v":{"v":0,"d":"$0.00"}},{"$f":"($C$4*F236/4)*PerMemberAssess[[#This Row],[Member / Unit Count (this type of Unit)]]","v":{"v":0,"d":"$0.00"}},{"$f":"($C$4*F236/12)*PerMemberAssess[[#This Row],[Member / Unit Count (this type of Unit)]]","v":{"v":0,"d":"$0.00"}}]
[{"$nulls":7},{"v":0,"d":"0.000%"},{"v":0,"d":"$0.000"},{"$f":"($C$4*F237)*PerMemberAssess[[#This Row],[Member / Unit Count (this type of Unit)]]","v":{"v":0,"d":"$0.00"}},{"$f":"($C$4*F237/2)*PerMemberAssess[[#This Row],[Member / Unit Count (this type of Unit)]]","v":{"v":0,"d":"$0.00"}},{"$f":"($C$4*F237/4)*PerMemberAssess[[#This Row],[Member / Unit Count (this type of Unit)]]","v":{"v":0,"d":"$0.00"}},{"$f":"($C$4*F237/12)*PerMemberAssess[[#This Row],[Member / Unit Count (this type of Unit)]]","v":{"v":0,"d":"$0.00"}}]
[{"$nulls":7},{"v":0,"d":"0.000%"},{"v":0,"d":"$0.000"},{"$f":"($C$4*F238)*PerMemberAssess[[#This Row],[Member / Unit Count (this type of Unit)]]","v":{"v":0,"d":"$0.00"}},{"$f":"($C$4*F238/2)*PerMemberAssess[[#This Row],[Member / Unit Count (this type of Unit)]]","v":{"v":0,"d":"$0.00"}},{"$f":"($C$4*F238/4)*PerMemberAssess[[#This Row],[Member / Unit Count (this type of Unit)]]","v":{"v":0,"d":"$0.00"}},{"$f":"($C$4*F238/12)*PerMemberAssess[[#This Row],[Member / Unit Count (this type of Unit)]]","v":{"v":0,"d":"$0.00"}}]
[{"$nulls":7},{"v":0,"d":"0.000%"},{"v":0,"d":"$0.000"},{"$f":"($C$4*F239)*PerMemberAssess[[#This Row],[Member / Unit Count (this type of Unit)]]","v":{"v":0,"d":"$0.00"}},{"$f":"($C$4*F239/2)*PerMemberAssess[[#This Row],[Member / Unit Count (this type of Unit)]]","v":{"v":0,"d":"$0.00"}},{"$f":"($C$4*F239/4)*PerMemberAssess[[#This Row],[Member / Unit Count (this type of Unit)]]","v":{"v":0,"d":"$0.00"}},{"$f":"($C$4*F239/12)*PerMemberAssess[[#This Row],[Member / Unit Count (this type of Unit)]]","v":{"v":0,"d":"$0.00"}}]
[{"$nulls":7},{"v":0,"d":"0.000%"},{"v":0,"d":"$0.000"},{"$f":"($C$4*F240)*PerMemberAssess[[#This Row],[Member / Unit Count (this type of Unit)]]","v":{"v":0,"d":"$0.00"}},{"$f":"($C$4*F240/2)*PerMemberAssess[[#This Row],[Member / Unit Count (this type of Unit)]]","v":{"v":0,"d":"$0.00"}},{"$f":"($C$4*F240/4)*PerMemberAssess[[#This Row],[Member / Unit Count (this type of Unit)]]","v":{"v":0,"d":"$0.00"}},{"$f":"($C$4*F240/12)*PerMemberAssess[[#This Row],[Member / Unit Count (this type of Unit)]]","v":{"v":0,"d":"$0.00"}}]
[{"$nulls":7},{"v":0,"d":"0.000%"},{"v":0,"d":"$0.000"},{"$f":"($C$4*F241)*PerMemberAssess[[#This Row],[Member / Unit Count (this type of Unit)]]","v":{"v":0,"d":"$0.00"}},{"$f":"($C$4*F241/2)*PerMemberAssess[[#This Row],[Member / Unit Count (this type of Unit)]]","v":{"v":0,"d":"$0.00"}},{"$f":"($C$4*F241/4)*PerMemberAssess[[#This Row],[Member / Unit Count (this type of Unit)]]","v":{"v":0,"d":"$0.00"}},{"$f":"($C$4*F241/12)*PerMemberAssess[[#This Row],[Member / Unit Count (this type of Unit)]]","v":{"v":0,"d":"$0.00"}}]
[{"$nulls":7},{"v":0,"d":"0.000%"},{"v":0,"d":"$0.000"},{"$f":"($C$4*F242)*PerMemberAssess[[#This Row],[Member / Unit Count (this type of Unit)]]","v":{"v":0,"d":"$0.00"}},{"$f":"($C$4*F242/2)*PerMemberAssess[[#This Row],[Member / Unit Count (this type of Unit)]]","v":{"v":0,"d":"$0.00"}},{"$f":"($C$4*F242/4)*PerMemberAssess[[#This Row],[Member / Unit Count (this type of Unit)]]","v":{"v":0,"d":"$0.00"}},{"$f":"($C$4*F242/12)*PerMemberAssess[[#This Row],[Member / Unit Count (this type of Unit)]]","v":{"v":0,"d":"$0.00"}}]
[{"$nulls":7},{"v":0,"d":"0.000%"},{"v":0,"d":"$0.000"},{"$f":"($C$4*F243)*PerMemberAssess[[#This Row],[Member / Unit Count (this type of Unit)]]","v":{"v":0,"d":"$0.00"}},{"$f":"($C$4*F243/2)*PerMemberAssess[[#This Row],[Member / Unit Count (this type of Unit)]]","v":{"v":0,"d":"$0.00"}},{"$f":"($C$4*F243/4)*PerMemberAssess[[#This Row],[Member / Unit Count (this type of Unit)]]","v":{"v":0,"d":"$0.00"}},{"$f":"($C$4*F243/12)*PerMemberAssess[[#This Row],[Member / Unit Count (this type of Unit)]]","v":{"v":0,"d":"$0.00"}}]
[{"$nulls":7},{"v":0,"d":"0.000%"},{"v":0,"d":"$0.000"},{"$f":"($C$4*F244)*PerMemberAssess[[#This Row],[Member / Unit Count (this type of Unit)]]","v":{"v":0,"d":"$0.00"}},{"$f":"($C$4*F244/2)*PerMemberAssess[[#This Row],[Member / Unit Count (this type of Unit)]]","v":{"v":0,"d":"$0.00"}},{"$f":"($C$4*F244/4)*PerMemberAssess[[#This Row],[Member / Unit Count (this type of Unit)]]","v":{"v":0,"d":"$0.00"}},{"$f":"($C$4*F244/12)*PerMemberAssess[[#This Row],[Member / Unit Count (this type of Unit)]]","v":{"v":0,"d":"$0.00"}}]
[{"$nulls":7},{"v":0,"d":"0.000%"},{"v":0,"d":"$0.000"},{"$f":"($C$4*F245)*PerMemberAssess[[#This Row],[Member / Unit Count (this type of Unit)]]","v":{"v":0,"d":"$0.00"}},{"$f":"($C$4*F245/2)*PerMemberAssess[[#This Row],[Member / Unit Count (this type of Unit)]]","v":{"v":0,"d":"$0.00"}},{"$f":"($C$4*F245/4)*PerMemberAssess[[#This Row],[Member / Unit Count (this type of Unit)]]","v":{"v":0,"d":"$0.00"}},{"$f":"($C$4*F245/12)*PerMemberAssess[[#This Row],[Member / Unit Count (this type of Unit)]]","v":{"v":0,"d":"$0.00"}}]
[{"$nulls":7},{"v":0,"d":"0.000%"},{"v":0,"d":"$0.000"},{"$f":"($C$4*F246)*PerMemberAssess[[#This Row],[Member / Unit Count (this type of Unit)]]","v":{"v":0,"d":"$0.00"}},{"$f":"($C$4*F246/2)*PerMemberAssess[[#This Row],[Member / Unit Count (this type of Unit)]]","v":{"v":0,"d":"$0.00"}},{"$f":"($C$4*F246/4)*PerMemberAssess[[#This Row],[Member / Unit Count (this type of Unit)]]","v":{"v":0,"d":"$0.00"}},{"$f":"($C$4*F246/12)*PerMemberAssess[[#This Row],[Member / Unit Count (this type of Unit)]]","v":{"v":0,"d":"$0.00"}}]
[{"$nulls":7},{"v":0,"d":"0.000%"},{"v":0,"d":"$0.000"},{"$f":"($C$4*F247)*PerMemberAssess[[#This Row],[Member / Unit Count (this type of Unit)]]","v":{"v":0,"d":"$0.00"}},{"$f":"($C$4*F247/2)*PerMemberAssess[[#This Row],[Member / Unit Count (this type of Unit)]]","v":{"v":0,"d":"$0.00"}},{"$f":"($C$4*F247/4)*PerMemberAssess[[#This Row],[Member / Unit Count (this type of Unit)]]","v":{"v":0,"d":"$0.00"}},{"$f":"($C$4*F247/12)*PerMemberAssess[[#This Row],[Member / Unit Count (this type of Unit)]]","v":{"v":0,"d":"$0.00"}}]
[{"$nulls":7},{"v":0,"d":"0.000%"},{"v":0,"d":"$0.000"},{"$f":"($C$4*F248)*PerMemberAssess[[#This Row],[Member / Unit Count (this type of Unit)]]","v":{"v":0,"d":"$0.00"}},{"$f":"($C$4*F248/2)*PerMemberAssess[[#This Row],[Member / Unit Count (this type of Unit)]]","v":{"v":0,"d":"$0.00"}},{"$f":"($C$4*F248/4)*PerMemberAssess[[#This Row],[Member / Unit Count (this type of Unit)]]","v":{"v":0,"d":"$0.00"}},{"$f":"($C$4*F248/12)*PerMemberAssess[[#This Row],[Member / Unit Count (this type of Unit)]]","v":{"v":0,"d":"$0.00"}}]
[{"$nulls":7},{"v":0,"d":"0.000%"},{"v":0,"d":"$0.000"},{"$f":"($C$4*F249)*PerMemberAssess[[#This Row],[Member / Unit Count (this type of Unit)]]","v":{"v":0,"d":"$0.00"}},{"$f":"($C$4*F249/2)*PerMemberAssess[[#This Row],[Member / Unit Count (this type of Unit)]]","v":{"v":0,"d":"$0.00"}},{"$f":"($C$4*F249/4)*PerMemberAssess[[#This Row],[Member / Unit Count (this type of Unit)]]","v":{"v":0,"d":"$0.00"}},{"$f":"($C$4*F249/12)*PerMemberAssess[[#This Row],[Member / Unit Count (this type of Unit)]]","v":{"v":0,"d":"$0.00"}}]
[{"$nulls":7},{"v":0,"d":"0.000%"},{"v":0,"d":"$0.000"},{"$f":"($C$4*F250)*PerMemberAssess[[#This Row],[Member / Unit Count (this type of Unit)]]","v":{"v":0,"d":"$0.00"}},{"$f":"($C$4*F250/2)*PerMemberAssess[[#This Row],[Member / Unit Count (this type of Unit)]]","v":{"v":0,"d":"$0.00"}},{"$f":"($C$4*F250/4)*PerMemberAssess[[#This Row],[Member / Unit Count (this type of Unit)]]","v":{"v":0,"d":"$0.00"}},{"$f":"($C$4*F250/12)*PerMemberAssess[[#This Row],[Member / Unit Count (this type of Unit)]]","v":{"v":0,"d":"$0.00"}}]
[{"$nulls":7},{"v":0,"d":"0.000%"},{"v":0,"d":"$0.000"},{"$f":"($C$4*F251)*PerMemberAssess[[#This Row],[Member / Unit Count (this type of Unit)]]","v":{"v":0,"d":"$0.00"}},{"$f":"($C$4*F251/2)*PerMemberAssess[[#This Row],[Member / Unit Count (this type of Unit)]]","v":{"v":0,"d":"$0.00"}},{"$f":"($C$4*F251/4)*PerMemberAssess[[#This Row],[Member / Unit Count (this type of Unit)]]","v":{"v":0,"d":"$0.00"}},{"$f":"($C$4*F251/12)*PerMemberAssess[[#This Row],[Member / Unit Count (this type of Unit)]]","v":{"v":0,"d":"$0.00"}}]
[{"$nulls":7},{"v":0,"d":"0.000%"},{"v":0,"d":"$0.000"},{"$f":"($C$4*F252)*PerMemberAssess[[#This Row],[Member / Unit Count (this type of Unit)]]","v":{"v":0,"d":"$0.00"}},{"$f":"($C$4*F252/2)*PerMemberAssess[[#This Row],[Member / Unit Count (this type of Unit)]]","v":{"v":0,"d":"$0.00"}},{"$f":"($C$4*F252/4)*PerMemberAssess[[#This Row],[Member / Unit Count (this type of Unit)]]","v":{"v":0,"d":"$0.00"}},{"$f":"($C$4*F252/12)*PerMemberAssess[[#This Row],[Member / Unit Count (this type of Unit)]]","v":{"v":0,"d":"$0.00"}}]
[{"$nulls":7},{"v":0,"d":"0.000%"},{"v":0,"d":"$0.000"},{"$f":"($C$4*F253)*PerMemberAssess[[#This Row],[Member / Unit Count (this type of Unit)]]","v":{"v":0,"d":"$0.00"}},{"$f":"($C$4*F253/2)*PerMemberAssess[[#This Row],[Member / Unit Count (this type of Unit)]]","v":{"v":0,"d":"$0.00"}},{"$f":"($C$4*F253/4)*PerMemberAssess[[#This Row],[Member / Unit Count (this type of Unit)]]","v":{"v":0,"d":"$0.00"}},{"$f":"($C$4*F253/12)*PerMemberAssess[[#This Row],[Member / Unit Count (this type of Unit)]]","v":{"v":0,"d":"$0.00"}}]
[{"$nulls":7},{"v":0,"d":"0.000%"},{"v":0,"d":"$0.000"},{"$f":"($C$4*F254)*PerMemberAssess[[#This Row],[Member / Unit Count (this type of Unit)]]","v":{"v":0,"d":"$0.00"}},{"$f":"($C$4*F254/2)*PerMemberAssess[[#This Row],[Member / Unit Count (this type of Unit)]]","v":{"v":0,"d":"$0.00"}},{"$f":"($C$4*F254/4)*PerMemberAssess[[#This Row],[Member / Unit Count (this type of Unit)]]","v":{"v":0,"d":"$0.00"}},{"$f":"($C$4*F254/12)*PerMemberAssess[[#This Row],[Member / Unit Count (this type of Unit)]]","v":{"v":0,"d":"$0.00"}}]
[{"$nulls":7},{"v":0,"d":"0.000%"},{"v":0,"d":"$0.000"},{"$f":"($C$4*F255)*PerMemberAssess[[#This Row],[Member / Unit Count (this type of Unit)]]","v":{"v":0,"d":"$0.00"}},{"$f":"($C$4*F255/2)*PerMemberAssess[[#This Row],[Member / Unit Count (this type of Unit)]]","v":{"v":0,"d":"$0.00"}},{"$f":"($C$4*F255/4)*PerMemberAssess[[#This Row],[Member / Unit Count (this type of Unit)]]","v":{"v":0,"d":"$0.00"}},{"$f":"($C$4*F255/12)*PerMemberAssess[[#This Row],[Member / Unit Count (this type of Unit)]]","v":{"v":0,"d":"$0.00"}}]
[{"$nulls":7},{"v":0,"d":"0.000%"},{"v":0,"d":"$0.000"},{"$f":"($C$4*F256)*PerMemberAssess[[#This Row],[Member / Unit Count (this type of Unit)]]","v":{"v":0,"d":"$0.00"}},{"$f":"($C$4*F256/2)*PerMemberAssess[[#This Row],[Member / Unit Count (this type of Unit)]]","v":{"v":0,"d":"$0.00"}},{"$f":"($C$4*F256/4)*PerMemberAssess[[#This Row],[Member / Unit Count (this type of Unit)]]","v":{"v":0,"d":"$0.00"}},{"$f":"($C$4*F256/12)*PerMemberAssess[[#This Row],[Member / Unit Count (this type of Unit)]]","v":{"v":0,"d":"$0.00"}}]
[{"$nulls":7},{"v":0,"d":"0.000%"},{"v":0,"d":"$0.000"},{"$f":"($C$4*F257)*PerMemberAssess[[#This Row],[Member / Unit Count (this type of Unit)]]","v":{"v":0,"d":"$0.00"}},{"$f":"($C$4*F257/2)*PerMemberAssess[[#This Row],[Member / Unit Count (this type of Unit)]]","v":{"v":0,"d":"$0.00"}},{"$f":"($C$4*F257/4)*PerMemberAssess[[#This Row],[Member / Unit Count (this type of Unit)]]","v":{"v":0,"d":"$0.00"}},{"$f":"($C$4*F257/12)*PerMemberAssess[[#This Row],[Member / Unit Count (this type of Unit)]]","v":{"v":0,"d":"$0.00"}}]
[{"$nulls":7},{"v":0,"d":"0.000%"},{"v":0,"d":"$0.000"},{"$f":"($C$4*F258)*PerMemberAssess[[#This Row],[Member / Unit Count (this type of Unit)]]","v":{"v":0,"d":"$0.00"}},{"$f":"($C$4*F258/2)*PerMemberAssess[[#This Row],[Member / Unit Count (this type of Unit)]]","v":{"v":0,"d":"$0.00"}},{"$f":"($C$4*F258/4)*PerMemberAssess[[#This Row],[Member / Unit Count (this type of Unit)]]","v":{"v":0,"d":"$0.00"}},{"$f":"($C$4*F258/12)*PerMemberAssess[[#This Row],[Member / Unit Count (this type of Unit)]]","v":{"v":0,"d":"$0.00"}}]
[{"$nulls":7},{"v":0,"d":"0.000%"},{"v":0,"d":"$0.000"},{"$f":"($C$4*F259)*PerMemberAssess[[#This Row],[Member / Unit Count (this type of Unit)]]","v":{"v":0,"d":"$0.00"}},{"$f":"($C$4*F259/2)*PerMemberAssess[[#This Row],[Member / Unit Count (this type of Unit)]]","v":{"v":0,"d":"$0.00"}},{"$f":"($C$4*F259/4)*PerMemberAssess[[#This Row],[Member / Unit Count (this type of Unit)]]","v":{"v":0,"d":"$0.00"}},{"$f":"($C$4*F259/12)*PerMemberAssess[[#This Row],[Member / Unit Count (this type of Unit)]]","v":{"v":0,"d":"$0.00"}}]
[{"$nulls":7},{"v":0,"d":"0.000%"},{"v":0,"d":"$0.000"},{"$f":"($C$4*F260)*PerMemberAssess[[#This Row],[Member / Unit Count (this type of Unit)]]","v":{"v":0,"d":"$0.00"}},{"$f":"($C$4*F260/2)*PerMemberAssess[[#This Row],[Member / Unit Count (this type of Unit)]]","v":{"v":0,"d":"$0.00"}},{"$f":"($C$4*F260/4)*PerMemberAssess[[#This Row],[Member / Unit Count (this type of Unit)]]","v":{"v":0,"d":"$0.00"}},{"$f":"($C$4*F260/12)*PerMemberAssess[[#This Row],[Member / Unit Count (this type of Unit)]]","v":{"v":0,"d":"$0.00"}}]
[{"$nulls":7},{"v":0,"d":"0.000%"},{"v":0,"d":"$0.000"},{"$f":"($C$4*F261)*PerMemberAssess[[#This Row],[Member / Unit Count (this type of Unit)]]","v":{"v":0,"d":"$0.00"}},{"$f":"($C$4*F261/2)*PerMemberAssess[[#This Row],[Member / Unit Count (this type of Unit)]]","v":{"v":0,"d":"$0.00"}},{"$f":"($C$4*F261/4)*PerMemberAssess[[#This Row],[Member / Unit Count (this type of Unit)]]","v":{"v":0,"d":"$0.00"}},{"$f":"($C$4*F261/12)*PerMemberAssess[[#This Row],[Member / Unit Count (this type of Unit)]]","v":{"v":0,"d":"$0.00"}}]
[{"$nulls":7},{"v":0,"d":"0.000%"},{"v":0,"d":"$0.000"},{"$f":"($C$4*F262)*PerMemberAssess[[#This Row],[Member / Unit Count (this type of Unit)]]","v":{"v":0,"d":"$0.00"}},{"$f":"($C$4*F262/2)*PerMemberAssess[[#This Row],[Member / Unit Count (this type of Unit)]]","v":{"v":0,"d":"$0.00"}},{"$f":"($C$4*F262/4)*PerMemberAssess[[#This Row],[Member / Unit Count (this type of Unit)]]","v":{"v":0,"d":"$0.00"}},{"$f":"($C$4*F262/12)*PerMemberAssess[[#This Row],[Member / Unit Count (this type of Unit)]]","v":{"v":0,"d":"$0.00"}}]
[{"$nulls":7},{"v":0,"d":"0.000%"},{"v":0,"d":"$0.000"},{"$f":"($C$4*F263)*PerMemberAssess[[#This Row],[Member / Unit Count (this type of Unit)]]","v":{"v":0,"d":"$0.00"}},{"$f":"($C$4*F263/2)*PerMemberAssess[[#This Row],[Member / Unit Count (this type of Unit)]]","v":{"v":0,"d":"$0.00"}},{"$f":"($C$4*F263/4)*PerMemberAssess[[#This Row],[Member / Unit Count (this type of Unit)]]","v":{"v":0,"d":"$0.00"}},{"$f":"($C$4*F263/12)*PerMemberAssess[[#This Row],[Member / Unit Count (this type of Unit)]]","v":{"v":0,"d":"$0.00"}}]
[{"$nulls":7},{"v":0,"d":"0.000%"},{"v":0,"d":"$0.000"},{"$f":"($C$4*F264)*PerMemberAssess[[#This Row],[Member / Unit Count (this type of Unit)]]","v":{"v":0,"d":"$0.00"}},{"$f":"($C$4*F264/2)*PerMemberAssess[[#This Row],[Member / Unit Count (this type of Unit)]]","v":{"v":0,"d":"$0.00"}},{"$f":"($C$4*F264/4)*PerMemberAssess[[#This Row],[Member / Unit Count (this type of Unit)]]","v":{"v":0,"d":"$0.00"}},{"$f":"($C$4*F264/12)*PerMemberAssess[[#This Row],[Member / Unit Count (this type of Unit)]]","v":{"v":0,"d":"$0.00"}}]
[{"$nulls":7},{"$f":"G265*F265","v":{"v":0,"d":"0.000%"}},{"$f":"($C$4*F265/12)","v":{"v":0,"d":"$0.000"}},{"$f":"($C$4*F265)*PerMemberAssess[[#This Row],[Member / Unit Count (this type of Unit)]]","v":{"v":0,"d":"$0.00"}},{"$f":"($C$4*F265/2)*PerMemberAssess[[#This Row],[Member / Unit Count (this type of Unit)]]","v":{"v":0,"d":"$0.00"}},{"$f":"($C$4*F265/4)*PerMemberAssess[[#This Row],[Member / Unit Count (this type of Unit)]]","v":{"v":0,"d":"$0.00"}},{"$f":"($C$4*F265/12)*PerMemberAssess[[#This Row],[Member / Unit Count (this type of Unit)]]","v":{"v":0,"d":"$0.00"}}]
[{"$nulls":7},{"v":0,"d":"0.000%"},{"v":0,"d":"$0.000"},{"$f":"($C$4*F266)*PerMemberAssess[[#This Row],[Member / Unit Count (this type of Unit)]]","v":{"v":0,"d":"$0.00"}},{"$f":"($C$4*F266/2)*PerMemberAssess[[#This Row],[Member / Unit Count (this type of Unit)]]","v":{"v":0,"d":"$0.00"}},{"$f":"($C$4*F266/4)*PerMemberAssess[[#This Row],[Member / Unit Count (this type of Unit)]]","v":{"v":0,"d":"$0.00"}},{"$f":"($C$4*F266/12)*PerMemberAssess[[#This Row],[Member / Unit Count (this type of Unit)]]","v":{"v":0,"d":"$0.00"}}]
[{"$nulls":7},{"v":0,"d":"0.000%"},{"v":0,"d":"$0.000"},{"$f":"($C$4*F267)*PerMemberAssess[[#This Row],[Member / Unit Count (this type of Unit)]]","v":{"v":0,"d":"$0.00"}},{"$f":"($C$4*F267/2)*PerMemberAssess[[#This Row],[Member / Unit Count (this type of Unit)]]","v":{"v":0,"d":"$0.00"}},{"$f":"($C$4*F267/4)*PerMemberAssess[[#This Row],[Member / Unit Count (this type of Unit)]]","v":{"v":0,"d":"$0.00"}},{"$f":"($C$4*F267/12)*PerMemberAssess[[#This Row],[Member / Unit Count (this type of Unit)]]","v":{"v":0,"d":"$0.00"}}]
[{"$nulls":7},{"v":0,"d":"0.000%"},{"v":0,"d":"$0.000"},{"$f":"($C$4*F268)*PerMemberAssess[[#This Row],[Member / Unit Count (this type of Unit)]]","v":{"v":0,"d":"$0.00"}},{"$f":"($C$4*F268/2)*PerMemberAssess[[#This Row],[Member / Unit Count (this type of Unit)]]","v":{"v":0,"d":"$0.00"}},{"$f":"($C$4*F268/4)*PerMemberAssess[[#This Row],[Member / Unit Count (this type of Unit)]]","v":{"v":0,"d":"$0.00"}},{"$f":"($C$4*F268/12)*PerMemberAssess[[#This Row],[Member / Unit Count (this type of Unit)]]","v":{"v":0,"d":"$0.00"}}]
[{"$nulls":7},{"v":0,"d":"0.000%"},{"v":0,"d":"$0.000"},{"$f":"($C$4*F269)*PerMemberAssess[[#This Row],[Member / Unit Count (this type of Unit)]]","v":{"v":0,"d":"$0.00"}},{"$f":"($C$4*F269/2)*PerMemberAssess[[#This Row],[Member / Unit Count (this type of Unit)]]","v":{"v":0,"d":"$0.00"}},{"$f":"($C$4*F269/4)*PerMemberAssess[[#This Row],[Member / Unit Count (this type of Unit)]]","v":{"v":0,"d":"$0.00"}},{"$f":"($C$4*F269/12)*PerMemberAssess[[#This Row],[Member / Unit Count (this type of Unit)]]","v":{"v":0,"d":"$0.00"}}]
[{"$nulls":7},{"v":0,"d":"0.000%"},{"v":0,"d":"$0.000"},{"$f":"($C$4*F270)*PerMemberAssess[[#This Row],[Member / Unit Count (this type of Unit)]]","v":{"v":0,"d":"$0.00"}},{"$f":"($C$4*F270/2)*PerMemberAssess[[#This Row],[Member / Unit Count (this type of Unit)]]","v":{"v":0,"d":"$0.00"}},{"$f":"($C$4*F270/4)*PerMemberAssess[[#This Row],[Member / Unit Count (this type of Unit)]]","v":{"v":0,"d":"$0.00"}},{"$f":"($C$4*F270/12)*PerMemberAssess[[#This Row],[Member / Unit Count (this type of Unit)]]","v":{"v":0,"d":"$0.00"}}]
[{"$nulls":7},{"v":0,"d":"0.000%"},{"v":0,"d":"$0.000"},{"$f":"($C$4*F271)*PerMemberAssess[[#This Row],[Member / Unit Count (this type of Unit)]]","v":{"v":0,"d":"$0.00"}},{"$f":"($C$4*F271/2)*PerMemberAssess[[#This Row],[Member / Unit Count (this type of Unit)]]","v":{"v":0,"d":"$0.00"}},{"$f":"($C$4*F271/4)*PerMemberAssess[[#This Row],[Member / Unit Count (this type of Unit)]]","v":{"v":0,"d":"$0.00"}},{"$f":"($C$4*F271/12)*PerMemberAssess[[#This Row],[Member / Unit Count (this type of Unit)]]","v":{"v":0,"d":"$0.00"}}]
[{"$nulls":7},{"v":0,"d":"0.000%"},{"v":0,"d":"$0.000"},{"$f":"($C$4*F272)*PerMemberAssess[[#This Row],[Member / Unit Count (this type of Unit)]]","v":{"v":0,"d":"$0.00"}},{"$f":"($C$4*F272/2)*PerMemberAssess[[#This Row],[Member / Unit Count (this type of Unit)]]","v":{"v":0,"d":"$0.00"}},{"$f":"($C$4*F272/4)*PerMemberAssess[[#This Row],[Member / Unit Count (this type of Unit)]]","v":{"v":0,"d":"$0.00"}},{"$f":"($C$4*F272/12)*PerMemberAssess[[#This Row],[Member / Unit Count (this type of Unit)]]","v":{"v":0,"d":"$0.00"}}]
[{"$nulls":7},{"v":0,"d":"0.000%"},{"v":0,"d":"$0.000"},{"$f":"($C$4*F273)*PerMemberAssess[[#This Row],[Member / Unit Count (this type of Unit)]]","v":{"v":0,"d":"$0.00"}},{"$f":"($C$4*F273/2)*PerMemberAssess[[#This Row],[Member / Unit Count (this type of Unit)]]","v":{"v":0,"d":"$0.00"}},{"$f":"($C$4*F273/4)*PerMemberAssess[[#This Row],[Member / Unit Count (this type of Unit)]]","v":{"v":0,"d":"$0.00"}},{"$f":"($C$4*F273/12)*PerMemberAssess[[#This Row],[Member / Unit Count (this type of Unit)]]","v":{"v":0,"d":"$0.00"}}]
[{"$nulls":7},{"v":0,"d":"0.000%"},{"v":0,"d":"$0.000"},{"$f":"($C$4*F274)*PerMemberAssess[[#This Row],[Member / Unit Count (this type of Unit)]]","v":{"v":0,"d":"$0.00"}},{"$f":"($C$4*F274/2)*PerMemberAssess[[#This Row],[Member / Unit Count (this type of Unit)]]","v":{"v":0,"d":"$0.00"}},{"$f":"($C$4*F274/4)*PerMemberAssess[[#This Row],[Member / Unit Count (this type of Unit)]]","v":{"v":0,"d":"$0.00"}},{"$f":"($C$4*F274/12)*PerMemberAssess[[#This Row],[Member / Unit Count (this type of Unit)]]","v":{"v":0,"d":"$0.00"}}]
[{"$nulls":7},{"v":0,"d":"0.000%"},{"v":0,"d":"$0.000"},{"$f":"($C$4*F275)*PerMemberAssess[[#This Row],[Member / Unit Count (this type of Unit)]]","v":{"v":0,"d":"$0.00"}},{"$f":"($C$4*F275/2)*PerMemberAssess[[#This Row],[Member / Unit Count (this type of Unit)]]","v":{"v":0,"d":"$0.00"}},{"$f":"($C$4*F275/4)*PerMemberAssess[[#This Row],[Member / Unit Count (this type of Unit)]]","v":{"v":0,"d":"$0.00"}},{"$f":"($C$4*F275/12)*PerMemberAssess[[#This Row],[Member / Unit Count (this type of Unit)]]","v":{"v":0,"d":"$0.00"}}]
[{"$nulls":7},{"v":0,"d":"0.000%"},{"v":0,"d":"$0.000"},{"$f":"($C$4*F276)*PerMemberAssess[[#This Row],[Member / Unit Count (this type of Unit)]]","v":{"v":0,"d":"$0.00"}},{"$f":"($C$4*F276/2)*PerMemberAssess[[#This Row],[Member / Unit Count (this type of Unit)]]","v":{"v":0,"d":"$0.00"}},{"$f":"($C$4*F276/4)*PerMemberAssess[[#This Row],[Member / Unit Count (this type of Unit)]]","v":{"v":0,"d":"$0.00"}},{"$f":"($C$4*F276/12)*PerMemberAssess[[#This Row],[Member / Unit Count (this type of Unit)]]","v":{"v":0,"d":"$0.00"}}]
[{"$nulls":7},{"v":0,"d":"0.000%"},{"v":0,"d":"$0.000"},{"$f":"($C$4*F277)*PerMemberAssess[[#This Row],[Member / Unit Count (this type of Unit)]]","v":{"v":0,"d":"$0.00"}},{"$f":"($C$4*F277/2)*PerMemberAssess[[#This Row],[Member / Unit Count (this type of Unit)]]","v":{"v":0,"d":"$0.00"}},{"$f":"($C$4*F277/4)*PerMemberAssess[[#This Row],[Member / Unit Count (this type of Unit)]]","v":{"v":0,"d":"$0.00"}},{"$f":"($C$4*F277/12)*PerMemberAssess[[#This Row],[Member / Unit Count (this type of Unit)]]","v":{"v":0,"d":"$0.00"}}]
[{"$nulls":7},{"v":0,"d":"0.000%"},{"v":0,"d":"$0.000"},{"$f":"($C$4*F278)*PerMemberAssess[[#This Row],[Member / Unit Count (this type of Unit)]]","v":{"v":0,"d":"$0.00"}},{"$f":"($C$4*F278/2)*PerMemberAssess[[#This Row],[Member / Unit Count (this type of Unit)]]","v":{"v":0,"d":"$0.00"}},{"$f":"($C$4*F278/4)*PerMemberAssess[[#This Row],[Member / Unit Count (this type of Unit)]]","v":{"v":0,"d":"$0.00"}},{"$f":"($C$4*F278/12)*PerMemberAssess[[#This Row],[Member / Unit Count (this type of Unit)]]","v":{"v":0,"d":"$0.00"}}]
[{"$nulls":7},{"v":0,"d":"0.000%"},{"v":0,"d":"$0.000"},{"$f":"($C$4*F279)*PerMemberAssess[[#This Row],[Member / Unit Count (this type of Unit)]]","v":{"v":0,"d":"$0.00"}},{"$f":"($C$4*F279/2)*PerMemberAssess[[#This Row],[Member / Unit Count (this type of Unit)]]","v":{"v":0,"d":"$0.00"}},{"$f":"($C$4*F279/4)*PerMemberAssess[[#This Row],[Member / Unit Count (this type of Unit)]]","v":{"v":0,"d":"$0.00"}},{"$f":"($C$4*F279/12)*PerMemberAssess[[#This Row],[Member / Unit Count (this type of Unit)]]","v":{"v":0,"d":"$0.00"}}]
[{"$nulls":7},{"v":0,"d":"0.000%"},{"v":0,"d":"$0.000"},{"$f":"($C$4*F280)*PerMemberAssess[[#This Row],[Member / Unit Count (this type of Unit)]]","v":{"v":0,"d":"$0.00"}},{"$f":"($C$4*F280/2)*PerMemberAssess[[#This Row],[Member / Unit Count (this type of Unit)]]","v":{"v":0,"d":"$0.00"}},{"$f":"($C$4*F280/4)*PerMemberAssess[[#This Row],[Member / Unit Count (this type of Unit)]]","v":{"v":0,"d":"$0.00"}},{"$f":"($C$4*F280/12)*PerMemberAssess[[#This Row],[Member / Unit Count (this type of Unit)]]","v":{"v":0,"d":"$0.00"}}]
[{"$nulls":7},{"v":0,"d":"0.000%"},{"v":0,"d":"$0.000"},{"$f":"($C$4*F281)*PerMemberAssess[[#This Row],[Member / Unit Count (this type of Unit)]]","v":{"v":0,"d":"$0.00"}},{"$f":"($C$4*F281/2)*PerMemberAssess[[#This Row],[Member / Unit Count (this type of Unit)]]","v":{"v":0,"d":"$0.00"}},{"$f":"($C$4*F281/4)*PerMemberAssess[[#This Row],[Member / Unit Count (this type of Unit)]]","v":{"v":0,"d":"$0.00"}},{"$f":"($C$4*F281/12)*PerMemberAssess[[#This Row],[Member / Unit Count (this type of Unit)]]","v":{"v":0,"d":"$0.00"}}]
[{"$nulls":7},{"v":0,"d":"0.000%"},{"v":0,"d":"$0.000"},{"$f":"($C$4*F282)*PerMemberAssess[[#This Row],[Member / Unit Count (this type of Unit)]]","v":{"v":0,"d":"$0.00"}},{"$f":"($C$4*F282/2)*PerMemberAssess[[#This Row],[Member / Unit Count (this type of Unit)]]","v":{"v":0,"d":"$0.00"}},{"$f":"($C$4*F282/4)*PerMemberAssess[[#This Row],[Member / Unit Count (this type of Unit)]]","v":{"v":0,"d":"$0.00"}},{"$f":"($C$4*F282/12)*PerMemberAssess[[#This Row],[Member / Unit Count (this type of Unit)]]","v":{"v":0,"d":"$0.00"}}]
[{"$nulls":7},{"v":0,"d":"0.000%"},{"v":0,"d":"$0.000"},{"$f":"($C$4*F283)*PerMemberAssess[[#This Row],[Member / Unit Count (this type of Unit)]]","v":{"v":0,"d":"$0.00"}},{"$f":"($C$4*F283/2)*PerMemberAssess[[#This Row],[Member / Unit Count (this type of Unit)]]","v":{"v":0,"d":"$0.00"}},{"$f":"($C$4*F283/4)*PerMemberAssess[[#This Row],[Member / Unit Count (this type of Unit)]]","v":{"v":0,"d":"$0.00"}},{"$f":"($C$4*F283/12)*PerMemberAssess[[#This Row],[Member / Unit Count (this type of Unit)]]","v":{"v":0,"d":"$0.00"}}]
[{"$nulls":7},{"v":0,"d":"0.000%"},{"v":0,"d":"$0.000"},{"$f":"($C$4*F284)*PerMemberAssess[[#This Row],[Member / Unit Count (this type of Unit)]]","v":{"v":0,"d":"$0.00"}},{"$f":"($C$4*F284/2)*PerMemberAssess[[#This Row],[Member / Unit Count (this type of Unit)]]","v":{"v":0,"d":"$0.00"}},{"$f":"($C$4*F284/4)*PerMemberAssess[[#This Row],[Member / Unit Count (this type of Unit)]]","v":{"v":0,"d":"$0.00"}},{"$f":"($C$4*F284/12)*PerMemberAssess[[#This Row],[Member / Unit Count (this type of Unit)]]","v":{"v":0,"d":"$0.00"}}]
[{"$nulls":7},{"v":0,"d":"0.000%"},{"v":0,"d":"$0.000"},{"$f":"($C$4*F285)*PerMemberAssess[[#This Row],[Member / Unit Count (this type of Unit)]]","v":{"v":0,"d":"$0.00"}},{"$f":"($C$4*F285/2)*PerMemberAssess[[#This Row],[Member / Unit Count (this type of Unit)]]","v":{"v":0,"d":"$0.00"}},{"$f":"($C$4*F285/4)*PerMemberAssess[[#This Row],[Member / Unit Count (this type of Unit)]]","v":{"v":0,"d":"$0.00"}},{"$f":"($C$4*F285/12)*PerMemberAssess[[#This Row],[Member / Unit Count (this type of Unit)]]","v":{"v":0,"d":"$0.00"}}]
[{"$nulls":7},{"v":0,"d":"0.000%"},{"v":0,"d":"$0.000"},{"$f":"($C$4*F286)*PerMemberAssess[[#This Row],[Member / Unit Count (this type of Unit)]]","v":{"v":0,"d":"$0.00"}},{"$f":"($C$4*F286/2)*PerMemberAssess[[#This Row],[Member / Unit Count (this type of Unit)]]","v":{"v":0,"d":"$0.00"}},{"$f":"($C$4*F286/4)*PerMemberAssess[[#This Row],[Member / Unit Count (this type of Unit)]]","v":{"v":0,"d":"$0.00"}},{"$f":"($C$4*F286/12)*PerMemberAssess[[#This Row],[Member / Unit Count (this type of Unit)]]","v":{"v":0,"d":"$0.00"}}]
[{"$nulls":7},{"v":0,"d":"0.000%"},{"v":0,"d":"$0.000"},{"$f":"($C$4*F287)*PerMemberAssess[[#This Row],[Member / Unit Count (this type of Unit)]]","v":{"v":0,"d":"$0.00"}},{"$f":"($C$4*F287/2)*PerMemberAssess[[#This Row],[Member / Unit Count (this type of Unit)]]","v":{"v":0,"d":"$0.00"}},{"$f":"($C$4*F287/4)*PerMemberAssess[[#This Row],[Member / Unit Count (this type of Unit)]]","v":{"v":0,"d":"$0.00"}},{"$f":"($C$4*F287/12)*PerMemberAssess[[#This Row],[Member / Unit Count (this type of Unit)]]","v":{"v":0,"d":"$0.00"}}]
[{"$nulls":7},{"v":0,"d":"0.000%"},{"v":0,"d":"$0.000"},{"$f":"($C$4*F288)*PerMemberAssess[[#This Row],[Member / Unit Count (this type of Unit)]]","v":{"v":0,"d":"$0.00"}},{"$f":"($C$4*F288/2)*PerMemberAssess[[#This Row],[Member / Unit Count (this type of Unit)]]","v":{"v":0,"d":"$0.00"}},{"$f":"($C$4*F288/4)*PerMemberAssess[[#This Row],[Member / Unit Count (this type of Unit)]]","v":{"v":0,"d":"$0.00"}},{"$f":"($C$4*F288/12)*PerMemberAssess[[#This Row],[Member / Unit Count (this type of Unit)]]","v":{"v":0,"d":"$0.00"}}]
[{"$nulls":7},{"v":0,"d":"0.000%"},{"v":0,"d":"$0.000"},{"$f":"($C$4*F289)*PerMemberAssess[[#This Row],[Member / Unit Count (this type of Unit)]]","v":{"v":0,"d":"$0.00"}},{"$f":"($C$4*F289/2)*PerMemberAssess[[#This Row],[Member / Unit Count (this type of Unit)]]","v":{"v":0,"d":"$0.00"}},{"$f":"($C$4*F289/4)*PerMemberAssess[[#This Row],[Member / Unit Count (this type of Unit)]]","v":{"v":0,"d":"$0.00"}},{"$f":"($C$4*F289/12)*PerMemberAssess[[#This Row],[Member / Unit Count (this type of Unit)]]","v":{"v":0,"d":"$0.00"}}]
[{"$nulls":7},{"v":0,"d":"0.000%"},{"v":0,"d":"$0.000"},{"$f":"($C$4*F290)*PerMemberAssess[[#This Row],[Member / Unit Count (this type of Unit)]]","v":{"v":0,"d":"$0.00"}},{"$f":"($C$4*F290/2)*PerMemberAssess[[#This Row],[Member / Unit Count (this type of Unit)]]","v":{"v":0,"d":"$0.00"}},{"$f":"($C$4*F290/4)*PerMemberAssess[[#This Row],[Member / Unit Count (this type of Unit)]]","v":{"v":0,"d":"$0.00"}},{"$f":"($C$4*F290/12)*PerMemberAssess[[#This Row],[Member / Unit Count (this type of Unit)]]","v":{"v":0,"d":"$0.00"}}]
[{"$nulls":7},{"v":0,"d":"0.000%"},{"v":0,"d":"$0.000"},{"$f":"($C$4*F291)*PerMemberAssess[[#This Row],[Member / Unit Count (this type of Unit)]]","v":{"v":0,"d":"$0.00"}},{"$f":"($C$4*F291/2)*PerMemberAssess[[#This Row],[Member / Unit Count (this type of Unit)]]","v":{"v":0,"d":"$0.00"}},{"$f":"($C$4*F291/4)*PerMemberAssess[[#This Row],[Member / Unit Count (this type of Unit)]]","v":{"v":0,"d":"$0.00"}},{"$f":"($C$4*F291/12)*PerMemberAssess[[#This Row],[Member / Unit Count (this type of Unit)]]","v":{"v":0,"d":"$0.00"}}]
[{"$nulls":7},{"v":0,"d":"0.000%"},{"v":0,"d":"$0.000"},{"$f":"($C$4*F292)*PerMemberAssess[[#This Row],[Member / Unit Count (this type of Unit)]]","v":{"v":0,"d":"$0.00"}},{"$f":"($C$4*F292/2)*PerMemberAssess[[#This Row],[Member / Unit Count (this type of Unit)]]","v":{"v":0,"d":"$0.00"}},{"$f":"($C$4*F292/4)*PerMemberAssess[[#This Row],[Member / Unit Count (this type of Unit)]]","v":{"v":0,"d":"$0.00"}},{"$f":"($C$4*F292/12)*PerMemberAssess[[#This Row],[Member / Unit Count (this type of Unit)]]","v":{"v":0,"d":"$0.00"}}]
[{"$nulls":7},{"v":0,"d":"0.000%"},{"v":0,"d":"$0.000"},{"$f":"($C$4*F293)*PerMemberAssess[[#This Row],[Member / Unit Count (this type of Unit)]]","v":{"v":0,"d":"$0.00"}},{"$f":"($C$4*F293/2)*PerMemberAssess[[#This Row],[Member / Unit Count (this type of Unit)]]","v":{"v":0,"d":"$0.00"}},{"$f":"($C$4*F293/4)*PerMemberAssess[[#This Row],[Member / Unit Count (this type of Unit)]]","v":{"v":0,"d":"$0.00"}},{"$f":"($C$4*F293/12)*PerMemberAssess[[#This Row],[Member / Unit Count (this type of Unit)]]","v":{"v":0,"d":"$0.00"}}]
[{"$nulls":7},{"v":0,"d":"0.000%"},{"v":0,"d":"$0.000"},{"$f":"($C$4*F294)*PerMemberAssess[[#This Row],[Member / Unit Count (this type of Unit)]]","v":{"v":0,"d":"$0.00"}},{"$f":"($C$4*F294/2)*PerMemberAssess[[#This Row],[Member / Unit Count (this type of Unit)]]","v":{"v":0,"d":"$0.00"}},{"$f":"($C$4*F294/4)*PerMemberAssess[[#This Row],[Member / Unit Count (this type of Unit)]]","v":{"v":0,"d":"$0.00"}},{"$f":"($C$4*F294/12)*PerMemberAssess[[#This Row],[Member / Unit Count (this type of Unit)]]","v":{"v":0,"d":"$0.00"}}]
[{"$nulls":7},{"v":0,"d":"0.000%"},{"v":0,"d":"$0.000"},{"$f":"($C$4*F295)*PerMemberAssess[[#This Row],[Member / Unit Count (this type of Unit)]]","v":{"v":0,"d":"$0.00"}},{"$f":"($C$4*F295/2)*PerMemberAssess[[#This Row],[Member / Unit Count (this type of Unit)]]","v":{"v":0,"d":"$0.00"}},{"$f":"($C$4*F295/4)*PerMemberAssess[[#This Row],[Member / Unit Count (this type of Unit)]]","v":{"v":0,"d":"$0.00"}},{"$f":"($C$4*F295/12)*PerMemberAssess[[#This Row],[Member / Unit Count (this type of Unit)]]","v":{"v":0,"d":"$0.00"}}]
[{"$nulls":7},{"v":0,"d":"0.000%"},{"v":0,"d":"$0.000"},{"$f":"($C$4*F296)*PerMemberAssess[[#This Row],[Member / Unit Count (this type of Unit)]]","v":{"v":0,"d":"$0.00"}},{"$f":"($C$4*F296/2)*PerMemberAssess[[#This Row],[Member / Unit Count (this type of Unit)]]","v":{"v":0,"d":"$0.00"}},{"$f":"($C$4*F296/4)*PerMemberAssess[[#This Row],[Member / Unit Count (this type of Unit)]]","v":{"v":0,"d":"$0.00"}},{"$f":"($C$4*F296/12)*PerMemberAssess[[#This Row],[Member / Unit Count (this type of Unit)]]","v":{"v":0,"d":"$0.00"}}]
[{"$nulls":7},{"v":0,"d":"0.000%"},{"v":0,"d":"$0.000"},{"$f":"($C$4*F297)*PerMemberAssess[[#This Row],[Member / Unit Count (this type of Unit)]]","v":{"v":0,"d":"$0.00"}},{"$f":"($C$4*F297/2)*PerMemberAssess[[#This Row],[Member / Unit Count (this type of Unit)]]","v":{"v":0,"d":"$0.00"}},{"$f":"($C$4*F297/4)*PerMemberAssess[[#This Row],[Member / Unit Count (this type of Unit)]]","v":{"v":0,"d":"$0.00"}},{"$f":"($C$4*F297/12)*PerMemberAssess[[#This Row],[Member / Unit Count (this type of Unit)]]","v":{"v":0,"d":"$0.00"}}]
[{"$nulls":7},{"v":0,"d":"0.000%"},{"v":0,"d":"$0.000"},{"$f":"($C$4*F298)*PerMemberAssess[[#This Row],[Member / Unit Count (this type of Unit)]]","v":{"v":0,"d":"$0.00"}},{"$f":"($C$4*F298/2)*PerMemberAssess[[#This Row],[Member / Unit Count (this type of Unit)]]","v":{"v":0,"d":"$0.00"}},{"$f":"($C$4*F298/4)*PerMemberAssess[[#This Row],[Member / Unit Count (this type of Unit)]]","v":{"v":0,"d":"$0.00"}},{"$f":"($C$4*F298/12)*PerMemberAssess[[#This Row],[Member / Unit Count (this type of Unit)]]","v":{"v":0,"d":"$0.00"}}]
[{"$nulls":7},{"v":0,"d":"0.000%"},{"v":0,"d":"$0.000"},{"$f":"($C$4*F299)*PerMemberAssess[[#This Row],[Member / Unit Count (this type of Unit)]]","v":{"v":0,"d":"$0.00"}},{"$f":"($C$4*F299/2)*PerMemberAssess[[#This Row],[Member / Unit Count (this type of Unit)]]","v":{"v":0,"d":"$0.00"}},{"$f":"($C$4*F299/4)*PerMemberAssess[[#This Row],[Member / Unit Count (this type of Unit)]]","v":{"v":0,"d":"$0.00"}},{"$f":"($C$4*F299/12)*PerMemberAssess[[#This Row],[Member / Unit Count (this type of Unit)]]","v":{"v":0,"d":"$0.00"}}]
[{"$nulls":7},{"v":0,"d":"0.000%"},{"v":0,"d":"$0.000"},{"$f":"($C$4*F300)*PerMemberAssess[[#This Row],[Member / Unit Count (this type of Unit)]]","v":{"v":0,"d":"$0.00"}},{"$f":"($C$4*F300/2)*PerMemberAssess[[#This Row],[Member / Unit Count (this type of Unit)]]","v":{"v":0,"d":"$0.00"}},{"$f":"($C$4*F300/4)*PerMemberAssess[[#This Row],[Member / Unit Count (this type of Unit)]]","v":{"v":0,"d":"$0.00"}},{"$f":"($C$4*F300/12)*PerMemberAssess[[#This Row],[Member / Unit Count (this type of Unit)]]","v":{"v":0,"d":"$0.00"}}]
[{"$nulls":7},{"v":0,"d":"0.000%"},{"v":0,"d":"$0.000"},{"$f":"($C$4*F301)*PerMemberAssess[[#This Row],[Member / Unit Count (this type of Unit)]]","v":{"v":0,"d":"$0.00"}},{"$f":"($C$4*F301/2)*PerMemberAssess[[#This Row],[Member / Unit Count (this type of Unit)]]","v":{"v":0,"d":"$0.00"}},{"$f":"($C$4*F301/4)*PerMemberAssess[[#This Row],[Member / Unit Count (this type of Unit)]]","v":{"v":0,"d":"$0.00"}},{"$f":"($C$4*F301/12)*PerMemberAssess[[#This Row],[Member / Unit Count (this type of Unit)]]","v":{"v":0,"d":"$0.00"}}]
[{"$nulls":7},{"v":0,"d":"0.000%"},{"v":0,"d":"$0.000"},{"$f":"($C$4*F302)*PerMemberAssess[[#This Row],[Member / Unit Count (this type of Unit)]]","v":{"v":0,"d":"$0.00"}},{"$f":"($C$4*F302/2)*PerMemberAssess[[#This Row],[Member / Unit Count (this type of Unit)]]","v":{"v":0,"d":"$0.00"}},{"$f":"($C$4*F302/4)*PerMemberAssess[[#This Row],[Member / Unit Count (this type of Unit)]]","v":{"v":0,"d":"$0.00"}},{"$f":"($C$4*F302/12)*PerMemberAssess[[#This Row],[Member / Unit Count (this type of Unit)]]","v":{"v":0,"d":"$0.00"}}]

{"sheet":"Import","index":4,"n_rows":50,"n_cols":38,"rows_kept":50,"hidden":true}
["Year",{"$nulls":7},2022,2023,2024,2025,2026,2027,2028,2029,2030,2031,2032,2033,2034,2035,2036,2037,2038,2039,2040,2041,2042,2043,2044,2045,2046,2047,2048,2049,2050,2051]
["Current Assessment Funding Model Assessment",{"$nulls":7},{"v":30875,"d":"30,875"},{"v":31801,"d":"31,801"},{"v":32755,"d":"32,755"},{"v":33738,"d":"33,738"},{"v":34750,"d":"34,750"},{"v":35793,"d":"35,793"},{"v":36866,"d":"36,866"},{"v":37972,"d":"37,972"},{"v":39112,"d":"39,112"},{"v":40285,"d":"40,285"},{"v":41493,"d":"41,493"},{"v":42738,"d":"42,738"},{"v":44020,"d":"44,020"},{"v":45341,"d":"45,341"},{"v":46701,"d":"46,701"},{"v":48102,"d":"48,102"},{"v":49545,"d":"49,545"},{"v":51032,"d":"51,032"},{"v":52563,"d":"52,563"},{"v":54140,"d":"54,140"},{"v":55764,"d":"55,764"},{"v":57437,"d":"57,437"},{"v":59160,"d":"59,160"},{"v":60934,"d":"60,934"},{"v":62763,"d":"62,763"},{"v":64645,"d":"64,645"},{"v":66585,"d":"66,585"},{"v":68582,"d":"68,582"},{"v":70640,"d":"70,640"},{"v":72759,"d":"72,759"}]
["Current Assessment Funding Model Interest",{"$nulls":7},{"v":0,"d":"$0"},{"v":0,"d":"$0"},{"v":58,"d":"$58"},{"v":51,"d":"$51"},{"v":46,"d":"$46"},0,0,{"v":0,"d":"$0"},{"v":0,"d":"$0"},{"v":96,"d":"$96"},0,0,0,152,299,0,32,183,256,0,0,0,0,0,0,0,0,0,0,0]
["Current Assessment Funding Model Expenditures",{"$nulls":7},{"v":91118,"d":"91,118"},{"v":1448,"d":"1,448"},{"v":3240,"d":"3,240"},{"v":35736,"d":"35,736"},{"v":36371,"d":"36,371"},{"v":143513,"d":"143,513"},{"v":3242,"d":"3,242"},{"v":1729,"d":"1,729"},{"v":23738,"d":"23,738"},{"v":3543,"d":"3,543"},{"v":140460,"d":"140,460"},{"v":11359,"d":"11,359"},{"v":3871,"d":"3,871"},{"v":2065,"d":"2,065"},{"v":4620,"d":"4,620"},{"v":171969,"d":"171,969"},{"v":2257,"d":"2,257"},{"v":7886,"d":"7,886"},{"v":31972,"d":"31,972"},{"v":240380,"d":"240,380"},{"v":207826,"d":"207,826"},{"v":5051,"d":"5,051"},{"v":2694,"d":"2,694"},{"v":36983,"d":"36,983"},{"v":101345,"d":"101,345"},{"v":185431,"d":"185,431"},{"v":6587,"d":"6,587"},{"v":6032,"d":"6,032"},{"v":211194,"d":"211,194"},{"v":7198,"d":"7,198"}]
["Current Assessment Funding Model Ending Balance",{"$nulls":7},{"v":-43307,"d":"-43,307"},{"v":-12954,"d":"-12,954"},{"v":16619,"d":"16,619"},{"v":14672,"d":"14,672"},{"v":13097,"d":"13,097"},{"v":-94623,"d":"-94,623"},{"v":-60999,"d":"-60,999"},{"v":-24756,"d":"-24,756"},{"v":-9383,"d":"-9,383"},{"v":27455,"d":"27,455"},{"v":-71512,"d":"-71,512"},{"v":-40132,"d":"-40,132"},17,{"v":43444,"d":"43,444"},{"v":85825,"d":"85,825"},{"v":-38042,"d":"-38,042"},{"v":9279,"d":"9,279"},{"v":52608,"d":"52,608"},{"v":73454,"d":"73,454"},{"v":-112786,"d":"-112,786"},{"v":-264849,"d":"-264,849"},{"v":-212463,"d":"-212,463"},{"v":-155998,"d":"-155,998"},{"v":-132047,"d":"-132,047"},{"v":-170629,"d":"-170,629"},{"v":-291415,"d":"-291,415"},{"v":-231417,"d":"-231,417"},{"v":-168866,"d":"-168,866"},{"v":-309420,"d":"-309,420"},{"v":-243859,"d":"-243,859"}]
["Current Assessment Funding Model Fully Funded",{"$nulls":7},{"v":224017,"d":"224,017"},{"v":261725,"d":"261,725"},{"v":299693,"d":"299,693"},{"v":306478,"d":"306,478"},{"v":313850,"d":"313,850"},{"v":220644,"d":"220,644"},{"v":270476,"d":"270,476"},{"v":324759,"d":"324,759"},{"v":359439,"d":"359,439"},{"v":417442,"d":"417,442"},{"v":337687,"d":"337,687"},{"v":390085,"d":"390,085"},{"v":453386,"d":"453,386"},{"v":522115,"d":"522,115"},{"v":591991,"d":"591,991"},{"v":493364,"d":"493,364"},{"v":568403,"d":"568,403"},{"v":641772,"d":"641,772"},{"v":694466,"d":"694,466"},{"v":536073,"d":"536,073"},{"v":392641,"d":"392,641"},{"v":455401,"d":"455,401"},{"v":524157,"d":"524,157"},{"v":561394,"d":"561,394"},{"v":535244,"d":"535,244"},{"v":423542,"d":"423,542"},{"v":494596,"d":"494,596"},{"v":570307,"d":"570,307"},{"v":438984,"d":"438,984"},{"v":515912,"d":"515,912"}]
["Current Assessment Funding Model Current Cost",{"$nulls":7},{"v":522712,"d":"522,712"},{"v":538394,"d":"538,394"},{"v":554545,"d":"554,545"},{"v":571182,"d":"571,182"},{"v":588317,"d":"588,317"},{"v":605967,"d":"605,967"},{"v":624146,"d":"624,146"},{"v":642870,"d":"642,870"},{"v":662156,"d":"662,156"},{"v":682021,"d":"682,021"},{"v":702482,"d":"702,482"},{"v":723556,"d":"723,556"},{"v":745263,"d":"745,263"},{"v":767621,"d":"767,621"},{"v":790649,"d":"790,649"},{"v":814369,"d":"814,369"},{"v":838800,"d":"838,800"},{"v":863964,"d":"863,964"},{"v":889883,"d":"889,883"},{"v":916579,"d":"916,579"},{"v":944076,"d":"944,076"},{"v":893058,"d":"893,058"},{"v":919850,"d":"919,850"},{"v":947446,"d":"947,446"},{"v":975869,"d":"975,869"},{"v":1005145,"d":"1,005,145"},{"v":1035299,"d":"1,035,299"},{"v":1066358,"d":"1,066,358"},{"v":1098349,"d":"1,098,349"},{"v":1131300,"d":"1,131,300"}]
[]
["Expenditure Detail"]
["Description","Asset ID","Useful Life","Remaining","Replacement Year","Adjustment +/-","Date In Service","Current Cost",2022,2023,2024,2025,2026,2027,2028,2029,2030,2031,2032,2033,2034,2035,2036,2037,2038,2039,2040,2041,2042,2043,2044,2045,2046,2047,2048,2049,2050,2051]
["Asphalt - Overlay",1001,25,0,"2022-06-01",0,"1997-06-01",{"v":9789,"d":"$9,789"},{"v":9789,"d":"$9,789"},{"$nulls":24},{"v":20496,"d":"$20,496"}]
["Asphalt - Sealcoat",1002,5,0,"2022-06-01",2,"2015-06-01",{"v":1357,"d":"$1,357"},{"v":1357,"d":"$1,357"},{"$nulls":4},{"v":1573,"d":"$1,573"},{"$nulls":4},{"v":1824,"d":"$1,824"},{"$nulls":4},{"v":2115,"d":"$2,115"},{"$nulls":4},{"v":2451,"d":"$2,451"},{"$nulls":4},{"v":2842,"d":"2,842"}]
["Baseball Backstop (chain link) - Replace",1003,45,20,"2042-06-01",0,"1997-06-01",{"v":8654,"d":"$8,654"},{"$nulls":20},{"v":15630,"d":"$15,630"}]
["Baseball Infield Fence (chain link) - Replace",1004,45,20,"2042-06-01",0,"1997-06-01",{"v":6741,"d":"6,741"},{"$nulls":20},{"v":12175,"d":"$12,175"}]
["Concrete Curb - 20% Repair",1005,5,0,"2017-06-01",15,"1997-06-01",{"v":1817,"d":"1,817"},{"v":1817,"d":"$1,817"},{"$nulls":4},{"v":2106,"d":"$2,106"},{"$nulls":4},{"v":2442,"d":"$2,442"},{"$nulls":4},{"v":2831,"d":"$2,831"},{"$nulls":4},{"v":3282,"d":"$3,282"},{"$nulls":4},{"v":3804,"d":"$3,804"}]
["Fence (chn link - NE Pond) - Replace",1006,40,28,"2050-06-01",0,"2010-06-01",{"v":30005,"d":"30,005"},{"$nulls":28},{"v":68649,"d":"$68,649"}]
["Fence (chn link - NW Pond) - Replace",1007,40,34,"2056-06-01",0,"2016-06-01",{"v":16976,"d":"16,976"}]
["Fence (chn link baseball 3.5') - Replace",1008,40,15,"2037-06-01",0,"1997-06-01",{"v":9329,"d":"9,329"},{"$nulls":15},{"v":14534,"d":"$14,534"}]
["Fence (sno-cascade drive) - Paint/Stain",1009,5,0,"2021-01-01",0,"2016-01-01",{"v":35115,"d":"35,115"},{"v":35115,"d":"$35,115"},{"$nulls":4},{"v":40708,"d":"$40,708"},{"$nulls":4},{"v":47192,"d":"$47,192"},{"$nulls":4},{"v":54708,"d":"$54,708"},{"$nulls":4},{"v":63422,"d":"$63,422"},{"$nulls":4},{"v":73523,"d":"$73,523"}]
["Fence (sno-cascade drive) - Replace",1010,25,19,"2041-01-01",0,"2016-01-01",{"v":132245,"d":"132,245"},{"$nulls":19},{"v":231892,"d":"231,892"}]
["Fence (wood - NW Pond) - Paint/Stain",1011,5,0,"2022-01-01",0,"2017-01-01",{"v":1866,"d":"1,866"},{"v":1866,"d":"$1,866"},{"$nulls":4},{"v":2163,"d":"2,163"},{"$nulls":4},{"v":2507,"d":"$2,507"},{"$nulls":4},{"v":2907,"d":"$2,907"},{"$nulls":4},{"v":3369,"d":"$3,369"},{"$nulls":4},{"v":3906,"d":"$3,906"}]
["Fence (wood - NW Pond) - Replace",1012,25,0,"2022-06-01",0,"1997-06-01",{"v":7026,"d":"$7,026"},{"v":7026,"d":"$7,026"},{"$nulls":24},{"v":14711,"d":"$14,711"}]
["Irrigation Backflow Valve - Replace",1013,25,0,"2022-06-01",0,"1997-06-01",{"v":1623,"d":"1,623"},{"v":1623,"d":"$1,623"},{"$nulls":24},{"v":3397,"d":"$3,397"}]
["Irrigation Controller Panels - Replace",1014,35,10,"2032-06-01",0,"1997-06-01",{"v":3245,"d":"3,245"},{"$nulls":10},{"v":4361,"d":"$4,361"}]
["Irrigation Controllers - Replace",1015,15,8,"2030-06-01",0,"2015-06-01",{"v":3245,"d":"3,245"},{"$nulls":8},{"v":4111,"d":"$4,111"},{"$nulls":14},{"v":6405,"d":"$6,405"}]
["Irrigation Piping - 25% Replace",1016,5,5,"2027-06-01",25,"1997-06-01",{"v":42649,"d":"42,649"},{"$nulls":5},{"v":49442,"d":"$49,442"},{"$nulls":4},{"v":57317,"d":"$57,317"},{"$nulls":4},{"v":66446,"d":"$66,446"},{"$nulls":4},{"v":77029,"d":"$77,029"}]
["Irrigation Valves (in-ground) - 10% Replace",1017,1,0,"2020-06-01",0,"2019-06-01",{"v":1406,"d":"1,406"},{"v":1406,"d":"$1,406"},{"v":1448,"d":"$1,448"},{"v":1492,"d":"1,492"},{"v":1537,"d":"$1,537"},{"v":1583,"d":"$1,583"},{"v":1630,"d":"$1,630"},{"v":1679,"d":"$1,679"},{"v":1729,"d":"$1,729"},{"v":1781,"d":"$1,781"},{"v":1835,"d":"$1,835"},{"v":1890,"d":"$1,890"},{"v":1947,"d":"$1,947"},{"v":2005,"d":"$2,005"},{"v":2065,"d":"$2,065"},{"v":2127,"d":"$2,127"},{"v":2191,"d":"$2,191"},{"v":2257,"d":"$2,257"},{"v":2324,"d":"$2,324"},{"v":2394,"d":"$2,394"},{"v":2466,"d":"$2,466"},{"v":2540,"d":"$2,540"},{"v":2616,"d":"$2,616"},{"v":2694,"d":"$2,694"},{"v":2775,"d":"$2,775"},{"v":2859,"d":"$2,859"},{"v":2944,"d":"$2,944"},{"v":3033,"d":"$3,033"},{"v":3124,"d":"$3,124"},{"v":3217,"d":"$3,217"},{"v":3314,"d":"$3,314"}]
["Landscape Drainage (boat park) - Refurbish",1018,20,18,"2040-06-01",0,"2020-06-01",{"v":16065,"d":"16,065"},{"$nulls":18},{"v":27350,"d":"$27,350"}]
["Landscaping (gravel) - Replenish",1019,5,0,"2022-06-01",0,"2017-06-01",{"v":3309,"d":"3,309"},{"v":3309,"d":"$3,309"},{"$nulls":4},{"v":3836,"d":"$3,836"},{"$nulls":4},{"v":4447,"d":"$4,447"},{"$nulls":4},{"v":5155,"d":"$5,155"},{"$nulls":4},{"v":5976,"d":"$5,976"},{"$nulls":4},{"v":6928,"d":"$6,928"}]
["Landscaping - 25% Tree Care",1020,5,0,"2022-06-01",20,"1997-06-01",{"v":10506,"d":"$10,506"},{"v":10506,"d":"$10,506"},{"$nulls":4},{"v":12180,"d":"$12,180"},{"$nulls":4},{"v":14119,"d":"$14,119"},{"$nulls":4},{"v":16368,"d":"$16,368"},{"$nulls":4},{"v":18975,"d":"$18,975"},{"$nulls":4},{"v":21998,"d":"$21,998"}]
["Lights (pole) - Replace",1021,30,5,"2027-06-01",0,"1997-06-01",{"v":2488,"d":"$2,488"},{"$nulls":5},{"v":2884,"d":"$2,884"}]
["Mailbox Cluster (2009) - Replace",1022,24,11,"2033-01-01",0,"2009-01-01",{"v":5152,"d":"5,152"},{"$nulls":11},{"v":7131,"d":"$7,131"}]
["Mailbox Cluster (2013) - Replace",1023,24,15,"2037-01-01",0,"2013-01-01",{"v":1717,"d":"1,717"},{"$nulls":15},{"v":2675,"d":"2,675"}]
["Mailbox Cluster (2015) - Replace",1024,24,17,"2039-01-01",0,"2015-01-01",{"v":1717,"d":"1,717"},{"$nulls":17},{"v":2838,"d":"$2,838"}]
["Mailbox Cluster (2017) - Replace",1025,24,19,"2041-09-01",0,"2017-09-01",{"v":3434,"d":"3,434"},{"$nulls":19},{"v":6022,"d":"$6,022"}]
["Mailbox Clusters (2020) - Replace",1026,24,4,"2026-06-01",0,"2002-06-01",{"v":30909,"d":"30,909"},{"$nulls":4},{"v":34788,"d":"$34,788"},{"$nulls":23},{"v":70718,"d":"$70,718"}]
["Parking Bollards (boat park) - Replace",1027,35,10,"2032-06-01",0,"1997-06-01",{"v":3245,"d":"3,245"},{"$nulls":10},{"v":4361,"d":"$4,361"}]
["Pavers (sand set) - Replace",1028,25,0,"2022-06-01",0,"1997-06-01",{"v":2353,"d":"$2,353"},{"v":2353,"d":"$2,353"},{"$nulls":24},{"v":4927,"d":"$4,927"}]
["Playground Structure (boat park) - Replace",1029,25,24,"2046-06-01",0,"2021-06-01",{"v":44510,"d":"44,510"},{"$nulls":24},{"v":90480,"d":"$90,480"}]
["Playground Structure (small park) - Replace",1030,25,3,"2025-06-01",3,"1997-06-01",{"v":29988,"d":"29,988"},{"$nulls":3},{"v":32769,"d":"$32,769"},{"$nulls":24},{"v":68610,"d":"$68,610"}]
["Playground Surface (boat park) - Replenish",1031,3,2,"2024-06-01",0,"2021-06-01",{"v":1648,"d":"1,648"},null,null,{"v":1748,"d":"$1,748"},null,null,{"v":1910,"d":"$1,910"},null,null,{"v":2088,"d":"$2,088"},null,null,{"v":2281,"d":"$2,281"},null,null,{"v":2493,"d":"$2,493"},null,null,{"v":2724,"d":"$2,724"},null,null,{"v":2976,"d":"$2,976"},null,null,{"v":3252,"d":"$3,252"},null,null,{"v":3554,"d":"$3,554"},null,null,{"v":3884,"d":"$3,884"}]
["Playground Surface (small park) - Replenish",1032,3,0,"2021-03-01",0,"2018-03-01",{"v":1309,"d":"1,309"},{"v":1309,"d":"$1,309"},null,null,{"v":1431,"d":"$1,431"},null,null,{"v":1563,"d":"$1,563"},null,null,{"v":1708,"d":"$1,708"},null,null,{"v":1867,"d":"$1,867"},null,null,{"v":2040,"d":"$2,040"},null,null,{"v":2229,"d":"$2,229"},null,null,{"v":2435,"d":"$2,435"},null,null,{"v":2661,"d":"$2,661"},null,null,{"v":2908,"d":"$2,908"}]
["Playground Timber Edging (boat park) - Replace",1033,25,24,"2046-06-01",0,"2021-06-01",{"v":1384,"d":"1,384"},{"$nulls":24},{"v":2813,"d":"$2,813"}]
["Playground Timber Edging (small park) - Replace",1034,24,0,"2021-06-01",0,"1997-06-01",{"v":1246,"d":"1,246"},{"v":1246,"d":"$1,246"},{"$nulls":23},{"v":2532,"d":"$2,532"}]
["Recreation - Benches (wood) - Replace",1035,25,0,"2022-06-01",0,"1997-06-01",{"v":8924,"d":"$8,924"},{"v":8924,"d":"$8,924"},{"$nulls":24},{"v":18685,"d":"$18,685"}]
["Recreation - Picnic Table (wood) - Replace",1036,25,0,"2022-06-01",0,"1997-06-01",{"v":2758,"d":"$2,758"},{"v":2758,"d":"$2,758"},{"$nulls":24},{"v":5775,"d":"$5,775"}]
["Retaining Walls (masonry) - Replace",1037,40,32,"2054-06-01",0,"2014-06-01",{"v":2174,"d":"2,174"}]
["Retaining Walls (wood) - Replace",1038,25,0,"2022-06-01",0,"1997-06-01",714,{"v":714,"d":"$714"},{"$nulls":24},{"v":1495,"d":"$1,495"}]
["Stormwater Pond (NE pond) - Refurbish",1039,30,5,"2027-06-01",0,"1997-06-01",{"v":21634,"d":"21,634"},{"$nulls":5},{"v":25080,"d":"$25,080"}]
["Stormwater Pond (NW pond) - Refurbish",1040,15,8,"2030-06-01",0,"2015-06-01",{"v":12440,"d":"12,440"},{"$nulls":8},{"v":15758,"d":"$15,758"},{"$nulls":14},{"v":24551,"d":"$24,551"}]